{"text_format":"1","workbook":"xlsx","n_sheets":5,"sheets":["CF表","入力例","債券リスト","calendar","index"],"not_rendered":{"charts":0,"images":3,"macros":1,"external_links":0,"defined_names":9,"comments":1,"pivot_tables":0},"unopened":[],"bounds":{"document_bytes":16777216,"sheet_cells":100000,"rows_first":2000,"rows_last":500,"rows_between":2000,"halvings":0,"cell_chars":16384,"cell_head_chars":4096},"cells_cut":0,"cells_raw":0,"read":"whole","date_system":"1900"}

{"sheet":"CF表","index":0,"n_rows":724,"n_cols":14,"rows_kept":724,"cut":false,"hidden":false,"merged":[[174,1,175,7]]}
[null,"CGP用簡易入力部分",null,null,null,null,null,null,null,null,null,null,"←銘柄を選択"]
[null,null,null,null,null,null,null,"input","input","input","input","input"]
[null,null,"Clear","Clear","Clear","Clear","Clear","Clear","Clear","Clear","Clear","Clear"]
[null,"債券投資シミュレーション"]
[null,"※青枠をご入力してご使用ください。"]
[null,"受渡日",{"$f":"WORKDAY(TODAY(),2,calendar!$B$3:$B$2906)","v":"2023-05-17"}]
[null,"米ドル円スポット",null,"円"]
[]
[null,"債券リスト"]
[null,"銘柄名",null,null,null,null,null,null,null,null,null,null,"ポートフォリオ","※銘柄名は必ず入力下さい"]
[null,"既発/新発",null,null,null,null,null,null,null,null,null,null,"-","※新発を選んだ場合、経過利息が計算されません。"]
[null,"通貨",null,null,null,null,null,null,null,null,null,null,"-","※現状、通貨はUSD,JPYのみ対応しています。"]
[null,"クーポン",null,null,null,null,null,null,null,null,null,null,{"$f":"IFERROR(SUMPRODUCT(C13:L13,$C$197:$L$197)/SUM($C$197:$L$197),\"N/A\")","v":"N/A"}]
[null,"利払い頻度",null,null,null,null,null,null,null,null,null,null,"-"]
[null,"満期日(次回コール日)",null,null,null,null,null,null,null,null,null,null,"-","※yyyy/mm/ddの形式で日付を入力下さい。"]
[null,"償還単価",100,100,100,100,100,100,100,100,100,100,"-"]
[null,"残存期間",{"$f":"IF(C10=\"\",\"N/A\",YEARFRAC($C$6,C15))","v":"N/A"},{"$f":"IF(D10=\"\",\"N/A\",YEARFRAC($C$6,D15))","v":"N/A"},{"$f":"IF(E10=\"\",\"N/A\",YEARFRAC($C$6,E15))","v":"N/A"},"N/A","N/A","N/A","N/A","N/A","N/A","N/A",{"$f":"IFERROR(SUMPRODUCT(C17:L17,$C$197:$L$197)/SUM($C$197:$L$197),\"N/A\")","v":"N/A"},"※残存50年まで対応しています。それ以上の残存がある場合、間違った計算が返される恐れがあります。"]
[null,"修正デュレーション",{"$f":"IFERROR(_xlfn.LET(_xlpm.FQ,IF(C196=12,4,C196),MDURATION($C$6,C15,C13,C19,_xlpm.FQ)),\"N/A\")","v":"N/A"},"N/A","N/A","N/A","N/A","N/A","N/A","N/A","N/A","N/A",{"$f":"IFERROR(SUMPRODUCT(C18:L18,$C$197:$L$197)/SUM($C$197:$L$197),\"N/A\")","v":"N/A"}]
[null,"参考利回り(年率複利)",{"$f":"_xlfn.LET(_xlpm.FQ,IF(C196=12,4,C196),_xlpm.TAX,IF($E$200=1,$D$200,1),IFERROR(IF(C22%>=C16%,YIELD($C$6,C15,C13*_xlpm.TAX,C22,C16,_xlpm.FQ),YIELD($C$6,C15,C13,C22,C16,_xlpm.FQ)*_xlpm.TAX),\"N/A\"))","v":"N/A"},"N/A","N/A","N/A","N/A","N/A","N/A","N/A","N/A","N/A",{"$f":"IFERROR(SUMPRODUCT(C19:L19,$C$197:$L$197)/SUM($C$197:$L$197),\"N/A\")","v":"N/A"}]
[]
[null,"額面金額"]
[null,"現在単価",null,null,null,null,null,null,null,null,null,null,"-"]
[null,"受渡額面金額",{"$f":"C21*C22%","v":0},0,0,0,0,0,0,0,0,0]
[null,"経過日数",{"$f":"DAYS360(C198,$C$6)","v":{"$error":"#VALUE!"}},{"$f":"DAYS360(D198,$C$6)","v":{"$error":"#VALUE!"}},{"$error":"#VALUE!"},{"$error":"#VALUE!"},{"$error":"#VALUE!"},{"$error":"#VALUE!"},{"$error":"#VALUE!"},{"$error":"#VALUE!"},{"$error":"#VALUE!"},{"$error":"#VALUE!"}]
[null,"経過利息",{"$f":"IF(C11=\"新発債\",\"0\",C24/360*C13*C21)","v":{"$error":"#VALUE!"}},{"$error":"#VALUE!"},{"$error":"#VALUE!"},{"$error":"#VALUE!"},{"$error":"#VALUE!"},{"$error":"#VALUE!"},{"$error":"#VALUE!"},{"$error":"#VALUE!"},{"$error":"#VALUE!"},{"$error":"#VALUE!"}]
[null,"受渡金額",{"$f":"IFERROR(C12&\" \"&TEXT(C23+C25,\"#,###\"),\"N/A\")","v":"N/A"},"N/A","N/A","N/A","N/A","N/A","N/A","N/A","N/A","N/A"]
[null,"受渡額面金額",{"$f":"C12&\" \"&TEXT(C23,\"#,##0\")","v":" 0"}," 0"," 0"," 0"," 0"," 0"," 0"," 0"," 0"," 0"]
[null,"経過利息(参考)",{"$f":"IFERROR(C12&\" \"&TEXT(C25,\"#,##0\"),\"N/A\")","v":"N/A"},"N/A","N/A","N/A","N/A","N/A","N/A","N/A","N/A","N/A",null,"※経過利息は、一定の仮定の元、計算したものであり、必ずしも正確なものではありません。ご注意下さい。"]
[null,"円換算金額",{"$f":"IFERROR((C23+C25)*IF(C12=\"USD\",$C$7,1),\"N/A\")","v":"N/A"},{"$f":"IFERROR((D23+D25)*IF(D12=\"USD\",$C$7,1),\"N/A\")","v":"N/A"},"N/A","N/A","N/A","N/A","N/A","N/A","N/A","N/A",{"$f":"IFERROR(SUM(OFFSET(C29,0,0,1,$C$201)),\"N/A\")","v":"N/A"}]
[]
[null,"既保有債券"]
[null,"購入時受渡日",null,null,null,null,null,null,null,null,null,null,null,"購入時受渡日が入力されている場合、以下の残存期間、修正デュレーション、参考利回りは当該日を起点として計算されます。"]
[null,"購入時為替(外貨建て時)",null,null,null,null,null,null,null,null,null,null,null,"購入時の為替レートを入力すると、その当時から計算しての損益為替点レートが計算されます。"]
[null,"購入時単価"]
[null,"残存期間",{"$f":"IF(C10=\"\",\"N/A\",YEARFRAC(C199,C15))","v":"N/A"},"N/A","N/A","N/A","N/A","N/A","N/A","N/A","N/A","N/A"]
[null,"修正デュレーション",{"$f":"IFERROR(_xlfn.LET(_xlpm.FQ,IF(C196=12,4,C196),MDURATION(C199,C15,C13,C19,_xlpm.FQ)),\"N/A\")","v":"N/A"},"N/A","N/A","N/A","N/A","N/A","N/A","N/A","N/A","N/A"]
[null,"参考利回り（年率複利)",{"$f":"_xlfn.LET(_xlpm.FQ,IF(C196=12,4,C196),_xlpm.TAX,IF($E$200=1,$D$200,1),IFERROR(IF(C34%>=C16%,YIELD(C199,C15,C13*_xlpm.TAX,C34,C16,_xlpm.FQ),YIELD(C199,C15,C13,C34,C16,_xlpm.FQ)*_xlpm.TAX),\"N/A\"))","v":"N/A"},"N/A","N/A","N/A","N/A","N/A","N/A","N/A","N/A","N/A"]
[null,"受取済利息合計",{"$f":"IFERROR(C12&\" \"&TEXT(YEARFRAC(C199,$C$6)*C13*C21,\"#,##0\"),\"N/A\")","v":" 0"}," 0"," 0"," 0"," 0"," 0"," 0"," 0"," 0"," 0",null,"受渡日を個別に入力した場合、受渡日以降、直近までの受取済利息が計算されます。"]
[null,"損益分岐点為替レート",{"$f":"IFERROR(IF(C12<>\"JPY\",C33/(1+C37)^C35,\"N/A\"),\"-\")","v":"-"},"-","-","-","-","-","-","-","-","-"]
[]
[null,"利金CF表(円換算,受渡以降)"]
[null,null,1,{"$f":"C42+1","v":2},{"$f":"D42+1","v":3},4,{"$f":"F42+1","v":5},{"$f":"G42+1","v":6},7,8,9,10,"ポートフォリオ"]
[null,{"$f":"YEAR(C6)","v":2023},{"$f":"_xlfn.LET(_xlpm.CF,SUM(IF(YEAR($B$205:$B$780)=$B43,C$205:C$780))*IF(C$12=\"USD\",$C$7,1)*IF($E$200=1,$D$200,1),IF(_xlpm.CF=0,\"-\",_xlpm.CF))","v":"-"},{"$f":"_xlfn.LET(_xlpm.CF,SUM(IF(YEAR($B$205:$B$780)=$B43,D$205:D$780))*IF(D$12=\"USD\",$C$7,1)*IF($E$200=1,$D$200,1),IF(_xlpm.CF=0,\"-\",_xlpm.CF))","v":"-"},{"$f":"_xlfn.LET(_xlpm.CF,SUM(IF(YEAR($B$205:$B$780)=$B43,E$205:E$780))*IF(E$12=\"USD\",$C$7,1)*IF($E$200=1,$D$200,1),IF(_xlpm.CF=0,\"-\",_xlpm.CF))","v":"-"},{"$f":"_xlfn.LET(_xlpm.CF,SUM(IF(YEAR($B$205:$B$780)=$B43,F$205:F$780))*IF(F$12=\"USD\",$C$7,1)*IF($E$200=1,$D$200,1),IF(_xlpm.CF=0,\"-\",_xlpm.CF))","v":"-"},{"$f":"_xlfn.LET(_xlpm.CF,SUM(IF(YEAR($B$205:$B$780)=$B43,G$205:G$780))*IF(G$12=\"USD\",$C$7,1)*IF($E$200=1,$D$200,1),IF(_xlpm.CF=0,\"-\",_xlpm.CF))","v":"-"},{"$f":"_xlfn.LET(_xlpm.CF,SUM(IF(YEAR($B$205:$B$780)=$B43,H$205:H$780))*IF(H$12=\"USD\",$C$7,1)*IF($E$200=1,$D$200,1),IF(_xlpm.CF=0,\"-\",_xlpm.CF))","v":"-"},{"$f":"_xlfn.LET(_xlpm.CF,SUM(IF(YEAR($B$205:$B$780)=$B43,I$205:I$780))*IF(I$12=\"USD\",$C$7,1)*IF($E$200=1,$D$200,1),IF(_xlpm.CF=0,\"-\",_xlpm.CF))","v":"-"},{"$f":"_xlfn.LET(_xlpm.CF,SUM(IF(YEAR($B$205:$B$780)=$B43,J$205:J$780))*IF(J$12=\"USD\",$C$7,1)*IF($E$200=1,$D$200,1),IF(_xlpm.CF=0,\"-\",_xlpm.CF))","v":"-"},{"$f":"_xlfn.LET(_xlpm.CF,SUM(IF(YEAR($B$205:$B$780)=$B43,K$205:K$780))*IF(K$12=\"USD\",$C$7,1)*IF($E$200=1,$D$200,1),IF(_xlpm.CF=0,\"-\",_xlpm.CF))","v":"-"},{"$f":"_xlfn.LET(_xlpm.CF,SUM(IF(YEAR($B$205:$B$780)=$B43,L$205:L$780))*IF(L$12=\"USD\",$C$7,1)*IF($E$200=1,$D$200,1),IF(_xlpm.CF=0,\"-\",_xlpm.CF))","v":"-"},{"$f":"SUM(C43:L43)","v":0}]
[null,{"$f":"B43+1","v":2024},{"$f":"_xlfn.LET(_xlpm.CF,SUM(IF(YEAR($B$205:$B$780)=$B44,C$205:C$780))*IF(C$12=\"USD\",$C$7,1)*IF($E$200=1,$D$200,1),IF(_xlpm.CF=0,\"-\",_xlpm.CF))","v":"-"},{"$f":"_xlfn.LET(_xlpm.CF,SUM(IF(YEAR($B$205:$B$780)=$B44,D$205:D$780))*IF(D$12=\"USD\",$C$7,1)*IF($E$200=1,$D$200,1),IF(_xlpm.CF=0,\"-\",_xlpm.CF))","v":"-"},{"$f":"_xlfn.LET(_xlpm.CF,SUM(IF(YEAR($B$205:$B$780)=$B44,E$205:E$780))*IF(E$12=\"USD\",$C$7,1)*IF($E$200=1,$D$200,1),IF(_xlpm.CF=0,\"-\",_xlpm.CF))","v":"-"},{"$f":"_xlfn.LET(_xlpm.CF,SUM(IF(YEAR($B$205:$B$780)=$B44,F$205:F$780))*IF(F$12=\"USD\",$C$7,1)*IF($E$200=1,$D$200,1),IF(_xlpm.CF=0,\"-\",_xlpm.CF))","v":"-"},{"$f":"_xlfn.LET(_xlpm.CF,SUM(IF(YEAR($B$205:$B$780)=$B44,G$205:G$780))*IF(G$12=\"USD\",$C$7,1)*IF($E$200=1,$D$200,1),IF(_xlpm.CF=0,\"-\",_xlpm.CF))","v":"-"},{"$f":"_xlfn.LET(_xlpm.CF,SUM(IF(YEAR($B$205:$B$780)=$B44,H$205:H$780))*IF(H$12=\"USD\",$C$7,1)*IF($E$200=1,$D$200,1),IF(_xlpm.CF=0,\"-\",_xlpm.CF))","v":"-"},{"$f":"_xlfn.LET(_xlpm.CF,SUM(IF(YEAR($B$205:$B$780)=$B44,I$205:I$780))*IF(I$12=\"USD\",$C$7,1)*IF($E$200=1,$D$200,1),IF(_xlpm.CF=0,\"-\",_xlpm.CF))","v":"-"},{"$f":"_xlfn.LET(_xlpm.CF,SUM(IF(YEAR($B$205:$B$780)=$B44,J$205:J$780))*IF(J$12=\"USD\",$C$7,1)*IF($E$200=1,$D$200,1),IF(_xlpm.CF=0,\"-\",_xlpm.CF))","v":"-"},{"$f":"_xlfn.LET(_xlpm.CF,SUM(IF(YEAR($B$205:$B$780)=$B44,K$205:K$780))*IF(K$12=\"USD\",$C$7,1)*IF($E$200=1,$D$200,1),IF(_xlpm.CF=0,\"-\",_xlpm.CF))","v":"-"},{"$f":"_xlfn.LET(_xlpm.CF,SUM(IF(YEAR($B$205:$B$780)=$B44,L$205:L$780))*IF(L$12=\"USD\",$C$7,1)*IF($E$200=1,$D$200,1),IF(_xlpm.CF=0,\"-\",_xlpm.CF))","v":"-"},{"$f":"SUM(C44:L44)","v":0}]
[null,{"$f":"B44+1","v":2025},{"$f":"_xlfn.LET(_xlpm.CF,SUM(IF(YEAR($B$205:$B$780)=$B45,C$205:C$780))*IF(C$12=\"USD\",$C$7,1)*IF($E$200=1,$D$200,1),IF(_xlpm.CF=0,\"-\",_xlpm.CF))","v":"-"},{"$f":"_xlfn.LET(_xlpm.CF,SUM(IF(YEAR($B$205:$B$780)=$B45,D$205:D$780))*IF(D$12=\"USD\",$C$7,1)*IF($E$200=1,$D$200,1),IF(_xlpm.CF=0,\"-\",_xlpm.CF))","v":"-"},{"$f":"_xlfn.LET(_xlpm.CF,SUM(IF(YEAR($B$205:$B$780)=$B45,E$205:E$780))*IF(E$12=\"USD\",$C$7,1)*IF($E$200=1,$D$200,1),IF(_xlpm.CF=0,\"-\",_xlpm.CF))","v":"-"},{"$f":"_xlfn.LET(_xlpm.CF,SUM(IF(YEAR($B$205:$B$780)=$B45,F$205:F$780))*IF(F$12=\"USD\",$C$7,1)*IF($E$200=1,$D$200,1),IF(_xlpm.CF=0,\"-\",_xlpm.CF))","v":"-"},{"$f":"_xlfn.LET(_xlpm.CF,SUM(IF(YEAR($B$205:$B$780)=$B45,G$205:G$780))*IF(G$12=\"USD\",$C$7,1)*IF($E$200=1,$D$200,1),IF(_xlpm.CF=0,\"-\",_xlpm.CF))","v":"-"},{"$f":"_xlfn.LET(_xlpm.CF,SUM(IF(YEAR($B$205:$B$780)=$B45,H$205:H$780))*IF(H$12=\"USD\",$C$7,1)*IF($E$200=1,$D$200,1),IF(_xlpm.CF=0,\"-\",_xlpm.CF))","v":"-"},{"$f":"_xlfn.LET(_xlpm.CF,SUM(IF(YEAR($B$205:$B$780)=$B45,I$205:I$780))*IF(I$12=\"USD\",$C$7,1)*IF($E$200=1,$D$200,1),IF(_xlpm.CF=0,\"-\",_xlpm.CF))","v":"-"},{"$f":"_xlfn.LET(_xlpm.CF,SUM(IF(YEAR($B$205:$B$780)=$B45,J$205:J$780))*IF(J$12=\"USD\",$C$7,1)*IF($E$200=1,$D$200,1),IF(_xlpm.CF=0,\"-\",_xlpm.CF))","v":"-"},{"$f":"_xlfn.LET(_xlpm.CF,SUM(IF(YEAR($B$205:$B$780)=$B45,K$205:K$780))*IF(K$12=\"USD\",$C$7,1)*IF($E$200=1,$D$200,1),IF(_xlpm.CF=0,\"-\",_xlpm.CF))","v":"-"},{"$f":"_xlfn.LET(_xlpm.CF,SUM(IF(YEAR($B$205:$B$780)=$B45,L$205:L$780))*IF(L$12=\"USD\",$C$7,1)*IF($E$200=1,$D$200,1),IF(_xlpm.CF=0,\"-\",_xlpm.CF))","v":"-"},0]
[null,{"$f":"B45+1","v":2026},{"$f":"_xlfn.LET(_xlpm.CF,SUM(IF(YEAR($B$205:$B$780)=$B46,C$205:C$780))*IF(C$12=\"USD\",$C$7,1)*IF($E$200=1,$D$200,1),IF(_xlpm.CF=0,\"-\",_xlpm.CF))","v":"-"},{"$f":"_xlfn.LET(_xlpm.CF,SUM(IF(YEAR($B$205:$B$780)=$B46,D$205:D$780))*IF(D$12=\"USD\",$C$7,1)*IF($E$200=1,$D$200,1),IF(_xlpm.CF=0,\"-\",_xlpm.CF))","v":"-"},{"$f":"_xlfn.LET(_xlpm.CF,SUM(IF(YEAR($B$205:$B$780)=$B46,E$205:E$780))*IF(E$12=\"USD\",$C$7,1)*IF($E$200=1,$D$200,1),IF(_xlpm.CF=0,\"-\",_xlpm.CF))","v":"-"},{"$f":"_xlfn.LET(_xlpm.CF,SUM(IF(YEAR($B$205:$B$780)=$B46,F$205:F$780))*IF(F$12=\"USD\",$C$7,1)*IF($E$200=1,$D$200,1),IF(_xlpm.CF=0,\"-\",_xlpm.CF))","v":"-"},{"$f":"_xlfn.LET(_xlpm.CF,SUM(IF(YEAR($B$205:$B$780)=$B46,G$205:G$780))*IF(G$12=\"USD\",$C$7,1)*IF($E$200=1,$D$200,1),IF(_xlpm.CF=0,\"-\",_xlpm.CF))","v":"-"},{"$f":"_xlfn.LET(_xlpm.CF,SUM(IF(YEAR($B$205:$B$780)=$B46,H$205:H$780))*IF(H$12=\"USD\",$C$7,1)*IF($E$200=1,$D$200,1),IF(_xlpm.CF=0,\"-\",_xlpm.CF))","v":"-"},{"$f":"_xlfn.LET(_xlpm.CF,SUM(IF(YEAR($B$205:$B$780)=$B46,I$205:I$780))*IF(I$12=\"USD\",$C$7,1)*IF($E$200=1,$D$200,1),IF(_xlpm.CF=0,\"-\",_xlpm.CF))","v":"-"},{"$f":"_xlfn.LET(_xlpm.CF,SUM(IF(YEAR($B$205:$B$780)=$B46,J$205:J$780))*IF(J$12=\"USD\",$C$7,1)*IF($E$200=1,$D$200,1),IF(_xlpm.CF=0,\"-\",_xlpm.CF))","v":"-"},{"$f":"_xlfn.LET(_xlpm.CF,SUM(IF(YEAR($B$205:$B$780)=$B46,K$205:K$780))*IF(K$12=\"USD\",$C$7,1)*IF($E$200=1,$D$200,1),IF(_xlpm.CF=0,\"-\",_xlpm.CF))","v":"-"},{"$f":"_xlfn.LET(_xlpm.CF,SUM(IF(YEAR($B$205:$B$780)=$B46,L$205:L$780))*IF(L$12=\"USD\",$C$7,1)*IF($E$200=1,$D$200,1),IF(_xlpm.CF=0,\"-\",_xlpm.CF))","v":"-"},0]
[null,2027,{"$f":"_xlfn.LET(_xlpm.CF,SUM(IF(YEAR($B$205:$B$780)=$B47,C$205:C$780))*IF(C$12=\"USD\",$C$7,1)*IF($E$200=1,$D$200,1),IF(_xlpm.CF=0,\"-\",_xlpm.CF))","v":"-"},{"$f":"_xlfn.LET(_xlpm.CF,SUM(IF(YEAR($B$205:$B$780)=$B47,D$205:D$780))*IF(D$12=\"USD\",$C$7,1)*IF($E$200=1,$D$200,1),IF(_xlpm.CF=0,\"-\",_xlpm.CF))","v":"-"},{"$f":"_xlfn.LET(_xlpm.CF,SUM(IF(YEAR($B$205:$B$780)=$B47,E$205:E$780))*IF(E$12=\"USD\",$C$7,1)*IF($E$200=1,$D$200,1),IF(_xlpm.CF=0,\"-\",_xlpm.CF))","v":"-"},{"$f":"_xlfn.LET(_xlpm.CF,SUM(IF(YEAR($B$205:$B$780)=$B47,F$205:F$780))*IF(F$12=\"USD\",$C$7,1)*IF($E$200=1,$D$200,1),IF(_xlpm.CF=0,\"-\",_xlpm.CF))","v":"-"},{"$f":"_xlfn.LET(_xlpm.CF,SUM(IF(YEAR($B$205:$B$780)=$B47,G$205:G$780))*IF(G$12=\"USD\",$C$7,1)*IF($E$200=1,$D$200,1),IF(_xlpm.CF=0,\"-\",_xlpm.CF))","v":"-"},{"$f":"_xlfn.LET(_xlpm.CF,SUM(IF(YEAR($B$205:$B$780)=$B47,H$205:H$780))*IF(H$12=\"USD\",$C$7,1)*IF($E$200=1,$D$200,1),IF(_xlpm.CF=0,\"-\",_xlpm.CF))","v":"-"},{"$f":"_xlfn.LET(_xlpm.CF,SUM(IF(YEAR($B$205:$B$780)=$B47,I$205:I$780))*IF(I$12=\"USD\",$C$7,1)*IF($E$200=1,$D$200,1),IF(_xlpm.CF=0,\"-\",_xlpm.CF))","v":"-"},{"$f":"_xlfn.LET(_xlpm.CF,SUM(IF(YEAR($B$205:$B$780)=$B47,J$205:J$780))*IF(J$12=\"USD\",$C$7,1)*IF($E$200=1,$D$200,1),IF(_xlpm.CF=0,\"-\",_xlpm.CF))","v":"-"},{"$f":"_xlfn.LET(_xlpm.CF,SUM(IF(YEAR($B$205:$B$780)=$B47,K$205:K$780))*IF(K$12=\"USD\",$C$7,1)*IF($E$200=1,$D$200,1),IF(_xlpm.CF=0,\"-\",_xlpm.CF))","v":"-"},{"$f":"_xlfn.LET(_xlpm.CF,SUM(IF(YEAR($B$205:$B$780)=$B47,L$205:L$780))*IF(L$12=\"USD\",$C$7,1)*IF($E$200=1,$D$200,1),IF(_xlpm.CF=0,\"-\",_xlpm.CF))","v":"-"},0]
[null,2028,{"$f":"_xlfn.LET(_xlpm.CF,SUM(IF(YEAR($B$205:$B$780)=$B48,C$205:C$780))*IF(C$12=\"USD\",$C$7,1)*IF($E$200=1,$D$200,1),IF(_xlpm.CF=0,\"-\",_xlpm.CF))","v":"-"},{"$f":"_xlfn.LET(_xlpm.CF,SUM(IF(YEAR($B$205:$B$780)=$B48,D$205:D$780))*IF(D$12=\"USD\",$C$7,1)*IF($E$200=1,$D$200,1),IF(_xlpm.CF=0,\"-\",_xlpm.CF))","v":"-"},{"$f":"_xlfn.LET(_xlpm.CF,SUM(IF(YEAR($B$205:$B$780)=$B48,E$205:E$780))*IF(E$12=\"USD\",$C$7,1)*IF($E$200=1,$D$200,1),IF(_xlpm.CF=0,\"-\",_xlpm.CF))","v":"-"},{"$f":"_xlfn.LET(_xlpm.CF,SUM(IF(YEAR($B$205:$B$780)=$B48,F$205:F$780))*IF(F$12=\"USD\",$C$7,1)*IF($E$200=1,$D$200,1),IF(_xlpm.CF=0,\"-\",_xlpm.CF))","v":"-"},{"$f":"_xlfn.LET(_xlpm.CF,SUM(IF(YEAR($B$205:$B$780)=$B48,G$205:G$780))*IF(G$12=\"USD\",$C$7,1)*IF($E$200=1,$D$200,1),IF(_xlpm.CF=0,\"-\",_xlpm.CF))","v":"-"},{"$f":"_xlfn.LET(_xlpm.CF,SUM(IF(YEAR($B$205:$B$780)=$B48,H$205:H$780))*IF(H$12=\"USD\",$C$7,1)*IF($E$200=1,$D$200,1),IF(_xlpm.CF=0,\"-\",_xlpm.CF))","v":"-"},{"$f":"_xlfn.LET(_xlpm.CF,SUM(IF(YEAR($B$205:$B$780)=$B48,I$205:I$780))*IF(I$12=\"USD\",$C$7,1)*IF($E$200=1,$D$200,1),IF(_xlpm.CF=0,\"-\",_xlpm.CF))","v":"-"},{"$f":"_xlfn.LET(_xlpm.CF,SUM(IF(YEAR($B$205:$B$780)=$B48,J$205:J$780))*IF(J$12=\"USD\",$C$7,1)*IF($E$200=1,$D$200,1),IF(_xlpm.CF=0,\"-\",_xlpm.CF))","v":"-"},{"$f":"_xlfn.LET(_xlpm.CF,SUM(IF(YEAR($B$205:$B$780)=$B48,K$205:K$780))*IF(K$12=\"USD\",$C$7,1)*IF($E$200=1,$D$200,1),IF(_xlpm.CF=0,\"-\",_xlpm.CF))","v":"-"},{"$f":"_xlfn.LET(_xlpm.CF,SUM(IF(YEAR($B$205:$B$780)=$B48,L$205:L$780))*IF(L$12=\"USD\",$C$7,1)*IF($E$200=1,$D$200,1),IF(_xlpm.CF=0,\"-\",_xlpm.CF))","v":"-"},0]
[null,{"$f":"B48+1","v":2029},{"$f":"_xlfn.LET(_xlpm.CF,SUM(IF(YEAR($B$205:$B$780)=$B49,C$205:C$780))*IF(C$12=\"USD\",$C$7,1)*IF($E$200=1,$D$200,1),IF(_xlpm.CF=0,\"-\",_xlpm.CF))","v":"-"},{"$f":"_xlfn.LET(_xlpm.CF,SUM(IF(YEAR($B$205:$B$780)=$B49,D$205:D$780))*IF(D$12=\"USD\",$C$7,1)*IF($E$200=1,$D$200,1),IF(_xlpm.CF=0,\"-\",_xlpm.CF))","v":"-"},{"$f":"_xlfn.LET(_xlpm.CF,SUM(IF(YEAR($B$205:$B$780)=$B49,E$205:E$780))*IF(E$12=\"USD\",$C$7,1)*IF($E$200=1,$D$200,1),IF(_xlpm.CF=0,\"-\",_xlpm.CF))","v":"-"},{"$f":"_xlfn.LET(_xlpm.CF,SUM(IF(YEAR($B$205:$B$780)=$B49,F$205:F$780))*IF(F$12=\"USD\",$C$7,1)*IF($E$200=1,$D$200,1),IF(_xlpm.CF=0,\"-\",_xlpm.CF))","v":"-"},{"$f":"_xlfn.LET(_xlpm.CF,SUM(IF(YEAR($B$205:$B$780)=$B49,G$205:G$780))*IF(G$12=\"USD\",$C$7,1)*IF($E$200=1,$D$200,1),IF(_xlpm.CF=0,\"-\",_xlpm.CF))","v":"-"},{"$f":"_xlfn.LET(_xlpm.CF,SUM(IF(YEAR($B$205:$B$780)=$B49,H$205:H$780))*IF(H$12=\"USD\",$C$7,1)*IF($E$200=1,$D$200,1),IF(_xlpm.CF=0,\"-\",_xlpm.CF))","v":"-"},{"$f":"_xlfn.LET(_xlpm.CF,SUM(IF(YEAR($B$205:$B$780)=$B49,I$205:I$780))*IF(I$12=\"USD\",$C$7,1)*IF($E$200=1,$D$200,1),IF(_xlpm.CF=0,\"-\",_xlpm.CF))","v":"-"},{"$f":"_xlfn.LET(_xlpm.CF,SUM(IF(YEAR($B$205:$B$780)=$B49,J$205:J$780))*IF(J$12=\"USD\",$C$7,1)*IF($E$200=1,$D$200,1),IF(_xlpm.CF=0,\"-\",_xlpm.CF))","v":"-"},{"$f":"_xlfn.LET(_xlpm.CF,SUM(IF(YEAR($B$205:$B$780)=$B49,K$205:K$780))*IF(K$12=\"USD\",$C$7,1)*IF($E$200=1,$D$200,1),IF(_xlpm.CF=0,\"-\",_xlpm.CF))","v":"-"},{"$f":"_xlfn.LET(_xlpm.CF,SUM(IF(YEAR($B$205:$B$780)=$B49,L$205:L$780))*IF(L$12=\"USD\",$C$7,1)*IF($E$200=1,$D$200,1),IF(_xlpm.CF=0,\"-\",_xlpm.CF))","v":"-"},0]
[null,2030,{"$f":"_xlfn.LET(_xlpm.CF,SUM(IF(YEAR($B$205:$B$780)=$B50,C$205:C$780))*IF(C$12=\"USD\",$C$7,1)*IF($E$200=1,$D$200,1),IF(_xlpm.CF=0,\"-\",_xlpm.CF))","v":"-"},{"$f":"_xlfn.LET(_xlpm.CF,SUM(IF(YEAR($B$205:$B$780)=$B50,D$205:D$780))*IF(D$12=\"USD\",$C$7,1)*IF($E$200=1,$D$200,1),IF(_xlpm.CF=0,\"-\",_xlpm.CF))","v":"-"},{"$f":"_xlfn.LET(_xlpm.CF,SUM(IF(YEAR($B$205:$B$780)=$B50,E$205:E$780))*IF(E$12=\"USD\",$C$7,1)*IF($E$200=1,$D$200,1),IF(_xlpm.CF=0,\"-\",_xlpm.CF))","v":"-"},{"$f":"_xlfn.LET(_xlpm.CF,SUM(IF(YEAR($B$205:$B$780)=$B50,F$205:F$780))*IF(F$12=\"USD\",$C$7,1)*IF($E$200=1,$D$200,1),IF(_xlpm.CF=0,\"-\",_xlpm.CF))","v":"-"},{"$f":"_xlfn.LET(_xlpm.CF,SUM(IF(YEAR($B$205:$B$780)=$B50,G$205:G$780))*IF(G$12=\"USD\",$C$7,1)*IF($E$200=1,$D$200,1),IF(_xlpm.CF=0,\"-\",_xlpm.CF))","v":"-"},{"$f":"_xlfn.LET(_xlpm.CF,SUM(IF(YEAR($B$205:$B$780)=$B50,H$205:H$780))*IF(H$12=\"USD\",$C$7,1)*IF($E$200=1,$D$200,1),IF(_xlpm.CF=0,\"-\",_xlpm.CF))","v":"-"},{"$f":"_xlfn.LET(_xlpm.CF,SUM(IF(YEAR($B$205:$B$780)=$B50,I$205:I$780))*IF(I$12=\"USD\",$C$7,1)*IF($E$200=1,$D$200,1),IF(_xlpm.CF=0,\"-\",_xlpm.CF))","v":"-"},{"$f":"_xlfn.LET(_xlpm.CF,SUM(IF(YEAR($B$205:$B$780)=$B50,J$205:J$780))*IF(J$12=\"USD\",$C$7,1)*IF($E$200=1,$D$200,1),IF(_xlpm.CF=0,\"-\",_xlpm.CF))","v":"-"},{"$f":"_xlfn.LET(_xlpm.CF,SUM(IF(YEAR($B$205:$B$780)=$B50,K$205:K$780))*IF(K$12=\"USD\",$C$7,1)*IF($E$200=1,$D$200,1),IF(_xlpm.CF=0,\"-\",_xlpm.CF))","v":"-"},{"$f":"_xlfn.LET(_xlpm.CF,SUM(IF(YEAR($B$205:$B$780)=$B50,L$205:L$780))*IF(L$12=\"USD\",$C$7,1)*IF($E$200=1,$D$200,1),IF(_xlpm.CF=0,\"-\",_xlpm.CF))","v":"-"},0]
[null,2031,{"$f":"_xlfn.LET(_xlpm.CF,SUM(IF(YEAR($B$205:$B$780)=$B51,C$205:C$780))*IF(C$12=\"USD\",$C$7,1)*IF($E$200=1,$D$200,1),IF(_xlpm.CF=0,\"-\",_xlpm.CF))","v":"-"},{"$f":"_xlfn.LET(_xlpm.CF,SUM(IF(YEAR($B$205:$B$780)=$B51,D$205:D$780))*IF(D$12=\"USD\",$C$7,1)*IF($E$200=1,$D$200,1),IF(_xlpm.CF=0,\"-\",_xlpm.CF))","v":"-"},{"$f":"_xlfn.LET(_xlpm.CF,SUM(IF(YEAR($B$205:$B$780)=$B51,E$205:E$780))*IF(E$12=\"USD\",$C$7,1)*IF($E$200=1,$D$200,1),IF(_xlpm.CF=0,\"-\",_xlpm.CF))","v":"-"},{"$f":"_xlfn.LET(_xlpm.CF,SUM(IF(YEAR($B$205:$B$780)=$B51,F$205:F$780))*IF(F$12=\"USD\",$C$7,1)*IF($E$200=1,$D$200,1),IF(_xlpm.CF=0,\"-\",_xlpm.CF))","v":"-"},{"$f":"_xlfn.LET(_xlpm.CF,SUM(IF(YEAR($B$205:$B$780)=$B51,G$205:G$780))*IF(G$12=\"USD\",$C$7,1)*IF($E$200=1,$D$200,1),IF(_xlpm.CF=0,\"-\",_xlpm.CF))","v":"-"},{"$f":"_xlfn.LET(_xlpm.CF,SUM(IF(YEAR($B$205:$B$780)=$B51,H$205:H$780))*IF(H$12=\"USD\",$C$7,1)*IF($E$200=1,$D$200,1),IF(_xlpm.CF=0,\"-\",_xlpm.CF))","v":"-"},{"$f":"_xlfn.LET(_xlpm.CF,SUM(IF(YEAR($B$205:$B$780)=$B51,I$205:I$780))*IF(I$12=\"USD\",$C$7,1)*IF($E$200=1,$D$200,1),IF(_xlpm.CF=0,\"-\",_xlpm.CF))","v":"-"},{"$f":"_xlfn.LET(_xlpm.CF,SUM(IF(YEAR($B$205:$B$780)=$B51,J$205:J$780))*IF(J$12=\"USD\",$C$7,1)*IF($E$200=1,$D$200,1),IF(_xlpm.CF=0,\"-\",_xlpm.CF))","v":"-"},{"$f":"_xlfn.LET(_xlpm.CF,SUM(IF(YEAR($B$205:$B$780)=$B51,K$205:K$780))*IF(K$12=\"USD\",$C$7,1)*IF($E$200=1,$D$200,1),IF(_xlpm.CF=0,\"-\",_xlpm.CF))","v":"-"},{"$f":"_xlfn.LET(_xlpm.CF,SUM(IF(YEAR($B$205:$B$780)=$B51,L$205:L$780))*IF(L$12=\"USD\",$C$7,1)*IF($E$200=1,$D$200,1),IF(_xlpm.CF=0,\"-\",_xlpm.CF))","v":"-"},0]
[null,2032,{"$f":"_xlfn.LET(_xlpm.CF,SUM(IF(YEAR($B$205:$B$780)=$B52,C$205:C$780))*IF(C$12=\"USD\",$C$7,1)*IF($E$200=1,$D$200,1),IF(_xlpm.CF=0,\"-\",_xlpm.CF))","v":"-"},{"$f":"_xlfn.LET(_xlpm.CF,SUM(IF(YEAR($B$205:$B$780)=$B52,D$205:D$780))*IF(D$12=\"USD\",$C$7,1)*IF($E$200=1,$D$200,1),IF(_xlpm.CF=0,\"-\",_xlpm.CF))","v":"-"},{"$f":"_xlfn.LET(_xlpm.CF,SUM(IF(YEAR($B$205:$B$780)=$B52,E$205:E$780))*IF(E$12=\"USD\",$C$7,1)*IF($E$200=1,$D$200,1),IF(_xlpm.CF=0,\"-\",_xlpm.CF))","v":"-"},{"$f":"_xlfn.LET(_xlpm.CF,SUM(IF(YEAR($B$205:$B$780)=$B52,F$205:F$780))*IF(F$12=\"USD\",$C$7,1)*IF($E$200=1,$D$200,1),IF(_xlpm.CF=0,\"-\",_xlpm.CF))","v":"-"},{"$f":"_xlfn.LET(_xlpm.CF,SUM(IF(YEAR($B$205:$B$780)=$B52,G$205:G$780))*IF(G$12=\"USD\",$C$7,1)*IF($E$200=1,$D$200,1),IF(_xlpm.CF=0,\"-\",_xlpm.CF))","v":"-"},{"$f":"_xlfn.LET(_xlpm.CF,SUM(IF(YEAR($B$205:$B$780)=$B52,H$205:H$780))*IF(H$12=\"USD\",$C$7,1)*IF($E$200=1,$D$200,1),IF(_xlpm.CF=0,\"-\",_xlpm.CF))","v":"-"},{"$f":"_xlfn.LET(_xlpm.CF,SUM(IF(YEAR($B$205:$B$780)=$B52,I$205:I$780))*IF(I$12=\"USD\",$C$7,1)*IF($E$200=1,$D$200,1),IF(_xlpm.CF=0,\"-\",_xlpm.CF))","v":"-"},{"$f":"_xlfn.LET(_xlpm.CF,SUM(IF(YEAR($B$205:$B$780)=$B52,J$205:J$780))*IF(J$12=\"USD\",$C$7,1)*IF($E$200=1,$D$200,1),IF(_xlpm.CF=0,\"-\",_xlpm.CF))","v":"-"},{"$f":"_xlfn.LET(_xlpm.CF,SUM(IF(YEAR($B$205:$B$780)=$B52,K$205:K$780))*IF(K$12=\"USD\",$C$7,1)*IF($E$200=1,$D$200,1),IF(_xlpm.CF=0,\"-\",_xlpm.CF))","v":"-"},{"$f":"_xlfn.LET(_xlpm.CF,SUM(IF(YEAR($B$205:$B$780)=$B52,L$205:L$780))*IF(L$12=\"USD\",$C$7,1)*IF($E$200=1,$D$200,1),IF(_xlpm.CF=0,\"-\",_xlpm.CF))","v":"-"},0]
[null,2033,{"$f":"_xlfn.LET(_xlpm.CF,SUM(IF(YEAR($B$205:$B$780)=$B53,C$205:C$780))*IF(C$12=\"USD\",$C$7,1)*IF($E$200=1,$D$200,1),IF(_xlpm.CF=0,\"-\",_xlpm.CF))","v":"-"},{"$f":"_xlfn.LET(_xlpm.CF,SUM(IF(YEAR($B$205:$B$780)=$B53,D$205:D$780))*IF(D$12=\"USD\",$C$7,1)*IF($E$200=1,$D$200,1),IF(_xlpm.CF=0,\"-\",_xlpm.CF))","v":"-"},{"$f":"_xlfn.LET(_xlpm.CF,SUM(IF(YEAR($B$205:$B$780)=$B53,E$205:E$780))*IF(E$12=\"USD\",$C$7,1)*IF($E$200=1,$D$200,1),IF(_xlpm.CF=0,\"-\",_xlpm.CF))","v":"-"},{"$f":"_xlfn.LET(_xlpm.CF,SUM(IF(YEAR($B$205:$B$780)=$B53,F$205:F$780))*IF(F$12=\"USD\",$C$7,1)*IF($E$200=1,$D$200,1),IF(_xlpm.CF=0,\"-\",_xlpm.CF))","v":"-"},{"$f":"_xlfn.LET(_xlpm.CF,SUM(IF(YEAR($B$205:$B$780)=$B53,G$205:G$780))*IF(G$12=\"USD\",$C$7,1)*IF($E$200=1,$D$200,1),IF(_xlpm.CF=0,\"-\",_xlpm.CF))","v":"-"},{"$f":"_xlfn.LET(_xlpm.CF,SUM(IF(YEAR($B$205:$B$780)=$B53,H$205:H$780))*IF(H$12=\"USD\",$C$7,1)*IF($E$200=1,$D$200,1),IF(_xlpm.CF=0,\"-\",_xlpm.CF))","v":"-"},{"$f":"_xlfn.LET(_xlpm.CF,SUM(IF(YEAR($B$205:$B$780)=$B53,I$205:I$780))*IF(I$12=\"USD\",$C$7,1)*IF($E$200=1,$D$200,1),IF(_xlpm.CF=0,\"-\",_xlpm.CF))","v":"-"},{"$f":"_xlfn.LET(_xlpm.CF,SUM(IF(YEAR($B$205:$B$780)=$B53,J$205:J$780))*IF(J$12=\"USD\",$C$7,1)*IF($E$200=1,$D$200,1),IF(_xlpm.CF=0,\"-\",_xlpm.CF))","v":"-"},{"$f":"_xlfn.LET(_xlpm.CF,SUM(IF(YEAR($B$205:$B$780)=$B53,K$205:K$780))*IF(K$12=\"USD\",$C$7,1)*IF($E$200=1,$D$200,1),IF(_xlpm.CF=0,\"-\",_xlpm.CF))","v":"-"},{"$f":"_xlfn.LET(_xlpm.CF,SUM(IF(YEAR($B$205:$B$780)=$B53,L$205:L$780))*IF(L$12=\"USD\",$C$7,1)*IF($E$200=1,$D$200,1),IF(_xlpm.CF=0,\"-\",_xlpm.CF))","v":"-"},0]
[null,2034,{"$f":"_xlfn.LET(_xlpm.CF,SUM(IF(YEAR($B$205:$B$780)=$B54,C$205:C$780))*IF(C$12=\"USD\",$C$7,1)*IF($E$200=1,$D$200,1),IF(_xlpm.CF=0,\"-\",_xlpm.CF))","v":"-"},{"$f":"_xlfn.LET(_xlpm.CF,SUM(IF(YEAR($B$205:$B$780)=$B54,D$205:D$780))*IF(D$12=\"USD\",$C$7,1)*IF($E$200=1,$D$200,1),IF(_xlpm.CF=0,\"-\",_xlpm.CF))","v":"-"},{"$f":"_xlfn.LET(_xlpm.CF,SUM(IF(YEAR($B$205:$B$780)=$B54,E$205:E$780))*IF(E$12=\"USD\",$C$7,1)*IF($E$200=1,$D$200,1),IF(_xlpm.CF=0,\"-\",_xlpm.CF))","v":"-"},{"$f":"_xlfn.LET(_xlpm.CF,SUM(IF(YEAR($B$205:$B$780)=$B54,F$205:F$780))*IF(F$12=\"USD\",$C$7,1)*IF($E$200=1,$D$200,1),IF(_xlpm.CF=0,\"-\",_xlpm.CF))","v":"-"},{"$f":"_xlfn.LET(_xlpm.CF,SUM(IF(YEAR($B$205:$B$780)=$B54,G$205:G$780))*IF(G$12=\"USD\",$C$7,1)*IF($E$200=1,$D$200,1),IF(_xlpm.CF=0,\"-\",_xlpm.CF))","v":"-"},{"$f":"_xlfn.LET(_xlpm.CF,SUM(IF(YEAR($B$205:$B$780)=$B54,H$205:H$780))*IF(H$12=\"USD\",$C$7,1)*IF($E$200=1,$D$200,1),IF(_xlpm.CF=0,\"-\",_xlpm.CF))","v":"-"},{"$f":"_xlfn.LET(_xlpm.CF,SUM(IF(YEAR($B$205:$B$780)=$B54,I$205:I$780))*IF(I$12=\"USD\",$C$7,1)*IF($E$200=1,$D$200,1),IF(_xlpm.CF=0,\"-\",_xlpm.CF))","v":"-"},{"$f":"_xlfn.LET(_xlpm.CF,SUM(IF(YEAR($B$205:$B$780)=$B54,J$205:J$780))*IF(J$12=\"USD\",$C$7,1)*IF($E$200=1,$D$200,1),IF(_xlpm.CF=0,\"-\",_xlpm.CF))","v":"-"},{"$f":"_xlfn.LET(_xlpm.CF,SUM(IF(YEAR($B$205:$B$780)=$B54,K$205:K$780))*IF(K$12=\"USD\",$C$7,1)*IF($E$200=1,$D$200,1),IF(_xlpm.CF=0,\"-\",_xlpm.CF))","v":"-"},{"$f":"_xlfn.LET(_xlpm.CF,SUM(IF(YEAR($B$205:$B$780)=$B54,L$205:L$780))*IF(L$12=\"USD\",$C$7,1)*IF($E$200=1,$D$200,1),IF(_xlpm.CF=0,\"-\",_xlpm.CF))","v":"-"},0]
[null,2035,{"$f":"_xlfn.LET(_xlpm.CF,SUM(IF(YEAR($B$205:$B$780)=$B55,C$205:C$780))*IF(C$12=\"USD\",$C$7,1)*IF($E$200=1,$D$200,1),IF(_xlpm.CF=0,\"-\",_xlpm.CF))","v":"-"},{"$f":"_xlfn.LET(_xlpm.CF,SUM(IF(YEAR($B$205:$B$780)=$B55,D$205:D$780))*IF(D$12=\"USD\",$C$7,1)*IF($E$200=1,$D$200,1),IF(_xlpm.CF=0,\"-\",_xlpm.CF))","v":"-"},{"$f":"_xlfn.LET(_xlpm.CF,SUM(IF(YEAR($B$205:$B$780)=$B55,E$205:E$780))*IF(E$12=\"USD\",$C$7,1)*IF($E$200=1,$D$200,1),IF(_xlpm.CF=0,\"-\",_xlpm.CF))","v":"-"},{"$f":"_xlfn.LET(_xlpm.CF,SUM(IF(YEAR($B$205:$B$780)=$B55,F$205:F$780))*IF(F$12=\"USD\",$C$7,1)*IF($E$200=1,$D$200,1),IF(_xlpm.CF=0,\"-\",_xlpm.CF))","v":"-"},{"$f":"_xlfn.LET(_xlpm.CF,SUM(IF(YEAR($B$205:$B$780)=$B55,G$205:G$780))*IF(G$12=\"USD\",$C$7,1)*IF($E$200=1,$D$200,1),IF(_xlpm.CF=0,\"-\",_xlpm.CF))","v":"-"},{"$f":"_xlfn.LET(_xlpm.CF,SUM(IF(YEAR($B$205:$B$780)=$B55,H$205:H$780))*IF(H$12=\"USD\",$C$7,1)*IF($E$200=1,$D$200,1),IF(_xlpm.CF=0,\"-\",_xlpm.CF))","v":"-"},{"$f":"_xlfn.LET(_xlpm.CF,SUM(IF(YEAR($B$205:$B$780)=$B55,I$205:I$780))*IF(I$12=\"USD\",$C$7,1)*IF($E$200=1,$D$200,1),IF(_xlpm.CF=0,\"-\",_xlpm.CF))","v":"-"},{"$f":"_xlfn.LET(_xlpm.CF,SUM(IF(YEAR($B$205:$B$780)=$B55,J$205:J$780))*IF(J$12=\"USD\",$C$7,1)*IF($E$200=1,$D$200,1),IF(_xlpm.CF=0,\"-\",_xlpm.CF))","v":"-"},{"$f":"_xlfn.LET(_xlpm.CF,SUM(IF(YEAR($B$205:$B$780)=$B55,K$205:K$780))*IF(K$12=\"USD\",$C$7,1)*IF($E$200=1,$D$200,1),IF(_xlpm.CF=0,\"-\",_xlpm.CF))","v":"-"},{"$f":"_xlfn.LET(_xlpm.CF,SUM(IF(YEAR($B$205:$B$780)=$B55,L$205:L$780))*IF(L$12=\"USD\",$C$7,1)*IF($E$200=1,$D$200,1),IF(_xlpm.CF=0,\"-\",_xlpm.CF))","v":"-"},0]
[null,2036,{"$f":"_xlfn.LET(_xlpm.CF,SUM(IF(YEAR($B$205:$B$780)=$B56,C$205:C$780))*IF(C$12=\"USD\",$C$7,1)*IF($E$200=1,$D$200,1),IF(_xlpm.CF=0,\"-\",_xlpm.CF))","v":"-"},{"$f":"_xlfn.LET(_xlpm.CF,SUM(IF(YEAR($B$205:$B$780)=$B56,D$205:D$780))*IF(D$12=\"USD\",$C$7,1)*IF($E$200=1,$D$200,1),IF(_xlpm.CF=0,\"-\",_xlpm.CF))","v":"-"},{"$f":"_xlfn.LET(_xlpm.CF,SUM(IF(YEAR($B$205:$B$780)=$B56,E$205:E$780))*IF(E$12=\"USD\",$C$7,1)*IF($E$200=1,$D$200,1),IF(_xlpm.CF=0,\"-\",_xlpm.CF))","v":"-"},{"$f":"_xlfn.LET(_xlpm.CF,SUM(IF(YEAR($B$205:$B$780)=$B56,F$205:F$780))*IF(F$12=\"USD\",$C$7,1)*IF($E$200=1,$D$200,1),IF(_xlpm.CF=0,\"-\",_xlpm.CF))","v":"-"},{"$f":"_xlfn.LET(_xlpm.CF,SUM(IF(YEAR($B$205:$B$780)=$B56,G$205:G$780))*IF(G$12=\"USD\",$C$7,1)*IF($E$200=1,$D$200,1),IF(_xlpm.CF=0,\"-\",_xlpm.CF))","v":"-"},{"$f":"_xlfn.LET(_xlpm.CF,SUM(IF(YEAR($B$205:$B$780)=$B56,H$205:H$780))*IF(H$12=\"USD\",$C$7,1)*IF($E$200=1,$D$200,1),IF(_xlpm.CF=0,\"-\",_xlpm.CF))","v":"-"},{"$f":"_xlfn.LET(_xlpm.CF,SUM(IF(YEAR($B$205:$B$780)=$B56,I$205:I$780))*IF(I$12=\"USD\",$C$7,1)*IF($E$200=1,$D$200,1),IF(_xlpm.CF=0,\"-\",_xlpm.CF))","v":"-"},{"$f":"_xlfn.LET(_xlpm.CF,SUM(IF(YEAR($B$205:$B$780)=$B56,J$205:J$780))*IF(J$12=\"USD\",$C$7,1)*IF($E$200=1,$D$200,1),IF(_xlpm.CF=0,\"-\",_xlpm.CF))","v":"-"},{"$f":"_xlfn.LET(_xlpm.CF,SUM(IF(YEAR($B$205:$B$780)=$B56,K$205:K$780))*IF(K$12=\"USD\",$C$7,1)*IF($E$200=1,$D$200,1),IF(_xlpm.CF=0,\"-\",_xlpm.CF))","v":"-"},{"$f":"_xlfn.LET(_xlpm.CF,SUM(IF(YEAR($B$205:$B$780)=$B56,L$205:L$780))*IF(L$12=\"USD\",$C$7,1)*IF($E$200=1,$D$200,1),IF(_xlpm.CF=0,\"-\",_xlpm.CF))","v":"-"},0]
[null,2037,{"$f":"_xlfn.LET(_xlpm.CF,SUM(IF(YEAR($B$205:$B$780)=$B57,C$205:C$780))*IF(C$12=\"USD\",$C$7,1)*IF($E$200=1,$D$200,1),IF(_xlpm.CF=0,\"-\",_xlpm.CF))","v":"-"},{"$f":"_xlfn.LET(_xlpm.CF,SUM(IF(YEAR($B$205:$B$780)=$B57,D$205:D$780))*IF(D$12=\"USD\",$C$7,1)*IF($E$200=1,$D$200,1),IF(_xlpm.CF=0,\"-\",_xlpm.CF))","v":"-"},{"$f":"_xlfn.LET(_xlpm.CF,SUM(IF(YEAR($B$205:$B$780)=$B57,E$205:E$780))*IF(E$12=\"USD\",$C$7,1)*IF($E$200=1,$D$200,1),IF(_xlpm.CF=0,\"-\",_xlpm.CF))","v":"-"},{"$f":"_xlfn.LET(_xlpm.CF,SUM(IF(YEAR($B$205:$B$780)=$B57,F$205:F$780))*IF(F$12=\"USD\",$C$7,1)*IF($E$200=1,$D$200,1),IF(_xlpm.CF=0,\"-\",_xlpm.CF))","v":"-"},{"$f":"_xlfn.LET(_xlpm.CF,SUM(IF(YEAR($B$205:$B$780)=$B57,G$205:G$780))*IF(G$12=\"USD\",$C$7,1)*IF($E$200=1,$D$200,1),IF(_xlpm.CF=0,\"-\",_xlpm.CF))","v":"-"},{"$f":"_xlfn.LET(_xlpm.CF,SUM(IF(YEAR($B$205:$B$780)=$B57,H$205:H$780))*IF(H$12=\"USD\",$C$7,1)*IF($E$200=1,$D$200,1),IF(_xlpm.CF=0,\"-\",_xlpm.CF))","v":"-"},{"$f":"_xlfn.LET(_xlpm.CF,SUM(IF(YEAR($B$205:$B$780)=$B57,I$205:I$780))*IF(I$12=\"USD\",$C$7,1)*IF($E$200=1,$D$200,1),IF(_xlpm.CF=0,\"-\",_xlpm.CF))","v":"-"},{"$f":"_xlfn.LET(_xlpm.CF,SUM(IF(YEAR($B$205:$B$780)=$B57,J$205:J$780))*IF(J$12=\"USD\",$C$7,1)*IF($E$200=1,$D$200,1),IF(_xlpm.CF=0,\"-\",_xlpm.CF))","v":"-"},{"$f":"_xlfn.LET(_xlpm.CF,SUM(IF(YEAR($B$205:$B$780)=$B57,K$205:K$780))*IF(K$12=\"USD\",$C$7,1)*IF($E$200=1,$D$200,1),IF(_xlpm.CF=0,\"-\",_xlpm.CF))","v":"-"},{"$f":"_xlfn.LET(_xlpm.CF,SUM(IF(YEAR($B$205:$B$780)=$B57,L$205:L$780))*IF(L$12=\"USD\",$C$7,1)*IF($E$200=1,$D$200,1),IF(_xlpm.CF=0,\"-\",_xlpm.CF))","v":"-"},0]
[null,2038,{"$f":"_xlfn.LET(_xlpm.CF,SUM(IF(YEAR($B$205:$B$780)=$B58,C$205:C$780))*IF(C$12=\"USD\",$C$7,1)*IF($E$200=1,$D$200,1),IF(_xlpm.CF=0,\"-\",_xlpm.CF))","v":"-"},{"$f":"_xlfn.LET(_xlpm.CF,SUM(IF(YEAR($B$205:$B$780)=$B58,D$205:D$780))*IF(D$12=\"USD\",$C$7,1)*IF($E$200=1,$D$200,1),IF(_xlpm.CF=0,\"-\",_xlpm.CF))","v":"-"},{"$f":"_xlfn.LET(_xlpm.CF,SUM(IF(YEAR($B$205:$B$780)=$B58,E$205:E$780))*IF(E$12=\"USD\",$C$7,1)*IF($E$200=1,$D$200,1),IF(_xlpm.CF=0,\"-\",_xlpm.CF))","v":"-"},{"$f":"_xlfn.LET(_xlpm.CF,SUM(IF(YEAR($B$205:$B$780)=$B58,F$205:F$780))*IF(F$12=\"USD\",$C$7,1)*IF($E$200=1,$D$200,1),IF(_xlpm.CF=0,\"-\",_xlpm.CF))","v":"-"},{"$f":"_xlfn.LET(_xlpm.CF,SUM(IF(YEAR($B$205:$B$780)=$B58,G$205:G$780))*IF(G$12=\"USD\",$C$7,1)*IF($E$200=1,$D$200,1),IF(_xlpm.CF=0,\"-\",_xlpm.CF))","v":"-"},{"$f":"_xlfn.LET(_xlpm.CF,SUM(IF(YEAR($B$205:$B$780)=$B58,H$205:H$780))*IF(H$12=\"USD\",$C$7,1)*IF($E$200=1,$D$200,1),IF(_xlpm.CF=0,\"-\",_xlpm.CF))","v":"-"},{"$f":"_xlfn.LET(_xlpm.CF,SUM(IF(YEAR($B$205:$B$780)=$B58,I$205:I$780))*IF(I$12=\"USD\",$C$7,1)*IF($E$200=1,$D$200,1),IF(_xlpm.CF=0,\"-\",_xlpm.CF))","v":"-"},{"$f":"_xlfn.LET(_xlpm.CF,SUM(IF(YEAR($B$205:$B$780)=$B58,J$205:J$780))*IF(J$12=\"USD\",$C$7,1)*IF($E$200=1,$D$200,1),IF(_xlpm.CF=0,\"-\",_xlpm.CF))","v":"-"},{"$f":"_xlfn.LET(_xlpm.CF,SUM(IF(YEAR($B$205:$B$780)=$B58,K$205:K$780))*IF(K$12=\"USD\",$C$7,1)*IF($E$200=1,$D$200,1),IF(_xlpm.CF=0,\"-\",_xlpm.CF))","v":"-"},{"$f":"_xlfn.LET(_xlpm.CF,SUM(IF(YEAR($B$205:$B$780)=$B58,L$205:L$780))*IF(L$12=\"USD\",$C$7,1)*IF($E$200=1,$D$200,1),IF(_xlpm.CF=0,\"-\",_xlpm.CF))","v":"-"},0]
[null,2039,{"$f":"_xlfn.LET(_xlpm.CF,SUM(IF(YEAR($B$205:$B$780)=$B59,C$205:C$780))*IF(C$12=\"USD\",$C$7,1)*IF($E$200=1,$D$200,1),IF(_xlpm.CF=0,\"-\",_xlpm.CF))","v":"-"},{"$f":"_xlfn.LET(_xlpm.CF,SUM(IF(YEAR($B$205:$B$780)=$B59,D$205:D$780))*IF(D$12=\"USD\",$C$7,1)*IF($E$200=1,$D$200,1),IF(_xlpm.CF=0,\"-\",_xlpm.CF))","v":"-"},{"$f":"_xlfn.LET(_xlpm.CF,SUM(IF(YEAR($B$205:$B$780)=$B59,E$205:E$780))*IF(E$12=\"USD\",$C$7,1)*IF($E$200=1,$D$200,1),IF(_xlpm.CF=0,\"-\",_xlpm.CF))","v":"-"},{"$f":"_xlfn.LET(_xlpm.CF,SUM(IF(YEAR($B$205:$B$780)=$B59,F$205:F$780))*IF(F$12=\"USD\",$C$7,1)*IF($E$200=1,$D$200,1),IF(_xlpm.CF=0,\"-\",_xlpm.CF))","v":"-"},{"$f":"_xlfn.LET(_xlpm.CF,SUM(IF(YEAR($B$205:$B$780)=$B59,G$205:G$780))*IF(G$12=\"USD\",$C$7,1)*IF($E$200=1,$D$200,1),IF(_xlpm.CF=0,\"-\",_xlpm.CF))","v":"-"},{"$f":"_xlfn.LET(_xlpm.CF,SUM(IF(YEAR($B$205:$B$780)=$B59,H$205:H$780))*IF(H$12=\"USD\",$C$7,1)*IF($E$200=1,$D$200,1),IF(_xlpm.CF=0,\"-\",_xlpm.CF))","v":"-"},{"$f":"_xlfn.LET(_xlpm.CF,SUM(IF(YEAR($B$205:$B$780)=$B59,I$205:I$780))*IF(I$12=\"USD\",$C$7,1)*IF($E$200=1,$D$200,1),IF(_xlpm.CF=0,\"-\",_xlpm.CF))","v":"-"},{"$f":"_xlfn.LET(_xlpm.CF,SUM(IF(YEAR($B$205:$B$780)=$B59,J$205:J$780))*IF(J$12=\"USD\",$C$7,1)*IF($E$200=1,$D$200,1),IF(_xlpm.CF=0,\"-\",_xlpm.CF))","v":"-"},{"$f":"_xlfn.LET(_xlpm.CF,SUM(IF(YEAR($B$205:$B$780)=$B59,K$205:K$780))*IF(K$12=\"USD\",$C$7,1)*IF($E$200=1,$D$200,1),IF(_xlpm.CF=0,\"-\",_xlpm.CF))","v":"-"},{"$f":"_xlfn.LET(_xlpm.CF,SUM(IF(YEAR($B$205:$B$780)=$B59,L$205:L$780))*IF(L$12=\"USD\",$C$7,1)*IF($E$200=1,$D$200,1),IF(_xlpm.CF=0,\"-\",_xlpm.CF))","v":"-"},0]
[null,2040,{"$f":"_xlfn.LET(_xlpm.CF,SUM(IF(YEAR($B$205:$B$780)=$B60,C$205:C$780))*IF(C$12=\"USD\",$C$7,1)*IF($E$200=1,$D$200,1),IF(_xlpm.CF=0,\"-\",_xlpm.CF))","v":"-"},{"$f":"_xlfn.LET(_xlpm.CF,SUM(IF(YEAR($B$205:$B$780)=$B60,D$205:D$780))*IF(D$12=\"USD\",$C$7,1)*IF($E$200=1,$D$200,1),IF(_xlpm.CF=0,\"-\",_xlpm.CF))","v":"-"},{"$f":"_xlfn.LET(_xlpm.CF,SUM(IF(YEAR($B$205:$B$780)=$B60,E$205:E$780))*IF(E$12=\"USD\",$C$7,1)*IF($E$200=1,$D$200,1),IF(_xlpm.CF=0,\"-\",_xlpm.CF))","v":"-"},{"$f":"_xlfn.LET(_xlpm.CF,SUM(IF(YEAR($B$205:$B$780)=$B60,F$205:F$780))*IF(F$12=\"USD\",$C$7,1)*IF($E$200=1,$D$200,1),IF(_xlpm.CF=0,\"-\",_xlpm.CF))","v":"-"},{"$f":"_xlfn.LET(_xlpm.CF,SUM(IF(YEAR($B$205:$B$780)=$B60,G$205:G$780))*IF(G$12=\"USD\",$C$7,1)*IF($E$200=1,$D$200,1),IF(_xlpm.CF=0,\"-\",_xlpm.CF))","v":"-"},{"$f":"_xlfn.LET(_xlpm.CF,SUM(IF(YEAR($B$205:$B$780)=$B60,H$205:H$780))*IF(H$12=\"USD\",$C$7,1)*IF($E$200=1,$D$200,1),IF(_xlpm.CF=0,\"-\",_xlpm.CF))","v":"-"},{"$f":"_xlfn.LET(_xlpm.CF,SUM(IF(YEAR($B$205:$B$780)=$B60,I$205:I$780))*IF(I$12=\"USD\",$C$7,1)*IF($E$200=1,$D$200,1),IF(_xlpm.CF=0,\"-\",_xlpm.CF))","v":"-"},{"$f":"_xlfn.LET(_xlpm.CF,SUM(IF(YEAR($B$205:$B$780)=$B60,J$205:J$780))*IF(J$12=\"USD\",$C$7,1)*IF($E$200=1,$D$200,1),IF(_xlpm.CF=0,\"-\",_xlpm.CF))","v":"-"},{"$f":"_xlfn.LET(_xlpm.CF,SUM(IF(YEAR($B$205:$B$780)=$B60,K$205:K$780))*IF(K$12=\"USD\",$C$7,1)*IF($E$200=1,$D$200,1),IF(_xlpm.CF=0,\"-\",_xlpm.CF))","v":"-"},{"$f":"_xlfn.LET(_xlpm.CF,SUM(IF(YEAR($B$205:$B$780)=$B60,L$205:L$780))*IF(L$12=\"USD\",$C$7,1)*IF($E$200=1,$D$200,1),IF(_xlpm.CF=0,\"-\",_xlpm.CF))","v":"-"},0]
[null,2041,{"$f":"_xlfn.LET(_xlpm.CF,SUM(IF(YEAR($B$205:$B$780)=$B61,C$205:C$780))*IF(C$12=\"USD\",$C$7,1)*IF($E$200=1,$D$200,1),IF(_xlpm.CF=0,\"-\",_xlpm.CF))","v":"-"},{"$f":"_xlfn.LET(_xlpm.CF,SUM(IF(YEAR($B$205:$B$780)=$B61,D$205:D$780))*IF(D$12=\"USD\",$C$7,1)*IF($E$200=1,$D$200,1),IF(_xlpm.CF=0,\"-\",_xlpm.CF))","v":"-"},{"$f":"_xlfn.LET(_xlpm.CF,SUM(IF(YEAR($B$205:$B$780)=$B61,E$205:E$780))*IF(E$12=\"USD\",$C$7,1)*IF($E$200=1,$D$200,1),IF(_xlpm.CF=0,\"-\",_xlpm.CF))","v":"-"},{"$f":"_xlfn.LET(_xlpm.CF,SUM(IF(YEAR($B$205:$B$780)=$B61,F$205:F$780))*IF(F$12=\"USD\",$C$7,1)*IF($E$200=1,$D$200,1),IF(_xlpm.CF=0,\"-\",_xlpm.CF))","v":"-"},{"$f":"_xlfn.LET(_xlpm.CF,SUM(IF(YEAR($B$205:$B$780)=$B61,G$205:G$780))*IF(G$12=\"USD\",$C$7,1)*IF($E$200=1,$D$200,1),IF(_xlpm.CF=0,\"-\",_xlpm.CF))","v":"-"},{"$f":"_xlfn.LET(_xlpm.CF,SUM(IF(YEAR($B$205:$B$780)=$B61,H$205:H$780))*IF(H$12=\"USD\",$C$7,1)*IF($E$200=1,$D$200,1),IF(_xlpm.CF=0,\"-\",_xlpm.CF))","v":"-"},{"$f":"_xlfn.LET(_xlpm.CF,SUM(IF(YEAR($B$205:$B$780)=$B61,I$205:I$780))*IF(I$12=\"USD\",$C$7,1)*IF($E$200=1,$D$200,1),IF(_xlpm.CF=0,\"-\",_xlpm.CF))","v":"-"},{"$f":"_xlfn.LET(_xlpm.CF,SUM(IF(YEAR($B$205:$B$780)=$B61,J$205:J$780))*IF(J$12=\"USD\",$C$7,1)*IF($E$200=1,$D$200,1),IF(_xlpm.CF=0,\"-\",_xlpm.CF))","v":"-"},{"$f":"_xlfn.LET(_xlpm.CF,SUM(IF(YEAR($B$205:$B$780)=$B61,K$205:K$780))*IF(K$12=\"USD\",$C$7,1)*IF($E$200=1,$D$200,1),IF(_xlpm.CF=0,\"-\",_xlpm.CF))","v":"-"},{"$f":"_xlfn.LET(_xlpm.CF,SUM(IF(YEAR($B$205:$B$780)=$B61,L$205:L$780))*IF(L$12=\"USD\",$C$7,1)*IF($E$200=1,$D$200,1),IF(_xlpm.CF=0,\"-\",_xlpm.CF))","v":"-"},0]
[null,2042,{"$f":"_xlfn.LET(_xlpm.CF,SUM(IF(YEAR($B$205:$B$780)=$B62,C$205:C$780))*IF(C$12=\"USD\",$C$7,1)*IF($E$200=1,$D$200,1),IF(_xlpm.CF=0,\"-\",_xlpm.CF))","v":"-"},{"$f":"_xlfn.LET(_xlpm.CF,SUM(IF(YEAR($B$205:$B$780)=$B62,D$205:D$780))*IF(D$12=\"USD\",$C$7,1)*IF($E$200=1,$D$200,1),IF(_xlpm.CF=0,\"-\",_xlpm.CF))","v":"-"},{"$f":"_xlfn.LET(_xlpm.CF,SUM(IF(YEAR($B$205:$B$780)=$B62,E$205:E$780))*IF(E$12=\"USD\",$C$7,1)*IF($E$200=1,$D$200,1),IF(_xlpm.CF=0,\"-\",_xlpm.CF))","v":"-"},{"$f":"_xlfn.LET(_xlpm.CF,SUM(IF(YEAR($B$205:$B$780)=$B62,F$205:F$780))*IF(F$12=\"USD\",$C$7,1)*IF($E$200=1,$D$200,1),IF(_xlpm.CF=0,\"-\",_xlpm.CF))","v":"-"},{"$f":"_xlfn.LET(_xlpm.CF,SUM(IF(YEAR($B$205:$B$780)=$B62,G$205:G$780))*IF(G$12=\"USD\",$C$7,1)*IF($E$200=1,$D$200,1),IF(_xlpm.CF=0,\"-\",_xlpm.CF))","v":"-"},{"$f":"_xlfn.LET(_xlpm.CF,SUM(IF(YEAR($B$205:$B$780)=$B62,H$205:H$780))*IF(H$12=\"USD\",$C$7,1)*IF($E$200=1,$D$200,1),IF(_xlpm.CF=0,\"-\",_xlpm.CF))","v":"-"},{"$f":"_xlfn.LET(_xlpm.CF,SUM(IF(YEAR($B$205:$B$780)=$B62,I$205:I$780))*IF(I$12=\"USD\",$C$7,1)*IF($E$200=1,$D$200,1),IF(_xlpm.CF=0,\"-\",_xlpm.CF))","v":"-"},{"$f":"_xlfn.LET(_xlpm.CF,SUM(IF(YEAR($B$205:$B$780)=$B62,J$205:J$780))*IF(J$12=\"USD\",$C$7,1)*IF($E$200=1,$D$200,1),IF(_xlpm.CF=0,\"-\",_xlpm.CF))","v":"-"},{"$f":"_xlfn.LET(_xlpm.CF,SUM(IF(YEAR($B$205:$B$780)=$B62,K$205:K$780))*IF(K$12=\"USD\",$C$7,1)*IF($E$200=1,$D$200,1),IF(_xlpm.CF=0,\"-\",_xlpm.CF))","v":"-"},{"$f":"_xlfn.LET(_xlpm.CF,SUM(IF(YEAR($B$205:$B$780)=$B62,L$205:L$780))*IF(L$12=\"USD\",$C$7,1)*IF($E$200=1,$D$200,1),IF(_xlpm.CF=0,\"-\",_xlpm.CF))","v":"-"},0]
[null,2043,{"$f":"_xlfn.LET(_xlpm.CF,SUM(IF(YEAR($B$205:$B$780)=$B63,C$205:C$780))*IF(C$12=\"USD\",$C$7,1)*IF($E$200=1,$D$200,1),IF(_xlpm.CF=0,\"-\",_xlpm.CF))","v":"-"},{"$f":"_xlfn.LET(_xlpm.CF,SUM(IF(YEAR($B$205:$B$780)=$B63,D$205:D$780))*IF(D$12=\"USD\",$C$7,1)*IF($E$200=1,$D$200,1),IF(_xlpm.CF=0,\"-\",_xlpm.CF))","v":"-"},{"$f":"_xlfn.LET(_xlpm.CF,SUM(IF(YEAR($B$205:$B$780)=$B63,E$205:E$780))*IF(E$12=\"USD\",$C$7,1)*IF($E$200=1,$D$200,1),IF(_xlpm.CF=0,\"-\",_xlpm.CF))","v":"-"},{"$f":"_xlfn.LET(_xlpm.CF,SUM(IF(YEAR($B$205:$B$780)=$B63,F$205:F$780))*IF(F$12=\"USD\",$C$7,1)*IF($E$200=1,$D$200,1),IF(_xlpm.CF=0,\"-\",_xlpm.CF))","v":"-"},{"$f":"_xlfn.LET(_xlpm.CF,SUM(IF(YEAR($B$205:$B$780)=$B63,G$205:G$780))*IF(G$12=\"USD\",$C$7,1)*IF($E$200=1,$D$200,1),IF(_xlpm.CF=0,\"-\",_xlpm.CF))","v":"-"},{"$f":"_xlfn.LET(_xlpm.CF,SUM(IF(YEAR($B$205:$B$780)=$B63,H$205:H$780))*IF(H$12=\"USD\",$C$7,1)*IF($E$200=1,$D$200,1),IF(_xlpm.CF=0,\"-\",_xlpm.CF))","v":"-"},{"$f":"_xlfn.LET(_xlpm.CF,SUM(IF(YEAR($B$205:$B$780)=$B63,I$205:I$780))*IF(I$12=\"USD\",$C$7,1)*IF($E$200=1,$D$200,1),IF(_xlpm.CF=0,\"-\",_xlpm.CF))","v":"-"},{"$f":"_xlfn.LET(_xlpm.CF,SUM(IF(YEAR($B$205:$B$780)=$B63,J$205:J$780))*IF(J$12=\"USD\",$C$7,1)*IF($E$200=1,$D$200,1),IF(_xlpm.CF=0,\"-\",_xlpm.CF))","v":"-"},{"$f":"_xlfn.LET(_xlpm.CF,SUM(IF(YEAR($B$205:$B$780)=$B63,K$205:K$780))*IF(K$12=\"USD\",$C$7,1)*IF($E$200=1,$D$200,1),IF(_xlpm.CF=0,\"-\",_xlpm.CF))","v":"-"},{"$f":"_xlfn.LET(_xlpm.CF,SUM(IF(YEAR($B$205:$B$780)=$B63,L$205:L$780))*IF(L$12=\"USD\",$C$7,1)*IF($E$200=1,$D$200,1),IF(_xlpm.CF=0,\"-\",_xlpm.CF))","v":"-"},0]
[null,2044,{"$f":"_xlfn.LET(_xlpm.CF,SUM(IF(YEAR($B$205:$B$780)=$B64,C$205:C$780))*IF(C$12=\"USD\",$C$7,1)*IF($E$200=1,$D$200,1),IF(_xlpm.CF=0,\"-\",_xlpm.CF))","v":"-"},{"$f":"_xlfn.LET(_xlpm.CF,SUM(IF(YEAR($B$205:$B$780)=$B64,D$205:D$780))*IF(D$12=\"USD\",$C$7,1)*IF($E$200=1,$D$200,1),IF(_xlpm.CF=0,\"-\",_xlpm.CF))","v":"-"},{"$f":"_xlfn.LET(_xlpm.CF,SUM(IF(YEAR($B$205:$B$780)=$B64,E$205:E$780))*IF(E$12=\"USD\",$C$7,1)*IF($E$200=1,$D$200,1),IF(_xlpm.CF=0,\"-\",_xlpm.CF))","v":"-"},{"$f":"_xlfn.LET(_xlpm.CF,SUM(IF(YEAR($B$205:$B$780)=$B64,F$205:F$780))*IF(F$12=\"USD\",$C$7,1)*IF($E$200=1,$D$200,1),IF(_xlpm.CF=0,\"-\",_xlpm.CF))","v":"-"},{"$f":"_xlfn.LET(_xlpm.CF,SUM(IF(YEAR($B$205:$B$780)=$B64,G$205:G$780))*IF(G$12=\"USD\",$C$7,1)*IF($E$200=1,$D$200,1),IF(_xlpm.CF=0,\"-\",_xlpm.CF))","v":"-"},{"$f":"_xlfn.LET(_xlpm.CF,SUM(IF(YEAR($B$205:$B$780)=$B64,H$205:H$780))*IF(H$12=\"USD\",$C$7,1)*IF($E$200=1,$D$200,1),IF(_xlpm.CF=0,\"-\",_xlpm.CF))","v":"-"},{"$f":"_xlfn.LET(_xlpm.CF,SUM(IF(YEAR($B$205:$B$780)=$B64,I$205:I$780))*IF(I$12=\"USD\",$C$7,1)*IF($E$200=1,$D$200,1),IF(_xlpm.CF=0,\"-\",_xlpm.CF))","v":"-"},{"$f":"_xlfn.LET(_xlpm.CF,SUM(IF(YEAR($B$205:$B$780)=$B64,J$205:J$780))*IF(J$12=\"USD\",$C$7,1)*IF($E$200=1,$D$200,1),IF(_xlpm.CF=0,\"-\",_xlpm.CF))","v":"-"},{"$f":"_xlfn.LET(_xlpm.CF,SUM(IF(YEAR($B$205:$B$780)=$B64,K$205:K$780))*IF(K$12=\"USD\",$C$7,1)*IF($E$200=1,$D$200,1),IF(_xlpm.CF=0,\"-\",_xlpm.CF))","v":"-"},{"$f":"_xlfn.LET(_xlpm.CF,SUM(IF(YEAR($B$205:$B$780)=$B64,L$205:L$780))*IF(L$12=\"USD\",$C$7,1)*IF($E$200=1,$D$200,1),IF(_xlpm.CF=0,\"-\",_xlpm.CF))","v":"-"},0]
[null,2045,{"$f":"_xlfn.LET(_xlpm.CF,SUM(IF(YEAR($B$205:$B$780)=$B65,C$205:C$780))*IF(C$12=\"USD\",$C$7,1)*IF($E$200=1,$D$200,1),IF(_xlpm.CF=0,\"-\",_xlpm.CF))","v":"-"},{"$f":"_xlfn.LET(_xlpm.CF,SUM(IF(YEAR($B$205:$B$780)=$B65,D$205:D$780))*IF(D$12=\"USD\",$C$7,1)*IF($E$200=1,$D$200,1),IF(_xlpm.CF=0,\"-\",_xlpm.CF))","v":"-"},{"$f":"_xlfn.LET(_xlpm.CF,SUM(IF(YEAR($B$205:$B$780)=$B65,E$205:E$780))*IF(E$12=\"USD\",$C$7,1)*IF($E$200=1,$D$200,1),IF(_xlpm.CF=0,\"-\",_xlpm.CF))","v":"-"},{"$f":"_xlfn.LET(_xlpm.CF,SUM(IF(YEAR($B$205:$B$780)=$B65,F$205:F$780))*IF(F$12=\"USD\",$C$7,1)*IF($E$200=1,$D$200,1),IF(_xlpm.CF=0,\"-\",_xlpm.CF))","v":"-"},{"$f":"_xlfn.LET(_xlpm.CF,SUM(IF(YEAR($B$205:$B$780)=$B65,G$205:G$780))*IF(G$12=\"USD\",$C$7,1)*IF($E$200=1,$D$200,1),IF(_xlpm.CF=0,\"-\",_xlpm.CF))","v":"-"},{"$f":"_xlfn.LET(_xlpm.CF,SUM(IF(YEAR($B$205:$B$780)=$B65,H$205:H$780))*IF(H$12=\"USD\",$C$7,1)*IF($E$200=1,$D$200,1),IF(_xlpm.CF=0,\"-\",_xlpm.CF))","v":"-"},{"$f":"_xlfn.LET(_xlpm.CF,SUM(IF(YEAR($B$205:$B$780)=$B65,I$205:I$780))*IF(I$12=\"USD\",$C$7,1)*IF($E$200=1,$D$200,1),IF(_xlpm.CF=0,\"-\",_xlpm.CF))","v":"-"},{"$f":"_xlfn.LET(_xlpm.CF,SUM(IF(YEAR($B$205:$B$780)=$B65,J$205:J$780))*IF(J$12=\"USD\",$C$7,1)*IF($E$200=1,$D$200,1),IF(_xlpm.CF=0,\"-\",_xlpm.CF))","v":"-"},{"$f":"_xlfn.LET(_xlpm.CF,SUM(IF(YEAR($B$205:$B$780)=$B65,K$205:K$780))*IF(K$12=\"USD\",$C$7,1)*IF($E$200=1,$D$200,1),IF(_xlpm.CF=0,\"-\",_xlpm.CF))","v":"-"},{"$f":"_xlfn.LET(_xlpm.CF,SUM(IF(YEAR($B$205:$B$780)=$B65,L$205:L$780))*IF(L$12=\"USD\",$C$7,1)*IF($E$200=1,$D$200,1),IF(_xlpm.CF=0,\"-\",_xlpm.CF))","v":"-"},0]
[null,2046,{"$f":"_xlfn.LET(_xlpm.CF,SUM(IF(YEAR($B$205:$B$780)=$B66,C$205:C$780))*IF(C$12=\"USD\",$C$7,1)*IF($E$200=1,$D$200,1),IF(_xlpm.CF=0,\"-\",_xlpm.CF))","v":"-"},{"$f":"_xlfn.LET(_xlpm.CF,SUM(IF(YEAR($B$205:$B$780)=$B66,D$205:D$780))*IF(D$12=\"USD\",$C$7,1)*IF($E$200=1,$D$200,1),IF(_xlpm.CF=0,\"-\",_xlpm.CF))","v":"-"},{"$f":"_xlfn.LET(_xlpm.CF,SUM(IF(YEAR($B$205:$B$780)=$B66,E$205:E$780))*IF(E$12=\"USD\",$C$7,1)*IF($E$200=1,$D$200,1),IF(_xlpm.CF=0,\"-\",_xlpm.CF))","v":"-"},{"$f":"_xlfn.LET(_xlpm.CF,SUM(IF(YEAR($B$205:$B$780)=$B66,F$205:F$780))*IF(F$12=\"USD\",$C$7,1)*IF($E$200=1,$D$200,1),IF(_xlpm.CF=0,\"-\",_xlpm.CF))","v":"-"},{"$f":"_xlfn.LET(_xlpm.CF,SUM(IF(YEAR($B$205:$B$780)=$B66,G$205:G$780))*IF(G$12=\"USD\",$C$7,1)*IF($E$200=1,$D$200,1),IF(_xlpm.CF=0,\"-\",_xlpm.CF))","v":"-"},{"$f":"_xlfn.LET(_xlpm.CF,SUM(IF(YEAR($B$205:$B$780)=$B66,H$205:H$780))*IF(H$12=\"USD\",$C$7,1)*IF($E$200=1,$D$200,1),IF(_xlpm.CF=0,\"-\",_xlpm.CF))","v":"-"},{"$f":"_xlfn.LET(_xlpm.CF,SUM(IF(YEAR($B$205:$B$780)=$B66,I$205:I$780))*IF(I$12=\"USD\",$C$7,1)*IF($E$200=1,$D$200,1),IF(_xlpm.CF=0,\"-\",_xlpm.CF))","v":"-"},{"$f":"_xlfn.LET(_xlpm.CF,SUM(IF(YEAR($B$205:$B$780)=$B66,J$205:J$780))*IF(J$12=\"USD\",$C$7,1)*IF($E$200=1,$D$200,1),IF(_xlpm.CF=0,\"-\",_xlpm.CF))","v":"-"},{"$f":"_xlfn.LET(_xlpm.CF,SUM(IF(YEAR($B$205:$B$780)=$B66,K$205:K$780))*IF(K$12=\"USD\",$C$7,1)*IF($E$200=1,$D$200,1),IF(_xlpm.CF=0,\"-\",_xlpm.CF))","v":"-"},{"$f":"_xlfn.LET(_xlpm.CF,SUM(IF(YEAR($B$205:$B$780)=$B66,L$205:L$780))*IF(L$12=\"USD\",$C$7,1)*IF($E$200=1,$D$200,1),IF(_xlpm.CF=0,\"-\",_xlpm.CF))","v":"-"},0]
[null,2047,{"$f":"_xlfn.LET(_xlpm.CF,SUM(IF(YEAR($B$205:$B$780)=$B67,C$205:C$780))*IF(C$12=\"USD\",$C$7,1)*IF($E$200=1,$D$200,1),IF(_xlpm.CF=0,\"-\",_xlpm.CF))","v":"-"},{"$f":"_xlfn.LET(_xlpm.CF,SUM(IF(YEAR($B$205:$B$780)=$B67,D$205:D$780))*IF(D$12=\"USD\",$C$7,1)*IF($E$200=1,$D$200,1),IF(_xlpm.CF=0,\"-\",_xlpm.CF))","v":"-"},{"$f":"_xlfn.LET(_xlpm.CF,SUM(IF(YEAR($B$205:$B$780)=$B67,E$205:E$780))*IF(E$12=\"USD\",$C$7,1)*IF($E$200=1,$D$200,1),IF(_xlpm.CF=0,\"-\",_xlpm.CF))","v":"-"},{"$f":"_xlfn.LET(_xlpm.CF,SUM(IF(YEAR($B$205:$B$780)=$B67,F$205:F$780))*IF(F$12=\"USD\",$C$7,1)*IF($E$200=1,$D$200,1),IF(_xlpm.CF=0,\"-\",_xlpm.CF))","v":"-"},{"$f":"_xlfn.LET(_xlpm.CF,SUM(IF(YEAR($B$205:$B$780)=$B67,G$205:G$780))*IF(G$12=\"USD\",$C$7,1)*IF($E$200=1,$D$200,1),IF(_xlpm.CF=0,\"-\",_xlpm.CF))","v":"-"},{"$f":"_xlfn.LET(_xlpm.CF,SUM(IF(YEAR($B$205:$B$780)=$B67,H$205:H$780))*IF(H$12=\"USD\",$C$7,1)*IF($E$200=1,$D$200,1),IF(_xlpm.CF=0,\"-\",_xlpm.CF))","v":"-"},{"$f":"_xlfn.LET(_xlpm.CF,SUM(IF(YEAR($B$205:$B$780)=$B67,I$205:I$780))*IF(I$12=\"USD\",$C$7,1)*IF($E$200=1,$D$200,1),IF(_xlpm.CF=0,\"-\",_xlpm.CF))","v":"-"},{"$f":"_xlfn.LET(_xlpm.CF,SUM(IF(YEAR($B$205:$B$780)=$B67,J$205:J$780))*IF(J$12=\"USD\",$C$7,1)*IF($E$200=1,$D$200,1),IF(_xlpm.CF=0,\"-\",_xlpm.CF))","v":"-"},{"$f":"_xlfn.LET(_xlpm.CF,SUM(IF(YEAR($B$205:$B$780)=$B67,K$205:K$780))*IF(K$12=\"USD\",$C$7,1)*IF($E$200=1,$D$200,1),IF(_xlpm.CF=0,\"-\",_xlpm.CF))","v":"-"},{"$f":"_xlfn.LET(_xlpm.CF,SUM(IF(YEAR($B$205:$B$780)=$B67,L$205:L$780))*IF(L$12=\"USD\",$C$7,1)*IF($E$200=1,$D$200,1),IF(_xlpm.CF=0,\"-\",_xlpm.CF))","v":"-"},0]
[null,2048,{"$f":"_xlfn.LET(_xlpm.CF,SUM(IF(YEAR($B$205:$B$780)=$B68,C$205:C$780))*IF(C$12=\"USD\",$C$7,1)*IF($E$200=1,$D$200,1),IF(_xlpm.CF=0,\"-\",_xlpm.CF))","v":"-"},{"$f":"_xlfn.LET(_xlpm.CF,SUM(IF(YEAR($B$205:$B$780)=$B68,D$205:D$780))*IF(D$12=\"USD\",$C$7,1)*IF($E$200=1,$D$200,1),IF(_xlpm.CF=0,\"-\",_xlpm.CF))","v":"-"},{"$f":"_xlfn.LET(_xlpm.CF,SUM(IF(YEAR($B$205:$B$780)=$B68,E$205:E$780))*IF(E$12=\"USD\",$C$7,1)*IF($E$200=1,$D$200,1),IF(_xlpm.CF=0,\"-\",_xlpm.CF))","v":"-"},{"$f":"_xlfn.LET(_xlpm.CF,SUM(IF(YEAR($B$205:$B$780)=$B68,F$205:F$780))*IF(F$12=\"USD\",$C$7,1)*IF($E$200=1,$D$200,1),IF(_xlpm.CF=0,\"-\",_xlpm.CF))","v":"-"},{"$f":"_xlfn.LET(_xlpm.CF,SUM(IF(YEAR($B$205:$B$780)=$B68,G$205:G$780))*IF(G$12=\"USD\",$C$7,1)*IF($E$200=1,$D$200,1),IF(_xlpm.CF=0,\"-\",_xlpm.CF))","v":"-"},{"$f":"_xlfn.LET(_xlpm.CF,SUM(IF(YEAR($B$205:$B$780)=$B68,H$205:H$780))*IF(H$12=\"USD\",$C$7,1)*IF($E$200=1,$D$200,1),IF(_xlpm.CF=0,\"-\",_xlpm.CF))","v":"-"},{"$f":"_xlfn.LET(_xlpm.CF,SUM(IF(YEAR($B$205:$B$780)=$B68,I$205:I$780))*IF(I$12=\"USD\",$C$7,1)*IF($E$200=1,$D$200,1),IF(_xlpm.CF=0,\"-\",_xlpm.CF))","v":"-"},{"$f":"_xlfn.LET(_xlpm.CF,SUM(IF(YEAR($B$205:$B$780)=$B68,J$205:J$780))*IF(J$12=\"USD\",$C$7,1)*IF($E$200=1,$D$200,1),IF(_xlpm.CF=0,\"-\",_xlpm.CF))","v":"-"},{"$f":"_xlfn.LET(_xlpm.CF,SUM(IF(YEAR($B$205:$B$780)=$B68,K$205:K$780))*IF(K$12=\"USD\",$C$7,1)*IF($E$200=1,$D$200,1),IF(_xlpm.CF=0,\"-\",_xlpm.CF))","v":"-"},{"$f":"_xlfn.LET(_xlpm.CF,SUM(IF(YEAR($B$205:$B$780)=$B68,L$205:L$780))*IF(L$12=\"USD\",$C$7,1)*IF($E$200=1,$D$200,1),IF(_xlpm.CF=0,\"-\",_xlpm.CF))","v":"-"},0]
[null,2049,{"$f":"_xlfn.LET(_xlpm.CF,SUM(IF(YEAR($B$205:$B$780)=$B69,C$205:C$780))*IF(C$12=\"USD\",$C$7,1)*IF($E$200=1,$D$200,1),IF(_xlpm.CF=0,\"-\",_xlpm.CF))","v":"-"},{"$f":"_xlfn.LET(_xlpm.CF,SUM(IF(YEAR($B$205:$B$780)=$B69,D$205:D$780))*IF(D$12=\"USD\",$C$7,1)*IF($E$200=1,$D$200,1),IF(_xlpm.CF=0,\"-\",_xlpm.CF))","v":"-"},{"$f":"_xlfn.LET(_xlpm.CF,SUM(IF(YEAR($B$205:$B$780)=$B69,E$205:E$780))*IF(E$12=\"USD\",$C$7,1)*IF($E$200=1,$D$200,1),IF(_xlpm.CF=0,\"-\",_xlpm.CF))","v":"-"},{"$f":"_xlfn.LET(_xlpm.CF,SUM(IF(YEAR($B$205:$B$780)=$B69,F$205:F$780))*IF(F$12=\"USD\",$C$7,1)*IF($E$200=1,$D$200,1),IF(_xlpm.CF=0,\"-\",_xlpm.CF))","v":"-"},{"$f":"_xlfn.LET(_xlpm.CF,SUM(IF(YEAR($B$205:$B$780)=$B69,G$205:G$780))*IF(G$12=\"USD\",$C$7,1)*IF($E$200=1,$D$200,1),IF(_xlpm.CF=0,\"-\",_xlpm.CF))","v":"-"},{"$f":"_xlfn.LET(_xlpm.CF,SUM(IF(YEAR($B$205:$B$780)=$B69,H$205:H$780))*IF(H$12=\"USD\",$C$7,1)*IF($E$200=1,$D$200,1),IF(_xlpm.CF=0,\"-\",_xlpm.CF))","v":"-"},{"$f":"_xlfn.LET(_xlpm.CF,SUM(IF(YEAR($B$205:$B$780)=$B69,I$205:I$780))*IF(I$12=\"USD\",$C$7,1)*IF($E$200=1,$D$200,1),IF(_xlpm.CF=0,\"-\",_xlpm.CF))","v":"-"},{"$f":"_xlfn.LET(_xlpm.CF,SUM(IF(YEAR($B$205:$B$780)=$B69,J$205:J$780))*IF(J$12=\"USD\",$C$7,1)*IF($E$200=1,$D$200,1),IF(_xlpm.CF=0,\"-\",_xlpm.CF))","v":"-"},{"$f":"_xlfn.LET(_xlpm.CF,SUM(IF(YEAR($B$205:$B$780)=$B69,K$205:K$780))*IF(K$12=\"USD\",$C$7,1)*IF($E$200=1,$D$200,1),IF(_xlpm.CF=0,\"-\",_xlpm.CF))","v":"-"},{"$f":"_xlfn.LET(_xlpm.CF,SUM(IF(YEAR($B$205:$B$780)=$B69,L$205:L$780))*IF(L$12=\"USD\",$C$7,1)*IF($E$200=1,$D$200,1),IF(_xlpm.CF=0,\"-\",_xlpm.CF))","v":"-"},0]
[null,2050,{"$f":"_xlfn.LET(_xlpm.CF,SUM(IF(YEAR($B$205:$B$780)=$B70,C$205:C$780))*IF(C$12=\"USD\",$C$7,1)*IF($E$200=1,$D$200,1),IF(_xlpm.CF=0,\"-\",_xlpm.CF))","v":"-"},{"$f":"_xlfn.LET(_xlpm.CF,SUM(IF(YEAR($B$205:$B$780)=$B70,D$205:D$780))*IF(D$12=\"USD\",$C$7,1)*IF($E$200=1,$D$200,1),IF(_xlpm.CF=0,\"-\",_xlpm.CF))","v":"-"},{"$f":"_xlfn.LET(_xlpm.CF,SUM(IF(YEAR($B$205:$B$780)=$B70,E$205:E$780))*IF(E$12=\"USD\",$C$7,1)*IF($E$200=1,$D$200,1),IF(_xlpm.CF=0,\"-\",_xlpm.CF))","v":"-"},{"$f":"_xlfn.LET(_xlpm.CF,SUM(IF(YEAR($B$205:$B$780)=$B70,F$205:F$780))*IF(F$12=\"USD\",$C$7,1)*IF($E$200=1,$D$200,1),IF(_xlpm.CF=0,\"-\",_xlpm.CF))","v":"-"},{"$f":"_xlfn.LET(_xlpm.CF,SUM(IF(YEAR($B$205:$B$780)=$B70,G$205:G$780))*IF(G$12=\"USD\",$C$7,1)*IF($E$200=1,$D$200,1),IF(_xlpm.CF=0,\"-\",_xlpm.CF))","v":"-"},{"$f":"_xlfn.LET(_xlpm.CF,SUM(IF(YEAR($B$205:$B$780)=$B70,H$205:H$780))*IF(H$12=\"USD\",$C$7,1)*IF($E$200=1,$D$200,1),IF(_xlpm.CF=0,\"-\",_xlpm.CF))","v":"-"},{"$f":"_xlfn.LET(_xlpm.CF,SUM(IF(YEAR($B$205:$B$780)=$B70,I$205:I$780))*IF(I$12=\"USD\",$C$7,1)*IF($E$200=1,$D$200,1),IF(_xlpm.CF=0,\"-\",_xlpm.CF))","v":"-"},{"$f":"_xlfn.LET(_xlpm.CF,SUM(IF(YEAR($B$205:$B$780)=$B70,J$205:J$780))*IF(J$12=\"USD\",$C$7,1)*IF($E$200=1,$D$200,1),IF(_xlpm.CF=0,\"-\",_xlpm.CF))","v":"-"},{"$f":"_xlfn.LET(_xlpm.CF,SUM(IF(YEAR($B$205:$B$780)=$B70,K$205:K$780))*IF(K$12=\"USD\",$C$7,1)*IF($E$200=1,$D$200,1),IF(_xlpm.CF=0,\"-\",_xlpm.CF))","v":"-"},{"$f":"_xlfn.LET(_xlpm.CF,SUM(IF(YEAR($B$205:$B$780)=$B70,L$205:L$780))*IF(L$12=\"USD\",$C$7,1)*IF($E$200=1,$D$200,1),IF(_xlpm.CF=0,\"-\",_xlpm.CF))","v":"-"},0]
[null,2051,{"$f":"_xlfn.LET(_xlpm.CF,SUM(IF(YEAR($B$205:$B$780)=$B71,C$205:C$780))*IF(C$12=\"USD\",$C$7,1)*IF($E$200=1,$D$200,1),IF(_xlpm.CF=0,\"-\",_xlpm.CF))","v":"-"},{"$f":"_xlfn.LET(_xlpm.CF,SUM(IF(YEAR($B$205:$B$780)=$B71,D$205:D$780))*IF(D$12=\"USD\",$C$7,1)*IF($E$200=1,$D$200,1),IF(_xlpm.CF=0,\"-\",_xlpm.CF))","v":"-"},{"$f":"_xlfn.LET(_xlpm.CF,SUM(IF(YEAR($B$205:$B$780)=$B71,E$205:E$780))*IF(E$12=\"USD\",$C$7,1)*IF($E$200=1,$D$200,1),IF(_xlpm.CF=0,\"-\",_xlpm.CF))","v":"-"},{"$f":"_xlfn.LET(_xlpm.CF,SUM(IF(YEAR($B$205:$B$780)=$B71,F$205:F$780))*IF(F$12=\"USD\",$C$7,1)*IF($E$200=1,$D$200,1),IF(_xlpm.CF=0,\"-\",_xlpm.CF))","v":"-"},{"$f":"_xlfn.LET(_xlpm.CF,SUM(IF(YEAR($B$205:$B$780)=$B71,G$205:G$780))*IF(G$12=\"USD\",$C$7,1)*IF($E$200=1,$D$200,1),IF(_xlpm.CF=0,\"-\",_xlpm.CF))","v":"-"},{"$f":"_xlfn.LET(_xlpm.CF,SUM(IF(YEAR($B$205:$B$780)=$B71,H$205:H$780))*IF(H$12=\"USD\",$C$7,1)*IF($E$200=1,$D$200,1),IF(_xlpm.CF=0,\"-\",_xlpm.CF))","v":"-"},{"$f":"_xlfn.LET(_xlpm.CF,SUM(IF(YEAR($B$205:$B$780)=$B71,I$205:I$780))*IF(I$12=\"USD\",$C$7,1)*IF($E$200=1,$D$200,1),IF(_xlpm.CF=0,\"-\",_xlpm.CF))","v":"-"},{"$f":"_xlfn.LET(_xlpm.CF,SUM(IF(YEAR($B$205:$B$780)=$B71,J$205:J$780))*IF(J$12=\"USD\",$C$7,1)*IF($E$200=1,$D$200,1),IF(_xlpm.CF=0,\"-\",_xlpm.CF))","v":"-"},{"$f":"_xlfn.LET(_xlpm.CF,SUM(IF(YEAR($B$205:$B$780)=$B71,K$205:K$780))*IF(K$12=\"USD\",$C$7,1)*IF($E$200=1,$D$200,1),IF(_xlpm.CF=0,\"-\",_xlpm.CF))","v":"-"},{"$f":"_xlfn.LET(_xlpm.CF,SUM(IF(YEAR($B$205:$B$780)=$B71,L$205:L$780))*IF(L$12=\"USD\",$C$7,1)*IF($E$200=1,$D$200,1),IF(_xlpm.CF=0,\"-\",_xlpm.CF))","v":"-"},0]
[null,2052,{"$f":"_xlfn.LET(_xlpm.CF,SUM(IF(YEAR($B$205:$B$780)=$B72,C$205:C$780))*IF(C$12=\"USD\",$C$7,1)*IF($E$200=1,$D$200,1),IF(_xlpm.CF=0,\"-\",_xlpm.CF))","v":"-"},{"$f":"_xlfn.LET(_xlpm.CF,SUM(IF(YEAR($B$205:$B$780)=$B72,D$205:D$780))*IF(D$12=\"USD\",$C$7,1)*IF($E$200=1,$D$200,1),IF(_xlpm.CF=0,\"-\",_xlpm.CF))","v":"-"},{"$f":"_xlfn.LET(_xlpm.CF,SUM(IF(YEAR($B$205:$B$780)=$B72,E$205:E$780))*IF(E$12=\"USD\",$C$7,1)*IF($E$200=1,$D$200,1),IF(_xlpm.CF=0,\"-\",_xlpm.CF))","v":"-"},{"$f":"_xlfn.LET(_xlpm.CF,SUM(IF(YEAR($B$205:$B$780)=$B72,F$205:F$780))*IF(F$12=\"USD\",$C$7,1)*IF($E$200=1,$D$200,1),IF(_xlpm.CF=0,\"-\",_xlpm.CF))","v":"-"},{"$f":"_xlfn.LET(_xlpm.CF,SUM(IF(YEAR($B$205:$B$780)=$B72,G$205:G$780))*IF(G$12=\"USD\",$C$7,1)*IF($E$200=1,$D$200,1),IF(_xlpm.CF=0,\"-\",_xlpm.CF))","v":"-"},{"$f":"_xlfn.LET(_xlpm.CF,SUM(IF(YEAR($B$205:$B$780)=$B72,H$205:H$780))*IF(H$12=\"USD\",$C$7,1)*IF($E$200=1,$D$200,1),IF(_xlpm.CF=0,\"-\",_xlpm.CF))","v":"-"},{"$f":"_xlfn.LET(_xlpm.CF,SUM(IF(YEAR($B$205:$B$780)=$B72,I$205:I$780))*IF(I$12=\"USD\",$C$7,1)*IF($E$200=1,$D$200,1),IF(_xlpm.CF=0,\"-\",_xlpm.CF))","v":"-"},{"$f":"_xlfn.LET(_xlpm.CF,SUM(IF(YEAR($B$205:$B$780)=$B72,J$205:J$780))*IF(J$12=\"USD\",$C$7,1)*IF($E$200=1,$D$200,1),IF(_xlpm.CF=0,\"-\",_xlpm.CF))","v":"-"},{"$f":"_xlfn.LET(_xlpm.CF,SUM(IF(YEAR($B$205:$B$780)=$B72,K$205:K$780))*IF(K$12=\"USD\",$C$7,1)*IF($E$200=1,$D$200,1),IF(_xlpm.CF=0,\"-\",_xlpm.CF))","v":"-"},{"$f":"_xlfn.LET(_xlpm.CF,SUM(IF(YEAR($B$205:$B$780)=$B72,L$205:L$780))*IF(L$12=\"USD\",$C$7,1)*IF($E$200=1,$D$200,1),IF(_xlpm.CF=0,\"-\",_xlpm.CF))","v":"-"},0]
[null,2053,{"$f":"_xlfn.LET(_xlpm.CF,SUM(IF(YEAR($B$205:$B$780)=$B73,C$205:C$780))*IF(C$12=\"USD\",$C$7,1)*IF($E$200=1,$D$200,1),IF(_xlpm.CF=0,\"-\",_xlpm.CF))","v":"-"},{"$f":"_xlfn.LET(_xlpm.CF,SUM(IF(YEAR($B$205:$B$780)=$B73,D$205:D$780))*IF(D$12=\"USD\",$C$7,1)*IF($E$200=1,$D$200,1),IF(_xlpm.CF=0,\"-\",_xlpm.CF))","v":"-"},{"$f":"_xlfn.LET(_xlpm.CF,SUM(IF(YEAR($B$205:$B$780)=$B73,E$205:E$780))*IF(E$12=\"USD\",$C$7,1)*IF($E$200=1,$D$200,1),IF(_xlpm.CF=0,\"-\",_xlpm.CF))","v":"-"},{"$f":"_xlfn.LET(_xlpm.CF,SUM(IF(YEAR($B$205:$B$780)=$B73,F$205:F$780))*IF(F$12=\"USD\",$C$7,1)*IF($E$200=1,$D$200,1),IF(_xlpm.CF=0,\"-\",_xlpm.CF))","v":"-"},{"$f":"_xlfn.LET(_xlpm.CF,SUM(IF(YEAR($B$205:$B$780)=$B73,G$205:G$780))*IF(G$12=\"USD\",$C$7,1)*IF($E$200=1,$D$200,1),IF(_xlpm.CF=0,\"-\",_xlpm.CF))","v":"-"},{"$f":"_xlfn.LET(_xlpm.CF,SUM(IF(YEAR($B$205:$B$780)=$B73,H$205:H$780))*IF(H$12=\"USD\",$C$7,1)*IF($E$200=1,$D$200,1),IF(_xlpm.CF=0,\"-\",_xlpm.CF))","v":"-"},{"$f":"_xlfn.LET(_xlpm.CF,SUM(IF(YEAR($B$205:$B$780)=$B73,I$205:I$780))*IF(I$12=\"USD\",$C$7,1)*IF($E$200=1,$D$200,1),IF(_xlpm.CF=0,\"-\",_xlpm.CF))","v":"-"},{"$f":"_xlfn.LET(_xlpm.CF,SUM(IF(YEAR($B$205:$B$780)=$B73,J$205:J$780))*IF(J$12=\"USD\",$C$7,1)*IF($E$200=1,$D$200,1),IF(_xlpm.CF=0,\"-\",_xlpm.CF))","v":"-"},{"$f":"_xlfn.LET(_xlpm.CF,SUM(IF(YEAR($B$205:$B$780)=$B73,K$205:K$780))*IF(K$12=\"USD\",$C$7,1)*IF($E$200=1,$D$200,1),IF(_xlpm.CF=0,\"-\",_xlpm.CF))","v":"-"},{"$f":"_xlfn.LET(_xlpm.CF,SUM(IF(YEAR($B$205:$B$780)=$B73,L$205:L$780))*IF(L$12=\"USD\",$C$7,1)*IF($E$200=1,$D$200,1),IF(_xlpm.CF=0,\"-\",_xlpm.CF))","v":"-"},0]
[null,2054,{"$f":"_xlfn.LET(_xlpm.CF,SUM(IF(YEAR($B$205:$B$780)=$B74,C$205:C$780))*IF(C$12=\"USD\",$C$7,1)*IF($E$200=1,$D$200,1),IF(_xlpm.CF=0,\"-\",_xlpm.CF))","v":"-"},{"$f":"_xlfn.LET(_xlpm.CF,SUM(IF(YEAR($B$205:$B$780)=$B74,D$205:D$780))*IF(D$12=\"USD\",$C$7,1)*IF($E$200=1,$D$200,1),IF(_xlpm.CF=0,\"-\",_xlpm.CF))","v":"-"},{"$f":"_xlfn.LET(_xlpm.CF,SUM(IF(YEAR($B$205:$B$780)=$B74,E$205:E$780))*IF(E$12=\"USD\",$C$7,1)*IF($E$200=1,$D$200,1),IF(_xlpm.CF=0,\"-\",_xlpm.CF))","v":"-"},{"$f":"_xlfn.LET(_xlpm.CF,SUM(IF(YEAR($B$205:$B$780)=$B74,F$205:F$780))*IF(F$12=\"USD\",$C$7,1)*IF($E$200=1,$D$200,1),IF(_xlpm.CF=0,\"-\",_xlpm.CF))","v":"-"},{"$f":"_xlfn.LET(_xlpm.CF,SUM(IF(YEAR($B$205:$B$780)=$B74,G$205:G$780))*IF(G$12=\"USD\",$C$7,1)*IF($E$200=1,$D$200,1),IF(_xlpm.CF=0,\"-\",_xlpm.CF))","v":"-"},{"$f":"_xlfn.LET(_xlpm.CF,SUM(IF(YEAR($B$205:$B$780)=$B74,H$205:H$780))*IF(H$12=\"USD\",$C$7,1)*IF($E$200=1,$D$200,1),IF(_xlpm.CF=0,\"-\",_xlpm.CF))","v":"-"},{"$f":"_xlfn.LET(_xlpm.CF,SUM(IF(YEAR($B$205:$B$780)=$B74,I$205:I$780))*IF(I$12=\"USD\",$C$7,1)*IF($E$200=1,$D$200,1),IF(_xlpm.CF=0,\"-\",_xlpm.CF))","v":"-"},{"$f":"_xlfn.LET(_xlpm.CF,SUM(IF(YEAR($B$205:$B$780)=$B74,J$205:J$780))*IF(J$12=\"USD\",$C$7,1)*IF($E$200=1,$D$200,1),IF(_xlpm.CF=0,\"-\",_xlpm.CF))","v":"-"},{"$f":"_xlfn.LET(_xlpm.CF,SUM(IF(YEAR($B$205:$B$780)=$B74,K$205:K$780))*IF(K$12=\"USD\",$C$7,1)*IF($E$200=1,$D$200,1),IF(_xlpm.CF=0,\"-\",_xlpm.CF))","v":"-"},{"$f":"_xlfn.LET(_xlpm.CF,SUM(IF(YEAR($B$205:$B$780)=$B74,L$205:L$780))*IF(L$12=\"USD\",$C$7,1)*IF($E$200=1,$D$200,1),IF(_xlpm.CF=0,\"-\",_xlpm.CF))","v":"-"},{"$f":"SUM(C74:L74)","v":0}]
[null,2055,{"$f":"_xlfn.LET(_xlpm.CF,SUM(IF(YEAR($B$205:$B$780)=$B75,C$205:C$780))*IF(C$12=\"USD\",$C$7,1)*IF($E$200=1,$D$200,1),IF(_xlpm.CF=0,\"-\",_xlpm.CF))","v":"-"},{"$f":"_xlfn.LET(_xlpm.CF,SUM(IF(YEAR($B$205:$B$780)=$B75,D$205:D$780))*IF(D$12=\"USD\",$C$7,1)*IF($E$200=1,$D$200,1),IF(_xlpm.CF=0,\"-\",_xlpm.CF))","v":"-"},{"$f":"_xlfn.LET(_xlpm.CF,SUM(IF(YEAR($B$205:$B$780)=$B75,E$205:E$780))*IF(E$12=\"USD\",$C$7,1)*IF($E$200=1,$D$200,1),IF(_xlpm.CF=0,\"-\",_xlpm.CF))","v":"-"},{"$f":"_xlfn.LET(_xlpm.CF,SUM(IF(YEAR($B$205:$B$780)=$B75,F$205:F$780))*IF(F$12=\"USD\",$C$7,1)*IF($E$200=1,$D$200,1),IF(_xlpm.CF=0,\"-\",_xlpm.CF))","v":"-"},{"$f":"_xlfn.LET(_xlpm.CF,SUM(IF(YEAR($B$205:$B$780)=$B75,G$205:G$780))*IF(G$12=\"USD\",$C$7,1)*IF($E$200=1,$D$200,1),IF(_xlpm.CF=0,\"-\",_xlpm.CF))","v":"-"},{"$f":"_xlfn.LET(_xlpm.CF,SUM(IF(YEAR($B$205:$B$780)=$B75,H$205:H$780))*IF(H$12=\"USD\",$C$7,1)*IF($E$200=1,$D$200,1),IF(_xlpm.CF=0,\"-\",_xlpm.CF))","v":"-"},{"$f":"_xlfn.LET(_xlpm.CF,SUM(IF(YEAR($B$205:$B$780)=$B75,I$205:I$780))*IF(I$12=\"USD\",$C$7,1)*IF($E$200=1,$D$200,1),IF(_xlpm.CF=0,\"-\",_xlpm.CF))","v":"-"},{"$f":"_xlfn.LET(_xlpm.CF,SUM(IF(YEAR($B$205:$B$780)=$B75,J$205:J$780))*IF(J$12=\"USD\",$C$7,1)*IF($E$200=1,$D$200,1),IF(_xlpm.CF=0,\"-\",_xlpm.CF))","v":"-"},{"$f":"_xlfn.LET(_xlpm.CF,SUM(IF(YEAR($B$205:$B$780)=$B75,K$205:K$780))*IF(K$12=\"USD\",$C$7,1)*IF($E$200=1,$D$200,1),IF(_xlpm.CF=0,\"-\",_xlpm.CF))","v":"-"},{"$f":"_xlfn.LET(_xlpm.CF,SUM(IF(YEAR($B$205:$B$780)=$B75,L$205:L$780))*IF(L$12=\"USD\",$C$7,1)*IF($E$200=1,$D$200,1),IF(_xlpm.CF=0,\"-\",_xlpm.CF))","v":"-"},0]
[null,2056,{"$f":"_xlfn.LET(_xlpm.CF,SUM(IF(YEAR($B$205:$B$780)=$B76,C$205:C$780))*IF(C$12=\"USD\",$C$7,1)*IF($E$200=1,$D$200,1),IF(_xlpm.CF=0,\"-\",_xlpm.CF))","v":"-"},{"$f":"_xlfn.LET(_xlpm.CF,SUM(IF(YEAR($B$205:$B$780)=$B76,D$205:D$780))*IF(D$12=\"USD\",$C$7,1)*IF($E$200=1,$D$200,1),IF(_xlpm.CF=0,\"-\",_xlpm.CF))","v":"-"},{"$f":"_xlfn.LET(_xlpm.CF,SUM(IF(YEAR($B$205:$B$780)=$B76,E$205:E$780))*IF(E$12=\"USD\",$C$7,1)*IF($E$200=1,$D$200,1),IF(_xlpm.CF=0,\"-\",_xlpm.CF))","v":"-"},{"$f":"_xlfn.LET(_xlpm.CF,SUM(IF(YEAR($B$205:$B$780)=$B76,F$205:F$780))*IF(F$12=\"USD\",$C$7,1)*IF($E$200=1,$D$200,1),IF(_xlpm.CF=0,\"-\",_xlpm.CF))","v":"-"},{"$f":"_xlfn.LET(_xlpm.CF,SUM(IF(YEAR($B$205:$B$780)=$B76,G$205:G$780))*IF(G$12=\"USD\",$C$7,1)*IF($E$200=1,$D$200,1),IF(_xlpm.CF=0,\"-\",_xlpm.CF))","v":"-"},{"$f":"_xlfn.LET(_xlpm.CF,SUM(IF(YEAR($B$205:$B$780)=$B76,H$205:H$780))*IF(H$12=\"USD\",$C$7,1)*IF($E$200=1,$D$200,1),IF(_xlpm.CF=0,\"-\",_xlpm.CF))","v":"-"},{"$f":"_xlfn.LET(_xlpm.CF,SUM(IF(YEAR($B$205:$B$780)=$B76,I$205:I$780))*IF(I$12=\"USD\",$C$7,1)*IF($E$200=1,$D$200,1),IF(_xlpm.CF=0,\"-\",_xlpm.CF))","v":"-"},{"$f":"_xlfn.LET(_xlpm.CF,SUM(IF(YEAR($B$205:$B$780)=$B76,J$205:J$780))*IF(J$12=\"USD\",$C$7,1)*IF($E$200=1,$D$200,1),IF(_xlpm.CF=0,\"-\",_xlpm.CF))","v":"-"},{"$f":"_xlfn.LET(_xlpm.CF,SUM(IF(YEAR($B$205:$B$780)=$B76,K$205:K$780))*IF(K$12=\"USD\",$C$7,1)*IF($E$200=1,$D$200,1),IF(_xlpm.CF=0,\"-\",_xlpm.CF))","v":"-"},{"$f":"_xlfn.LET(_xlpm.CF,SUM(IF(YEAR($B$205:$B$780)=$B76,L$205:L$780))*IF(L$12=\"USD\",$C$7,1)*IF($E$200=1,$D$200,1),IF(_xlpm.CF=0,\"-\",_xlpm.CF))","v":"-"},0]
[null,2057,{"$f":"_xlfn.LET(_xlpm.CF,SUM(IF(YEAR($B$205:$B$780)=$B77,C$205:C$780))*IF(C$12=\"USD\",$C$7,1)*IF($E$200=1,$D$200,1),IF(_xlpm.CF=0,\"-\",_xlpm.CF))","v":"-"},{"$f":"_xlfn.LET(_xlpm.CF,SUM(IF(YEAR($B$205:$B$780)=$B77,D$205:D$780))*IF(D$12=\"USD\",$C$7,1)*IF($E$200=1,$D$200,1),IF(_xlpm.CF=0,\"-\",_xlpm.CF))","v":"-"},{"$f":"_xlfn.LET(_xlpm.CF,SUM(IF(YEAR($B$205:$B$780)=$B77,E$205:E$780))*IF(E$12=\"USD\",$C$7,1)*IF($E$200=1,$D$200,1),IF(_xlpm.CF=0,\"-\",_xlpm.CF))","v":"-"},{"$f":"_xlfn.LET(_xlpm.CF,SUM(IF(YEAR($B$205:$B$780)=$B77,F$205:F$780))*IF(F$12=\"USD\",$C$7,1)*IF($E$200=1,$D$200,1),IF(_xlpm.CF=0,\"-\",_xlpm.CF))","v":"-"},{"$f":"_xlfn.LET(_xlpm.CF,SUM(IF(YEAR($B$205:$B$780)=$B77,G$205:G$780))*IF(G$12=\"USD\",$C$7,1)*IF($E$200=1,$D$200,1),IF(_xlpm.CF=0,\"-\",_xlpm.CF))","v":"-"},{"$f":"_xlfn.LET(_xlpm.CF,SUM(IF(YEAR($B$205:$B$780)=$B77,H$205:H$780))*IF(H$12=\"USD\",$C$7,1)*IF($E$200=1,$D$200,1),IF(_xlpm.CF=0,\"-\",_xlpm.CF))","v":"-"},{"$f":"_xlfn.LET(_xlpm.CF,SUM(IF(YEAR($B$205:$B$780)=$B77,I$205:I$780))*IF(I$12=\"USD\",$C$7,1)*IF($E$200=1,$D$200,1),IF(_xlpm.CF=0,\"-\",_xlpm.CF))","v":"-"},{"$f":"_xlfn.LET(_xlpm.CF,SUM(IF(YEAR($B$205:$B$780)=$B77,J$205:J$780))*IF(J$12=\"USD\",$C$7,1)*IF($E$200=1,$D$200,1),IF(_xlpm.CF=0,\"-\",_xlpm.CF))","v":"-"},{"$f":"_xlfn.LET(_xlpm.CF,SUM(IF(YEAR($B$205:$B$780)=$B77,K$205:K$780))*IF(K$12=\"USD\",$C$7,1)*IF($E$200=1,$D$200,1),IF(_xlpm.CF=0,\"-\",_xlpm.CF))","v":"-"},{"$f":"_xlfn.LET(_xlpm.CF,SUM(IF(YEAR($B$205:$B$780)=$B77,L$205:L$780))*IF(L$12=\"USD\",$C$7,1)*IF($E$200=1,$D$200,1),IF(_xlpm.CF=0,\"-\",_xlpm.CF))","v":"-"},0]
[null,2058,{"$f":"_xlfn.LET(_xlpm.CF,SUM(IF(YEAR($B$205:$B$780)=$B78,C$205:C$780))*IF(C$12=\"USD\",$C$7,1)*IF($E$200=1,$D$200,1),IF(_xlpm.CF=0,\"-\",_xlpm.CF))","v":"-"},{"$f":"_xlfn.LET(_xlpm.CF,SUM(IF(YEAR($B$205:$B$780)=$B78,D$205:D$780))*IF(D$12=\"USD\",$C$7,1)*IF($E$200=1,$D$200,1),IF(_xlpm.CF=0,\"-\",_xlpm.CF))","v":"-"},{"$f":"_xlfn.LET(_xlpm.CF,SUM(IF(YEAR($B$205:$B$780)=$B78,E$205:E$780))*IF(E$12=\"USD\",$C$7,1)*IF($E$200=1,$D$200,1),IF(_xlpm.CF=0,\"-\",_xlpm.CF))","v":"-"},{"$f":"_xlfn.LET(_xlpm.CF,SUM(IF(YEAR($B$205:$B$780)=$B78,F$205:F$780))*IF(F$12=\"USD\",$C$7,1)*IF($E$200=1,$D$200,1),IF(_xlpm.CF=0,\"-\",_xlpm.CF))","v":"-"},{"$f":"_xlfn.LET(_xlpm.CF,SUM(IF(YEAR($B$205:$B$780)=$B78,G$205:G$780))*IF(G$12=\"USD\",$C$7,1)*IF($E$200=1,$D$200,1),IF(_xlpm.CF=0,\"-\",_xlpm.CF))","v":"-"},{"$f":"_xlfn.LET(_xlpm.CF,SUM(IF(YEAR($B$205:$B$780)=$B78,H$205:H$780))*IF(H$12=\"USD\",$C$7,1)*IF($E$200=1,$D$200,1),IF(_xlpm.CF=0,\"-\",_xlpm.CF))","v":"-"},{"$f":"_xlfn.LET(_xlpm.CF,SUM(IF(YEAR($B$205:$B$780)=$B78,I$205:I$780))*IF(I$12=\"USD\",$C$7,1)*IF($E$200=1,$D$200,1),IF(_xlpm.CF=0,\"-\",_xlpm.CF))","v":"-"},{"$f":"_xlfn.LET(_xlpm.CF,SUM(IF(YEAR($B$205:$B$780)=$B78,J$205:J$780))*IF(J$12=\"USD\",$C$7,1)*IF($E$200=1,$D$200,1),IF(_xlpm.CF=0,\"-\",_xlpm.CF))","v":"-"},{"$f":"_xlfn.LET(_xlpm.CF,SUM(IF(YEAR($B$205:$B$780)=$B78,K$205:K$780))*IF(K$12=\"USD\",$C$7,1)*IF($E$200=1,$D$200,1),IF(_xlpm.CF=0,\"-\",_xlpm.CF))","v":"-"},{"$f":"_xlfn.LET(_xlpm.CF,SUM(IF(YEAR($B$205:$B$780)=$B78,L$205:L$780))*IF(L$12=\"USD\",$C$7,1)*IF($E$200=1,$D$200,1),IF(_xlpm.CF=0,\"-\",_xlpm.CF))","v":"-"},0]
[null,2059,{"$f":"_xlfn.LET(_xlpm.CF,SUM(IF(YEAR($B$205:$B$780)=$B79,C$205:C$780))*IF(C$12=\"USD\",$C$7,1)*IF($E$200=1,$D$200,1),IF(_xlpm.CF=0,\"-\",_xlpm.CF))","v":"-"},{"$f":"_xlfn.LET(_xlpm.CF,SUM(IF(YEAR($B$205:$B$780)=$B79,D$205:D$780))*IF(D$12=\"USD\",$C$7,1)*IF($E$200=1,$D$200,1),IF(_xlpm.CF=0,\"-\",_xlpm.CF))","v":"-"},{"$f":"_xlfn.LET(_xlpm.CF,SUM(IF(YEAR($B$205:$B$780)=$B79,E$205:E$780))*IF(E$12=\"USD\",$C$7,1)*IF($E$200=1,$D$200,1),IF(_xlpm.CF=0,\"-\",_xlpm.CF))","v":"-"},{"$f":"_xlfn.LET(_xlpm.CF,SUM(IF(YEAR($B$205:$B$780)=$B79,F$205:F$780))*IF(F$12=\"USD\",$C$7,1)*IF($E$200=1,$D$200,1),IF(_xlpm.CF=0,\"-\",_xlpm.CF))","v":"-"},{"$f":"_xlfn.LET(_xlpm.CF,SUM(IF(YEAR($B$205:$B$780)=$B79,G$205:G$780))*IF(G$12=\"USD\",$C$7,1)*IF($E$200=1,$D$200,1),IF(_xlpm.CF=0,\"-\",_xlpm.CF))","v":"-"},{"$f":"_xlfn.LET(_xlpm.CF,SUM(IF(YEAR($B$205:$B$780)=$B79,H$205:H$780))*IF(H$12=\"USD\",$C$7,1)*IF($E$200=1,$D$200,1),IF(_xlpm.CF=0,\"-\",_xlpm.CF))","v":"-"},{"$f":"_xlfn.LET(_xlpm.CF,SUM(IF(YEAR($B$205:$B$780)=$B79,I$205:I$780))*IF(I$12=\"USD\",$C$7,1)*IF($E$200=1,$D$200,1),IF(_xlpm.CF=0,\"-\",_xlpm.CF))","v":"-"},{"$f":"_xlfn.LET(_xlpm.CF,SUM(IF(YEAR($B$205:$B$780)=$B79,J$205:J$780))*IF(J$12=\"USD\",$C$7,1)*IF($E$200=1,$D$200,1),IF(_xlpm.CF=0,\"-\",_xlpm.CF))","v":"-"},{"$f":"_xlfn.LET(_xlpm.CF,SUM(IF(YEAR($B$205:$B$780)=$B79,K$205:K$780))*IF(K$12=\"USD\",$C$7,1)*IF($E$200=1,$D$200,1),IF(_xlpm.CF=0,\"-\",_xlpm.CF))","v":"-"},{"$f":"_xlfn.LET(_xlpm.CF,SUM(IF(YEAR($B$205:$B$780)=$B79,L$205:L$780))*IF(L$12=\"USD\",$C$7,1)*IF($E$200=1,$D$200,1),IF(_xlpm.CF=0,\"-\",_xlpm.CF))","v":"-"},0]
[null,2060,{"$f":"_xlfn.LET(_xlpm.CF,SUM(IF(YEAR($B$205:$B$780)=$B80,C$205:C$780))*IF(C$12=\"USD\",$C$7,1)*IF($E$200=1,$D$200,1),IF(_xlpm.CF=0,\"-\",_xlpm.CF))","v":"-"},{"$f":"_xlfn.LET(_xlpm.CF,SUM(IF(YEAR($B$205:$B$780)=$B80,D$205:D$780))*IF(D$12=\"USD\",$C$7,1)*IF($E$200=1,$D$200,1),IF(_xlpm.CF=0,\"-\",_xlpm.CF))","v":"-"},{"$f":"_xlfn.LET(_xlpm.CF,SUM(IF(YEAR($B$205:$B$780)=$B80,E$205:E$780))*IF(E$12=\"USD\",$C$7,1)*IF($E$200=1,$D$200,1),IF(_xlpm.CF=0,\"-\",_xlpm.CF))","v":"-"},{"$f":"_xlfn.LET(_xlpm.CF,SUM(IF(YEAR($B$205:$B$780)=$B80,F$205:F$780))*IF(F$12=\"USD\",$C$7,1)*IF($E$200=1,$D$200,1),IF(_xlpm.CF=0,\"-\",_xlpm.CF))","v":"-"},{"$f":"_xlfn.LET(_xlpm.CF,SUM(IF(YEAR($B$205:$B$780)=$B80,G$205:G$780))*IF(G$12=\"USD\",$C$7,1)*IF($E$200=1,$D$200,1),IF(_xlpm.CF=0,\"-\",_xlpm.CF))","v":"-"},{"$f":"_xlfn.LET(_xlpm.CF,SUM(IF(YEAR($B$205:$B$780)=$B80,H$205:H$780))*IF(H$12=\"USD\",$C$7,1)*IF($E$200=1,$D$200,1),IF(_xlpm.CF=0,\"-\",_xlpm.CF))","v":"-"},{"$f":"_xlfn.LET(_xlpm.CF,SUM(IF(YEAR($B$205:$B$780)=$B80,I$205:I$780))*IF(I$12=\"USD\",$C$7,1)*IF($E$200=1,$D$200,1),IF(_xlpm.CF=0,\"-\",_xlpm.CF))","v":"-"},{"$f":"_xlfn.LET(_xlpm.CF,SUM(IF(YEAR($B$205:$B$780)=$B80,J$205:J$780))*IF(J$12=\"USD\",$C$7,1)*IF($E$200=1,$D$200,1),IF(_xlpm.CF=0,\"-\",_xlpm.CF))","v":"-"},{"$f":"_xlfn.LET(_xlpm.CF,SUM(IF(YEAR($B$205:$B$780)=$B80,K$205:K$780))*IF(K$12=\"USD\",$C$7,1)*IF($E$200=1,$D$200,1),IF(_xlpm.CF=0,\"-\",_xlpm.CF))","v":"-"},{"$f":"_xlfn.LET(_xlpm.CF,SUM(IF(YEAR($B$205:$B$780)=$B80,L$205:L$780))*IF(L$12=\"USD\",$C$7,1)*IF($E$200=1,$D$200,1),IF(_xlpm.CF=0,\"-\",_xlpm.CF))","v":"-"},0]
[null,2061,{"$f":"_xlfn.LET(_xlpm.CF,SUM(IF(YEAR($B$205:$B$780)=$B81,C$205:C$780))*IF(C$12=\"USD\",$C$7,1)*IF($E$200=1,$D$200,1),IF(_xlpm.CF=0,\"-\",_xlpm.CF))","v":"-"},{"$f":"_xlfn.LET(_xlpm.CF,SUM(IF(YEAR($B$205:$B$780)=$B81,D$205:D$780))*IF(D$12=\"USD\",$C$7,1)*IF($E$200=1,$D$200,1),IF(_xlpm.CF=0,\"-\",_xlpm.CF))","v":"-"},{"$f":"_xlfn.LET(_xlpm.CF,SUM(IF(YEAR($B$205:$B$780)=$B81,E$205:E$780))*IF(E$12=\"USD\",$C$7,1)*IF($E$200=1,$D$200,1),IF(_xlpm.CF=0,\"-\",_xlpm.CF))","v":"-"},{"$f":"_xlfn.LET(_xlpm.CF,SUM(IF(YEAR($B$205:$B$780)=$B81,F$205:F$780))*IF(F$12=\"USD\",$C$7,1)*IF($E$200=1,$D$200,1),IF(_xlpm.CF=0,\"-\",_xlpm.CF))","v":"-"},{"$f":"_xlfn.LET(_xlpm.CF,SUM(IF(YEAR($B$205:$B$780)=$B81,G$205:G$780))*IF(G$12=\"USD\",$C$7,1)*IF($E$200=1,$D$200,1),IF(_xlpm.CF=0,\"-\",_xlpm.CF))","v":"-"},{"$f":"_xlfn.LET(_xlpm.CF,SUM(IF(YEAR($B$205:$B$780)=$B81,H$205:H$780))*IF(H$12=\"USD\",$C$7,1)*IF($E$200=1,$D$200,1),IF(_xlpm.CF=0,\"-\",_xlpm.CF))","v":"-"},{"$f":"_xlfn.LET(_xlpm.CF,SUM(IF(YEAR($B$205:$B$780)=$B81,I$205:I$780))*IF(I$12=\"USD\",$C$7,1)*IF($E$200=1,$D$200,1),IF(_xlpm.CF=0,\"-\",_xlpm.CF))","v":"-"},{"$f":"_xlfn.LET(_xlpm.CF,SUM(IF(YEAR($B$205:$B$780)=$B81,J$205:J$780))*IF(J$12=\"USD\",$C$7,1)*IF($E$200=1,$D$200,1),IF(_xlpm.CF=0,\"-\",_xlpm.CF))","v":"-"},{"$f":"_xlfn.LET(_xlpm.CF,SUM(IF(YEAR($B$205:$B$780)=$B81,K$205:K$780))*IF(K$12=\"USD\",$C$7,1)*IF($E$200=1,$D$200,1),IF(_xlpm.CF=0,\"-\",_xlpm.CF))","v":"-"},{"$f":"_xlfn.LET(_xlpm.CF,SUM(IF(YEAR($B$205:$B$780)=$B81,L$205:L$780))*IF(L$12=\"USD\",$C$7,1)*IF($E$200=1,$D$200,1),IF(_xlpm.CF=0,\"-\",_xlpm.CF))","v":"-"},0]
[null,2062,{"$f":"_xlfn.LET(_xlpm.CF,SUM(IF(YEAR($B$205:$B$780)=$B82,C$205:C$780))*IF(C$12=\"USD\",$C$7,1)*IF($E$200=1,$D$200,1),IF(_xlpm.CF=0,\"-\",_xlpm.CF))","v":"-"},{"$f":"_xlfn.LET(_xlpm.CF,SUM(IF(YEAR($B$205:$B$780)=$B82,D$205:D$780))*IF(D$12=\"USD\",$C$7,1)*IF($E$200=1,$D$200,1),IF(_xlpm.CF=0,\"-\",_xlpm.CF))","v":"-"},{"$f":"_xlfn.LET(_xlpm.CF,SUM(IF(YEAR($B$205:$B$780)=$B82,E$205:E$780))*IF(E$12=\"USD\",$C$7,1)*IF($E$200=1,$D$200,1),IF(_xlpm.CF=0,\"-\",_xlpm.CF))","v":"-"},{"$f":"_xlfn.LET(_xlpm.CF,SUM(IF(YEAR($B$205:$B$780)=$B82,F$205:F$780))*IF(F$12=\"USD\",$C$7,1)*IF($E$200=1,$D$200,1),IF(_xlpm.CF=0,\"-\",_xlpm.CF))","v":"-"},{"$f":"_xlfn.LET(_xlpm.CF,SUM(IF(YEAR($B$205:$B$780)=$B82,G$205:G$780))*IF(G$12=\"USD\",$C$7,1)*IF($E$200=1,$D$200,1),IF(_xlpm.CF=0,\"-\",_xlpm.CF))","v":"-"},{"$f":"_xlfn.LET(_xlpm.CF,SUM(IF(YEAR($B$205:$B$780)=$B82,H$205:H$780))*IF(H$12=\"USD\",$C$7,1)*IF($E$200=1,$D$200,1),IF(_xlpm.CF=0,\"-\",_xlpm.CF))","v":"-"},{"$f":"_xlfn.LET(_xlpm.CF,SUM(IF(YEAR($B$205:$B$780)=$B82,I$205:I$780))*IF(I$12=\"USD\",$C$7,1)*IF($E$200=1,$D$200,1),IF(_xlpm.CF=0,\"-\",_xlpm.CF))","v":"-"},{"$f":"_xlfn.LET(_xlpm.CF,SUM(IF(YEAR($B$205:$B$780)=$B82,J$205:J$780))*IF(J$12=\"USD\",$C$7,1)*IF($E$200=1,$D$200,1),IF(_xlpm.CF=0,\"-\",_xlpm.CF))","v":"-"},{"$f":"_xlfn.LET(_xlpm.CF,SUM(IF(YEAR($B$205:$B$780)=$B82,K$205:K$780))*IF(K$12=\"USD\",$C$7,1)*IF($E$200=1,$D$200,1),IF(_xlpm.CF=0,\"-\",_xlpm.CF))","v":"-"},{"$f":"_xlfn.LET(_xlpm.CF,SUM(IF(YEAR($B$205:$B$780)=$B82,L$205:L$780))*IF(L$12=\"USD\",$C$7,1)*IF($E$200=1,$D$200,1),IF(_xlpm.CF=0,\"-\",_xlpm.CF))","v":"-"},0]
[null,2063,{"$f":"_xlfn.LET(_xlpm.CF,SUM(IF(YEAR($B$205:$B$780)=$B83,C$205:C$780))*IF(C$12=\"USD\",$C$7,1)*IF($E$200=1,$D$200,1),IF(_xlpm.CF=0,\"-\",_xlpm.CF))","v":"-"},{"$f":"_xlfn.LET(_xlpm.CF,SUM(IF(YEAR($B$205:$B$780)=$B83,D$205:D$780))*IF(D$12=\"USD\",$C$7,1)*IF($E$200=1,$D$200,1),IF(_xlpm.CF=0,\"-\",_xlpm.CF))","v":"-"},{"$f":"_xlfn.LET(_xlpm.CF,SUM(IF(YEAR($B$205:$B$780)=$B83,E$205:E$780))*IF(E$12=\"USD\",$C$7,1)*IF($E$200=1,$D$200,1),IF(_xlpm.CF=0,\"-\",_xlpm.CF))","v":"-"},{"$f":"_xlfn.LET(_xlpm.CF,SUM(IF(YEAR($B$205:$B$780)=$B83,F$205:F$780))*IF(F$12=\"USD\",$C$7,1)*IF($E$200=1,$D$200,1),IF(_xlpm.CF=0,\"-\",_xlpm.CF))","v":"-"},{"$f":"_xlfn.LET(_xlpm.CF,SUM(IF(YEAR($B$205:$B$780)=$B83,G$205:G$780))*IF(G$12=\"USD\",$C$7,1)*IF($E$200=1,$D$200,1),IF(_xlpm.CF=0,\"-\",_xlpm.CF))","v":"-"},{"$f":"_xlfn.LET(_xlpm.CF,SUM(IF(YEAR($B$205:$B$780)=$B83,H$205:H$780))*IF(H$12=\"USD\",$C$7,1)*IF($E$200=1,$D$200,1),IF(_xlpm.CF=0,\"-\",_xlpm.CF))","v":"-"},{"$f":"_xlfn.LET(_xlpm.CF,SUM(IF(YEAR($B$205:$B$780)=$B83,I$205:I$780))*IF(I$12=\"USD\",$C$7,1)*IF($E$200=1,$D$200,1),IF(_xlpm.CF=0,\"-\",_xlpm.CF))","v":"-"},{"$f":"_xlfn.LET(_xlpm.CF,SUM(IF(YEAR($B$205:$B$780)=$B83,J$205:J$780))*IF(J$12=\"USD\",$C$7,1)*IF($E$200=1,$D$200,1),IF(_xlpm.CF=0,\"-\",_xlpm.CF))","v":"-"},{"$f":"_xlfn.LET(_xlpm.CF,SUM(IF(YEAR($B$205:$B$780)=$B83,K$205:K$780))*IF(K$12=\"USD\",$C$7,1)*IF($E$200=1,$D$200,1),IF(_xlpm.CF=0,\"-\",_xlpm.CF))","v":"-"},{"$f":"_xlfn.LET(_xlpm.CF,SUM(IF(YEAR($B$205:$B$780)=$B83,L$205:L$780))*IF(L$12=\"USD\",$C$7,1)*IF($E$200=1,$D$200,1),IF(_xlpm.CF=0,\"-\",_xlpm.CF))","v":"-"},0]
[null,2064,{"$f":"_xlfn.LET(_xlpm.CF,SUM(IF(YEAR($B$205:$B$780)=$B84,C$205:C$780))*IF(C$12=\"USD\",$C$7,1)*IF($E$200=1,$D$200,1),IF(_xlpm.CF=0,\"-\",_xlpm.CF))","v":"-"},{"$f":"_xlfn.LET(_xlpm.CF,SUM(IF(YEAR($B$205:$B$780)=$B84,D$205:D$780))*IF(D$12=\"USD\",$C$7,1)*IF($E$200=1,$D$200,1),IF(_xlpm.CF=0,\"-\",_xlpm.CF))","v":"-"},{"$f":"_xlfn.LET(_xlpm.CF,SUM(IF(YEAR($B$205:$B$780)=$B84,E$205:E$780))*IF(E$12=\"USD\",$C$7,1)*IF($E$200=1,$D$200,1),IF(_xlpm.CF=0,\"-\",_xlpm.CF))","v":"-"},{"$f":"_xlfn.LET(_xlpm.CF,SUM(IF(YEAR($B$205:$B$780)=$B84,F$205:F$780))*IF(F$12=\"USD\",$C$7,1)*IF($E$200=1,$D$200,1),IF(_xlpm.CF=0,\"-\",_xlpm.CF))","v":"-"},{"$f":"_xlfn.LET(_xlpm.CF,SUM(IF(YEAR($B$205:$B$780)=$B84,G$205:G$780))*IF(G$12=\"USD\",$C$7,1)*IF($E$200=1,$D$200,1),IF(_xlpm.CF=0,\"-\",_xlpm.CF))","v":"-"},{"$f":"_xlfn.LET(_xlpm.CF,SUM(IF(YEAR($B$205:$B$780)=$B84,H$205:H$780))*IF(H$12=\"USD\",$C$7,1)*IF($E$200=1,$D$200,1),IF(_xlpm.CF=0,\"-\",_xlpm.CF))","v":"-"},{"$f":"_xlfn.LET(_xlpm.CF,SUM(IF(YEAR($B$205:$B$780)=$B84,I$205:I$780))*IF(I$12=\"USD\",$C$7,1)*IF($E$200=1,$D$200,1),IF(_xlpm.CF=0,\"-\",_xlpm.CF))","v":"-"},{"$f":"_xlfn.LET(_xlpm.CF,SUM(IF(YEAR($B$205:$B$780)=$B84,J$205:J$780))*IF(J$12=\"USD\",$C$7,1)*IF($E$200=1,$D$200,1),IF(_xlpm.CF=0,\"-\",_xlpm.CF))","v":"-"},{"$f":"_xlfn.LET(_xlpm.CF,SUM(IF(YEAR($B$205:$B$780)=$B84,K$205:K$780))*IF(K$12=\"USD\",$C$7,1)*IF($E$200=1,$D$200,1),IF(_xlpm.CF=0,\"-\",_xlpm.CF))","v":"-"},{"$f":"_xlfn.LET(_xlpm.CF,SUM(IF(YEAR($B$205:$B$780)=$B84,L$205:L$780))*IF(L$12=\"USD\",$C$7,1)*IF($E$200=1,$D$200,1),IF(_xlpm.CF=0,\"-\",_xlpm.CF))","v":"-"},0]
[null,2065,{"$f":"_xlfn.LET(_xlpm.CF,SUM(IF(YEAR($B$205:$B$780)=$B85,C$205:C$780))*IF(C$12=\"USD\",$C$7,1)*IF($E$200=1,$D$200,1),IF(_xlpm.CF=0,\"-\",_xlpm.CF))","v":"-"},{"$f":"_xlfn.LET(_xlpm.CF,SUM(IF(YEAR($B$205:$B$780)=$B85,D$205:D$780))*IF(D$12=\"USD\",$C$7,1)*IF($E$200=1,$D$200,1),IF(_xlpm.CF=0,\"-\",_xlpm.CF))","v":"-"},{"$f":"_xlfn.LET(_xlpm.CF,SUM(IF(YEAR($B$205:$B$780)=$B85,E$205:E$780))*IF(E$12=\"USD\",$C$7,1)*IF($E$200=1,$D$200,1),IF(_xlpm.CF=0,\"-\",_xlpm.CF))","v":"-"},{"$f":"_xlfn.LET(_xlpm.CF,SUM(IF(YEAR($B$205:$B$780)=$B85,F$205:F$780))*IF(F$12=\"USD\",$C$7,1)*IF($E$200=1,$D$200,1),IF(_xlpm.CF=0,\"-\",_xlpm.CF))","v":"-"},{"$f":"_xlfn.LET(_xlpm.CF,SUM(IF(YEAR($B$205:$B$780)=$B85,G$205:G$780))*IF(G$12=\"USD\",$C$7,1)*IF($E$200=1,$D$200,1),IF(_xlpm.CF=0,\"-\",_xlpm.CF))","v":"-"},{"$f":"_xlfn.LET(_xlpm.CF,SUM(IF(YEAR($B$205:$B$780)=$B85,H$205:H$780))*IF(H$12=\"USD\",$C$7,1)*IF($E$200=1,$D$200,1),IF(_xlpm.CF=0,\"-\",_xlpm.CF))","v":"-"},{"$f":"_xlfn.LET(_xlpm.CF,SUM(IF(YEAR($B$205:$B$780)=$B85,I$205:I$780))*IF(I$12=\"USD\",$C$7,1)*IF($E$200=1,$D$200,1),IF(_xlpm.CF=0,\"-\",_xlpm.CF))","v":"-"},{"$f":"_xlfn.LET(_xlpm.CF,SUM(IF(YEAR($B$205:$B$780)=$B85,J$205:J$780))*IF(J$12=\"USD\",$C$7,1)*IF($E$200=1,$D$200,1),IF(_xlpm.CF=0,\"-\",_xlpm.CF))","v":"-"},{"$f":"_xlfn.LET(_xlpm.CF,SUM(IF(YEAR($B$205:$B$780)=$B85,K$205:K$780))*IF(K$12=\"USD\",$C$7,1)*IF($E$200=1,$D$200,1),IF(_xlpm.CF=0,\"-\",_xlpm.CF))","v":"-"},{"$f":"_xlfn.LET(_xlpm.CF,SUM(IF(YEAR($B$205:$B$780)=$B85,L$205:L$780))*IF(L$12=\"USD\",$C$7,1)*IF($E$200=1,$D$200,1),IF(_xlpm.CF=0,\"-\",_xlpm.CF))","v":"-"},0]
[null,2066,{"$f":"_xlfn.LET(_xlpm.CF,SUM(IF(YEAR($B$205:$B$780)=$B86,C$205:C$780))*IF(C$12=\"USD\",$C$7,1)*IF($E$200=1,$D$200,1),IF(_xlpm.CF=0,\"-\",_xlpm.CF))","v":"-"},{"$f":"_xlfn.LET(_xlpm.CF,SUM(IF(YEAR($B$205:$B$780)=$B86,D$205:D$780))*IF(D$12=\"USD\",$C$7,1)*IF($E$200=1,$D$200,1),IF(_xlpm.CF=0,\"-\",_xlpm.CF))","v":"-"},{"$f":"_xlfn.LET(_xlpm.CF,SUM(IF(YEAR($B$205:$B$780)=$B86,E$205:E$780))*IF(E$12=\"USD\",$C$7,1)*IF($E$200=1,$D$200,1),IF(_xlpm.CF=0,\"-\",_xlpm.CF))","v":"-"},{"$f":"_xlfn.LET(_xlpm.CF,SUM(IF(YEAR($B$205:$B$780)=$B86,F$205:F$780))*IF(F$12=\"USD\",$C$7,1)*IF($E$200=1,$D$200,1),IF(_xlpm.CF=0,\"-\",_xlpm.CF))","v":"-"},{"$f":"_xlfn.LET(_xlpm.CF,SUM(IF(YEAR($B$205:$B$780)=$B86,G$205:G$780))*IF(G$12=\"USD\",$C$7,1)*IF($E$200=1,$D$200,1),IF(_xlpm.CF=0,\"-\",_xlpm.CF))","v":"-"},{"$f":"_xlfn.LET(_xlpm.CF,SUM(IF(YEAR($B$205:$B$780)=$B86,H$205:H$780))*IF(H$12=\"USD\",$C$7,1)*IF($E$200=1,$D$200,1),IF(_xlpm.CF=0,\"-\",_xlpm.CF))","v":"-"},{"$f":"_xlfn.LET(_xlpm.CF,SUM(IF(YEAR($B$205:$B$780)=$B86,I$205:I$780))*IF(I$12=\"USD\",$C$7,1)*IF($E$200=1,$D$200,1),IF(_xlpm.CF=0,\"-\",_xlpm.CF))","v":"-"},{"$f":"_xlfn.LET(_xlpm.CF,SUM(IF(YEAR($B$205:$B$780)=$B86,J$205:J$780))*IF(J$12=\"USD\",$C$7,1)*IF($E$200=1,$D$200,1),IF(_xlpm.CF=0,\"-\",_xlpm.CF))","v":"-"},{"$f":"_xlfn.LET(_xlpm.CF,SUM(IF(YEAR($B$205:$B$780)=$B86,K$205:K$780))*IF(K$12=\"USD\",$C$7,1)*IF($E$200=1,$D$200,1),IF(_xlpm.CF=0,\"-\",_xlpm.CF))","v":"-"},{"$f":"_xlfn.LET(_xlpm.CF,SUM(IF(YEAR($B$205:$B$780)=$B86,L$205:L$780))*IF(L$12=\"USD\",$C$7,1)*IF($E$200=1,$D$200,1),IF(_xlpm.CF=0,\"-\",_xlpm.CF))","v":"-"},0]
[null,2067,{"$f":"_xlfn.LET(_xlpm.CF,SUM(IF(YEAR($B$205:$B$780)=$B87,C$205:C$780))*IF(C$12=\"USD\",$C$7,1)*IF($E$200=1,$D$200,1),IF(_xlpm.CF=0,\"-\",_xlpm.CF))","v":"-"},{"$f":"_xlfn.LET(_xlpm.CF,SUM(IF(YEAR($B$205:$B$780)=$B87,D$205:D$780))*IF(D$12=\"USD\",$C$7,1)*IF($E$200=1,$D$200,1),IF(_xlpm.CF=0,\"-\",_xlpm.CF))","v":"-"},{"$f":"_xlfn.LET(_xlpm.CF,SUM(IF(YEAR($B$205:$B$780)=$B87,E$205:E$780))*IF(E$12=\"USD\",$C$7,1)*IF($E$200=1,$D$200,1),IF(_xlpm.CF=0,\"-\",_xlpm.CF))","v":"-"},{"$f":"_xlfn.LET(_xlpm.CF,SUM(IF(YEAR($B$205:$B$780)=$B87,F$205:F$780))*IF(F$12=\"USD\",$C$7,1)*IF($E$200=1,$D$200,1),IF(_xlpm.CF=0,\"-\",_xlpm.CF))","v":"-"},{"$f":"_xlfn.LET(_xlpm.CF,SUM(IF(YEAR($B$205:$B$780)=$B87,G$205:G$780))*IF(G$12=\"USD\",$C$7,1)*IF($E$200=1,$D$200,1),IF(_xlpm.CF=0,\"-\",_xlpm.CF))","v":"-"},{"$f":"_xlfn.LET(_xlpm.CF,SUM(IF(YEAR($B$205:$B$780)=$B87,H$205:H$780))*IF(H$12=\"USD\",$C$7,1)*IF($E$200=1,$D$200,1),IF(_xlpm.CF=0,\"-\",_xlpm.CF))","v":"-"},{"$f":"_xlfn.LET(_xlpm.CF,SUM(IF(YEAR($B$205:$B$780)=$B87,I$205:I$780))*IF(I$12=\"USD\",$C$7,1)*IF($E$200=1,$D$200,1),IF(_xlpm.CF=0,\"-\",_xlpm.CF))","v":"-"},{"$f":"_xlfn.LET(_xlpm.CF,SUM(IF(YEAR($B$205:$B$780)=$B87,J$205:J$780))*IF(J$12=\"USD\",$C$7,1)*IF($E$200=1,$D$200,1),IF(_xlpm.CF=0,\"-\",_xlpm.CF))","v":"-"},{"$f":"_xlfn.LET(_xlpm.CF,SUM(IF(YEAR($B$205:$B$780)=$B87,K$205:K$780))*IF(K$12=\"USD\",$C$7,1)*IF($E$200=1,$D$200,1),IF(_xlpm.CF=0,\"-\",_xlpm.CF))","v":"-"},{"$f":"_xlfn.LET(_xlpm.CF,SUM(IF(YEAR($B$205:$B$780)=$B87,L$205:L$780))*IF(L$12=\"USD\",$C$7,1)*IF($E$200=1,$D$200,1),IF(_xlpm.CF=0,\"-\",_xlpm.CF))","v":"-"},0]
[null,2068,{"$f":"_xlfn.LET(_xlpm.CF,SUM(IF(YEAR($B$205:$B$780)=$B88,C$205:C$780))*IF(C$12=\"USD\",$C$7,1)*IF($E$200=1,$D$200,1),IF(_xlpm.CF=0,\"-\",_xlpm.CF))","v":"-"},{"$f":"_xlfn.LET(_xlpm.CF,SUM(IF(YEAR($B$205:$B$780)=$B88,D$205:D$780))*IF(D$12=\"USD\",$C$7,1)*IF($E$200=1,$D$200,1),IF(_xlpm.CF=0,\"-\",_xlpm.CF))","v":"-"},{"$f":"_xlfn.LET(_xlpm.CF,SUM(IF(YEAR($B$205:$B$780)=$B88,E$205:E$780))*IF(E$12=\"USD\",$C$7,1)*IF($E$200=1,$D$200,1),IF(_xlpm.CF=0,\"-\",_xlpm.CF))","v":"-"},{"$f":"_xlfn.LET(_xlpm.CF,SUM(IF(YEAR($B$205:$B$780)=$B88,F$205:F$780))*IF(F$12=\"USD\",$C$7,1)*IF($E$200=1,$D$200,1),IF(_xlpm.CF=0,\"-\",_xlpm.CF))","v":"-"},{"$f":"_xlfn.LET(_xlpm.CF,SUM(IF(YEAR($B$205:$B$780)=$B88,G$205:G$780))*IF(G$12=\"USD\",$C$7,1)*IF($E$200=1,$D$200,1),IF(_xlpm.CF=0,\"-\",_xlpm.CF))","v":"-"},{"$f":"_xlfn.LET(_xlpm.CF,SUM(IF(YEAR($B$205:$B$780)=$B88,H$205:H$780))*IF(H$12=\"USD\",$C$7,1)*IF($E$200=1,$D$200,1),IF(_xlpm.CF=0,\"-\",_xlpm.CF))","v":"-"},{"$f":"_xlfn.LET(_xlpm.CF,SUM(IF(YEAR($B$205:$B$780)=$B88,I$205:I$780))*IF(I$12=\"USD\",$C$7,1)*IF($E$200=1,$D$200,1),IF(_xlpm.CF=0,\"-\",_xlpm.CF))","v":"-"},{"$f":"_xlfn.LET(_xlpm.CF,SUM(IF(YEAR($B$205:$B$780)=$B88,J$205:J$780))*IF(J$12=\"USD\",$C$7,1)*IF($E$200=1,$D$200,1),IF(_xlpm.CF=0,\"-\",_xlpm.CF))","v":"-"},{"$f":"_xlfn.LET(_xlpm.CF,SUM(IF(YEAR($B$205:$B$780)=$B88,K$205:K$780))*IF(K$12=\"USD\",$C$7,1)*IF($E$200=1,$D$200,1),IF(_xlpm.CF=0,\"-\",_xlpm.CF))","v":"-"},{"$f":"_xlfn.LET(_xlpm.CF,SUM(IF(YEAR($B$205:$B$780)=$B88,L$205:L$780))*IF(L$12=\"USD\",$C$7,1)*IF($E$200=1,$D$200,1),IF(_xlpm.CF=0,\"-\",_xlpm.CF))","v":"-"},0]
[null,2069,{"$f":"_xlfn.LET(_xlpm.CF,SUM(IF(YEAR($B$205:$B$780)=$B89,C$205:C$780))*IF(C$12=\"USD\",$C$7,1)*IF($E$200=1,$D$200,1),IF(_xlpm.CF=0,\"-\",_xlpm.CF))","v":"-"},{"$f":"_xlfn.LET(_xlpm.CF,SUM(IF(YEAR($B$205:$B$780)=$B89,D$205:D$780))*IF(D$12=\"USD\",$C$7,1)*IF($E$200=1,$D$200,1),IF(_xlpm.CF=0,\"-\",_xlpm.CF))","v":"-"},{"$f":"_xlfn.LET(_xlpm.CF,SUM(IF(YEAR($B$205:$B$780)=$B89,E$205:E$780))*IF(E$12=\"USD\",$C$7,1)*IF($E$200=1,$D$200,1),IF(_xlpm.CF=0,\"-\",_xlpm.CF))","v":"-"},{"$f":"_xlfn.LET(_xlpm.CF,SUM(IF(YEAR($B$205:$B$780)=$B89,F$205:F$780))*IF(F$12=\"USD\",$C$7,1)*IF($E$200=1,$D$200,1),IF(_xlpm.CF=0,\"-\",_xlpm.CF))","v":"-"},{"$f":"_xlfn.LET(_xlpm.CF,SUM(IF(YEAR($B$205:$B$780)=$B89,G$205:G$780))*IF(G$12=\"USD\",$C$7,1)*IF($E$200=1,$D$200,1),IF(_xlpm.CF=0,\"-\",_xlpm.CF))","v":"-"},{"$f":"_xlfn.LET(_xlpm.CF,SUM(IF(YEAR($B$205:$B$780)=$B89,H$205:H$780))*IF(H$12=\"USD\",$C$7,1)*IF($E$200=1,$D$200,1),IF(_xlpm.CF=0,\"-\",_xlpm.CF))","v":"-"},{"$f":"_xlfn.LET(_xlpm.CF,SUM(IF(YEAR($B$205:$B$780)=$B89,I$205:I$780))*IF(I$12=\"USD\",$C$7,1)*IF($E$200=1,$D$200,1),IF(_xlpm.CF=0,\"-\",_xlpm.CF))","v":"-"},{"$f":"_xlfn.LET(_xlpm.CF,SUM(IF(YEAR($B$205:$B$780)=$B89,J$205:J$780))*IF(J$12=\"USD\",$C$7,1)*IF($E$200=1,$D$200,1),IF(_xlpm.CF=0,\"-\",_xlpm.CF))","v":"-"},{"$f":"_xlfn.LET(_xlpm.CF,SUM(IF(YEAR($B$205:$B$780)=$B89,K$205:K$780))*IF(K$12=\"USD\",$C$7,1)*IF($E$200=1,$D$200,1),IF(_xlpm.CF=0,\"-\",_xlpm.CF))","v":"-"},{"$f":"_xlfn.LET(_xlpm.CF,SUM(IF(YEAR($B$205:$B$780)=$B89,L$205:L$780))*IF(L$12=\"USD\",$C$7,1)*IF($E$200=1,$D$200,1),IF(_xlpm.CF=0,\"-\",_xlpm.CF))","v":"-"},0]
[null,2070,{"$f":"_xlfn.LET(_xlpm.CF,SUM(IF(YEAR($B$205:$B$780)=$B90,C$205:C$780))*IF(C$12=\"USD\",$C$7,1)*IF($E$200=1,$D$200,1),IF(_xlpm.CF=0,\"-\",_xlpm.CF))","v":"-"},{"$f":"_xlfn.LET(_xlpm.CF,SUM(IF(YEAR($B$205:$B$780)=$B90,D$205:D$780))*IF(D$12=\"USD\",$C$7,1)*IF($E$200=1,$D$200,1),IF(_xlpm.CF=0,\"-\",_xlpm.CF))","v":"-"},{"$f":"_xlfn.LET(_xlpm.CF,SUM(IF(YEAR($B$205:$B$780)=$B90,E$205:E$780))*IF(E$12=\"USD\",$C$7,1)*IF($E$200=1,$D$200,1),IF(_xlpm.CF=0,\"-\",_xlpm.CF))","v":"-"},{"$f":"_xlfn.LET(_xlpm.CF,SUM(IF(YEAR($B$205:$B$780)=$B90,F$205:F$780))*IF(F$12=\"USD\",$C$7,1)*IF($E$200=1,$D$200,1),IF(_xlpm.CF=0,\"-\",_xlpm.CF))","v":"-"},{"$f":"_xlfn.LET(_xlpm.CF,SUM(IF(YEAR($B$205:$B$780)=$B90,G$205:G$780))*IF(G$12=\"USD\",$C$7,1)*IF($E$200=1,$D$200,1),IF(_xlpm.CF=0,\"-\",_xlpm.CF))","v":"-"},{"$f":"_xlfn.LET(_xlpm.CF,SUM(IF(YEAR($B$205:$B$780)=$B90,H$205:H$780))*IF(H$12=\"USD\",$C$7,1)*IF($E$200=1,$D$200,1),IF(_xlpm.CF=0,\"-\",_xlpm.CF))","v":"-"},{"$f":"_xlfn.LET(_xlpm.CF,SUM(IF(YEAR($B$205:$B$780)=$B90,I$205:I$780))*IF(I$12=\"USD\",$C$7,1)*IF($E$200=1,$D$200,1),IF(_xlpm.CF=0,\"-\",_xlpm.CF))","v":"-"},{"$f":"_xlfn.LET(_xlpm.CF,SUM(IF(YEAR($B$205:$B$780)=$B90,J$205:J$780))*IF(J$12=\"USD\",$C$7,1)*IF($E$200=1,$D$200,1),IF(_xlpm.CF=0,\"-\",_xlpm.CF))","v":"-"},{"$f":"_xlfn.LET(_xlpm.CF,SUM(IF(YEAR($B$205:$B$780)=$B90,K$205:K$780))*IF(K$12=\"USD\",$C$7,1)*IF($E$200=1,$D$200,1),IF(_xlpm.CF=0,\"-\",_xlpm.CF))","v":"-"},{"$f":"_xlfn.LET(_xlpm.CF,SUM(IF(YEAR($B$205:$B$780)=$B90,L$205:L$780))*IF(L$12=\"USD\",$C$7,1)*IF($E$200=1,$D$200,1),IF(_xlpm.CF=0,\"-\",_xlpm.CF))","v":"-"},0]
[null,2071,{"$f":"_xlfn.LET(_xlpm.CF,SUM(IF(YEAR($B$205:$B$780)=$B91,C$205:C$780))*IF(C$12=\"USD\",$C$7,1)*IF($E$200=1,$D$200,1),IF(_xlpm.CF=0,\"-\",_xlpm.CF))","v":"-"},{"$f":"_xlfn.LET(_xlpm.CF,SUM(IF(YEAR($B$205:$B$780)=$B91,D$205:D$780))*IF(D$12=\"USD\",$C$7,1)*IF($E$200=1,$D$200,1),IF(_xlpm.CF=0,\"-\",_xlpm.CF))","v":"-"},{"$f":"_xlfn.LET(_xlpm.CF,SUM(IF(YEAR($B$205:$B$780)=$B91,E$205:E$780))*IF(E$12=\"USD\",$C$7,1)*IF($E$200=1,$D$200,1),IF(_xlpm.CF=0,\"-\",_xlpm.CF))","v":"-"},{"$f":"_xlfn.LET(_xlpm.CF,SUM(IF(YEAR($B$205:$B$780)=$B91,F$205:F$780))*IF(F$12=\"USD\",$C$7,1)*IF($E$200=1,$D$200,1),IF(_xlpm.CF=0,\"-\",_xlpm.CF))","v":"-"},{"$f":"_xlfn.LET(_xlpm.CF,SUM(IF(YEAR($B$205:$B$780)=$B91,G$205:G$780))*IF(G$12=\"USD\",$C$7,1)*IF($E$200=1,$D$200,1),IF(_xlpm.CF=0,\"-\",_xlpm.CF))","v":"-"},{"$f":"_xlfn.LET(_xlpm.CF,SUM(IF(YEAR($B$205:$B$780)=$B91,H$205:H$780))*IF(H$12=\"USD\",$C$7,1)*IF($E$200=1,$D$200,1),IF(_xlpm.CF=0,\"-\",_xlpm.CF))","v":"-"},{"$f":"_xlfn.LET(_xlpm.CF,SUM(IF(YEAR($B$205:$B$780)=$B91,I$205:I$780))*IF(I$12=\"USD\",$C$7,1)*IF($E$200=1,$D$200,1),IF(_xlpm.CF=0,\"-\",_xlpm.CF))","v":"-"},{"$f":"_xlfn.LET(_xlpm.CF,SUM(IF(YEAR($B$205:$B$780)=$B91,J$205:J$780))*IF(J$12=\"USD\",$C$7,1)*IF($E$200=1,$D$200,1),IF(_xlpm.CF=0,\"-\",_xlpm.CF))","v":"-"},{"$f":"_xlfn.LET(_xlpm.CF,SUM(IF(YEAR($B$205:$B$780)=$B91,K$205:K$780))*IF(K$12=\"USD\",$C$7,1)*IF($E$200=1,$D$200,1),IF(_xlpm.CF=0,\"-\",_xlpm.CF))","v":"-"},{"$f":"_xlfn.LET(_xlpm.CF,SUM(IF(YEAR($B$205:$B$780)=$B91,L$205:L$780))*IF(L$12=\"USD\",$C$7,1)*IF($E$200=1,$D$200,1),IF(_xlpm.CF=0,\"-\",_xlpm.CF))","v":"-"},0]
[null,2072,{"$f":"_xlfn.LET(_xlpm.CF,SUM(IF(YEAR($B$205:$B$780)=$B92,C$205:C$780))*IF(C$12=\"USD\",$C$7,1)*IF($E$200=1,$D$200,1),IF(_xlpm.CF=0,\"-\",_xlpm.CF))","v":"-"},{"$f":"_xlfn.LET(_xlpm.CF,SUM(IF(YEAR($B$205:$B$780)=$B92,D$205:D$780))*IF(D$12=\"USD\",$C$7,1)*IF($E$200=1,$D$200,1),IF(_xlpm.CF=0,\"-\",_xlpm.CF))","v":"-"},{"$f":"_xlfn.LET(_xlpm.CF,SUM(IF(YEAR($B$205:$B$780)=$B92,E$205:E$780))*IF(E$12=\"USD\",$C$7,1)*IF($E$200=1,$D$200,1),IF(_xlpm.CF=0,\"-\",_xlpm.CF))","v":"-"},{"$f":"_xlfn.LET(_xlpm.CF,SUM(IF(YEAR($B$205:$B$780)=$B92,F$205:F$780))*IF(F$12=\"USD\",$C$7,1)*IF($E$200=1,$D$200,1),IF(_xlpm.CF=0,\"-\",_xlpm.CF))","v":"-"},{"$f":"_xlfn.LET(_xlpm.CF,SUM(IF(YEAR($B$205:$B$780)=$B92,G$205:G$780))*IF(G$12=\"USD\",$C$7,1)*IF($E$200=1,$D$200,1),IF(_xlpm.CF=0,\"-\",_xlpm.CF))","v":"-"},{"$f":"_xlfn.LET(_xlpm.CF,SUM(IF(YEAR($B$205:$B$780)=$B92,H$205:H$780))*IF(H$12=\"USD\",$C$7,1)*IF($E$200=1,$D$200,1),IF(_xlpm.CF=0,\"-\",_xlpm.CF))","v":"-"},{"$f":"_xlfn.LET(_xlpm.CF,SUM(IF(YEAR($B$205:$B$780)=$B92,I$205:I$780))*IF(I$12=\"USD\",$C$7,1)*IF($E$200=1,$D$200,1),IF(_xlpm.CF=0,\"-\",_xlpm.CF))","v":"-"},{"$f":"_xlfn.LET(_xlpm.CF,SUM(IF(YEAR($B$205:$B$780)=$B92,J$205:J$780))*IF(J$12=\"USD\",$C$7,1)*IF($E$200=1,$D$200,1),IF(_xlpm.CF=0,\"-\",_xlpm.CF))","v":"-"},{"$f":"_xlfn.LET(_xlpm.CF,SUM(IF(YEAR($B$205:$B$780)=$B92,K$205:K$780))*IF(K$12=\"USD\",$C$7,1)*IF($E$200=1,$D$200,1),IF(_xlpm.CF=0,\"-\",_xlpm.CF))","v":"-"},{"$f":"_xlfn.LET(_xlpm.CF,SUM(IF(YEAR($B$205:$B$780)=$B92,L$205:L$780))*IF(L$12=\"USD\",$C$7,1)*IF($E$200=1,$D$200,1),IF(_xlpm.CF=0,\"-\",_xlpm.CF))","v":"-"},0]
[null,2073,{"$f":"_xlfn.LET(_xlpm.CF,SUM(IF(YEAR($B$205:$B$780)=$B93,C$205:C$780))*IF(C$12=\"USD\",$C$7,1)*IF($E$200=1,$D$200,1),IF(_xlpm.CF=0,\"-\",_xlpm.CF))","v":"-"},{"$f":"_xlfn.LET(_xlpm.CF,SUM(IF(YEAR($B$205:$B$780)=$B93,D$205:D$780))*IF(D$12=\"USD\",$C$7,1)*IF($E$200=1,$D$200,1),IF(_xlpm.CF=0,\"-\",_xlpm.CF))","v":"-"},{"$f":"_xlfn.LET(_xlpm.CF,SUM(IF(YEAR($B$205:$B$780)=$B93,E$205:E$780))*IF(E$12=\"USD\",$C$7,1)*IF($E$200=1,$D$200,1),IF(_xlpm.CF=0,\"-\",_xlpm.CF))","v":"-"},{"$f":"_xlfn.LET(_xlpm.CF,SUM(IF(YEAR($B$205:$B$780)=$B93,F$205:F$780))*IF(F$12=\"USD\",$C$7,1)*IF($E$200=1,$D$200,1),IF(_xlpm.CF=0,\"-\",_xlpm.CF))","v":"-"},{"$f":"_xlfn.LET(_xlpm.CF,SUM(IF(YEAR($B$205:$B$780)=$B93,G$205:G$780))*IF(G$12=\"USD\",$C$7,1)*IF($E$200=1,$D$200,1),IF(_xlpm.CF=0,\"-\",_xlpm.CF))","v":"-"},{"$f":"_xlfn.LET(_xlpm.CF,SUM(IF(YEAR($B$205:$B$780)=$B93,H$205:H$780))*IF(H$12=\"USD\",$C$7,1)*IF($E$200=1,$D$200,1),IF(_xlpm.CF=0,\"-\",_xlpm.CF))","v":"-"},{"$f":"_xlfn.LET(_xlpm.CF,SUM(IF(YEAR($B$205:$B$780)=$B93,I$205:I$780))*IF(I$12=\"USD\",$C$7,1)*IF($E$200=1,$D$200,1),IF(_xlpm.CF=0,\"-\",_xlpm.CF))","v":"-"},{"$f":"_xlfn.LET(_xlpm.CF,SUM(IF(YEAR($B$205:$B$780)=$B93,J$205:J$780))*IF(J$12=\"USD\",$C$7,1)*IF($E$200=1,$D$200,1),IF(_xlpm.CF=0,\"-\",_xlpm.CF))","v":"-"},{"$f":"_xlfn.LET(_xlpm.CF,SUM(IF(YEAR($B$205:$B$780)=$B93,K$205:K$780))*IF(K$12=\"USD\",$C$7,1)*IF($E$200=1,$D$200,1),IF(_xlpm.CF=0,\"-\",_xlpm.CF))","v":"-"},{"$f":"_xlfn.LET(_xlpm.CF,SUM(IF(YEAR($B$205:$B$780)=$B93,L$205:L$780))*IF(L$12=\"USD\",$C$7,1)*IF($E$200=1,$D$200,1),IF(_xlpm.CF=0,\"-\",_xlpm.CF))","v":"-"},0]
[null,2074,{"$f":"_xlfn.LET(_xlpm.CF,SUM(IF(YEAR($B$205:$B$780)=$B94,C$205:C$780))*IF(C$12=\"USD\",$C$7,1)*IF($E$200=1,$D$200,1),IF(_xlpm.CF=0,\"-\",_xlpm.CF))","v":"-"},{"$f":"_xlfn.LET(_xlpm.CF,SUM(IF(YEAR($B$205:$B$780)=$B94,D$205:D$780))*IF(D$12=\"USD\",$C$7,1)*IF($E$200=1,$D$200,1),IF(_xlpm.CF=0,\"-\",_xlpm.CF))","v":"-"},{"$f":"_xlfn.LET(_xlpm.CF,SUM(IF(YEAR($B$205:$B$780)=$B94,E$205:E$780))*IF(E$12=\"USD\",$C$7,1)*IF($E$200=1,$D$200,1),IF(_xlpm.CF=0,\"-\",_xlpm.CF))","v":"-"},{"$f":"_xlfn.LET(_xlpm.CF,SUM(IF(YEAR($B$205:$B$780)=$B94,F$205:F$780))*IF(F$12=\"USD\",$C$7,1)*IF($E$200=1,$D$200,1),IF(_xlpm.CF=0,\"-\",_xlpm.CF))","v":"-"},{"$f":"_xlfn.LET(_xlpm.CF,SUM(IF(YEAR($B$205:$B$780)=$B94,G$205:G$780))*IF(G$12=\"USD\",$C$7,1)*IF($E$200=1,$D$200,1),IF(_xlpm.CF=0,\"-\",_xlpm.CF))","v":"-"},{"$f":"_xlfn.LET(_xlpm.CF,SUM(IF(YEAR($B$205:$B$780)=$B94,H$205:H$780))*IF(H$12=\"USD\",$C$7,1)*IF($E$200=1,$D$200,1),IF(_xlpm.CF=0,\"-\",_xlpm.CF))","v":"-"},{"$f":"_xlfn.LET(_xlpm.CF,SUM(IF(YEAR($B$205:$B$780)=$B94,I$205:I$780))*IF(I$12=\"USD\",$C$7,1)*IF($E$200=1,$D$200,1),IF(_xlpm.CF=0,\"-\",_xlpm.CF))","v":"-"},{"$f":"_xlfn.LET(_xlpm.CF,SUM(IF(YEAR($B$205:$B$780)=$B94,J$205:J$780))*IF(J$12=\"USD\",$C$7,1)*IF($E$200=1,$D$200,1),IF(_xlpm.CF=0,\"-\",_xlpm.CF))","v":"-"},{"$f":"_xlfn.LET(_xlpm.CF,SUM(IF(YEAR($B$205:$B$780)=$B94,K$205:K$780))*IF(K$12=\"USD\",$C$7,1)*IF($E$200=1,$D$200,1),IF(_xlpm.CF=0,\"-\",_xlpm.CF))","v":"-"},{"$f":"_xlfn.LET(_xlpm.CF,SUM(IF(YEAR($B$205:$B$780)=$B94,L$205:L$780))*IF(L$12=\"USD\",$C$7,1)*IF($E$200=1,$D$200,1),IF(_xlpm.CF=0,\"-\",_xlpm.CF))","v":"-"},0]
[null,2075,{"$f":"_xlfn.LET(_xlpm.CF,SUM(IF(YEAR($B$205:$B$780)=$B95,C$205:C$780))*IF(C$12=\"USD\",$C$7,1)*IF($E$200=1,$D$200,1),IF(_xlpm.CF=0,\"-\",_xlpm.CF))","v":"-"},{"$f":"_xlfn.LET(_xlpm.CF,SUM(IF(YEAR($B$205:$B$780)=$B95,D$205:D$780))*IF(D$12=\"USD\",$C$7,1)*IF($E$200=1,$D$200,1),IF(_xlpm.CF=0,\"-\",_xlpm.CF))","v":"-"},{"$f":"_xlfn.LET(_xlpm.CF,SUM(IF(YEAR($B$205:$B$780)=$B95,E$205:E$780))*IF(E$12=\"USD\",$C$7,1)*IF($E$200=1,$D$200,1),IF(_xlpm.CF=0,\"-\",_xlpm.CF))","v":"-"},{"$f":"_xlfn.LET(_xlpm.CF,SUM(IF(YEAR($B$205:$B$780)=$B95,F$205:F$780))*IF(F$12=\"USD\",$C$7,1)*IF($E$200=1,$D$200,1),IF(_xlpm.CF=0,\"-\",_xlpm.CF))","v":"-"},{"$f":"_xlfn.LET(_xlpm.CF,SUM(IF(YEAR($B$205:$B$780)=$B95,G$205:G$780))*IF(G$12=\"USD\",$C$7,1)*IF($E$200=1,$D$200,1),IF(_xlpm.CF=0,\"-\",_xlpm.CF))","v":"-"},{"$f":"_xlfn.LET(_xlpm.CF,SUM(IF(YEAR($B$205:$B$780)=$B95,H$205:H$780))*IF(H$12=\"USD\",$C$7,1)*IF($E$200=1,$D$200,1),IF(_xlpm.CF=0,\"-\",_xlpm.CF))","v":"-"},{"$f":"_xlfn.LET(_xlpm.CF,SUM(IF(YEAR($B$205:$B$780)=$B95,I$205:I$780))*IF(I$12=\"USD\",$C$7,1)*IF($E$200=1,$D$200,1),IF(_xlpm.CF=0,\"-\",_xlpm.CF))","v":"-"},{"$f":"_xlfn.LET(_xlpm.CF,SUM(IF(YEAR($B$205:$B$780)=$B95,J$205:J$780))*IF(J$12=\"USD\",$C$7,1)*IF($E$200=1,$D$200,1),IF(_xlpm.CF=0,\"-\",_xlpm.CF))","v":"-"},{"$f":"_xlfn.LET(_xlpm.CF,SUM(IF(YEAR($B$205:$B$780)=$B95,K$205:K$780))*IF(K$12=\"USD\",$C$7,1)*IF($E$200=1,$D$200,1),IF(_xlpm.CF=0,\"-\",_xlpm.CF))","v":"-"},{"$f":"_xlfn.LET(_xlpm.CF,SUM(IF(YEAR($B$205:$B$780)=$B95,L$205:L$780))*IF(L$12=\"USD\",$C$7,1)*IF($E$200=1,$D$200,1),IF(_xlpm.CF=0,\"-\",_xlpm.CF))","v":"-"},0]
[null,"利金合計",{"$f":"SUM(C43:C95)","v":0},{"$f":"SUM(D43:D95)","v":0},0,0,0,{"$f":"SUM(H43:H73)","v":0},0,0,0,0,{"$f":"SUM(M43:M73)","v":0}]
[null,"償還差損益",{"$f":"_xlfn.LET(_xlpm.a,(C16%-C22%)*C21*IF(C$12=\"USD\",$C$7,1),IF(_xlpm.a>0,_xlpm.a*IF($E$200=1,$D$200,1),_xlpm.a))","v":0},{"$f":"_xlfn.LET(_xlpm.a,(D16%-D22%)*D21*IF(D$12=\"USD\",$C$7,1),IF(_xlpm.a>0,_xlpm.a*IF($E$200=1,$D$200,1),_xlpm.a))","v":0},{"$f":"_xlfn.LET(_xlpm.a,(E16%-E22%)*E21*IF(E$12=\"USD\",$C$7,1),IF(_xlpm.a>0,_xlpm.a*IF($E$200=1,$D$200,1),_xlpm.a))","v":0},{"$f":"_xlfn.LET(_xlpm.a,(F16%-F22%)*F21*IF(F$12=\"USD\",$C$7,1),IF(_xlpm.a>0,_xlpm.a*IF($E$200=1,$D$200,1),_xlpm.a))","v":0},{"$f":"_xlfn.LET(_xlpm.a,(G16%-G22%)*G21*IF(G$12=\"USD\",$C$7,1),IF(_xlpm.a>0,_xlpm.a*IF($E$200=1,$D$200,1),_xlpm.a))","v":0},{"$f":"_xlfn.LET(_xlpm.a,(H16%-H22%)*H21*IF(H$12=\"USD\",$C$7,1),IF(_xlpm.a>0,_xlpm.a*IF($E$200=1,$D$200,1),_xlpm.a))","v":0},0,0,0,0,{"$f":"SUM(C97:L97)","v":0}]
[null,"利金・償還損益合計",{"$f":"C96+C97","v":0},{"$f":"D96+D97","v":0},0,0,0,{"$f":"H96+H97","v":0},0,0,0,0,{"$f":"SUM(C98:L98)","v":0}]
[null,"損益分岐点為替レート",{"$f":"IFERROR(IF(C12<>\"JPY\",$C$7/(1+C19)^C17,\"N/A\"),\"-\")","v":"-"},"-","-","-","-","-","-","-","-","-",{"$f":"IF(M12<>\"JPY\",$C$7/(1+M19)^M17,\"N/A\")","v":{"$error":"#VALUE!"}}]
[]
[null,"利金CF表(現地通貨,受渡日以降)"]
[null,null,1,{"$f":"C102+1","v":2},{"$f":"D102+1","v":3},4,5,{"$f":"G102+1","v":6},{"$f":"H102+1","v":7},{"$f":"I102+1","v":8},{"$f":"J102+1","v":9},{"$f":"K102+1","v":10}]
[null,"通貨",{"$f":"C12","v":0},0,0,0,0,0,0,0,0,0]
[null,{"$f":"B43","v":2023},{"$f":"SUM(IF(YEAR($B$205:$B$780)=$B104,C$205:C$780))*IF($E$200=1,$D$200,1)","v":0},{"$f":"SUM(IF(YEAR($B$205:$B$780)=$B104,D$205:D$780))*IF($E$200=1,$D$200,1)","v":0},{"$f":"SUM(IF(YEAR($B$205:$B$780)=$B104,E$205:E$780))*IF($E$200=1,$D$200,1)","v":0},{"$f":"SUM(IF(YEAR($B$205:$B$780)=$B104,F$205:F$780))*IF($E$200=1,$D$200,1)","v":0},{"$f":"SUM(IF(YEAR($B$205:$B$780)=$B104,G$205:G$780))*IF($E$200=1,$D$200,1)","v":0},{"$f":"SUM(IF(YEAR($B$205:$B$780)=$B104,H$205:H$780))*IF($E$200=1,$D$200,1)","v":0},{"$f":"SUM(IF(YEAR($B$205:$B$780)=$B104,I$205:I$780))*IF($E$200=1,$D$200,1)","v":0},{"$f":"SUM(IF(YEAR($B$205:$B$780)=$B104,J$205:J$780))*IF($E$200=1,$D$200,1)","v":0},{"$f":"SUM(IF(YEAR($B$205:$B$780)=$B104,K$205:K$780))*IF($E$200=1,$D$200,1)","v":0},{"$f":"SUM(IF(YEAR($B$205:$B$780)=$B104,L$205:L$780))*IF($E$200=1,$D$200,1)","v":0}]
[null,{"$f":"B104+1","v":2024},{"$f":"SUM(IF(YEAR($B$205:$B$780)=$B105,C$205:C$780))*IF($E$200=1,$D$200,1)","v":0},{"$f":"SUM(IF(YEAR($B$205:$B$780)=$B105,D$205:D$780))*IF($E$200=1,$D$200,1)","v":0},{"$f":"SUM(IF(YEAR($B$205:$B$780)=$B105,E$205:E$780))*IF($E$200=1,$D$200,1)","v":0},{"$f":"SUM(IF(YEAR($B$205:$B$780)=$B105,F$205:F$780))*IF($E$200=1,$D$200,1)","v":0},{"$f":"SUM(IF(YEAR($B$205:$B$780)=$B105,G$205:G$780))*IF($E$200=1,$D$200,1)","v":0},{"$f":"SUM(IF(YEAR($B$205:$B$780)=$B105,H$205:H$780))*IF($E$200=1,$D$200,1)","v":0},{"$f":"SUM(IF(YEAR($B$205:$B$780)=$B105,I$205:I$780))*IF($E$200=1,$D$200,1)","v":0},{"$f":"SUM(IF(YEAR($B$205:$B$780)=$B105,J$205:J$780))*IF($E$200=1,$D$200,1)","v":0},{"$f":"SUM(IF(YEAR($B$205:$B$780)=$B105,K$205:K$780))*IF($E$200=1,$D$200,1)","v":0},{"$f":"SUM(IF(YEAR($B$205:$B$780)=$B105,L$205:L$780))*IF($E$200=1,$D$200,1)","v":0}]
[null,{"$f":"B105+1","v":2025},{"$f":"SUM(IF(YEAR($B$205:$B$780)=$B106,C$205:C$780))*IF($E$200=1,$D$200,1)","v":0},{"$f":"SUM(IF(YEAR($B$205:$B$780)=$B106,D$205:D$780))*IF($E$200=1,$D$200,1)","v":0},{"$f":"SUM(IF(YEAR($B$205:$B$780)=$B106,E$205:E$780))*IF($E$200=1,$D$200,1)","v":0},{"$f":"SUM(IF(YEAR($B$205:$B$780)=$B106,F$205:F$780))*IF($E$200=1,$D$200,1)","v":0},{"$f":"SUM(IF(YEAR($B$205:$B$780)=$B106,G$205:G$780))*IF($E$200=1,$D$200,1)","v":0},{"$f":"SUM(IF(YEAR($B$205:$B$780)=$B106,H$205:H$780))*IF($E$200=1,$D$200,1)","v":0},{"$f":"SUM(IF(YEAR($B$205:$B$780)=$B106,I$205:I$780))*IF($E$200=1,$D$200,1)","v":0},{"$f":"SUM(IF(YEAR($B$205:$B$780)=$B106,J$205:J$780))*IF($E$200=1,$D$200,1)","v":0},{"$f":"SUM(IF(YEAR($B$205:$B$780)=$B106,K$205:K$780))*IF($E$200=1,$D$200,1)","v":0},{"$f":"SUM(IF(YEAR($B$205:$B$780)=$B106,L$205:L$780))*IF($E$200=1,$D$200,1)","v":0}]
[null,2026,{"$f":"SUM(IF(YEAR($B$205:$B$780)=$B107,C$205:C$780))*IF($E$200=1,$D$200,1)","v":0},{"$f":"SUM(IF(YEAR($B$205:$B$780)=$B107,D$205:D$780))*IF($E$200=1,$D$200,1)","v":0},{"$f":"SUM(IF(YEAR($B$205:$B$780)=$B107,E$205:E$780))*IF($E$200=1,$D$200,1)","v":0},{"$f":"SUM(IF(YEAR($B$205:$B$780)=$B107,F$205:F$780))*IF($E$200=1,$D$200,1)","v":0},{"$f":"SUM(IF(YEAR($B$205:$B$780)=$B107,G$205:G$780))*IF($E$200=1,$D$200,1)","v":0},{"$f":"SUM(IF(YEAR($B$205:$B$780)=$B107,H$205:H$780))*IF($E$200=1,$D$200,1)","v":0},{"$f":"SUM(IF(YEAR($B$205:$B$780)=$B107,I$205:I$780))*IF($E$200=1,$D$200,1)","v":0},{"$f":"SUM(IF(YEAR($B$205:$B$780)=$B107,J$205:J$780))*IF($E$200=1,$D$200,1)","v":0},{"$f":"SUM(IF(YEAR($B$205:$B$780)=$B107,K$205:K$780))*IF($E$200=1,$D$200,1)","v":0},{"$f":"SUM(IF(YEAR($B$205:$B$780)=$B107,L$205:L$780))*IF($E$200=1,$D$200,1)","v":0}]
[null,2027,{"$f":"SUM(IF(YEAR($B$205:$B$780)=$B108,C$205:C$780))*IF($E$200=1,$D$200,1)","v":0},{"$f":"SUM(IF(YEAR($B$205:$B$780)=$B108,D$205:D$780))*IF($E$200=1,$D$200,1)","v":0},{"$f":"SUM(IF(YEAR($B$205:$B$780)=$B108,E$205:E$780))*IF($E$200=1,$D$200,1)","v":0},{"$f":"SUM(IF(YEAR($B$205:$B$780)=$B108,F$205:F$780))*IF($E$200=1,$D$200,1)","v":0},{"$f":"SUM(IF(YEAR($B$205:$B$780)=$B108,G$205:G$780))*IF($E$200=1,$D$200,1)","v":0},{"$f":"SUM(IF(YEAR($B$205:$B$780)=$B108,H$205:H$780))*IF($E$200=1,$D$200,1)","v":0},{"$f":"SUM(IF(YEAR($B$205:$B$780)=$B108,I$205:I$780))*IF($E$200=1,$D$200,1)","v":0},{"$f":"SUM(IF(YEAR($B$205:$B$780)=$B108,J$205:J$780))*IF($E$200=1,$D$200,1)","v":0},{"$f":"SUM(IF(YEAR($B$205:$B$780)=$B108,K$205:K$780))*IF($E$200=1,$D$200,1)","v":0},{"$f":"SUM(IF(YEAR($B$205:$B$780)=$B108,L$205:L$780))*IF($E$200=1,$D$200,1)","v":0}]
[null,2028,{"$f":"SUM(IF(YEAR($B$205:$B$780)=$B109,C$205:C$780))*IF($E$200=1,$D$200,1)","v":0},{"$f":"SUM(IF(YEAR($B$205:$B$780)=$B109,D$205:D$780))*IF($E$200=1,$D$200,1)","v":0},{"$f":"SUM(IF(YEAR($B$205:$B$780)=$B109,E$205:E$780))*IF($E$200=1,$D$200,1)","v":0},{"$f":"SUM(IF(YEAR($B$205:$B$780)=$B109,F$205:F$780))*IF($E$200=1,$D$200,1)","v":0},{"$f":"SUM(IF(YEAR($B$205:$B$780)=$B109,G$205:G$780))*IF($E$200=1,$D$200,1)","v":0},{"$f":"SUM(IF(YEAR($B$205:$B$780)=$B109,H$205:H$780))*IF($E$200=1,$D$200,1)","v":0},{"$f":"SUM(IF(YEAR($B$205:$B$780)=$B109,I$205:I$780))*IF($E$200=1,$D$200,1)","v":0},{"$f":"SUM(IF(YEAR($B$205:$B$780)=$B109,J$205:J$780))*IF($E$200=1,$D$200,1)","v":0},{"$f":"SUM(IF(YEAR($B$205:$B$780)=$B109,K$205:K$780))*IF($E$200=1,$D$200,1)","v":0},{"$f":"SUM(IF(YEAR($B$205:$B$780)=$B109,L$205:L$780))*IF($E$200=1,$D$200,1)","v":0}]
[null,2029,{"$f":"SUM(IF(YEAR($B$205:$B$780)=$B110,C$205:C$780))*IF($E$200=1,$D$200,1)","v":0},{"$f":"SUM(IF(YEAR($B$205:$B$780)=$B110,D$205:D$780))*IF($E$200=1,$D$200,1)","v":0},{"$f":"SUM(IF(YEAR($B$205:$B$780)=$B110,E$205:E$780))*IF($E$200=1,$D$200,1)","v":0},{"$f":"SUM(IF(YEAR($B$205:$B$780)=$B110,F$205:F$780))*IF($E$200=1,$D$200,1)","v":0},{"$f":"SUM(IF(YEAR($B$205:$B$780)=$B110,G$205:G$780))*IF($E$200=1,$D$200,1)","v":0},{"$f":"SUM(IF(YEAR($B$205:$B$780)=$B110,H$205:H$780))*IF($E$200=1,$D$200,1)","v":0},{"$f":"SUM(IF(YEAR($B$205:$B$780)=$B110,I$205:I$780))*IF($E$200=1,$D$200,1)","v":0},{"$f":"SUM(IF(YEAR($B$205:$B$780)=$B110,J$205:J$780))*IF($E$200=1,$D$200,1)","v":0},{"$f":"SUM(IF(YEAR($B$205:$B$780)=$B110,K$205:K$780))*IF($E$200=1,$D$200,1)","v":0},{"$f":"SUM(IF(YEAR($B$205:$B$780)=$B110,L$205:L$780))*IF($E$200=1,$D$200,1)","v":0}]
[null,2030,{"$f":"SUM(IF(YEAR($B$205:$B$780)=$B111,C$205:C$780))*IF($E$200=1,$D$200,1)","v":0},{"$f":"SUM(IF(YEAR($B$205:$B$780)=$B111,D$205:D$780))*IF($E$200=1,$D$200,1)","v":0},{"$f":"SUM(IF(YEAR($B$205:$B$780)=$B111,E$205:E$780))*IF($E$200=1,$D$200,1)","v":0},{"$f":"SUM(IF(YEAR($B$205:$B$780)=$B111,F$205:F$780))*IF($E$200=1,$D$200,1)","v":0},{"$f":"SUM(IF(YEAR($B$205:$B$780)=$B111,G$205:G$780))*IF($E$200=1,$D$200,1)","v":0},{"$f":"SUM(IF(YEAR($B$205:$B$780)=$B111,H$205:H$780))*IF($E$200=1,$D$200,1)","v":0},{"$f":"SUM(IF(YEAR($B$205:$B$780)=$B111,I$205:I$780))*IF($E$200=1,$D$200,1)","v":0},{"$f":"SUM(IF(YEAR($B$205:$B$780)=$B111,J$205:J$780))*IF($E$200=1,$D$200,1)","v":0},{"$f":"SUM(IF(YEAR($B$205:$B$780)=$B111,K$205:K$780))*IF($E$200=1,$D$200,1)","v":0},{"$f":"SUM(IF(YEAR($B$205:$B$780)=$B111,L$205:L$780))*IF($E$200=1,$D$200,1)","v":0}]
[null,2031,{"$f":"SUM(IF(YEAR($B$205:$B$780)=$B112,C$205:C$780))*IF($E$200=1,$D$200,1)","v":0},{"$f":"SUM(IF(YEAR($B$205:$B$780)=$B112,D$205:D$780))*IF($E$200=1,$D$200,1)","v":0},{"$f":"SUM(IF(YEAR($B$205:$B$780)=$B112,E$205:E$780))*IF($E$200=1,$D$200,1)","v":0},{"$f":"SUM(IF(YEAR($B$205:$B$780)=$B112,F$205:F$780))*IF($E$200=1,$D$200,1)","v":0},{"$f":"SUM(IF(YEAR($B$205:$B$780)=$B112,G$205:G$780))*IF($E$200=1,$D$200,1)","v":0},{"$f":"SUM(IF(YEAR($B$205:$B$780)=$B112,H$205:H$780))*IF($E$200=1,$D$200,1)","v":0},{"$f":"SUM(IF(YEAR($B$205:$B$780)=$B112,I$205:I$780))*IF($E$200=1,$D$200,1)","v":0},{"$f":"SUM(IF(YEAR($B$205:$B$780)=$B112,J$205:J$780))*IF($E$200=1,$D$200,1)","v":0},{"$f":"SUM(IF(YEAR($B$205:$B$780)=$B112,K$205:K$780))*IF($E$200=1,$D$200,1)","v":0},{"$f":"SUM(IF(YEAR($B$205:$B$780)=$B112,L$205:L$780))*IF($E$200=1,$D$200,1)","v":0}]
[null,2032,{"$f":"SUM(IF(YEAR($B$205:$B$780)=$B113,C$205:C$780))*IF($E$200=1,$D$200,1)","v":0},{"$f":"SUM(IF(YEAR($B$205:$B$780)=$B113,D$205:D$780))*IF($E$200=1,$D$200,1)","v":0},{"$f":"SUM(IF(YEAR($B$205:$B$780)=$B113,E$205:E$780))*IF($E$200=1,$D$200,1)","v":0},{"$f":"SUM(IF(YEAR($B$205:$B$780)=$B113,F$205:F$780))*IF($E$200=1,$D$200,1)","v":0},{"$f":"SUM(IF(YEAR($B$205:$B$780)=$B113,G$205:G$780))*IF($E$200=1,$D$200,1)","v":0},{"$f":"SUM(IF(YEAR($B$205:$B$780)=$B113,H$205:H$780))*IF($E$200=1,$D$200,1)","v":0},{"$f":"SUM(IF(YEAR($B$205:$B$780)=$B113,I$205:I$780))*IF($E$200=1,$D$200,1)","v":0},{"$f":"SUM(IF(YEAR($B$205:$B$780)=$B113,J$205:J$780))*IF($E$200=1,$D$200,1)","v":0},{"$f":"SUM(IF(YEAR($B$205:$B$780)=$B113,K$205:K$780))*IF($E$200=1,$D$200,1)","v":0},{"$f":"SUM(IF(YEAR($B$205:$B$780)=$B113,L$205:L$780))*IF($E$200=1,$D$200,1)","v":0}]
[null,2033,{"$f":"SUM(IF(YEAR($B$205:$B$780)=$B114,C$205:C$780))*IF($E$200=1,$D$200,1)","v":0},{"$f":"SUM(IF(YEAR($B$205:$B$780)=$B114,D$205:D$780))*IF($E$200=1,$D$200,1)","v":0},{"$f":"SUM(IF(YEAR($B$205:$B$780)=$B114,E$205:E$780))*IF($E$200=1,$D$200,1)","v":0},{"$f":"SUM(IF(YEAR($B$205:$B$780)=$B114,F$205:F$780))*IF($E$200=1,$D$200,1)","v":0},{"$f":"SUM(IF(YEAR($B$205:$B$780)=$B114,G$205:G$780))*IF($E$200=1,$D$200,1)","v":0},{"$f":"SUM(IF(YEAR($B$205:$B$780)=$B114,H$205:H$780))*IF($E$200=1,$D$200,1)","v":0},{"$f":"SUM(IF(YEAR($B$205:$B$780)=$B114,I$205:I$780))*IF($E$200=1,$D$200,1)","v":0},{"$f":"SUM(IF(YEAR($B$205:$B$780)=$B114,J$205:J$780))*IF($E$200=1,$D$200,1)","v":0},{"$f":"SUM(IF(YEAR($B$205:$B$780)=$B114,K$205:K$780))*IF($E$200=1,$D$200,1)","v":0},{"$f":"SUM(IF(YEAR($B$205:$B$780)=$B114,L$205:L$780))*IF($E$200=1,$D$200,1)","v":0}]
[null,2034,{"$f":"SUM(IF(YEAR($B$205:$B$780)=$B115,C$205:C$780))*IF($E$200=1,$D$200,1)","v":0},{"$f":"SUM(IF(YEAR($B$205:$B$780)=$B115,D$205:D$780))*IF($E$200=1,$D$200,1)","v":0},{"$f":"SUM(IF(YEAR($B$205:$B$780)=$B115,E$205:E$780))*IF($E$200=1,$D$200,1)","v":0},{"$f":"SUM(IF(YEAR($B$205:$B$780)=$B115,F$205:F$780))*IF($E$200=1,$D$200,1)","v":0},{"$f":"SUM(IF(YEAR($B$205:$B$780)=$B115,G$205:G$780))*IF($E$200=1,$D$200,1)","v":0}]
[null,2035,{"$f":"SUM(IF(YEAR($B$205:$B$780)=$B116,C$205:C$780))*IF($E$200=1,$D$200,1)","v":0},{"$f":"SUM(IF(YEAR($B$205:$B$780)=$B116,D$205:D$780))*IF($E$200=1,$D$200,1)","v":0},{"$f":"SUM(IF(YEAR($B$205:$B$780)=$B116,E$205:E$780))*IF($E$200=1,$D$200,1)","v":0},{"$f":"SUM(IF(YEAR($B$205:$B$780)=$B116,F$205:F$780))*IF($E$200=1,$D$200,1)","v":0},{"$f":"SUM(IF(YEAR($B$205:$B$780)=$B116,G$205:G$780))*IF($E$200=1,$D$200,1)","v":0}]
[null,2036,{"$f":"SUM(IF(YEAR($B$205:$B$780)=$B117,C$205:C$780))*IF($E$200=1,$D$200,1)","v":0},{"$f":"SUM(IF(YEAR($B$205:$B$780)=$B117,D$205:D$780))*IF($E$200=1,$D$200,1)","v":0},{"$f":"SUM(IF(YEAR($B$205:$B$780)=$B117,E$205:E$780))*IF($E$200=1,$D$200,1)","v":0},{"$f":"SUM(IF(YEAR($B$205:$B$780)=$B117,F$205:F$780))*IF($E$200=1,$D$200,1)","v":0},{"$f":"SUM(IF(YEAR($B$205:$B$780)=$B117,G$205:G$780))*IF($E$200=1,$D$200,1)","v":0}]
[null,2037,{"$f":"SUM(IF(YEAR($B$205:$B$780)=$B118,C$205:C$780))*IF($E$200=1,$D$200,1)","v":0},{"$f":"SUM(IF(YEAR($B$205:$B$780)=$B118,D$205:D$780))*IF($E$200=1,$D$200,1)","v":0},{"$f":"SUM(IF(YEAR($B$205:$B$780)=$B118,E$205:E$780))*IF($E$200=1,$D$200,1)","v":0},{"$f":"SUM(IF(YEAR($B$205:$B$780)=$B118,F$205:F$780))*IF($E$200=1,$D$200,1)","v":0},{"$f":"SUM(IF(YEAR($B$205:$B$780)=$B118,G$205:G$780))*IF($E$200=1,$D$200,1)","v":0}]
[null,2038,{"$f":"SUM(IF(YEAR($B$205:$B$780)=$B119,C$205:C$780))*IF($E$200=1,$D$200,1)","v":0},{"$f":"SUM(IF(YEAR($B$205:$B$780)=$B119,D$205:D$780))*IF($E$200=1,$D$200,1)","v":0},{"$f":"SUM(IF(YEAR($B$205:$B$780)=$B119,E$205:E$780))*IF($E$200=1,$D$200,1)","v":0},{"$f":"SUM(IF(YEAR($B$205:$B$780)=$B119,F$205:F$780))*IF($E$200=1,$D$200,1)","v":0},{"$f":"SUM(IF(YEAR($B$205:$B$780)=$B119,G$205:G$780))*IF($E$200=1,$D$200,1)","v":0}]
[null,2039,{"$f":"SUM(IF(YEAR($B$205:$B$780)=$B120,C$205:C$780))*IF($E$200=1,$D$200,1)","v":0},{"$f":"SUM(IF(YEAR($B$205:$B$780)=$B120,D$205:D$780))*IF($E$200=1,$D$200,1)","v":0},{"$f":"SUM(IF(YEAR($B$205:$B$780)=$B120,E$205:E$780))*IF($E$200=1,$D$200,1)","v":0},{"$f":"SUM(IF(YEAR($B$205:$B$780)=$B120,F$205:F$780))*IF($E$200=1,$D$200,1)","v":0},{"$f":"SUM(IF(YEAR($B$205:$B$780)=$B120,G$205:G$780))*IF($E$200=1,$D$200,1)","v":0}]
[null,2040,{"$f":"SUM(IF(YEAR($B$205:$B$780)=$B121,C$205:C$780))*IF($E$200=1,$D$200,1)","v":0},{"$f":"SUM(IF(YEAR($B$205:$B$780)=$B121,D$205:D$780))*IF($E$200=1,$D$200,1)","v":0},{"$f":"SUM(IF(YEAR($B$205:$B$780)=$B121,E$205:E$780))*IF($E$200=1,$D$200,1)","v":0},{"$f":"SUM(IF(YEAR($B$205:$B$780)=$B121,F$205:F$780))*IF($E$200=1,$D$200,1)","v":0},{"$f":"SUM(IF(YEAR($B$205:$B$780)=$B121,G$205:G$780))*IF($E$200=1,$D$200,1)","v":0}]
[null,2041,{"$f":"SUM(IF(YEAR($B$205:$B$780)=$B122,C$205:C$780))*IF($E$200=1,$D$200,1)","v":0},{"$f":"SUM(IF(YEAR($B$205:$B$780)=$B122,D$205:D$780))*IF($E$200=1,$D$200,1)","v":0},{"$f":"SUM(IF(YEAR($B$205:$B$780)=$B122,E$205:E$780))*IF($E$200=1,$D$200,1)","v":0},{"$f":"SUM(IF(YEAR($B$205:$B$780)=$B122,F$205:F$780))*IF($E$200=1,$D$200,1)","v":0},{"$f":"SUM(IF(YEAR($B$205:$B$780)=$B122,G$205:G$780))*IF($E$200=1,$D$200,1)","v":0}]
[null,2042,{"$f":"SUM(IF(YEAR($B$205:$B$780)=$B123,C$205:C$780))*IF($E$200=1,$D$200,1)","v":0},{"$f":"SUM(IF(YEAR($B$205:$B$780)=$B123,D$205:D$780))*IF($E$200=1,$D$200,1)","v":0},{"$f":"SUM(IF(YEAR($B$205:$B$780)=$B123,E$205:E$780))*IF($E$200=1,$D$200,1)","v":0},{"$f":"SUM(IF(YEAR($B$205:$B$780)=$B123,F$205:F$780))*IF($E$200=1,$D$200,1)","v":0},{"$f":"SUM(IF(YEAR($B$205:$B$780)=$B123,G$205:G$780))*IF($E$200=1,$D$200,1)","v":0}]
[null,{"$f":"B123+1","v":2043},{"$f":"SUM(IF(YEAR($B$205:$B$780)=$B124,C$205:C$780))*IF($E$200=1,$D$200,1)","v":0},{"$f":"SUM(IF(YEAR($B$205:$B$780)=$B124,D$205:D$780))*IF($E$200=1,$D$200,1)","v":0},{"$f":"SUM(IF(YEAR($B$205:$B$780)=$B124,E$205:E$780))*IF($E$200=1,$D$200,1)","v":0},{"$f":"SUM(IF(YEAR($B$205:$B$780)=$B124,F$205:F$780))*IF($E$200=1,$D$200,1)","v":0},{"$f":"SUM(IF(YEAR($B$205:$B$780)=$B124,G$205:G$780))*IF($E$200=1,$D$200,1)","v":0}]
[null,2044,{"$f":"SUM(IF(YEAR($B$205:$B$780)=$B125,C$205:C$780))*IF($E$200=1,$D$200,1)","v":0},{"$f":"SUM(IF(YEAR($B$205:$B$780)=$B125,D$205:D$780))*IF($E$200=1,$D$200,1)","v":0},{"$f":"SUM(IF(YEAR($B$205:$B$780)=$B125,E$205:E$780))*IF($E$200=1,$D$200,1)","v":0},{"$f":"SUM(IF(YEAR($B$205:$B$780)=$B125,F$205:F$780))*IF($E$200=1,$D$200,1)","v":0},{"$f":"SUM(IF(YEAR($B$205:$B$780)=$B125,G$205:G$780))*IF($E$200=1,$D$200,1)","v":0}]
[null,2045,{"$f":"SUM(IF(YEAR($B$205:$B$780)=$B126,C$205:C$780))*IF($E$200=1,$D$200,1)","v":0},{"$f":"SUM(IF(YEAR($B$205:$B$780)=$B126,D$205:D$780))*IF($E$200=1,$D$200,1)","v":0},{"$f":"SUM(IF(YEAR($B$205:$B$780)=$B126,E$205:E$780))*IF($E$200=1,$D$200,1)","v":0},{"$f":"SUM(IF(YEAR($B$205:$B$780)=$B126,F$205:F$780))*IF($E$200=1,$D$200,1)","v":0},{"$f":"SUM(IF(YEAR($B$205:$B$780)=$B126,G$205:G$780))*IF($E$200=1,$D$200,1)","v":0}]
[null,2046,{"$f":"SUM(IF(YEAR($B$205:$B$780)=$B127,C$205:C$780))*IF($E$200=1,$D$200,1)","v":0},{"$f":"SUM(IF(YEAR($B$205:$B$780)=$B127,D$205:D$780))*IF($E$200=1,$D$200,1)","v":0},{"$f":"SUM(IF(YEAR($B$205:$B$780)=$B127,E$205:E$780))*IF($E$200=1,$D$200,1)","v":0},{"$f":"SUM(IF(YEAR($B$205:$B$780)=$B127,F$205:F$780))*IF($E$200=1,$D$200,1)","v":0},{"$f":"SUM(IF(YEAR($B$205:$B$780)=$B127,G$205:G$780))*IF($E$200=1,$D$200,1)","v":0}]
[null,2047,{"$f":"SUM(IF(YEAR($B$205:$B$780)=$B128,C$205:C$780))*IF($E$200=1,$D$200,1)","v":0},{"$f":"SUM(IF(YEAR($B$205:$B$780)=$B128,D$205:D$780))*IF($E$200=1,$D$200,1)","v":0},{"$f":"SUM(IF(YEAR($B$205:$B$780)=$B128,E$205:E$780))*IF($E$200=1,$D$200,1)","v":0},{"$f":"SUM(IF(YEAR($B$205:$B$780)=$B128,F$205:F$780))*IF($E$200=1,$D$200,1)","v":0},{"$f":"SUM(IF(YEAR($B$205:$B$780)=$B128,G$205:G$780))*IF($E$200=1,$D$200,1)","v":0}]
[null,2048,{"$f":"SUM(IF(YEAR($B$205:$B$780)=$B129,C$205:C$780))*IF($E$200=1,$D$200,1)","v":0},{"$f":"SUM(IF(YEAR($B$205:$B$780)=$B129,D$205:D$780))*IF($E$200=1,$D$200,1)","v":0},{"$f":"SUM(IF(YEAR($B$205:$B$780)=$B129,E$205:E$780))*IF($E$200=1,$D$200,1)","v":0},{"$f":"SUM(IF(YEAR($B$205:$B$780)=$B129,F$205:F$780))*IF($E$200=1,$D$200,1)","v":0},{"$f":"SUM(IF(YEAR($B$205:$B$780)=$B129,G$205:G$780))*IF($E$200=1,$D$200,1)","v":0}]
[null,2049,{"$f":"SUM(IF(YEAR($B$205:$B$780)=$B130,C$205:C$780))*IF($E$200=1,$D$200,1)","v":0},{"$f":"SUM(IF(YEAR($B$205:$B$780)=$B130,D$205:D$780))*IF($E$200=1,$D$200,1)","v":0},{"$f":"SUM(IF(YEAR($B$205:$B$780)=$B130,E$205:E$780))*IF($E$200=1,$D$200,1)","v":0},{"$f":"SUM(IF(YEAR($B$205:$B$780)=$B130,F$205:F$780))*IF($E$200=1,$D$200,1)","v":0},{"$f":"SUM(IF(YEAR($B$205:$B$780)=$B130,G$205:G$780))*IF($E$200=1,$D$200,1)","v":0}]
[null,2050,{"$f":"SUM(IF(YEAR($B$205:$B$780)=$B131,C$205:C$780))*IF($E$200=1,$D$200,1)","v":0},{"$f":"SUM(IF(YEAR($B$205:$B$780)=$B131,D$205:D$780))*IF($E$200=1,$D$200,1)","v":0},{"$f":"SUM(IF(YEAR($B$205:$B$780)=$B131,E$205:E$780))*IF($E$200=1,$D$200,1)","v":0},{"$f":"SUM(IF(YEAR($B$205:$B$780)=$B131,F$205:F$780))*IF($E$200=1,$D$200,1)","v":0},{"$f":"SUM(IF(YEAR($B$205:$B$780)=$B131,G$205:G$780))*IF($E$200=1,$D$200,1)","v":0}]
[null,2051,{"$f":"SUM(IF(YEAR($B$205:$B$780)=$B132,C$205:C$780))*IF($E$200=1,$D$200,1)","v":0},{"$f":"SUM(IF(YEAR($B$205:$B$780)=$B132,D$205:D$780))*IF($E$200=1,$D$200,1)","v":0},{"$f":"SUM(IF(YEAR($B$205:$B$780)=$B132,E$205:E$780))*IF($E$200=1,$D$200,1)","v":0},{"$f":"SUM(IF(YEAR($B$205:$B$780)=$B132,F$205:F$780))*IF($E$200=1,$D$200,1)","v":0},{"$f":"SUM(IF(YEAR($B$205:$B$780)=$B132,G$205:G$780))*IF($E$200=1,$D$200,1)","v":0}]
[null,2052,{"$f":"SUM(IF(YEAR($B$205:$B$780)=$B133,C$205:C$780))*IF($E$200=1,$D$200,1)","v":0},{"$f":"SUM(IF(YEAR($B$205:$B$780)=$B133,D$205:D$780))*IF($E$200=1,$D$200,1)","v":0},{"$f":"SUM(IF(YEAR($B$205:$B$780)=$B133,E$205:E$780))*IF($E$200=1,$D$200,1)","v":0},{"$f":"SUM(IF(YEAR($B$205:$B$780)=$B133,F$205:F$780))*IF($E$200=1,$D$200,1)","v":0},{"$f":"SUM(IF(YEAR($B$205:$B$780)=$B133,G$205:G$780))*IF($E$200=1,$D$200,1)","v":0}]
[null,2053,{"$f":"SUM(IF(YEAR($B$205:$B$780)=$B134,C$205:C$780))*IF($E$200=1,$D$200,1)","v":0},{"$f":"SUM(IF(YEAR($B$205:$B$780)=$B134,D$205:D$780))*IF($E$200=1,$D$200,1)","v":0},{"$f":"SUM(IF(YEAR($B$205:$B$780)=$B134,E$205:E$780))*IF($E$200=1,$D$200,1)","v":0},{"$f":"SUM(IF(YEAR($B$205:$B$780)=$B134,F$205:F$780))*IF($E$200=1,$D$200,1)","v":0},{"$f":"SUM(IF(YEAR($B$205:$B$780)=$B134,G$205:G$780))*IF($E$200=1,$D$200,1)","v":0}]
[null,2054,{"$f":"SUM(IF(YEAR($B$205:$B$780)=$B135,C$205:C$780))*IF($E$200=1,$D$200,1)","v":0},{"$f":"SUM(IF(YEAR($B$205:$B$780)=$B135,D$205:D$780))*IF($E$200=1,$D$200,1)","v":0},{"$f":"SUM(IF(YEAR($B$205:$B$780)=$B135,E$205:E$780))*IF($E$200=1,$D$200,1)","v":0},{"$f":"SUM(IF(YEAR($B$205:$B$780)=$B135,F$205:F$780))*IF($E$200=1,$D$200,1)","v":0},{"$f":"SUM(IF(YEAR($B$205:$B$780)=$B135,G$205:G$780))*IF($E$200=1,$D$200,1)","v":0}]
[null,2055,{"$f":"SUM(IF(YEAR($B$205:$B$780)=$B136,C$205:C$780))*IF($E$200=1,$D$200,1)","v":0},{"$f":"SUM(IF(YEAR($B$205:$B$780)=$B136,D$205:D$780))*IF($E$200=1,$D$200,1)","v":0},{"$f":"SUM(IF(YEAR($B$205:$B$780)=$B136,E$205:E$780))*IF($E$200=1,$D$200,1)","v":0},{"$f":"SUM(IF(YEAR($B$205:$B$780)=$B136,F$205:F$780))*IF($E$200=1,$D$200,1)","v":0},{"$f":"SUM(IF(YEAR($B$205:$B$780)=$B136,G$205:G$780))*IF($E$200=1,$D$200,1)","v":0}]
[null,2056,{"$f":"SUM(IF(YEAR($B$205:$B$780)=$B137,C$205:C$780))*IF($E$200=1,$D$200,1)","v":0},{"$f":"SUM(IF(YEAR($B$205:$B$780)=$B137,D$205:D$780))*IF($E$200=1,$D$200,1)","v":0},{"$f":"SUM(IF(YEAR($B$205:$B$780)=$B137,E$205:E$780))*IF($E$200=1,$D$200,1)","v":0},{"$f":"SUM(IF(YEAR($B$205:$B$780)=$B137,F$205:F$780))*IF($E$200=1,$D$200,1)","v":0},{"$f":"SUM(IF(YEAR($B$205:$B$780)=$B137,G$205:G$780))*IF($E$200=1,$D$200,1)","v":0}]
[null,2057,{"$f":"SUM(IF(YEAR($B$205:$B$780)=$B138,C$205:C$780))*IF($E$200=1,$D$200,1)","v":0},{"$f":"SUM(IF(YEAR($B$205:$B$780)=$B138,D$205:D$780))*IF($E$200=1,$D$200,1)","v":0},{"$f":"SUM(IF(YEAR($B$205:$B$780)=$B138,E$205:E$780))*IF($E$200=1,$D$200,1)","v":0},{"$f":"SUM(IF(YEAR($B$205:$B$780)=$B138,F$205:F$780))*IF($E$200=1,$D$200,1)","v":0},{"$f":"SUM(IF(YEAR($B$205:$B$780)=$B138,G$205:G$780))*IF($E$200=1,$D$200,1)","v":0}]
[null,2058,{"$f":"SUM(IF(YEAR($B$205:$B$780)=$B139,C$205:C$780))*IF($E$200=1,$D$200,1)","v":0},{"$f":"SUM(IF(YEAR($B$205:$B$780)=$B139,D$205:D$780))*IF($E$200=1,$D$200,1)","v":0},{"$f":"SUM(IF(YEAR($B$205:$B$780)=$B139,E$205:E$780))*IF($E$200=1,$D$200,1)","v":0},{"$f":"SUM(IF(YEAR($B$205:$B$780)=$B139,F$205:F$780))*IF($E$200=1,$D$200,1)","v":0},{"$f":"SUM(IF(YEAR($B$205:$B$780)=$B139,G$205:G$780))*IF($E$200=1,$D$200,1)","v":0}]
[null,2059,{"$f":"SUM(IF(YEAR($B$205:$B$780)=$B140,C$205:C$780))*IF($E$200=1,$D$200,1)","v":0},{"$f":"SUM(IF(YEAR($B$205:$B$780)=$B140,D$205:D$780))*IF($E$200=1,$D$200,1)","v":0},{"$f":"SUM(IF(YEAR($B$205:$B$780)=$B140,E$205:E$780))*IF($E$200=1,$D$200,1)","v":0},{"$f":"SUM(IF(YEAR($B$205:$B$780)=$B140,F$205:F$780))*IF($E$200=1,$D$200,1)","v":0},{"$f":"SUM(IF(YEAR($B$205:$B$780)=$B140,G$205:G$780))*IF($E$200=1,$D$200,1)","v":0}]
[null,2060,{"$f":"SUM(IF(YEAR($B$205:$B$780)=$B141,C$205:C$780))*IF($E$200=1,$D$200,1)","v":0},{"$f":"SUM(IF(YEAR($B$205:$B$780)=$B141,D$205:D$780))*IF($E$200=1,$D$200,1)","v":0},{"$f":"SUM(IF(YEAR($B$205:$B$780)=$B141,E$205:E$780))*IF($E$200=1,$D$200,1)","v":0},{"$f":"SUM(IF(YEAR($B$205:$B$780)=$B141,F$205:F$780))*IF($E$200=1,$D$200,1)","v":0},{"$f":"SUM(IF(YEAR($B$205:$B$780)=$B141,G$205:G$780))*IF($E$200=1,$D$200,1)","v":0}]
[null,2061,{"$f":"SUM(IF(YEAR($B$205:$B$780)=$B142,C$205:C$780))*IF($E$200=1,$D$200,1)","v":0},{"$f":"SUM(IF(YEAR($B$205:$B$780)=$B142,D$205:D$780))*IF($E$200=1,$D$200,1)","v":0},{"$f":"SUM(IF(YEAR($B$205:$B$780)=$B142,E$205:E$780))*IF($E$200=1,$D$200,1)","v":0},{"$f":"SUM(IF(YEAR($B$205:$B$780)=$B142,F$205:F$780))*IF($E$200=1,$D$200,1)","v":0},{"$f":"SUM(IF(YEAR($B$205:$B$780)=$B142,G$205:G$780))*IF($E$200=1,$D$200,1)","v":0}]
[null,2062,{"$f":"SUM(IF(YEAR($B$205:$B$780)=$B143,C$205:C$780))*IF($E$200=1,$D$200,1)","v":0},{"$f":"SUM(IF(YEAR($B$205:$B$780)=$B143,D$205:D$780))*IF($E$200=1,$D$200,1)","v":0},{"$f":"SUM(IF(YEAR($B$205:$B$780)=$B143,E$205:E$780))*IF($E$200=1,$D$200,1)","v":0},{"$f":"SUM(IF(YEAR($B$205:$B$780)=$B143,F$205:F$780))*IF($E$200=1,$D$200,1)","v":0},{"$f":"SUM(IF(YEAR($B$205:$B$780)=$B143,G$205:G$780))*IF($E$200=1,$D$200,1)","v":0}]
[null,2063,{"$f":"SUM(IF(YEAR($B$205:$B$780)=$B144,C$205:C$780))*IF($E$200=1,$D$200,1)","v":0},{"$f":"SUM(IF(YEAR($B$205:$B$780)=$B144,D$205:D$780))*IF($E$200=1,$D$200,1)","v":0},{"$f":"SUM(IF(YEAR($B$205:$B$780)=$B144,E$205:E$780))*IF($E$200=1,$D$200,1)","v":0},{"$f":"SUM(IF(YEAR($B$205:$B$780)=$B144,F$205:F$780))*IF($E$200=1,$D$200,1)","v":0},{"$f":"SUM(IF(YEAR($B$205:$B$780)=$B144,G$205:G$780))*IF($E$200=1,$D$200,1)","v":0}]
[null,2064,{"$f":"SUM(IF(YEAR($B$205:$B$780)=$B145,C$205:C$780))*IF($E$200=1,$D$200,1)","v":0},{"$f":"SUM(IF(YEAR($B$205:$B$780)=$B145,D$205:D$780))*IF($E$200=1,$D$200,1)","v":0},{"$f":"SUM(IF(YEAR($B$205:$B$780)=$B145,E$205:E$780))*IF($E$200=1,$D$200,1)","v":0},{"$f":"SUM(IF(YEAR($B$205:$B$780)=$B145,F$205:F$780))*IF($E$200=1,$D$200,1)","v":0},{"$f":"SUM(IF(YEAR($B$205:$B$780)=$B145,G$205:G$780))*IF($E$200=1,$D$200,1)","v":0}]
[null,2065,{"$f":"SUM(IF(YEAR($B$205:$B$780)=$B146,C$205:C$780))*IF($E$200=1,$D$200,1)","v":0},{"$f":"SUM(IF(YEAR($B$205:$B$780)=$B146,D$205:D$780))*IF($E$200=1,$D$200,1)","v":0},{"$f":"SUM(IF(YEAR($B$205:$B$780)=$B146,E$205:E$780))*IF($E$200=1,$D$200,1)","v":0},{"$f":"SUM(IF(YEAR($B$205:$B$780)=$B146,F$205:F$780))*IF($E$200=1,$D$200,1)","v":0},{"$f":"SUM(IF(YEAR($B$205:$B$780)=$B146,G$205:G$780))*IF($E$200=1,$D$200,1)","v":0}]
[null,2066,{"$f":"SUM(IF(YEAR($B$205:$B$780)=$B147,C$205:C$780))*IF($E$200=1,$D$200,1)","v":0},{"$f":"SUM(IF(YEAR($B$205:$B$780)=$B147,D$205:D$780))*IF($E$200=1,$D$200,1)","v":0},{"$f":"SUM(IF(YEAR($B$205:$B$780)=$B147,E$205:E$780))*IF($E$200=1,$D$200,1)","v":0},{"$f":"SUM(IF(YEAR($B$205:$B$780)=$B147,F$205:F$780))*IF($E$200=1,$D$200,1)","v":0},{"$f":"SUM(IF(YEAR($B$205:$B$780)=$B147,G$205:G$780))*IF($E$200=1,$D$200,1)","v":0}]
[null,2067,{"$f":"SUM(IF(YEAR($B$205:$B$780)=$B148,C$205:C$780))*IF($E$200=1,$D$200,1)","v":0},{"$f":"SUM(IF(YEAR($B$205:$B$780)=$B148,D$205:D$780))*IF($E$200=1,$D$200,1)","v":0},{"$f":"SUM(IF(YEAR($B$205:$B$780)=$B148,E$205:E$780))*IF($E$200=1,$D$200,1)","v":0},{"$f":"SUM(IF(YEAR($B$205:$B$780)=$B148,F$205:F$780))*IF($E$200=1,$D$200,1)","v":0},{"$f":"SUM(IF(YEAR($B$205:$B$780)=$B148,G$205:G$780))*IF($E$200=1,$D$200,1)","v":0}]
[null,2068,{"$f":"SUM(IF(YEAR($B$205:$B$780)=$B149,C$205:C$780))*IF($E$200=1,$D$200,1)","v":0},{"$f":"SUM(IF(YEAR($B$205:$B$780)=$B149,D$205:D$780))*IF($E$200=1,$D$200,1)","v":0},{"$f":"SUM(IF(YEAR($B$205:$B$780)=$B149,E$205:E$780))*IF($E$200=1,$D$200,1)","v":0},{"$f":"SUM(IF(YEAR($B$205:$B$780)=$B149,F$205:F$780))*IF($E$200=1,$D$200,1)","v":0},{"$f":"SUM(IF(YEAR($B$205:$B$780)=$B149,G$205:G$780))*IF($E$200=1,$D$200,1)","v":0}]
[null,2069,{"$f":"SUM(IF(YEAR($B$205:$B$780)=$B150,C$205:C$780))*IF($E$200=1,$D$200,1)","v":0},{"$f":"SUM(IF(YEAR($B$205:$B$780)=$B150,D$205:D$780))*IF($E$200=1,$D$200,1)","v":0},{"$f":"SUM(IF(YEAR($B$205:$B$780)=$B150,E$205:E$780))*IF($E$200=1,$D$200,1)","v":0},{"$f":"SUM(IF(YEAR($B$205:$B$780)=$B150,F$205:F$780))*IF($E$200=1,$D$200,1)","v":0},{"$f":"SUM(IF(YEAR($B$205:$B$780)=$B150,G$205:G$780))*IF($E$200=1,$D$200,1)","v":0}]
[null,2070,{"$f":"SUM(IF(YEAR($B$205:$B$780)=$B151,C$205:C$780))*IF($E$200=1,$D$200,1)","v":0},{"$f":"SUM(IF(YEAR($B$205:$B$780)=$B151,D$205:D$780))*IF($E$200=1,$D$200,1)","v":0},{"$f":"SUM(IF(YEAR($B$205:$B$780)=$B151,E$205:E$780))*IF($E$200=1,$D$200,1)","v":0},{"$f":"SUM(IF(YEAR($B$205:$B$780)=$B151,F$205:F$780))*IF($E$200=1,$D$200,1)","v":0},{"$f":"SUM(IF(YEAR($B$205:$B$780)=$B151,G$205:G$780))*IF($E$200=1,$D$200,1)","v":0}]
[null,2071,{"$f":"SUM(IF(YEAR($B$205:$B$780)=$B152,C$205:C$780))*IF($E$200=1,$D$200,1)","v":0},{"$f":"SUM(IF(YEAR($B$205:$B$780)=$B152,D$205:D$780))*IF($E$200=1,$D$200,1)","v":0},{"$f":"SUM(IF(YEAR($B$205:$B$780)=$B152,E$205:E$780))*IF($E$200=1,$D$200,1)","v":0},{"$f":"SUM(IF(YEAR($B$205:$B$780)=$B152,F$205:F$780))*IF($E$200=1,$D$200,1)","v":0},{"$f":"SUM(IF(YEAR($B$205:$B$780)=$B152,G$205:G$780))*IF($E$200=1,$D$200,1)","v":0}]
[null,2072,{"$f":"SUM(IF(YEAR($B$205:$B$780)=$B153,C$205:C$780))*IF($E$200=1,$D$200,1)","v":0},{"$f":"SUM(IF(YEAR($B$205:$B$780)=$B153,D$205:D$780))*IF($E$200=1,$D$200,1)","v":0},{"$f":"SUM(IF(YEAR($B$205:$B$780)=$B153,E$205:E$780))*IF($E$200=1,$D$200,1)","v":0},{"$f":"SUM(IF(YEAR($B$205:$B$780)=$B153,F$205:F$780))*IF($E$200=1,$D$200,1)","v":0},{"$f":"SUM(IF(YEAR($B$205:$B$780)=$B153,G$205:G$780))*IF($E$200=1,$D$200,1)","v":0}]
[null,2073,{"$f":"SUM(IF(YEAR($B$205:$B$780)=$B154,C$205:C$780))*IF($E$200=1,$D$200,1)","v":0},{"$f":"SUM(IF(YEAR($B$205:$B$780)=$B154,D$205:D$780))*IF($E$200=1,$D$200,1)","v":0},{"$f":"SUM(IF(YEAR($B$205:$B$780)=$B154,E$205:E$780))*IF($E$200=1,$D$200,1)","v":0},{"$f":"SUM(IF(YEAR($B$205:$B$780)=$B154,F$205:F$780))*IF($E$200=1,$D$200,1)","v":0},{"$f":"SUM(IF(YEAR($B$205:$B$780)=$B154,G$205:G$780))*IF($E$200=1,$D$200,1)","v":0}]
[null,2074,{"$f":"SUM(IF(YEAR($B$205:$B$780)=$B155,C$205:C$780))*IF($E$200=1,$D$200,1)","v":0},{"$f":"SUM(IF(YEAR($B$205:$B$780)=$B155,D$205:D$780))*IF($E$200=1,$D$200,1)","v":0},{"$f":"SUM(IF(YEAR($B$205:$B$780)=$B155,E$205:E$780))*IF($E$200=1,$D$200,1)","v":0},{"$f":"SUM(IF(YEAR($B$205:$B$780)=$B155,F$205:F$780))*IF($E$200=1,$D$200,1)","v":0},{"$f":"SUM(IF(YEAR($B$205:$B$780)=$B155,G$205:G$780))*IF($E$200=1,$D$200,1)","v":0}]
[null,2075,{"$f":"SUM(IF(YEAR($B$205:$B$780)=$B156,C$205:C$780))*IF($E$200=1,$D$200,1)","v":0},{"$f":"SUM(IF(YEAR($B$205:$B$780)=$B156,D$205:D$780))*IF($E$200=1,$D$200,1)","v":0},{"$f":"SUM(IF(YEAR($B$205:$B$780)=$B156,E$205:E$780))*IF($E$200=1,$D$200,1)","v":0},{"$f":"SUM(IF(YEAR($B$205:$B$780)=$B156,F$205:F$780))*IF($E$200=1,$D$200,1)","v":0},{"$f":"SUM(IF(YEAR($B$205:$B$780)=$B156,G$205:G$780))*IF($E$200=1,$D$200,1)","v":0}]
[null,2076,{"$f":"SUM(IF(YEAR($B$205:$B$780)=$B157,C$205:C$780))*IF($E$200=1,$D$200,1)","v":0},{"$f":"SUM(IF(YEAR($B$205:$B$780)=$B157,D$205:D$780))*IF($E$200=1,$D$200,1)","v":0},{"$f":"SUM(IF(YEAR($B$205:$B$780)=$B157,E$205:E$780))*IF($E$200=1,$D$200,1)","v":0},{"$f":"SUM(IF(YEAR($B$205:$B$780)=$B157,F$205:F$780))*IF($E$200=1,$D$200,1)","v":0},{"$f":"SUM(IF(YEAR($B$205:$B$780)=$B157,G$205:G$780))*IF($E$200=1,$D$200,1)","v":0}]
[null,"利金合計",{"$f":"SUM(C104:C157)","v":0},{"$f":"SUM(D104:D157)","v":0},0,0,{"$f":"SUM(G104:G157)","v":0},{"$f":"SUM(H104:H134)","v":0},{"$f":"SUM(I104:I134)","v":0},{"$f":"SUM(J104:J134)","v":0},{"$f":"SUM(K104:K134)","v":0},{"$f":"SUM(L104:L134)","v":0}]
[null,"償還差損益",{"$f":"(C16%-C22%)*C21*IF($E$200=1,$D$200,1)","v":0},{"$f":"(D16%-D22%)*D21*IF($E$200=1,$D$200,1)","v":0},0,0,0,0,0,0,0,0]
[null,"利金・償還損益合計",{"$f":"C158+C159","v":0},{"$f":"D158+D159","v":0},{"$f":"E158+E159","v":0},{"$f":"F158+F159","v":0},{"$f":"G158+G159","v":0},0,0,0,0,0]
[]
[]
[]
[null,"注意事項"]
[null,"※本シミュレーションは一定の仮定の条件の基、作成されております。以下、注意事項をご留意の上、ご使用下さい。"]
[null,"・為替レートについては、約定時(スポット)から償還時まで一定と仮定しています。実際の為替市場は大きく変動する場合がございます。"]
[null,"・損益分岐点為替レートは、参考利回りで複利運用を行った前提で、円換算の損益がゼロになる為替レートです。"]
[null,"・約定時の経過利子については、考慮しておりません。実際に債券を購入する際には、経過利子が発生するため、想定よりも低い利回りとなる場合がございます。"]
[null,"・受渡日、満期日などは、国内外の祝日を考慮しておりません。"]
[null,"・ポートフォリオの数値は、円換算の額面金額で加重平均したものです。"]
[null,"・次回早期償還予定日を満期日とみなしている場合がございます。"]
[null,"・本資料は情報提供を目的としており、いかなる投資の推奨・勧誘を行うものではありません。"]
[null,"・本資料の数値、データは将来のリターンを保証するものではありません。"]
[null,"・本資料の数値は一定の計算方法に基づいたものであり、計算手法の違いによって、異なる結果となる場合がございます。"]
[null,"・内容については、万全を期しておりますが、その内容の正確性を保証するのではありません。当該情報に基づいて被ったいかなる損失についても、CGPパートナーズ株式会社は一切の責任を負いかねます。"]
[]
[]
[]
[]
[]
[]
[]
[]
[]
[]
[]
[]
[]
[]
[]
[]
[]
[]
[]
[null,null,{"$f":"_xlfn.XLOOKUP(C196,index!$E$3:$E$6,index!$D$3:$D$6,,0)&MONTH(C198)","v":{"$error":"#N/A"}},{"$f":"_xlfn.XLOOKUP(D196,index!$E$3:$E$6,index!$D$3:$D$6,,0)&MONTH(D198)","v":{"$error":"#N/A"}},{"$f":"_xlfn.XLOOKUP(E196,index!$E$3:$E$6,index!$D$3:$D$6,,0)&MONTH(E198)","v":{"$error":"#N/A"}},{"$f":"_xlfn.XLOOKUP(F196,index!$E$3:$E$6,index!$D$3:$D$6,,0)&MONTH(F198)","v":{"$error":"#N/A"}},{"$f":"_xlfn.XLOOKUP(G196,index!$E$3:$E$6,index!$D$3:$D$6,,0)&MONTH(G198)","v":{"$error":"#N/A"}},{"$f":"_xlfn.XLOOKUP(H196,index!$E$3:$E$6,index!$D$3:$D$6,,0)&MONTH(H198)","v":{"$error":"#N/A"}},{"$f":"_xlfn.XLOOKUP(I196,index!$E$3:$E$6,index!$D$3:$D$6,,0)&MONTH(I198)","v":{"$error":"#N/A"}},{"$f":"_xlfn.XLOOKUP(J196,index!$E$3:$E$6,index!$D$3:$D$6,,0)&MONTH(J198)","v":{"$error":"#N/A"}},{"$f":"_xlfn.XLOOKUP(K196,index!$E$3:$E$6,index!$D$3:$D$6,,0)&MONTH(K198)","v":{"$error":"#N/A"}},{"$f":"_xlfn.XLOOKUP(L196,index!$E$3:$E$6,index!$D$3:$D$6,,0)&MONTH(L198)","v":{"$error":"#N/A"}}]
[null,"利払い回数",{"$f":"_xlfn.SWITCH(C14,\"年1回\",1,\"年2回\",2,\"年4回\",4,\"毎月\",12)","v":{"$error":"#N/A"}},{"$f":"_xlfn.SWITCH(D14,\"年1回\",1,\"年2回\",2,\"年4回\",4,\"毎月\",12)","v":{"$error":"#N/A"}},{"$f":"_xlfn.SWITCH(E14,\"年1回\",1,\"年2回\",2,\"年4回\",4,\"毎月\",12)","v":{"$error":"#N/A"}},{"$f":"_xlfn.SWITCH(F14,\"年1回\",1,\"年2回\",2,\"年4回\",4,\"毎月\",12)","v":{"$error":"#N/A"}},{"$f":"_xlfn.SWITCH(G14,\"年1回\",1,\"年2回\",2,\"年4回\",4,\"毎月\",12)","v":{"$error":"#N/A"}},{"$f":"_xlfn.SWITCH(H14,\"年1回\",1,\"年2回\",2,\"年4回\",4,\"毎月\",12)","v":{"$error":"#N/A"}},{"$f":"_xlfn.SWITCH(I14,\"年1回\",1,\"年2回\",2,\"年4回\",4,\"毎月\",12)","v":{"$error":"#N/A"}},{"$f":"_xlfn.SWITCH(J14,\"年1回\",1,\"年2回\",2,\"年4回\",4,\"毎月\",12)","v":{"$error":"#N/A"}},{"$f":"_xlfn.SWITCH(K14,\"年1回\",1,\"年2回\",2,\"年4回\",4,\"毎月\",12)","v":{"$error":"#N/A"}},{"$f":"_xlfn.SWITCH(L14,\"年1回\",1,\"年2回\",2,\"年4回\",4,\"毎月\",12)","v":{"$error":"#N/A"}}]
[null,"円建て額面",{"$f":"C21*C22%*IF(C12=\"USD\",$C$7,1)","v":0},0,0,0,0,0,0,0,0,0]
[null,"前回利払い日",{"$f":"WORKDAY(COUPPCD2(C199,C15,C196)+1,-1)","v":{"$error":"#VALUE!"}},{"$f":"WORKDAY(COUPPCD2(D199,D15,D196)+1,-1)","v":{"$error":"#VALUE!"}},{"$f":"WORKDAY(COUPPCD2(E199,E15,E196)+1,-1)","v":{"$error":"#VALUE!"}},{"$f":"WORKDAY(COUPPCD2(F199,F15,F196)+1,-1)","v":{"$error":"#VALUE!"}},{"$f":"WORKDAY(COUPPCD2(G199,G15,G196)+1,-1)","v":{"$error":"#VALUE!"}},{"$f":"WORKDAY(COUPPCD2(H199,H15,H196)+1,-1)","v":{"$error":"#VALUE!"}},{"$f":"WORKDAY(COUPPCD2(I199,I15,I196)+1,-1)","v":{"$error":"#VALUE!"}},{"$f":"WORKDAY(COUPPCD2(J199,J15,J196)+1,-1)","v":{"$error":"#VALUE!"}},{"$f":"WORKDAY(COUPPCD2(K199,K15,K196)+1,-1)","v":{"$error":"#VALUE!"}},{"$f":"WORKDAY(COUPPCD2(L199,L15,L196)+1,-1)","v":{"$error":"#VALUE!"}}]
[null,"受渡日",{"$f":"IF(C32,C32,$C$6)","v":"2023-05-17"},"2023-05-17","2023-05-17","2023-05-17","2023-05-17","2023-05-17","2023-05-17","2023-05-17","2023-05-17","2023-05-17"]
[null,"税金",0.20315,{"$f":"1-C200","v":0.79685000000000006},2]
[null,"銘柄数",{"$f":"COUNTA(C10:G10)","v":0}]
[null,"最古受渡日",{"$f":"MIN(OFFSET(C199,0,0,1,$C$201))","v":{"$error":"#REF!"}}]
[]
[null,"月毎"]
[null,{"$f":"DATE(YEAR(C6),MONTH(C6),1)","v":"2023-05-01"},{"$f":"IFERROR(IF($B205>C$15,0,IF(OFFSET(index!$I$2,MATCH(C195,index!$I$3:$I$50,0),MONTH(CF表!$B205)),IF(DAY(C$15)>DAY($C$199),C$21*C$13/C$196,0),0)),0)","v":0},{"$f":"IFERROR(IF($B205>D$15,0,IF(OFFSET(index!$I$2,MATCH(D195,index!$I$3:$I$50,0),MONTH(CF表!$B205)),IF(DAY(D$15)>DAY($C$199),D$21*D$13/D$196,0),0)),0)","v":0},{"$f":"IFERROR(IF($B205>E$15,0,IF(OFFSET(index!$I$2,MATCH(E195,index!$I$3:$I$50,0),MONTH(CF表!$B205)),IF(DAY(E$15)>DAY($C$199),E$21*E$13/E$196,0),0)),0)","v":0},{"$f":"IFERROR(IF($B205>F$15,0,IF(OFFSET(index!$I$2,MATCH(F195,index!$I$3:$I$50,0),MONTH(CF表!$B205)),IF(DAY(F$15)>DAY($C$199),F$21*F$13/F$196,0),0)),0)","v":0},{"$f":"IFERROR(IF($B205>G$15,0,IF(OFFSET(index!$I$2,MATCH(G195,index!$I$3:$I$50,0),MONTH(CF表!$B205)),IF(DAY(G$15)>DAY($C$199),G$21*G$13/G$196,0),0)),0)","v":0},{"$f":"IFERROR(IF($B205>H$15,0,IF(OFFSET(index!$I$2,MATCH(H195,index!$I$3:$I$50,0),MONTH(CF表!$B205)),IF(DAY(H$15)>DAY($C$199),H$21*H$13/H$196,0),0)),0)","v":0},{"$f":"IFERROR(IF($B205>I$15,0,IF(OFFSET(index!$I$2,MATCH(I195,index!$I$3:$I$50,0),MONTH(CF表!$B205)),IF(DAY(I$15)>DAY($C$199),I$21*I$13/I$196,0),0)),0)","v":0},{"$f":"IFERROR(IF($B205>J$15,0,IF(OFFSET(index!$I$2,MATCH(J195,index!$I$3:$I$50,0),MONTH(CF表!$B205)),IF(DAY(J$15)>DAY($C$199),J$21*J$13/J$196,0),0)),0)","v":0},{"$f":"IFERROR(IF($B205>K$15,0,IF(OFFSET(index!$I$2,MATCH(K195,index!$I$3:$I$50,0),MONTH(CF表!$B205)),IF(DAY(K$15)>DAY($C$199),K$21*K$13/K$196,0),0)),0)","v":0},{"$f":"IFERROR(IF($B205>L$15,0,IF(OFFSET(index!$I$2,MATCH(L195,index!$I$3:$I$50,0),MONTH(CF表!$B205)),IF(DAY(L$15)>DAY($C$199),L$21*L$13/L$196,0),0)),0)","v":0}]
[null,{"$f":"EDATE(B205,1)","v":"2023-06-01"},{"$f":"IFERROR(IF($B206>C$15,0,IF(OFFSET(index!$I$2,MATCH(C$195,index!$I$3:$I$50,0),MONTH(CF表!$B206)),C$21*C$13/C$196,0)),0)","v":0},{"$f":"IFERROR(IF($B206>D$15,0,IF(OFFSET(index!$I$2,MATCH(D$195,index!$I$3:$I$50,0),MONTH(CF表!$B206)),D$21*D$13/D$196,0)),0)","v":0},{"$f":"IFERROR(IF($B206>E$15,0,IF(OFFSET(index!$I$2,MATCH(E$195,index!$I$3:$I$50,0),MONTH(CF表!$B206)),E$21*E$13/E$196,0)),0)","v":0},{"$f":"IFERROR(IF($B206>F$15,0,IF(OFFSET(index!$I$2,MATCH(F$195,index!$I$3:$I$50,0),MONTH(CF表!$B206)),F$21*F$13/F$196,0)),0)","v":0},{"$f":"IFERROR(IF($B206>G$15,0,IF(OFFSET(index!$I$2,MATCH(G$195,index!$I$3:$I$50,0),MONTH(CF表!$B206)),G$21*G$13/G$196,0)),0)","v":0},{"$f":"IFERROR(IF($B206>H$15,0,IF(OFFSET(index!$I$2,MATCH(H$195,index!$I$3:$I$50,0),MONTH(CF表!$B206)),H$21*H$13/H$196,0)),0)","v":0},{"$f":"IFERROR(IF($B206>I$15,0,IF(OFFSET(index!$I$2,MATCH(I$195,index!$I$3:$I$50,0),MONTH(CF表!$B206)),I$21*I$13/I$196,0)),0)","v":0},{"$f":"IFERROR(IF($B206>J$15,0,IF(OFFSET(index!$I$2,MATCH(J$195,index!$I$3:$I$50,0),MONTH(CF表!$B206)),J$21*J$13/J$196,0)),0)","v":0},{"$f":"IFERROR(IF($B206>K$15,0,IF(OFFSET(index!$I$2,MATCH(K$195,index!$I$3:$I$50,0),MONTH(CF表!$B206)),K$21*K$13/K$196,0)),0)","v":0},{"$f":"IFERROR(IF($B206>L$15,0,IF(OFFSET(index!$I$2,MATCH(L$195,index!$I$3:$I$50,0),MONTH(CF表!$B206)),L$21*L$13/L$196,0)),0)","v":0}]
[null,{"$f":"EDATE(B206,1)","v":"2023-07-01"},{"$f":"IFERROR(IF($B207>C$15,0,IF(OFFSET(index!$I$2,MATCH(C$195,index!$I$3:$I$50,0),MONTH(CF表!$B207)),C$21*C$13/C$196,0)),0)","v":0},{"$f":"IFERROR(IF($B207>D$15,0,IF(OFFSET(index!$I$2,MATCH(D$195,index!$I$3:$I$50,0),MONTH(CF表!$B207)),D$21*D$13/D$196,0)),0)","v":0},{"$f":"IFERROR(IF($B207>E$15,0,IF(OFFSET(index!$I$2,MATCH(E$195,index!$I$3:$I$50,0),MONTH(CF表!$B207)),E$21*E$13/E$196,0)),0)","v":0},{"$f":"IFERROR(IF($B207>F$15,0,IF(OFFSET(index!$I$2,MATCH(F$195,index!$I$3:$I$50,0),MONTH(CF表!$B207)),F$21*F$13/F$196,0)),0)","v":0},{"$f":"IFERROR(IF($B207>G$15,0,IF(OFFSET(index!$I$2,MATCH(G$195,index!$I$3:$I$50,0),MONTH(CF表!$B207)),G$21*G$13/G$196,0)),0)","v":0},{"$f":"IFERROR(IF($B207>H$15,0,IF(OFFSET(index!$I$2,MATCH(H$195,index!$I$3:$I$50,0),MONTH(CF表!$B207)),H$21*H$13/H$196,0)),0)","v":0},{"$f":"IFERROR(IF($B207>I$15,0,IF(OFFSET(index!$I$2,MATCH(I$195,index!$I$3:$I$50,0),MONTH(CF表!$B207)),I$21*I$13/I$196,0)),0)","v":0},{"$f":"IFERROR(IF($B207>J$15,0,IF(OFFSET(index!$I$2,MATCH(J$195,index!$I$3:$I$50,0),MONTH(CF表!$B207)),J$21*J$13/J$196,0)),0)","v":0},{"$f":"IFERROR(IF($B207>K$15,0,IF(OFFSET(index!$I$2,MATCH(K$195,index!$I$3:$I$50,0),MONTH(CF表!$B207)),K$21*K$13/K$196,0)),0)","v":0},{"$f":"IFERROR(IF($B207>L$15,0,IF(OFFSET(index!$I$2,MATCH(L$195,index!$I$3:$I$50,0),MONTH(CF表!$B207)),L$21*L$13/L$196,0)),0)","v":0}]
[null,"2023-08-01",{"$f":"IFERROR(IF($B208>C$15,0,IF(OFFSET(index!$I$2,MATCH(C$195,index!$I$3:$I$50,0),MONTH(CF表!$B208)),C$21*C$13/C$196,0)),0)","v":0},{"$f":"IFERROR(IF($B208>D$15,0,IF(OFFSET(index!$I$2,MATCH(D$195,index!$I$3:$I$50,0),MONTH(CF表!$B208)),D$21*D$13/D$196,0)),0)","v":0},{"$f":"IFERROR(IF($B208>E$15,0,IF(OFFSET(index!$I$2,MATCH(E$195,index!$I$3:$I$50,0),MONTH(CF表!$B208)),E$21*E$13/E$196,0)),0)","v":0},{"$f":"IFERROR(IF($B208>F$15,0,IF(OFFSET(index!$I$2,MATCH(F$195,index!$I$3:$I$50,0),MONTH(CF表!$B208)),F$21*F$13/F$196,0)),0)","v":0},{"$f":"IFERROR(IF($B208>G$15,0,IF(OFFSET(index!$I$2,MATCH(G$195,index!$I$3:$I$50,0),MONTH(CF表!$B208)),G$21*G$13/G$196,0)),0)","v":0},{"$f":"IFERROR(IF($B208>H$15,0,IF(OFFSET(index!$I$2,MATCH(H$195,index!$I$3:$I$50,0),MONTH(CF表!$B208)),H$21*H$13/H$196,0)),0)","v":0},{"$f":"IFERROR(IF($B208>I$15,0,IF(OFFSET(index!$I$2,MATCH(I$195,index!$I$3:$I$50,0),MONTH(CF表!$B208)),I$21*I$13/I$196,0)),0)","v":0},{"$f":"IFERROR(IF($B208>J$15,0,IF(OFFSET(index!$I$2,MATCH(J$195,index!$I$3:$I$50,0),MONTH(CF表!$B208)),J$21*J$13/J$196,0)),0)","v":0},{"$f":"IFERROR(IF($B208>K$15,0,IF(OFFSET(index!$I$2,MATCH(K$195,index!$I$3:$I$50,0),MONTH(CF表!$B208)),K$21*K$13/K$196,0)),0)","v":0},{"$f":"IFERROR(IF($B208>L$15,0,IF(OFFSET(index!$I$2,MATCH(L$195,index!$I$3:$I$50,0),MONTH(CF表!$B208)),L$21*L$13/L$196,0)),0)","v":0}]
[null,"2023-09-01",{"$f":"IFERROR(IF($B209>C$15,0,IF(OFFSET(index!$I$2,MATCH(C$195,index!$I$3:$I$50,0),MONTH(CF表!$B209)),C$21*C$13/C$196,0)),0)","v":0},{"$f":"IFERROR(IF($B209>D$15,0,IF(OFFSET(index!$I$2,MATCH(D$195,index!$I$3:$I$50,0),MONTH(CF表!$B209)),D$21*D$13/D$196,0)),0)","v":0},{"$f":"IFERROR(IF($B209>E$15,0,IF(OFFSET(index!$I$2,MATCH(E$195,index!$I$3:$I$50,0),MONTH(CF表!$B209)),E$21*E$13/E$196,0)),0)","v":0},{"$f":"IFERROR(IF($B209>F$15,0,IF(OFFSET(index!$I$2,MATCH(F$195,index!$I$3:$I$50,0),MONTH(CF表!$B209)),F$21*F$13/F$196,0)),0)","v":0},{"$f":"IFERROR(IF($B209>G$15,0,IF(OFFSET(index!$I$2,MATCH(G$195,index!$I$3:$I$50,0),MONTH(CF表!$B209)),G$21*G$13/G$196,0)),0)","v":0},{"$f":"IFERROR(IF($B209>H$15,0,IF(OFFSET(index!$I$2,MATCH(H$195,index!$I$3:$I$50,0),MONTH(CF表!$B209)),H$21*H$13/H$196,0)),0)","v":0},{"$f":"IFERROR(IF($B209>I$15,0,IF(OFFSET(index!$I$2,MATCH(I$195,index!$I$3:$I$50,0),MONTH(CF表!$B209)),I$21*I$13/I$196,0)),0)","v":0},{"$f":"IFERROR(IF($B209>J$15,0,IF(OFFSET(index!$I$2,MATCH(J$195,index!$I$3:$I$50,0),MONTH(CF表!$B209)),J$21*J$13/J$196,0)),0)","v":0},{"$f":"IFERROR(IF($B209>K$15,0,IF(OFFSET(index!$I$2,MATCH(K$195,index!$I$3:$I$50,0),MONTH(CF表!$B209)),K$21*K$13/K$196,0)),0)","v":0},{"$f":"IFERROR(IF($B209>L$15,0,IF(OFFSET(index!$I$2,MATCH(L$195,index!$I$3:$I$50,0),MONTH(CF表!$B209)),L$21*L$13/L$196,0)),0)","v":0}]
[null,"2023-10-01",{"$f":"IFERROR(IF($B210>C$15,0,IF(OFFSET(index!$I$2,MATCH(C$195,index!$I$3:$I$50,0),MONTH(CF表!$B210)),C$21*C$13/C$196,0)),0)","v":0},{"$f":"IFERROR(IF($B210>D$15,0,IF(OFFSET(index!$I$2,MATCH(D$195,index!$I$3:$I$50,0),MONTH(CF表!$B210)),D$21*D$13/D$196,0)),0)","v":0},{"$f":"IFERROR(IF($B210>E$15,0,IF(OFFSET(index!$I$2,MATCH(E$195,index!$I$3:$I$50,0),MONTH(CF表!$B210)),E$21*E$13/E$196,0)),0)","v":0},{"$f":"IFERROR(IF($B210>F$15,0,IF(OFFSET(index!$I$2,MATCH(F$195,index!$I$3:$I$50,0),MONTH(CF表!$B210)),F$21*F$13/F$196,0)),0)","v":0},{"$f":"IFERROR(IF($B210>G$15,0,IF(OFFSET(index!$I$2,MATCH(G$195,index!$I$3:$I$50,0),MONTH(CF表!$B210)),G$21*G$13/G$196,0)),0)","v":0},{"$f":"IFERROR(IF($B210>H$15,0,IF(OFFSET(index!$I$2,MATCH(H$195,index!$I$3:$I$50,0),MONTH(CF表!$B210)),H$21*H$13/H$196,0)),0)","v":0},{"$f":"IFERROR(IF($B210>I$15,0,IF(OFFSET(index!$I$2,MATCH(I$195,index!$I$3:$I$50,0),MONTH(CF表!$B210)),I$21*I$13/I$196,0)),0)","v":0},{"$f":"IFERROR(IF($B210>J$15,0,IF(OFFSET(index!$I$2,MATCH(J$195,index!$I$3:$I$50,0),MONTH(CF表!$B210)),J$21*J$13/J$196,0)),0)","v":0},{"$f":"IFERROR(IF($B210>K$15,0,IF(OFFSET(index!$I$2,MATCH(K$195,index!$I$3:$I$50,0),MONTH(CF表!$B210)),K$21*K$13/K$196,0)),0)","v":0},{"$f":"IFERROR(IF($B210>L$15,0,IF(OFFSET(index!$I$2,MATCH(L$195,index!$I$3:$I$50,0),MONTH(CF表!$B210)),L$21*L$13/L$196,0)),0)","v":0}]
[null,"2023-11-01",{"$f":"IFERROR(IF($B211>C$15,0,IF(OFFSET(index!$I$2,MATCH(C$195,index!$I$3:$I$50,0),MONTH(CF表!$B211)),C$21*C$13/C$196,0)),0)","v":0},{"$f":"IFERROR(IF($B211>D$15,0,IF(OFFSET(index!$I$2,MATCH(D$195,index!$I$3:$I$50,0),MONTH(CF表!$B211)),D$21*D$13/D$196,0)),0)","v":0},{"$f":"IFERROR(IF($B211>E$15,0,IF(OFFSET(index!$I$2,MATCH(E$195,index!$I$3:$I$50,0),MONTH(CF表!$B211)),E$21*E$13/E$196,0)),0)","v":0},{"$f":"IFERROR(IF($B211>F$15,0,IF(OFFSET(index!$I$2,MATCH(F$195,index!$I$3:$I$50,0),MONTH(CF表!$B211)),F$21*F$13/F$196,0)),0)","v":0},{"$f":"IFERROR(IF($B211>G$15,0,IF(OFFSET(index!$I$2,MATCH(G$195,index!$I$3:$I$50,0),MONTH(CF表!$B211)),G$21*G$13/G$196,0)),0)","v":0},{"$f":"IFERROR(IF($B211>H$15,0,IF(OFFSET(index!$I$2,MATCH(H$195,index!$I$3:$I$50,0),MONTH(CF表!$B211)),H$21*H$13/H$196,0)),0)","v":0},{"$f":"IFERROR(IF($B211>I$15,0,IF(OFFSET(index!$I$2,MATCH(I$195,index!$I$3:$I$50,0),MONTH(CF表!$B211)),I$21*I$13/I$196,0)),0)","v":0},{"$f":"IFERROR(IF($B211>J$15,0,IF(OFFSET(index!$I$2,MATCH(J$195,index!$I$3:$I$50,0),MONTH(CF表!$B211)),J$21*J$13/J$196,0)),0)","v":0},{"$f":"IFERROR(IF($B211>K$15,0,IF(OFFSET(index!$I$2,MATCH(K$195,index!$I$3:$I$50,0),MONTH(CF表!$B211)),K$21*K$13/K$196,0)),0)","v":0},{"$f":"IFERROR(IF($B211>L$15,0,IF(OFFSET(index!$I$2,MATCH(L$195,index!$I$3:$I$50,0),MONTH(CF表!$B211)),L$21*L$13/L$196,0)),0)","v":0}]
[null,"2023-12-01",{"$f":"IFERROR(IF($B212>C$15,0,IF(OFFSET(index!$I$2,MATCH(C$195,index!$I$3:$I$50,0),MONTH(CF表!$B212)),C$21*C$13/C$196,0)),0)","v":0},{"$f":"IFERROR(IF($B212>D$15,0,IF(OFFSET(index!$I$2,MATCH(D$195,index!$I$3:$I$50,0),MONTH(CF表!$B212)),D$21*D$13/D$196,0)),0)","v":0},{"$f":"IFERROR(IF($B212>E$15,0,IF(OFFSET(index!$I$2,MATCH(E$195,index!$I$3:$I$50,0),MONTH(CF表!$B212)),E$21*E$13/E$196,0)),0)","v":0},{"$f":"IFERROR(IF($B212>F$15,0,IF(OFFSET(index!$I$2,MATCH(F$195,index!$I$3:$I$50,0),MONTH(CF表!$B212)),F$21*F$13/F$196,0)),0)","v":0},{"$f":"IFERROR(IF($B212>G$15,0,IF(OFFSET(index!$I$2,MATCH(G$195,index!$I$3:$I$50,0),MONTH(CF表!$B212)),G$21*G$13/G$196,0)),0)","v":0},{"$f":"IFERROR(IF($B212>H$15,0,IF(OFFSET(index!$I$2,MATCH(H$195,index!$I$3:$I$50,0),MONTH(CF表!$B212)),H$21*H$13/H$196,0)),0)","v":0},{"$f":"IFERROR(IF($B212>I$15,0,IF(OFFSET(index!$I$2,MATCH(I$195,index!$I$3:$I$50,0),MONTH(CF表!$B212)),I$21*I$13/I$196,0)),0)","v":0},{"$f":"IFERROR(IF($B212>J$15,0,IF(OFFSET(index!$I$2,MATCH(J$195,index!$I$3:$I$50,0),MONTH(CF表!$B212)),J$21*J$13/J$196,0)),0)","v":0},{"$f":"IFERROR(IF($B212>K$15,0,IF(OFFSET(index!$I$2,MATCH(K$195,index!$I$3:$I$50,0),MONTH(CF表!$B212)),K$21*K$13/K$196,0)),0)","v":0},{"$f":"IFERROR(IF($B212>L$15,0,IF(OFFSET(index!$I$2,MATCH(L$195,index!$I$3:$I$50,0),MONTH(CF表!$B212)),L$21*L$13/L$196,0)),0)","v":0}]
[null,"2024-01-01",{"$f":"IFERROR(IF($B213>C$15,0,IF(OFFSET(index!$I$2,MATCH(C$195,index!$I$3:$I$50,0),MONTH(CF表!$B213)),C$21*C$13/C$196,0)),0)","v":0},{"$f":"IFERROR(IF($B213>D$15,0,IF(OFFSET(index!$I$2,MATCH(D$195,index!$I$3:$I$50,0),MONTH(CF表!$B213)),D$21*D$13/D$196,0)),0)","v":0},{"$f":"IFERROR(IF($B213>E$15,0,IF(OFFSET(index!$I$2,MATCH(E$195,index!$I$3:$I$50,0),MONTH(CF表!$B213)),E$21*E$13/E$196,0)),0)","v":0},{"$f":"IFERROR(IF($B213>F$15,0,IF(OFFSET(index!$I$2,MATCH(F$195,index!$I$3:$I$50,0),MONTH(CF表!$B213)),F$21*F$13/F$196,0)),0)","v":0},{"$f":"IFERROR(IF($B213>G$15,0,IF(OFFSET(index!$I$2,MATCH(G$195,index!$I$3:$I$50,0),MONTH(CF表!$B213)),G$21*G$13/G$196,0)),0)","v":0},{"$f":"IFERROR(IF($B213>H$15,0,IF(OFFSET(index!$I$2,MATCH(H$195,index!$I$3:$I$50,0),MONTH(CF表!$B213)),H$21*H$13/H$196,0)),0)","v":0},{"$f":"IFERROR(IF($B213>I$15,0,IF(OFFSET(index!$I$2,MATCH(I$195,index!$I$3:$I$50,0),MONTH(CF表!$B213)),I$21*I$13/I$196,0)),0)","v":0},{"$f":"IFERROR(IF($B213>J$15,0,IF(OFFSET(index!$I$2,MATCH(J$195,index!$I$3:$I$50,0),MONTH(CF表!$B213)),J$21*J$13/J$196,0)),0)","v":0},{"$f":"IFERROR(IF($B213>K$15,0,IF(OFFSET(index!$I$2,MATCH(K$195,index!$I$3:$I$50,0),MONTH(CF表!$B213)),K$21*K$13/K$196,0)),0)","v":0},{"$f":"IFERROR(IF($B213>L$15,0,IF(OFFSET(index!$I$2,MATCH(L$195,index!$I$3:$I$50,0),MONTH(CF表!$B213)),L$21*L$13/L$196,0)),0)","v":0}]
[null,"2024-02-01",{"$f":"IFERROR(IF($B214>C$15,0,IF(OFFSET(index!$I$2,MATCH(C$195,index!$I$3:$I$50,0),MONTH(CF表!$B214)),C$21*C$13/C$196,0)),0)","v":0},{"$f":"IFERROR(IF($B214>D$15,0,IF(OFFSET(index!$I$2,MATCH(D$195,index!$I$3:$I$50,0),MONTH(CF表!$B214)),D$21*D$13/D$196,0)),0)","v":0},{"$f":"IFERROR(IF($B214>E$15,0,IF(OFFSET(index!$I$2,MATCH(E$195,index!$I$3:$I$50,0),MONTH(CF表!$B214)),E$21*E$13/E$196,0)),0)","v":0},{"$f":"IFERROR(IF($B214>F$15,0,IF(OFFSET(index!$I$2,MATCH(F$195,index!$I$3:$I$50,0),MONTH(CF表!$B214)),F$21*F$13/F$196,0)),0)","v":0},{"$f":"IFERROR(IF($B214>G$15,0,IF(OFFSET(index!$I$2,MATCH(G$195,index!$I$3:$I$50,0),MONTH(CF表!$B214)),G$21*G$13/G$196,0)),0)","v":0},{"$f":"IFERROR(IF($B214>H$15,0,IF(OFFSET(index!$I$2,MATCH(H$195,index!$I$3:$I$50,0),MONTH(CF表!$B214)),H$21*H$13/H$196,0)),0)","v":0},{"$f":"IFERROR(IF($B214>I$15,0,IF(OFFSET(index!$I$2,MATCH(I$195,index!$I$3:$I$50,0),MONTH(CF表!$B214)),I$21*I$13/I$196,0)),0)","v":0},{"$f":"IFERROR(IF($B214>J$15,0,IF(OFFSET(index!$I$2,MATCH(J$195,index!$I$3:$I$50,0),MONTH(CF表!$B214)),J$21*J$13/J$196,0)),0)","v":0},{"$f":"IFERROR(IF($B214>K$15,0,IF(OFFSET(index!$I$2,MATCH(K$195,index!$I$3:$I$50,0),MONTH(CF表!$B214)),K$21*K$13/K$196,0)),0)","v":0},{"$f":"IFERROR(IF($B214>L$15,0,IF(OFFSET(index!$I$2,MATCH(L$195,index!$I$3:$I$50,0),MONTH(CF表!$B214)),L$21*L$13/L$196,0)),0)","v":0}]
[null,"2024-03-01",{"$f":"IFERROR(IF($B215>C$15,0,IF(OFFSET(index!$I$2,MATCH(C$195,index!$I$3:$I$50,0),MONTH(CF表!$B215)),C$21*C$13/C$196,0)),0)","v":0},{"$f":"IFERROR(IF($B215>D$15,0,IF(OFFSET(index!$I$2,MATCH(D$195,index!$I$3:$I$50,0),MONTH(CF表!$B215)),D$21*D$13/D$196,0)),0)","v":0},{"$f":"IFERROR(IF($B215>E$15,0,IF(OFFSET(index!$I$2,MATCH(E$195,index!$I$3:$I$50,0),MONTH(CF表!$B215)),E$21*E$13/E$196,0)),0)","v":0},{"$f":"IFERROR(IF($B215>F$15,0,IF(OFFSET(index!$I$2,MATCH(F$195,index!$I$3:$I$50,0),MONTH(CF表!$B215)),F$21*F$13/F$196,0)),0)","v":0},{"$f":"IFERROR(IF($B215>G$15,0,IF(OFFSET(index!$I$2,MATCH(G$195,index!$I$3:$I$50,0),MONTH(CF表!$B215)),G$21*G$13/G$196,0)),0)","v":0},{"$f":"IFERROR(IF($B215>H$15,0,IF(OFFSET(index!$I$2,MATCH(H$195,index!$I$3:$I$50,0),MONTH(CF表!$B215)),H$21*H$13/H$196,0)),0)","v":0},{"$f":"IFERROR(IF($B215>I$15,0,IF(OFFSET(index!$I$2,MATCH(I$195,index!$I$3:$I$50,0),MONTH(CF表!$B215)),I$21*I$13/I$196,0)),0)","v":0},{"$f":"IFERROR(IF($B215>J$15,0,IF(OFFSET(index!$I$2,MATCH(J$195,index!$I$3:$I$50,0),MONTH(CF表!$B215)),J$21*J$13/J$196,0)),0)","v":0},{"$f":"IFERROR(IF($B215>K$15,0,IF(OFFSET(index!$I$2,MATCH(K$195,index!$I$3:$I$50,0),MONTH(CF表!$B215)),K$21*K$13/K$196,0)),0)","v":0},{"$f":"IFERROR(IF($B215>L$15,0,IF(OFFSET(index!$I$2,MATCH(L$195,index!$I$3:$I$50,0),MONTH(CF表!$B215)),L$21*L$13/L$196,0)),0)","v":0}]
[null,"2024-04-01",{"$f":"IFERROR(IF($B216>C$15,0,IF(OFFSET(index!$I$2,MATCH(C$195,index!$I$3:$I$50,0),MONTH(CF表!$B216)),C$21*C$13/C$196,0)),0)","v":0},{"$f":"IFERROR(IF($B216>D$15,0,IF(OFFSET(index!$I$2,MATCH(D$195,index!$I$3:$I$50,0),MONTH(CF表!$B216)),D$21*D$13/D$196,0)),0)","v":0},{"$f":"IFERROR(IF($B216>E$15,0,IF(OFFSET(index!$I$2,MATCH(E$195,index!$I$3:$I$50,0),MONTH(CF表!$B216)),E$21*E$13/E$196,0)),0)","v":0},{"$f":"IFERROR(IF($B216>F$15,0,IF(OFFSET(index!$I$2,MATCH(F$195,index!$I$3:$I$50,0),MONTH(CF表!$B216)),F$21*F$13/F$196,0)),0)","v":0},{"$f":"IFERROR(IF($B216>G$15,0,IF(OFFSET(index!$I$2,MATCH(G$195,index!$I$3:$I$50,0),MONTH(CF表!$B216)),G$21*G$13/G$196,0)),0)","v":0},{"$f":"IFERROR(IF($B216>H$15,0,IF(OFFSET(index!$I$2,MATCH(H$195,index!$I$3:$I$50,0),MONTH(CF表!$B216)),H$21*H$13/H$196,0)),0)","v":0},{"$f":"IFERROR(IF($B216>I$15,0,IF(OFFSET(index!$I$2,MATCH(I$195,index!$I$3:$I$50,0),MONTH(CF表!$B216)),I$21*I$13/I$196,0)),0)","v":0},{"$f":"IFERROR(IF($B216>J$15,0,IF(OFFSET(index!$I$2,MATCH(J$195,index!$I$3:$I$50,0),MONTH(CF表!$B216)),J$21*J$13/J$196,0)),0)","v":0},{"$f":"IFERROR(IF($B216>K$15,0,IF(OFFSET(index!$I$2,MATCH(K$195,index!$I$3:$I$50,0),MONTH(CF表!$B216)),K$21*K$13/K$196,0)),0)","v":0},{"$f":"IFERROR(IF($B216>L$15,0,IF(OFFSET(index!$I$2,MATCH(L$195,index!$I$3:$I$50,0),MONTH(CF表!$B216)),L$21*L$13/L$196,0)),0)","v":0}]
[null,"2024-05-01",{"$f":"IFERROR(IF($B217>C$15,0,IF(OFFSET(index!$I$2,MATCH(C$195,index!$I$3:$I$50,0),MONTH(CF表!$B217)),C$21*C$13/C$196,0)),0)","v":0},{"$f":"IFERROR(IF($B217>D$15,0,IF(OFFSET(index!$I$2,MATCH(D$195,index!$I$3:$I$50,0),MONTH(CF表!$B217)),D$21*D$13/D$196,0)),0)","v":0},{"$f":"IFERROR(IF($B217>E$15,0,IF(OFFSET(index!$I$2,MATCH(E$195,index!$I$3:$I$50,0),MONTH(CF表!$B217)),E$21*E$13/E$196,0)),0)","v":0},{"$f":"IFERROR(IF($B217>F$15,0,IF(OFFSET(index!$I$2,MATCH(F$195,index!$I$3:$I$50,0),MONTH(CF表!$B217)),F$21*F$13/F$196,0)),0)","v":0},{"$f":"IFERROR(IF($B217>G$15,0,IF(OFFSET(index!$I$2,MATCH(G$195,index!$I$3:$I$50,0),MONTH(CF表!$B217)),G$21*G$13/G$196,0)),0)","v":0},{"$f":"IFERROR(IF($B217>H$15,0,IF(OFFSET(index!$I$2,MATCH(H$195,index!$I$3:$I$50,0),MONTH(CF表!$B217)),H$21*H$13/H$196,0)),0)","v":0},{"$f":"IFERROR(IF($B217>I$15,0,IF(OFFSET(index!$I$2,MATCH(I$195,index!$I$3:$I$50,0),MONTH(CF表!$B217)),I$21*I$13/I$196,0)),0)","v":0},{"$f":"IFERROR(IF($B217>J$15,0,IF(OFFSET(index!$I$2,MATCH(J$195,index!$I$3:$I$50,0),MONTH(CF表!$B217)),J$21*J$13/J$196,0)),0)","v":0},{"$f":"IFERROR(IF($B217>K$15,0,IF(OFFSET(index!$I$2,MATCH(K$195,index!$I$3:$I$50,0),MONTH(CF表!$B217)),K$21*K$13/K$196,0)),0)","v":0},{"$f":"IFERROR(IF($B217>L$15,0,IF(OFFSET(index!$I$2,MATCH(L$195,index!$I$3:$I$50,0),MONTH(CF表!$B217)),L$21*L$13/L$196,0)),0)","v":0}]
[null,"2024-06-01",{"$f":"IFERROR(IF($B218>C$15,0,IF(OFFSET(index!$I$2,MATCH(C$195,index!$I$3:$I$50,0),MONTH(CF表!$B218)),C$21*C$13/C$196,0)),0)","v":0},{"$f":"IFERROR(IF($B218>D$15,0,IF(OFFSET(index!$I$2,MATCH(D$195,index!$I$3:$I$50,0),MONTH(CF表!$B218)),D$21*D$13/D$196,0)),0)","v":0},{"$f":"IFERROR(IF($B218>E$15,0,IF(OFFSET(index!$I$2,MATCH(E$195,index!$I$3:$I$50,0),MONTH(CF表!$B218)),E$21*E$13/E$196,0)),0)","v":0},{"$f":"IFERROR(IF($B218>F$15,0,IF(OFFSET(index!$I$2,MATCH(F$195,index!$I$3:$I$50,0),MONTH(CF表!$B218)),F$21*F$13/F$196,0)),0)","v":0},{"$f":"IFERROR(IF($B218>G$15,0,IF(OFFSET(index!$I$2,MATCH(G$195,index!$I$3:$I$50,0),MONTH(CF表!$B218)),G$21*G$13/G$196,0)),0)","v":0},{"$f":"IFERROR(IF($B218>H$15,0,IF(OFFSET(index!$I$2,MATCH(H$195,index!$I$3:$I$50,0),MONTH(CF表!$B218)),H$21*H$13/H$196,0)),0)","v":0},{"$f":"IFERROR(IF($B218>I$15,0,IF(OFFSET(index!$I$2,MATCH(I$195,index!$I$3:$I$50,0),MONTH(CF表!$B218)),I$21*I$13/I$196,0)),0)","v":0},{"$f":"IFERROR(IF($B218>J$15,0,IF(OFFSET(index!$I$2,MATCH(J$195,index!$I$3:$I$50,0),MONTH(CF表!$B218)),J$21*J$13/J$196,0)),0)","v":0},{"$f":"IFERROR(IF($B218>K$15,0,IF(OFFSET(index!$I$2,MATCH(K$195,index!$I$3:$I$50,0),MONTH(CF表!$B218)),K$21*K$13/K$196,0)),0)","v":0},{"$f":"IFERROR(IF($B218>L$15,0,IF(OFFSET(index!$I$2,MATCH(L$195,index!$I$3:$I$50,0),MONTH(CF表!$B218)),L$21*L$13/L$196,0)),0)","v":0}]
[null,"2024-07-01",{"$f":"IFERROR(IF($B219>C$15,0,IF(OFFSET(index!$I$2,MATCH(C$195,index!$I$3:$I$50,0),MONTH(CF表!$B219)),C$21*C$13/C$196,0)),0)","v":0},{"$f":"IFERROR(IF($B219>D$15,0,IF(OFFSET(index!$I$2,MATCH(D$195,index!$I$3:$I$50,0),MONTH(CF表!$B219)),D$21*D$13/D$196,0)),0)","v":0},{"$f":"IFERROR(IF($B219>E$15,0,IF(OFFSET(index!$I$2,MATCH(E$195,index!$I$3:$I$50,0),MONTH(CF表!$B219)),E$21*E$13/E$196,0)),0)","v":0},{"$f":"IFERROR(IF($B219>F$15,0,IF(OFFSET(index!$I$2,MATCH(F$195,index!$I$3:$I$50,0),MONTH(CF表!$B219)),F$21*F$13/F$196,0)),0)","v":0},{"$f":"IFERROR(IF($B219>G$15,0,IF(OFFSET(index!$I$2,MATCH(G$195,index!$I$3:$I$50,0),MONTH(CF表!$B219)),G$21*G$13/G$196,0)),0)","v":0},{"$f":"IFERROR(IF($B219>H$15,0,IF(OFFSET(index!$I$2,MATCH(H$195,index!$I$3:$I$50,0),MONTH(CF表!$B219)),H$21*H$13/H$196,0)),0)","v":0},{"$f":"IFERROR(IF($B219>I$15,0,IF(OFFSET(index!$I$2,MATCH(I$195,index!$I$3:$I$50,0),MONTH(CF表!$B219)),I$21*I$13/I$196,0)),0)","v":0},{"$f":"IFERROR(IF($B219>J$15,0,IF(OFFSET(index!$I$2,MATCH(J$195,index!$I$3:$I$50,0),MONTH(CF表!$B219)),J$21*J$13/J$196,0)),0)","v":0},{"$f":"IFERROR(IF($B219>K$15,0,IF(OFFSET(index!$I$2,MATCH(K$195,index!$I$3:$I$50,0),MONTH(CF表!$B219)),K$21*K$13/K$196,0)),0)","v":0},{"$f":"IFERROR(IF($B219>L$15,0,IF(OFFSET(index!$I$2,MATCH(L$195,index!$I$3:$I$50,0),MONTH(CF表!$B219)),L$21*L$13/L$196,0)),0)","v":0}]
[null,"2024-08-01",{"$f":"IFERROR(IF($B220>C$15,0,IF(OFFSET(index!$I$2,MATCH(C$195,index!$I$3:$I$50,0),MONTH(CF表!$B220)),C$21*C$13/C$196,0)),0)","v":0},{"$f":"IFERROR(IF($B220>D$15,0,IF(OFFSET(index!$I$2,MATCH(D$195,index!$I$3:$I$50,0),MONTH(CF表!$B220)),D$21*D$13/D$196,0)),0)","v":0},{"$f":"IFERROR(IF($B220>E$15,0,IF(OFFSET(index!$I$2,MATCH(E$195,index!$I$3:$I$50,0),MONTH(CF表!$B220)),E$21*E$13/E$196,0)),0)","v":0},{"$f":"IFERROR(IF($B220>F$15,0,IF(OFFSET(index!$I$2,MATCH(F$195,index!$I$3:$I$50,0),MONTH(CF表!$B220)),F$21*F$13/F$196,0)),0)","v":0},{"$f":"IFERROR(IF($B220>G$15,0,IF(OFFSET(index!$I$2,MATCH(G$195,index!$I$3:$I$50,0),MONTH(CF表!$B220)),G$21*G$13/G$196,0)),0)","v":0},{"$f":"IFERROR(IF($B220>H$15,0,IF(OFFSET(index!$I$2,MATCH(H$195,index!$I$3:$I$50,0),MONTH(CF表!$B220)),H$21*H$13/H$196,0)),0)","v":0},{"$f":"IFERROR(IF($B220>I$15,0,IF(OFFSET(index!$I$2,MATCH(I$195,index!$I$3:$I$50,0),MONTH(CF表!$B220)),I$21*I$13/I$196,0)),0)","v":0},{"$f":"IFERROR(IF($B220>J$15,0,IF(OFFSET(index!$I$2,MATCH(J$195,index!$I$3:$I$50,0),MONTH(CF表!$B220)),J$21*J$13/J$196,0)),0)","v":0},{"$f":"IFERROR(IF($B220>K$15,0,IF(OFFSET(index!$I$2,MATCH(K$195,index!$I$3:$I$50,0),MONTH(CF表!$B220)),K$21*K$13/K$196,0)),0)","v":0},{"$f":"IFERROR(IF($B220>L$15,0,IF(OFFSET(index!$I$2,MATCH(L$195,index!$I$3:$I$50,0),MONTH(CF表!$B220)),L$21*L$13/L$196,0)),0)","v":0}]
[null,"2024-09-01",{"$f":"IFERROR(IF($B221>C$15,0,IF(OFFSET(index!$I$2,MATCH(C$195,index!$I$3:$I$50,0),MONTH(CF表!$B221)),C$21*C$13/C$196,0)),0)","v":0},{"$f":"IFERROR(IF($B221>D$15,0,IF(OFFSET(index!$I$2,MATCH(D$195,index!$I$3:$I$50,0),MONTH(CF表!$B221)),D$21*D$13/D$196,0)),0)","v":0},{"$f":"IFERROR(IF($B221>E$15,0,IF(OFFSET(index!$I$2,MATCH(E$195,index!$I$3:$I$50,0),MONTH(CF表!$B221)),E$21*E$13/E$196,0)),0)","v":0},{"$f":"IFERROR(IF($B221>F$15,0,IF(OFFSET(index!$I$2,MATCH(F$195,index!$I$3:$I$50,0),MONTH(CF表!$B221)),F$21*F$13/F$196,0)),0)","v":0},{"$f":"IFERROR(IF($B221>G$15,0,IF(OFFSET(index!$I$2,MATCH(G$195,index!$I$3:$I$50,0),MONTH(CF表!$B221)),G$21*G$13/G$196,0)),0)","v":0},{"$f":"IFERROR(IF($B221>H$15,0,IF(OFFSET(index!$I$2,MATCH(H$195,index!$I$3:$I$50,0),MONTH(CF表!$B221)),H$21*H$13/H$196,0)),0)","v":0},{"$f":"IFERROR(IF($B221>I$15,0,IF(OFFSET(index!$I$2,MATCH(I$195,index!$I$3:$I$50,0),MONTH(CF表!$B221)),I$21*I$13/I$196,0)),0)","v":0},{"$f":"IFERROR(IF($B221>J$15,0,IF(OFFSET(index!$I$2,MATCH(J$195,index!$I$3:$I$50,0),MONTH(CF表!$B221)),J$21*J$13/J$196,0)),0)","v":0},{"$f":"IFERROR(IF($B221>K$15,0,IF(OFFSET(index!$I$2,MATCH(K$195,index!$I$3:$I$50,0),MONTH(CF表!$B221)),K$21*K$13/K$196,0)),0)","v":0},{"$f":"IFERROR(IF($B221>L$15,0,IF(OFFSET(index!$I$2,MATCH(L$195,index!$I$3:$I$50,0),MONTH(CF表!$B221)),L$21*L$13/L$196,0)),0)","v":0}]
[null,"2024-10-01",{"$f":"IFERROR(IF($B222>C$15,0,IF(OFFSET(index!$I$2,MATCH(C$195,index!$I$3:$I$50,0),MONTH(CF表!$B222)),C$21*C$13/C$196,0)),0)","v":0},{"$f":"IFERROR(IF($B222>D$15,0,IF(OFFSET(index!$I$2,MATCH(D$195,index!$I$3:$I$50,0),MONTH(CF表!$B222)),D$21*D$13/D$196,0)),0)","v":0},{"$f":"IFERROR(IF($B222>E$15,0,IF(OFFSET(index!$I$2,MATCH(E$195,index!$I$3:$I$50,0),MONTH(CF表!$B222)),E$21*E$13/E$196,0)),0)","v":0},{"$f":"IFERROR(IF($B222>F$15,0,IF(OFFSET(index!$I$2,MATCH(F$195,index!$I$3:$I$50,0),MONTH(CF表!$B222)),F$21*F$13/F$196,0)),0)","v":0},{"$f":"IFERROR(IF($B222>G$15,0,IF(OFFSET(index!$I$2,MATCH(G$195,index!$I$3:$I$50,0),MONTH(CF表!$B222)),G$21*G$13/G$196,0)),0)","v":0},{"$f":"IFERROR(IF($B222>H$15,0,IF(OFFSET(index!$I$2,MATCH(H$195,index!$I$3:$I$50,0),MONTH(CF表!$B222)),H$21*H$13/H$196,0)),0)","v":0},{"$f":"IFERROR(IF($B222>I$15,0,IF(OFFSET(index!$I$2,MATCH(I$195,index!$I$3:$I$50,0),MONTH(CF表!$B222)),I$21*I$13/I$196,0)),0)","v":0},{"$f":"IFERROR(IF($B222>J$15,0,IF(OFFSET(index!$I$2,MATCH(J$195,index!$I$3:$I$50,0),MONTH(CF表!$B222)),J$21*J$13/J$196,0)),0)","v":0},{"$f":"IFERROR(IF($B222>K$15,0,IF(OFFSET(index!$I$2,MATCH(K$195,index!$I$3:$I$50,0),MONTH(CF表!$B222)),K$21*K$13/K$196,0)),0)","v":0},{"$f":"IFERROR(IF($B222>L$15,0,IF(OFFSET(index!$I$2,MATCH(L$195,index!$I$3:$I$50,0),MONTH(CF表!$B222)),L$21*L$13/L$196,0)),0)","v":0}]
[null,"2024-11-01",{"$f":"IFERROR(IF($B223>C$15,0,IF(OFFSET(index!$I$2,MATCH(C$195,index!$I$3:$I$50,0),MONTH(CF表!$B223)),C$21*C$13/C$196,0)),0)","v":0},{"$f":"IFERROR(IF($B223>D$15,0,IF(OFFSET(index!$I$2,MATCH(D$195,index!$I$3:$I$50,0),MONTH(CF表!$B223)),D$21*D$13/D$196,0)),0)","v":0},{"$f":"IFERROR(IF($B223>E$15,0,IF(OFFSET(index!$I$2,MATCH(E$195,index!$I$3:$I$50,0),MONTH(CF表!$B223)),E$21*E$13/E$196,0)),0)","v":0},{"$f":"IFERROR(IF($B223>F$15,0,IF(OFFSET(index!$I$2,MATCH(F$195,index!$I$3:$I$50,0),MONTH(CF表!$B223)),F$21*F$13/F$196,0)),0)","v":0},{"$f":"IFERROR(IF($B223>G$15,0,IF(OFFSET(index!$I$2,MATCH(G$195,index!$I$3:$I$50,0),MONTH(CF表!$B223)),G$21*G$13/G$196,0)),0)","v":0},{"$f":"IFERROR(IF($B223>H$15,0,IF(OFFSET(index!$I$2,MATCH(H$195,index!$I$3:$I$50,0),MONTH(CF表!$B223)),H$21*H$13/H$196,0)),0)","v":0},{"$f":"IFERROR(IF($B223>I$15,0,IF(OFFSET(index!$I$2,MATCH(I$195,index!$I$3:$I$50,0),MONTH(CF表!$B223)),I$21*I$13/I$196,0)),0)","v":0},{"$f":"IFERROR(IF($B223>J$15,0,IF(OFFSET(index!$I$2,MATCH(J$195,index!$I$3:$I$50,0),MONTH(CF表!$B223)),J$21*J$13/J$196,0)),0)","v":0},{"$f":"IFERROR(IF($B223>K$15,0,IF(OFFSET(index!$I$2,MATCH(K$195,index!$I$3:$I$50,0),MONTH(CF表!$B223)),K$21*K$13/K$196,0)),0)","v":0},{"$f":"IFERROR(IF($B223>L$15,0,IF(OFFSET(index!$I$2,MATCH(L$195,index!$I$3:$I$50,0),MONTH(CF表!$B223)),L$21*L$13/L$196,0)),0)","v":0}]
[null,"2024-12-01",{"$f":"IFERROR(IF($B224>C$15,0,IF(OFFSET(index!$I$2,MATCH(C$195,index!$I$3:$I$50,0),MONTH(CF表!$B224)),C$21*C$13/C$196,0)),0)","v":0},{"$f":"IFERROR(IF($B224>D$15,0,IF(OFFSET(index!$I$2,MATCH(D$195,index!$I$3:$I$50,0),MONTH(CF表!$B224)),D$21*D$13/D$196,0)),0)","v":0},{"$f":"IFERROR(IF($B224>E$15,0,IF(OFFSET(index!$I$2,MATCH(E$195,index!$I$3:$I$50,0),MONTH(CF表!$B224)),E$21*E$13/E$196,0)),0)","v":0},{"$f":"IFERROR(IF($B224>F$15,0,IF(OFFSET(index!$I$2,MATCH(F$195,index!$I$3:$I$50,0),MONTH(CF表!$B224)),F$21*F$13/F$196,0)),0)","v":0},{"$f":"IFERROR(IF($B224>G$15,0,IF(OFFSET(index!$I$2,MATCH(G$195,index!$I$3:$I$50,0),MONTH(CF表!$B224)),G$21*G$13/G$196,0)),0)","v":0},{"$f":"IFERROR(IF($B224>H$15,0,IF(OFFSET(index!$I$2,MATCH(H$195,index!$I$3:$I$50,0),MONTH(CF表!$B224)),H$21*H$13/H$196,0)),0)","v":0},{"$f":"IFERROR(IF($B224>I$15,0,IF(OFFSET(index!$I$2,MATCH(I$195,index!$I$3:$I$50,0),MONTH(CF表!$B224)),I$21*I$13/I$196,0)),0)","v":0},{"$f":"IFERROR(IF($B224>J$15,0,IF(OFFSET(index!$I$2,MATCH(J$195,index!$I$3:$I$50,0),MONTH(CF表!$B224)),J$21*J$13/J$196,0)),0)","v":0},{"$f":"IFERROR(IF($B224>K$15,0,IF(OFFSET(index!$I$2,MATCH(K$195,index!$I$3:$I$50,0),MONTH(CF表!$B224)),K$21*K$13/K$196,0)),0)","v":0},{"$f":"IFERROR(IF($B224>L$15,0,IF(OFFSET(index!$I$2,MATCH(L$195,index!$I$3:$I$50,0),MONTH(CF表!$B224)),L$21*L$13/L$196,0)),0)","v":0}]
[null,"2025-01-01",{"$f":"IFERROR(IF($B225>C$15,0,IF(OFFSET(index!$I$2,MATCH(C$195,index!$I$3:$I$50,0),MONTH(CF表!$B225)),C$21*C$13/C$196,0)),0)","v":0},{"$f":"IFERROR(IF($B225>D$15,0,IF(OFFSET(index!$I$2,MATCH(D$195,index!$I$3:$I$50,0),MONTH(CF表!$B225)),D$21*D$13/D$196,0)),0)","v":0},{"$f":"IFERROR(IF($B225>E$15,0,IF(OFFSET(index!$I$2,MATCH(E$195,index!$I$3:$I$50,0),MONTH(CF表!$B225)),E$21*E$13/E$196,0)),0)","v":0},{"$f":"IFERROR(IF($B225>F$15,0,IF(OFFSET(index!$I$2,MATCH(F$195,index!$I$3:$I$50,0),MONTH(CF表!$B225)),F$21*F$13/F$196,0)),0)","v":0},{"$f":"IFERROR(IF($B225>G$15,0,IF(OFFSET(index!$I$2,MATCH(G$195,index!$I$3:$I$50,0),MONTH(CF表!$B225)),G$21*G$13/G$196,0)),0)","v":0},{"$f":"IFERROR(IF($B225>H$15,0,IF(OFFSET(index!$I$2,MATCH(H$195,index!$I$3:$I$50,0),MONTH(CF表!$B225)),H$21*H$13/H$196,0)),0)","v":0},{"$f":"IFERROR(IF($B225>I$15,0,IF(OFFSET(index!$I$2,MATCH(I$195,index!$I$3:$I$50,0),MONTH(CF表!$B225)),I$21*I$13/I$196,0)),0)","v":0},{"$f":"IFERROR(IF($B225>J$15,0,IF(OFFSET(index!$I$2,MATCH(J$195,index!$I$3:$I$50,0),MONTH(CF表!$B225)),J$21*J$13/J$196,0)),0)","v":0},{"$f":"IFERROR(IF($B225>K$15,0,IF(OFFSET(index!$I$2,MATCH(K$195,index!$I$3:$I$50,0),MONTH(CF表!$B225)),K$21*K$13/K$196,0)),0)","v":0},{"$f":"IFERROR(IF($B225>L$15,0,IF(OFFSET(index!$I$2,MATCH(L$195,index!$I$3:$I$50,0),MONTH(CF表!$B225)),L$21*L$13/L$196,0)),0)","v":0}]
[null,"2025-02-01",{"$f":"IFERROR(IF($B226>C$15,0,IF(OFFSET(index!$I$2,MATCH(C$195,index!$I$3:$I$50,0),MONTH(CF表!$B226)),C$21*C$13/C$196,0)),0)","v":0},{"$f":"IFERROR(IF($B226>D$15,0,IF(OFFSET(index!$I$2,MATCH(D$195,index!$I$3:$I$50,0),MONTH(CF表!$B226)),D$21*D$13/D$196,0)),0)","v":0},{"$f":"IFERROR(IF($B226>E$15,0,IF(OFFSET(index!$I$2,MATCH(E$195,index!$I$3:$I$50,0),MONTH(CF表!$B226)),E$21*E$13/E$196,0)),0)","v":0},{"$f":"IFERROR(IF($B226>F$15,0,IF(OFFSET(index!$I$2,MATCH(F$195,index!$I$3:$I$50,0),MONTH(CF表!$B226)),F$21*F$13/F$196,0)),0)","v":0},{"$f":"IFERROR(IF($B226>G$15,0,IF(OFFSET(index!$I$2,MATCH(G$195,index!$I$3:$I$50,0),MONTH(CF表!$B226)),G$21*G$13/G$196,0)),0)","v":0},{"$f":"IFERROR(IF($B226>H$15,0,IF(OFFSET(index!$I$2,MATCH(H$195,index!$I$3:$I$50,0),MONTH(CF表!$B226)),H$21*H$13/H$196,0)),0)","v":0},{"$f":"IFERROR(IF($B226>I$15,0,IF(OFFSET(index!$I$2,MATCH(I$195,index!$I$3:$I$50,0),MONTH(CF表!$B226)),I$21*I$13/I$196,0)),0)","v":0},{"$f":"IFERROR(IF($B226>J$15,0,IF(OFFSET(index!$I$2,MATCH(J$195,index!$I$3:$I$50,0),MONTH(CF表!$B226)),J$21*J$13/J$196,0)),0)","v":0},{"$f":"IFERROR(IF($B226>K$15,0,IF(OFFSET(index!$I$2,MATCH(K$195,index!$I$3:$I$50,0),MONTH(CF表!$B226)),K$21*K$13/K$196,0)),0)","v":0},{"$f":"IFERROR(IF($B226>L$15,0,IF(OFFSET(index!$I$2,MATCH(L$195,index!$I$3:$I$50,0),MONTH(CF表!$B226)),L$21*L$13/L$196,0)),0)","v":0}]
[null,"2025-03-01",{"$f":"IFERROR(IF($B227>C$15,0,IF(OFFSET(index!$I$2,MATCH(C$195,index!$I$3:$I$50,0),MONTH(CF表!$B227)),C$21*C$13/C$196,0)),0)","v":0},{"$f":"IFERROR(IF($B227>D$15,0,IF(OFFSET(index!$I$2,MATCH(D$195,index!$I$3:$I$50,0),MONTH(CF表!$B227)),D$21*D$13/D$196,0)),0)","v":0},{"$f":"IFERROR(IF($B227>E$15,0,IF(OFFSET(index!$I$2,MATCH(E$195,index!$I$3:$I$50,0),MONTH(CF表!$B227)),E$21*E$13/E$196,0)),0)","v":0},{"$f":"IFERROR(IF($B227>F$15,0,IF(OFFSET(index!$I$2,MATCH(F$195,index!$I$3:$I$50,0),MONTH(CF表!$B227)),F$21*F$13/F$196,0)),0)","v":0},{"$f":"IFERROR(IF($B227>G$15,0,IF(OFFSET(index!$I$2,MATCH(G$195,index!$I$3:$I$50,0),MONTH(CF表!$B227)),G$21*G$13/G$196,0)),0)","v":0},{"$f":"IFERROR(IF($B227>H$15,0,IF(OFFSET(index!$I$2,MATCH(H$195,index!$I$3:$I$50,0),MONTH(CF表!$B227)),H$21*H$13/H$196,0)),0)","v":0},{"$f":"IFERROR(IF($B227>I$15,0,IF(OFFSET(index!$I$2,MATCH(I$195,index!$I$3:$I$50,0),MONTH(CF表!$B227)),I$21*I$13/I$196,0)),0)","v":0},{"$f":"IFERROR(IF($B227>J$15,0,IF(OFFSET(index!$I$2,MATCH(J$195,index!$I$3:$I$50,0),MONTH(CF表!$B227)),J$21*J$13/J$196,0)),0)","v":0},{"$f":"IFERROR(IF($B227>K$15,0,IF(OFFSET(index!$I$2,MATCH(K$195,index!$I$3:$I$50,0),MONTH(CF表!$B227)),K$21*K$13/K$196,0)),0)","v":0},{"$f":"IFERROR(IF($B227>L$15,0,IF(OFFSET(index!$I$2,MATCH(L$195,index!$I$3:$I$50,0),MONTH(CF表!$B227)),L$21*L$13/L$196,0)),0)","v":0}]
[null,"2025-04-01",{"$f":"IFERROR(IF($B228>C$15,0,IF(OFFSET(index!$I$2,MATCH(C$195,index!$I$3:$I$50,0),MONTH(CF表!$B228)),C$21*C$13/C$196,0)),0)","v":0},{"$f":"IFERROR(IF($B228>D$15,0,IF(OFFSET(index!$I$2,MATCH(D$195,index!$I$3:$I$50,0),MONTH(CF表!$B228)),D$21*D$13/D$196,0)),0)","v":0},{"$f":"IFERROR(IF($B228>E$15,0,IF(OFFSET(index!$I$2,MATCH(E$195,index!$I$3:$I$50,0),MONTH(CF表!$B228)),E$21*E$13/E$196,0)),0)","v":0},{"$f":"IFERROR(IF($B228>F$15,0,IF(OFFSET(index!$I$2,MATCH(F$195,index!$I$3:$I$50,0),MONTH(CF表!$B228)),F$21*F$13/F$196,0)),0)","v":0},{"$f":"IFERROR(IF($B228>G$15,0,IF(OFFSET(index!$I$2,MATCH(G$195,index!$I$3:$I$50,0),MONTH(CF表!$B228)),G$21*G$13/G$196,0)),0)","v":0},{"$f":"IFERROR(IF($B228>H$15,0,IF(OFFSET(index!$I$2,MATCH(H$195,index!$I$3:$I$50,0),MONTH(CF表!$B228)),H$21*H$13/H$196,0)),0)","v":0},{"$f":"IFERROR(IF($B228>I$15,0,IF(OFFSET(index!$I$2,MATCH(I$195,index!$I$3:$I$50,0),MONTH(CF表!$B228)),I$21*I$13/I$196,0)),0)","v":0},{"$f":"IFERROR(IF($B228>J$15,0,IF(OFFSET(index!$I$2,MATCH(J$195,index!$I$3:$I$50,0),MONTH(CF表!$B228)),J$21*J$13/J$196,0)),0)","v":0},{"$f":"IFERROR(IF($B228>K$15,0,IF(OFFSET(index!$I$2,MATCH(K$195,index!$I$3:$I$50,0),MONTH(CF表!$B228)),K$21*K$13/K$196,0)),0)","v":0},{"$f":"IFERROR(IF($B228>L$15,0,IF(OFFSET(index!$I$2,MATCH(L$195,index!$I$3:$I$50,0),MONTH(CF表!$B228)),L$21*L$13/L$196,0)),0)","v":0}]
[null,"2025-05-01",{"$f":"IFERROR(IF($B229>C$15,0,IF(OFFSET(index!$I$2,MATCH(C$195,index!$I$3:$I$50,0),MONTH(CF表!$B229)),C$21*C$13/C$196,0)),0)","v":0},{"$f":"IFERROR(IF($B229>D$15,0,IF(OFFSET(index!$I$2,MATCH(D$195,index!$I$3:$I$50,0),MONTH(CF表!$B229)),D$21*D$13/D$196,0)),0)","v":0},{"$f":"IFERROR(IF($B229>E$15,0,IF(OFFSET(index!$I$2,MATCH(E$195,index!$I$3:$I$50,0),MONTH(CF表!$B229)),E$21*E$13/E$196,0)),0)","v":0},{"$f":"IFERROR(IF($B229>F$15,0,IF(OFFSET(index!$I$2,MATCH(F$195,index!$I$3:$I$50,0),MONTH(CF表!$B229)),F$21*F$13/F$196,0)),0)","v":0},{"$f":"IFERROR(IF($B229>G$15,0,IF(OFFSET(index!$I$2,MATCH(G$195,index!$I$3:$I$50,0),MONTH(CF表!$B229)),G$21*G$13/G$196,0)),0)","v":0},{"$f":"IFERROR(IF($B229>H$15,0,IF(OFFSET(index!$I$2,MATCH(H$195,index!$I$3:$I$50,0),MONTH(CF表!$B229)),H$21*H$13/H$196,0)),0)","v":0},{"$f":"IFERROR(IF($B229>I$15,0,IF(OFFSET(index!$I$2,MATCH(I$195,index!$I$3:$I$50,0),MONTH(CF表!$B229)),I$21*I$13/I$196,0)),0)","v":0},{"$f":"IFERROR(IF($B229>J$15,0,IF(OFFSET(index!$I$2,MATCH(J$195,index!$I$3:$I$50,0),MONTH(CF表!$B229)),J$21*J$13/J$196,0)),0)","v":0},{"$f":"IFERROR(IF($B229>K$15,0,IF(OFFSET(index!$I$2,MATCH(K$195,index!$I$3:$I$50,0),MONTH(CF表!$B229)),K$21*K$13/K$196,0)),0)","v":0},{"$f":"IFERROR(IF($B229>L$15,0,IF(OFFSET(index!$I$2,MATCH(L$195,index!$I$3:$I$50,0),MONTH(CF表!$B229)),L$21*L$13/L$196,0)),0)","v":0}]
[null,"2025-06-01",{"$f":"IFERROR(IF($B230>C$15,0,IF(OFFSET(index!$I$2,MATCH(C$195,index!$I$3:$I$50,0),MONTH(CF表!$B230)),C$21*C$13/C$196,0)),0)","v":0},{"$f":"IFERROR(IF($B230>D$15,0,IF(OFFSET(index!$I$2,MATCH(D$195,index!$I$3:$I$50,0),MONTH(CF表!$B230)),D$21*D$13/D$196,0)),0)","v":0},{"$f":"IFERROR(IF($B230>E$15,0,IF(OFFSET(index!$I$2,MATCH(E$195,index!$I$3:$I$50,0),MONTH(CF表!$B230)),E$21*E$13/E$196,0)),0)","v":0},{"$f":"IFERROR(IF($B230>F$15,0,IF(OFFSET(index!$I$2,MATCH(F$195,index!$I$3:$I$50,0),MONTH(CF表!$B230)),F$21*F$13/F$196,0)),0)","v":0},{"$f":"IFERROR(IF($B230>G$15,0,IF(OFFSET(index!$I$2,MATCH(G$195,index!$I$3:$I$50,0),MONTH(CF表!$B230)),G$21*G$13/G$196,0)),0)","v":0},{"$f":"IFERROR(IF($B230>H$15,0,IF(OFFSET(index!$I$2,MATCH(H$195,index!$I$3:$I$50,0),MONTH(CF表!$B230)),H$21*H$13/H$196,0)),0)","v":0},{"$f":"IFERROR(IF($B230>I$15,0,IF(OFFSET(index!$I$2,MATCH(I$195,index!$I$3:$I$50,0),MONTH(CF表!$B230)),I$21*I$13/I$196,0)),0)","v":0},{"$f":"IFERROR(IF($B230>J$15,0,IF(OFFSET(index!$I$2,MATCH(J$195,index!$I$3:$I$50,0),MONTH(CF表!$B230)),J$21*J$13/J$196,0)),0)","v":0},{"$f":"IFERROR(IF($B230>K$15,0,IF(OFFSET(index!$I$2,MATCH(K$195,index!$I$3:$I$50,0),MONTH(CF表!$B230)),K$21*K$13/K$196,0)),0)","v":0},{"$f":"IFERROR(IF($B230>L$15,0,IF(OFFSET(index!$I$2,MATCH(L$195,index!$I$3:$I$50,0),MONTH(CF表!$B230)),L$21*L$13/L$196,0)),0)","v":0}]
[null,"2025-07-01",{"$f":"IFERROR(IF($B231>C$15,0,IF(OFFSET(index!$I$2,MATCH(C$195,index!$I$3:$I$50,0),MONTH(CF表!$B231)),C$21*C$13/C$196,0)),0)","v":0},{"$f":"IFERROR(IF($B231>D$15,0,IF(OFFSET(index!$I$2,MATCH(D$195,index!$I$3:$I$50,0),MONTH(CF表!$B231)),D$21*D$13/D$196,0)),0)","v":0},{"$f":"IFERROR(IF($B231>E$15,0,IF(OFFSET(index!$I$2,MATCH(E$195,index!$I$3:$I$50,0),MONTH(CF表!$B231)),E$21*E$13/E$196,0)),0)","v":0},{"$f":"IFERROR(IF($B231>F$15,0,IF(OFFSET(index!$I$2,MATCH(F$195,index!$I$3:$I$50,0),MONTH(CF表!$B231)),F$21*F$13/F$196,0)),0)","v":0},{"$f":"IFERROR(IF($B231>G$15,0,IF(OFFSET(index!$I$2,MATCH(G$195,index!$I$3:$I$50,0),MONTH(CF表!$B231)),G$21*G$13/G$196,0)),0)","v":0},{"$f":"IFERROR(IF($B231>H$15,0,IF(OFFSET(index!$I$2,MATCH(H$195,index!$I$3:$I$50,0),MONTH(CF表!$B231)),H$21*H$13/H$196,0)),0)","v":0},{"$f":"IFERROR(IF($B231>I$15,0,IF(OFFSET(index!$I$2,MATCH(I$195,index!$I$3:$I$50,0),MONTH(CF表!$B231)),I$21*I$13/I$196,0)),0)","v":0},{"$f":"IFERROR(IF($B231>J$15,0,IF(OFFSET(index!$I$2,MATCH(J$195,index!$I$3:$I$50,0),MONTH(CF表!$B231)),J$21*J$13/J$196,0)),0)","v":0},{"$f":"IFERROR(IF($B231>K$15,0,IF(OFFSET(index!$I$2,MATCH(K$195,index!$I$3:$I$50,0),MONTH(CF表!$B231)),K$21*K$13/K$196,0)),0)","v":0},{"$f":"IFERROR(IF($B231>L$15,0,IF(OFFSET(index!$I$2,MATCH(L$195,index!$I$3:$I$50,0),MONTH(CF表!$B231)),L$21*L$13/L$196,0)),0)","v":0}]
[null,"2025-08-01",{"$f":"IFERROR(IF($B232>C$15,0,IF(OFFSET(index!$I$2,MATCH(C$195,index!$I$3:$I$50,0),MONTH(CF表!$B232)),C$21*C$13/C$196,0)),0)","v":0},{"$f":"IFERROR(IF($B232>D$15,0,IF(OFFSET(index!$I$2,MATCH(D$195,index!$I$3:$I$50,0),MONTH(CF表!$B232)),D$21*D$13/D$196,0)),0)","v":0},{"$f":"IFERROR(IF($B232>E$15,0,IF(OFFSET(index!$I$2,MATCH(E$195,index!$I$3:$I$50,0),MONTH(CF表!$B232)),E$21*E$13/E$196,0)),0)","v":0},{"$f":"IFERROR(IF($B232>F$15,0,IF(OFFSET(index!$I$2,MATCH(F$195,index!$I$3:$I$50,0),MONTH(CF表!$B232)),F$21*F$13/F$196,0)),0)","v":0},{"$f":"IFERROR(IF($B232>G$15,0,IF(OFFSET(index!$I$2,MATCH(G$195,index!$I$3:$I$50,0),MONTH(CF表!$B232)),G$21*G$13/G$196,0)),0)","v":0},{"$f":"IFERROR(IF($B232>H$15,0,IF(OFFSET(index!$I$2,MATCH(H$195,index!$I$3:$I$50,0),MONTH(CF表!$B232)),H$21*H$13/H$196,0)),0)","v":0},{"$f":"IFERROR(IF($B232>I$15,0,IF(OFFSET(index!$I$2,MATCH(I$195,index!$I$3:$I$50,0),MONTH(CF表!$B232)),I$21*I$13/I$196,0)),0)","v":0},{"$f":"IFERROR(IF($B232>J$15,0,IF(OFFSET(index!$I$2,MATCH(J$195,index!$I$3:$I$50,0),MONTH(CF表!$B232)),J$21*J$13/J$196,0)),0)","v":0},{"$f":"IFERROR(IF($B232>K$15,0,IF(OFFSET(index!$I$2,MATCH(K$195,index!$I$3:$I$50,0),MONTH(CF表!$B232)),K$21*K$13/K$196,0)),0)","v":0},{"$f":"IFERROR(IF($B232>L$15,0,IF(OFFSET(index!$I$2,MATCH(L$195,index!$I$3:$I$50,0),MONTH(CF表!$B232)),L$21*L$13/L$196,0)),0)","v":0}]
[null,"2025-09-01",{"$f":"IFERROR(IF($B233>C$15,0,IF(OFFSET(index!$I$2,MATCH(C$195,index!$I$3:$I$50,0),MONTH(CF表!$B233)),C$21*C$13/C$196,0)),0)","v":0},{"$f":"IFERROR(IF($B233>D$15,0,IF(OFFSET(index!$I$2,MATCH(D$195,index!$I$3:$I$50,0),MONTH(CF表!$B233)),D$21*D$13/D$196,0)),0)","v":0},{"$f":"IFERROR(IF($B233>E$15,0,IF(OFFSET(index!$I$2,MATCH(E$195,index!$I$3:$I$50,0),MONTH(CF表!$B233)),E$21*E$13/E$196,0)),0)","v":0},{"$f":"IFERROR(IF($B233>F$15,0,IF(OFFSET(index!$I$2,MATCH(F$195,index!$I$3:$I$50,0),MONTH(CF表!$B233)),F$21*F$13/F$196,0)),0)","v":0},{"$f":"IFERROR(IF($B233>G$15,0,IF(OFFSET(index!$I$2,MATCH(G$195,index!$I$3:$I$50,0),MONTH(CF表!$B233)),G$21*G$13/G$196,0)),0)","v":0},{"$f":"IFERROR(IF($B233>H$15,0,IF(OFFSET(index!$I$2,MATCH(H$195,index!$I$3:$I$50,0),MONTH(CF表!$B233)),H$21*H$13/H$196,0)),0)","v":0},{"$f":"IFERROR(IF($B233>I$15,0,IF(OFFSET(index!$I$2,MATCH(I$195,index!$I$3:$I$50,0),MONTH(CF表!$B233)),I$21*I$13/I$196,0)),0)","v":0},{"$f":"IFERROR(IF($B233>J$15,0,IF(OFFSET(index!$I$2,MATCH(J$195,index!$I$3:$I$50,0),MONTH(CF表!$B233)),J$21*J$13/J$196,0)),0)","v":0},{"$f":"IFERROR(IF($B233>K$15,0,IF(OFFSET(index!$I$2,MATCH(K$195,index!$I$3:$I$50,0),MONTH(CF表!$B233)),K$21*K$13/K$196,0)),0)","v":0},{"$f":"IFERROR(IF($B233>L$15,0,IF(OFFSET(index!$I$2,MATCH(L$195,index!$I$3:$I$50,0),MONTH(CF表!$B233)),L$21*L$13/L$196,0)),0)","v":0}]
[null,"2025-10-01",{"$f":"IFERROR(IF($B234>C$15,0,IF(OFFSET(index!$I$2,MATCH(C$195,index!$I$3:$I$50,0),MONTH(CF表!$B234)),C$21*C$13/C$196,0)),0)","v":0},{"$f":"IFERROR(IF($B234>D$15,0,IF(OFFSET(index!$I$2,MATCH(D$195,index!$I$3:$I$50,0),MONTH(CF表!$B234)),D$21*D$13/D$196,0)),0)","v":0},{"$f":"IFERROR(IF($B234>E$15,0,IF(OFFSET(index!$I$2,MATCH(E$195,index!$I$3:$I$50,0),MONTH(CF表!$B234)),E$21*E$13/E$196,0)),0)","v":0},{"$f":"IFERROR(IF($B234>F$15,0,IF(OFFSET(index!$I$2,MATCH(F$195,index!$I$3:$I$50,0),MONTH(CF表!$B234)),F$21*F$13/F$196,0)),0)","v":0},{"$f":"IFERROR(IF($B234>G$15,0,IF(OFFSET(index!$I$2,MATCH(G$195,index!$I$3:$I$50,0),MONTH(CF表!$B234)),G$21*G$13/G$196,0)),0)","v":0},{"$f":"IFERROR(IF($B234>H$15,0,IF(OFFSET(index!$I$2,MATCH(H$195,index!$I$3:$I$50,0),MONTH(CF表!$B234)),H$21*H$13/H$196,0)),0)","v":0},{"$f":"IFERROR(IF($B234>I$15,0,IF(OFFSET(index!$I$2,MATCH(I$195,index!$I$3:$I$50,0),MONTH(CF表!$B234)),I$21*I$13/I$196,0)),0)","v":0},{"$f":"IFERROR(IF($B234>J$15,0,IF(OFFSET(index!$I$2,MATCH(J$195,index!$I$3:$I$50,0),MONTH(CF表!$B234)),J$21*J$13/J$196,0)),0)","v":0},{"$f":"IFERROR(IF($B234>K$15,0,IF(OFFSET(index!$I$2,MATCH(K$195,index!$I$3:$I$50,0),MONTH(CF表!$B234)),K$21*K$13/K$196,0)),0)","v":0},{"$f":"IFERROR(IF($B234>L$15,0,IF(OFFSET(index!$I$2,MATCH(L$195,index!$I$3:$I$50,0),MONTH(CF表!$B234)),L$21*L$13/L$196,0)),0)","v":0}]
[null,{"$f":"EDATE(B234,1)","v":"2025-11-01"},{"$f":"IFERROR(IF($B235>C$15,0,IF(OFFSET(index!$I$2,MATCH(C$195,index!$I$3:$I$50,0),MONTH(CF表!$B235)),C$21*C$13/C$196,0)),0)","v":0},{"$f":"IFERROR(IF($B235>D$15,0,IF(OFFSET(index!$I$2,MATCH(D$195,index!$I$3:$I$50,0),MONTH(CF表!$B235)),D$21*D$13/D$196,0)),0)","v":0},{"$f":"IFERROR(IF($B235>E$15,0,IF(OFFSET(index!$I$2,MATCH(E$195,index!$I$3:$I$50,0),MONTH(CF表!$B235)),E$21*E$13/E$196,0)),0)","v":0},{"$f":"IFERROR(IF($B235>F$15,0,IF(OFFSET(index!$I$2,MATCH(F$195,index!$I$3:$I$50,0),MONTH(CF表!$B235)),F$21*F$13/F$196,0)),0)","v":0},{"$f":"IFERROR(IF($B235>G$15,0,IF(OFFSET(index!$I$2,MATCH(G$195,index!$I$3:$I$50,0),MONTH(CF表!$B235)),G$21*G$13/G$196,0)),0)","v":0},{"$f":"IFERROR(IF($B235>H$15,0,IF(OFFSET(index!$I$2,MATCH(H$195,index!$I$3:$I$50,0),MONTH(CF表!$B235)),H$21*H$13/H$196,0)),0)","v":0},{"$f":"IFERROR(IF($B235>I$15,0,IF(OFFSET(index!$I$2,MATCH(I$195,index!$I$3:$I$50,0),MONTH(CF表!$B235)),I$21*I$13/I$196,0)),0)","v":0},{"$f":"IFERROR(IF($B235>J$15,0,IF(OFFSET(index!$I$2,MATCH(J$195,index!$I$3:$I$50,0),MONTH(CF表!$B235)),J$21*J$13/J$196,0)),0)","v":0},{"$f":"IFERROR(IF($B235>K$15,0,IF(OFFSET(index!$I$2,MATCH(K$195,index!$I$3:$I$50,0),MONTH(CF表!$B235)),K$21*K$13/K$196,0)),0)","v":0},{"$f":"IFERROR(IF($B235>L$15,0,IF(OFFSET(index!$I$2,MATCH(L$195,index!$I$3:$I$50,0),MONTH(CF表!$B235)),L$21*L$13/L$196,0)),0)","v":0}]
[null,"2025-12-01",{"$f":"IFERROR(IF($B236>C$15,0,IF(OFFSET(index!$I$2,MATCH(C$195,index!$I$3:$I$50,0),MONTH(CF表!$B236)),C$21*C$13/C$196,0)),0)","v":0},{"$f":"IFERROR(IF($B236>D$15,0,IF(OFFSET(index!$I$2,MATCH(D$195,index!$I$3:$I$50,0),MONTH(CF表!$B236)),D$21*D$13/D$196,0)),0)","v":0},{"$f":"IFERROR(IF($B236>E$15,0,IF(OFFSET(index!$I$2,MATCH(E$195,index!$I$3:$I$50,0),MONTH(CF表!$B236)),E$21*E$13/E$196,0)),0)","v":0},{"$f":"IFERROR(IF($B236>F$15,0,IF(OFFSET(index!$I$2,MATCH(F$195,index!$I$3:$I$50,0),MONTH(CF表!$B236)),F$21*F$13/F$196,0)),0)","v":0},{"$f":"IFERROR(IF($B236>G$15,0,IF(OFFSET(index!$I$2,MATCH(G$195,index!$I$3:$I$50,0),MONTH(CF表!$B236)),G$21*G$13/G$196,0)),0)","v":0},{"$f":"IFERROR(IF($B236>H$15,0,IF(OFFSET(index!$I$2,MATCH(H$195,index!$I$3:$I$50,0),MONTH(CF表!$B236)),H$21*H$13/H$196,0)),0)","v":0},{"$f":"IFERROR(IF($B236>I$15,0,IF(OFFSET(index!$I$2,MATCH(I$195,index!$I$3:$I$50,0),MONTH(CF表!$B236)),I$21*I$13/I$196,0)),0)","v":0},{"$f":"IFERROR(IF($B236>J$15,0,IF(OFFSET(index!$I$2,MATCH(J$195,index!$I$3:$I$50,0),MONTH(CF表!$B236)),J$21*J$13/J$196,0)),0)","v":0},{"$f":"IFERROR(IF($B236>K$15,0,IF(OFFSET(index!$I$2,MATCH(K$195,index!$I$3:$I$50,0),MONTH(CF表!$B236)),K$21*K$13/K$196,0)),0)","v":0},{"$f":"IFERROR(IF($B236>L$15,0,IF(OFFSET(index!$I$2,MATCH(L$195,index!$I$3:$I$50,0),MONTH(CF表!$B236)),L$21*L$13/L$196,0)),0)","v":0}]
[null,"2026-01-01",{"$f":"IFERROR(IF($B237>C$15,0,IF(OFFSET(index!$I$2,MATCH(C$195,index!$I$3:$I$50,0),MONTH(CF表!$B237)),C$21*C$13/C$196,0)),0)","v":0},{"$f":"IFERROR(IF($B237>D$15,0,IF(OFFSET(index!$I$2,MATCH(D$195,index!$I$3:$I$50,0),MONTH(CF表!$B237)),D$21*D$13/D$196,0)),0)","v":0},{"$f":"IFERROR(IF($B237>E$15,0,IF(OFFSET(index!$I$2,MATCH(E$195,index!$I$3:$I$50,0),MONTH(CF表!$B237)),E$21*E$13/E$196,0)),0)","v":0},{"$f":"IFERROR(IF($B237>F$15,0,IF(OFFSET(index!$I$2,MATCH(F$195,index!$I$3:$I$50,0),MONTH(CF表!$B237)),F$21*F$13/F$196,0)),0)","v":0},{"$f":"IFERROR(IF($B237>G$15,0,IF(OFFSET(index!$I$2,MATCH(G$195,index!$I$3:$I$50,0),MONTH(CF表!$B237)),G$21*G$13/G$196,0)),0)","v":0},{"$f":"IFERROR(IF($B237>H$15,0,IF(OFFSET(index!$I$2,MATCH(H$195,index!$I$3:$I$50,0),MONTH(CF表!$B237)),H$21*H$13/H$196,0)),0)","v":0},{"$f":"IFERROR(IF($B237>I$15,0,IF(OFFSET(index!$I$2,MATCH(I$195,index!$I$3:$I$50,0),MONTH(CF表!$B237)),I$21*I$13/I$196,0)),0)","v":0},{"$f":"IFERROR(IF($B237>J$15,0,IF(OFFSET(index!$I$2,MATCH(J$195,index!$I$3:$I$50,0),MONTH(CF表!$B237)),J$21*J$13/J$196,0)),0)","v":0},{"$f":"IFERROR(IF($B237>K$15,0,IF(OFFSET(index!$I$2,MATCH(K$195,index!$I$3:$I$50,0),MONTH(CF表!$B237)),K$21*K$13/K$196,0)),0)","v":0},{"$f":"IFERROR(IF($B237>L$15,0,IF(OFFSET(index!$I$2,MATCH(L$195,index!$I$3:$I$50,0),MONTH(CF表!$B237)),L$21*L$13/L$196,0)),0)","v":0}]
[null,"2026-02-01",{"$f":"IFERROR(IF($B238>C$15,0,IF(OFFSET(index!$I$2,MATCH(C$195,index!$I$3:$I$50,0),MONTH(CF表!$B238)),C$21*C$13/C$196,0)),0)","v":0},{"$f":"IFERROR(IF($B238>D$15,0,IF(OFFSET(index!$I$2,MATCH(D$195,index!$I$3:$I$50,0),MONTH(CF表!$B238)),D$21*D$13/D$196,0)),0)","v":0},{"$f":"IFERROR(IF($B238>E$15,0,IF(OFFSET(index!$I$2,MATCH(E$195,index!$I$3:$I$50,0),MONTH(CF表!$B238)),E$21*E$13/E$196,0)),0)","v":0},{"$f":"IFERROR(IF($B238>F$15,0,IF(OFFSET(index!$I$2,MATCH(F$195,index!$I$3:$I$50,0),MONTH(CF表!$B238)),F$21*F$13/F$196,0)),0)","v":0},{"$f":"IFERROR(IF($B238>G$15,0,IF(OFFSET(index!$I$2,MATCH(G$195,index!$I$3:$I$50,0),MONTH(CF表!$B238)),G$21*G$13/G$196,0)),0)","v":0},{"$f":"IFERROR(IF($B238>H$15,0,IF(OFFSET(index!$I$2,MATCH(H$195,index!$I$3:$I$50,0),MONTH(CF表!$B238)),H$21*H$13/H$196,0)),0)","v":0},{"$f":"IFERROR(IF($B238>I$15,0,IF(OFFSET(index!$I$2,MATCH(I$195,index!$I$3:$I$50,0),MONTH(CF表!$B238)),I$21*I$13/I$196,0)),0)","v":0},{"$f":"IFERROR(IF($B238>J$15,0,IF(OFFSET(index!$I$2,MATCH(J$195,index!$I$3:$I$50,0),MONTH(CF表!$B238)),J$21*J$13/J$196,0)),0)","v":0},{"$f":"IFERROR(IF($B238>K$15,0,IF(OFFSET(index!$I$2,MATCH(K$195,index!$I$3:$I$50,0),MONTH(CF表!$B238)),K$21*K$13/K$196,0)),0)","v":0},{"$f":"IFERROR(IF($B238>L$15,0,IF(OFFSET(index!$I$2,MATCH(L$195,index!$I$3:$I$50,0),MONTH(CF表!$B238)),L$21*L$13/L$196,0)),0)","v":0}]
[null,"2026-03-01",{"$f":"IFERROR(IF($B239>C$15,0,IF(OFFSET(index!$I$2,MATCH(C$195,index!$I$3:$I$50,0),MONTH(CF表!$B239)),C$21*C$13/C$196,0)),0)","v":0},{"$f":"IFERROR(IF($B239>D$15,0,IF(OFFSET(index!$I$2,MATCH(D$195,index!$I$3:$I$50,0),MONTH(CF表!$B239)),D$21*D$13/D$196,0)),0)","v":0},{"$f":"IFERROR(IF($B239>E$15,0,IF(OFFSET(index!$I$2,MATCH(E$195,index!$I$3:$I$50,0),MONTH(CF表!$B239)),E$21*E$13/E$196,0)),0)","v":0},{"$f":"IFERROR(IF($B239>F$15,0,IF(OFFSET(index!$I$2,MATCH(F$195,index!$I$3:$I$50,0),MONTH(CF表!$B239)),F$21*F$13/F$196,0)),0)","v":0},{"$f":"IFERROR(IF($B239>G$15,0,IF(OFFSET(index!$I$2,MATCH(G$195,index!$I$3:$I$50,0),MONTH(CF表!$B239)),G$21*G$13/G$196,0)),0)","v":0},{"$f":"IFERROR(IF($B239>H$15,0,IF(OFFSET(index!$I$2,MATCH(H$195,index!$I$3:$I$50,0),MONTH(CF表!$B239)),H$21*H$13/H$196,0)),0)","v":0},{"$f":"IFERROR(IF($B239>I$15,0,IF(OFFSET(index!$I$2,MATCH(I$195,index!$I$3:$I$50,0),MONTH(CF表!$B239)),I$21*I$13/I$196,0)),0)","v":0},{"$f":"IFERROR(IF($B239>J$15,0,IF(OFFSET(index!$I$2,MATCH(J$195,index!$I$3:$I$50,0),MONTH(CF表!$B239)),J$21*J$13/J$196,0)),0)","v":0},{"$f":"IFERROR(IF($B239>K$15,0,IF(OFFSET(index!$I$2,MATCH(K$195,index!$I$3:$I$50,0),MONTH(CF表!$B239)),K$21*K$13/K$196,0)),0)","v":0},{"$f":"IFERROR(IF($B239>L$15,0,IF(OFFSET(index!$I$2,MATCH(L$195,index!$I$3:$I$50,0),MONTH(CF表!$B239)),L$21*L$13/L$196,0)),0)","v":0}]
[null,"2026-04-01",{"$f":"IFERROR(IF($B240>C$15,0,IF(OFFSET(index!$I$2,MATCH(C$195,index!$I$3:$I$50,0),MONTH(CF表!$B240)),C$21*C$13/C$196,0)),0)","v":0},{"$f":"IFERROR(IF($B240>D$15,0,IF(OFFSET(index!$I$2,MATCH(D$195,index!$I$3:$I$50,0),MONTH(CF表!$B240)),D$21*D$13/D$196,0)),0)","v":0},{"$f":"IFERROR(IF($B240>E$15,0,IF(OFFSET(index!$I$2,MATCH(E$195,index!$I$3:$I$50,0),MONTH(CF表!$B240)),E$21*E$13/E$196,0)),0)","v":0},{"$f":"IFERROR(IF($B240>F$15,0,IF(OFFSET(index!$I$2,MATCH(F$195,index!$I$3:$I$50,0),MONTH(CF表!$B240)),F$21*F$13/F$196,0)),0)","v":0},{"$f":"IFERROR(IF($B240>G$15,0,IF(OFFSET(index!$I$2,MATCH(G$195,index!$I$3:$I$50,0),MONTH(CF表!$B240)),G$21*G$13/G$196,0)),0)","v":0},{"$f":"IFERROR(IF($B240>H$15,0,IF(OFFSET(index!$I$2,MATCH(H$195,index!$I$3:$I$50,0),MONTH(CF表!$B240)),H$21*H$13/H$196,0)),0)","v":0},{"$f":"IFERROR(IF($B240>I$15,0,IF(OFFSET(index!$I$2,MATCH(I$195,index!$I$3:$I$50,0),MONTH(CF表!$B240)),I$21*I$13/I$196,0)),0)","v":0},{"$f":"IFERROR(IF($B240>J$15,0,IF(OFFSET(index!$I$2,MATCH(J$195,index!$I$3:$I$50,0),MONTH(CF表!$B240)),J$21*J$13/J$196,0)),0)","v":0},{"$f":"IFERROR(IF($B240>K$15,0,IF(OFFSET(index!$I$2,MATCH(K$195,index!$I$3:$I$50,0),MONTH(CF表!$B240)),K$21*K$13/K$196,0)),0)","v":0},{"$f":"IFERROR(IF($B240>L$15,0,IF(OFFSET(index!$I$2,MATCH(L$195,index!$I$3:$I$50,0),MONTH(CF表!$B240)),L$21*L$13/L$196,0)),0)","v":0}]
[null,"2026-05-01",{"$f":"IFERROR(IF($B241>C$15,0,IF(OFFSET(index!$I$2,MATCH(C$195,index!$I$3:$I$50,0),MONTH(CF表!$B241)),C$21*C$13/C$196,0)),0)","v":0},{"$f":"IFERROR(IF($B241>D$15,0,IF(OFFSET(index!$I$2,MATCH(D$195,index!$I$3:$I$50,0),MONTH(CF表!$B241)),D$21*D$13/D$196,0)),0)","v":0},{"$f":"IFERROR(IF($B241>E$15,0,IF(OFFSET(index!$I$2,MATCH(E$195,index!$I$3:$I$50,0),MONTH(CF表!$B241)),E$21*E$13/E$196,0)),0)","v":0},{"$f":"IFERROR(IF($B241>F$15,0,IF(OFFSET(index!$I$2,MATCH(F$195,index!$I$3:$I$50,0),MONTH(CF表!$B241)),F$21*F$13/F$196,0)),0)","v":0},{"$f":"IFERROR(IF($B241>G$15,0,IF(OFFSET(index!$I$2,MATCH(G$195,index!$I$3:$I$50,0),MONTH(CF表!$B241)),G$21*G$13/G$196,0)),0)","v":0},{"$f":"IFERROR(IF($B241>H$15,0,IF(OFFSET(index!$I$2,MATCH(H$195,index!$I$3:$I$50,0),MONTH(CF表!$B241)),H$21*H$13/H$196,0)),0)","v":0},{"$f":"IFERROR(IF($B241>I$15,0,IF(OFFSET(index!$I$2,MATCH(I$195,index!$I$3:$I$50,0),MONTH(CF表!$B241)),I$21*I$13/I$196,0)),0)","v":0},{"$f":"IFERROR(IF($B241>J$15,0,IF(OFFSET(index!$I$2,MATCH(J$195,index!$I$3:$I$50,0),MONTH(CF表!$B241)),J$21*J$13/J$196,0)),0)","v":0},{"$f":"IFERROR(IF($B241>K$15,0,IF(OFFSET(index!$I$2,MATCH(K$195,index!$I$3:$I$50,0),MONTH(CF表!$B241)),K$21*K$13/K$196,0)),0)","v":0},{"$f":"IFERROR(IF($B241>L$15,0,IF(OFFSET(index!$I$2,MATCH(L$195,index!$I$3:$I$50,0),MONTH(CF表!$B241)),L$21*L$13/L$196,0)),0)","v":0}]
[null,"2026-06-01",{"$f":"IFERROR(IF($B242>C$15,0,IF(OFFSET(index!$I$2,MATCH(C$195,index!$I$3:$I$50,0),MONTH(CF表!$B242)),C$21*C$13/C$196,0)),0)","v":0},{"$f":"IFERROR(IF($B242>D$15,0,IF(OFFSET(index!$I$2,MATCH(D$195,index!$I$3:$I$50,0),MONTH(CF表!$B242)),D$21*D$13/D$196,0)),0)","v":0},{"$f":"IFERROR(IF($B242>E$15,0,IF(OFFSET(index!$I$2,MATCH(E$195,index!$I$3:$I$50,0),MONTH(CF表!$B242)),E$21*E$13/E$196,0)),0)","v":0},{"$f":"IFERROR(IF($B242>F$15,0,IF(OFFSET(index!$I$2,MATCH(F$195,index!$I$3:$I$50,0),MONTH(CF表!$B242)),F$21*F$13/F$196,0)),0)","v":0},{"$f":"IFERROR(IF($B242>G$15,0,IF(OFFSET(index!$I$2,MATCH(G$195,index!$I$3:$I$50,0),MONTH(CF表!$B242)),G$21*G$13/G$196,0)),0)","v":0},{"$f":"IFERROR(IF($B242>H$15,0,IF(OFFSET(index!$I$2,MATCH(H$195,index!$I$3:$I$50,0),MONTH(CF表!$B242)),H$21*H$13/H$196,0)),0)","v":0},{"$f":"IFERROR(IF($B242>I$15,0,IF(OFFSET(index!$I$2,MATCH(I$195,index!$I$3:$I$50,0),MONTH(CF表!$B242)),I$21*I$13/I$196,0)),0)","v":0},{"$f":"IFERROR(IF($B242>J$15,0,IF(OFFSET(index!$I$2,MATCH(J$195,index!$I$3:$I$50,0),MONTH(CF表!$B242)),J$21*J$13/J$196,0)),0)","v":0},{"$f":"IFERROR(IF($B242>K$15,0,IF(OFFSET(index!$I$2,MATCH(K$195,index!$I$3:$I$50,0),MONTH(CF表!$B242)),K$21*K$13/K$196,0)),0)","v":0},{"$f":"IFERROR(IF($B242>L$15,0,IF(OFFSET(index!$I$2,MATCH(L$195,index!$I$3:$I$50,0),MONTH(CF表!$B242)),L$21*L$13/L$196,0)),0)","v":0}]
[null,"2026-07-01",{"$f":"IFERROR(IF($B243>C$15,0,IF(OFFSET(index!$I$2,MATCH(C$195,index!$I$3:$I$50,0),MONTH(CF表!$B243)),C$21*C$13/C$196,0)),0)","v":0},{"$f":"IFERROR(IF($B243>D$15,0,IF(OFFSET(index!$I$2,MATCH(D$195,index!$I$3:$I$50,0),MONTH(CF表!$B243)),D$21*D$13/D$196,0)),0)","v":0},{"$f":"IFERROR(IF($B243>E$15,0,IF(OFFSET(index!$I$2,MATCH(E$195,index!$I$3:$I$50,0),MONTH(CF表!$B243)),E$21*E$13/E$196,0)),0)","v":0},{"$f":"IFERROR(IF($B243>F$15,0,IF(OFFSET(index!$I$2,MATCH(F$195,index!$I$3:$I$50,0),MONTH(CF表!$B243)),F$21*F$13/F$196,0)),0)","v":0},{"$f":"IFERROR(IF($B243>G$15,0,IF(OFFSET(index!$I$2,MATCH(G$195,index!$I$3:$I$50,0),MONTH(CF表!$B243)),G$21*G$13/G$196,0)),0)","v":0},{"$f":"IFERROR(IF($B243>H$15,0,IF(OFFSET(index!$I$2,MATCH(H$195,index!$I$3:$I$50,0),MONTH(CF表!$B243)),H$21*H$13/H$196,0)),0)","v":0},{"$f":"IFERROR(IF($B243>I$15,0,IF(OFFSET(index!$I$2,MATCH(I$195,index!$I$3:$I$50,0),MONTH(CF表!$B243)),I$21*I$13/I$196,0)),0)","v":0},{"$f":"IFERROR(IF($B243>J$15,0,IF(OFFSET(index!$I$2,MATCH(J$195,index!$I$3:$I$50,0),MONTH(CF表!$B243)),J$21*J$13/J$196,0)),0)","v":0},{"$f":"IFERROR(IF($B243>K$15,0,IF(OFFSET(index!$I$2,MATCH(K$195,index!$I$3:$I$50,0),MONTH(CF表!$B243)),K$21*K$13/K$196,0)),0)","v":0},{"$f":"IFERROR(IF($B243>L$15,0,IF(OFFSET(index!$I$2,MATCH(L$195,index!$I$3:$I$50,0),MONTH(CF表!$B243)),L$21*L$13/L$196,0)),0)","v":0}]
[null,"2026-08-01",{"$f":"IFERROR(IF($B244>C$15,0,IF(OFFSET(index!$I$2,MATCH(C$195,index!$I$3:$I$50,0),MONTH(CF表!$B244)),C$21*C$13/C$196,0)),0)","v":0},{"$f":"IFERROR(IF($B244>D$15,0,IF(OFFSET(index!$I$2,MATCH(D$195,index!$I$3:$I$50,0),MONTH(CF表!$B244)),D$21*D$13/D$196,0)),0)","v":0},{"$f":"IFERROR(IF($B244>E$15,0,IF(OFFSET(index!$I$2,MATCH(E$195,index!$I$3:$I$50,0),MONTH(CF表!$B244)),E$21*E$13/E$196,0)),0)","v":0},{"$f":"IFERROR(IF($B244>F$15,0,IF(OFFSET(index!$I$2,MATCH(F$195,index!$I$3:$I$50,0),MONTH(CF表!$B244)),F$21*F$13/F$196,0)),0)","v":0},{"$f":"IFERROR(IF($B244>G$15,0,IF(OFFSET(index!$I$2,MATCH(G$195,index!$I$3:$I$50,0),MONTH(CF表!$B244)),G$21*G$13/G$196,0)),0)","v":0},{"$f":"IFERROR(IF($B244>H$15,0,IF(OFFSET(index!$I$2,MATCH(H$195,index!$I$3:$I$50,0),MONTH(CF表!$B244)),H$21*H$13/H$196,0)),0)","v":0},{"$f":"IFERROR(IF($B244>I$15,0,IF(OFFSET(index!$I$2,MATCH(I$195,index!$I$3:$I$50,0),MONTH(CF表!$B244)),I$21*I$13/I$196,0)),0)","v":0},{"$f":"IFERROR(IF($B244>J$15,0,IF(OFFSET(index!$I$2,MATCH(J$195,index!$I$3:$I$50,0),MONTH(CF表!$B244)),J$21*J$13/J$196,0)),0)","v":0},{"$f":"IFERROR(IF($B244>K$15,0,IF(OFFSET(index!$I$2,MATCH(K$195,index!$I$3:$I$50,0),MONTH(CF表!$B244)),K$21*K$13/K$196,0)),0)","v":0},{"$f":"IFERROR(IF($B244>L$15,0,IF(OFFSET(index!$I$2,MATCH(L$195,index!$I$3:$I$50,0),MONTH(CF表!$B244)),L$21*L$13/L$196,0)),0)","v":0}]
[null,"2026-09-01",{"$f":"IFERROR(IF($B245>C$15,0,IF(OFFSET(index!$I$2,MATCH(C$195,index!$I$3:$I$50,0),MONTH(CF表!$B245)),C$21*C$13/C$196,0)),0)","v":0},{"$f":"IFERROR(IF($B245>D$15,0,IF(OFFSET(index!$I$2,MATCH(D$195,index!$I$3:$I$50,0),MONTH(CF表!$B245)),D$21*D$13/D$196,0)),0)","v":0},{"$f":"IFERROR(IF($B245>E$15,0,IF(OFFSET(index!$I$2,MATCH(E$195,index!$I$3:$I$50,0),MONTH(CF表!$B245)),E$21*E$13/E$196,0)),0)","v":0},{"$f":"IFERROR(IF($B245>F$15,0,IF(OFFSET(index!$I$2,MATCH(F$195,index!$I$3:$I$50,0),MONTH(CF表!$B245)),F$21*F$13/F$196,0)),0)","v":0},{"$f":"IFERROR(IF($B245>G$15,0,IF(OFFSET(index!$I$2,MATCH(G$195,index!$I$3:$I$50,0),MONTH(CF表!$B245)),G$21*G$13/G$196,0)),0)","v":0},{"$f":"IFERROR(IF($B245>H$15,0,IF(OFFSET(index!$I$2,MATCH(H$195,index!$I$3:$I$50,0),MONTH(CF表!$B245)),H$21*H$13/H$196,0)),0)","v":0},{"$f":"IFERROR(IF($B245>I$15,0,IF(OFFSET(index!$I$2,MATCH(I$195,index!$I$3:$I$50,0),MONTH(CF表!$B245)),I$21*I$13/I$196,0)),0)","v":0},{"$f":"IFERROR(IF($B245>J$15,0,IF(OFFSET(index!$I$2,MATCH(J$195,index!$I$3:$I$50,0),MONTH(CF表!$B245)),J$21*J$13/J$196,0)),0)","v":0},{"$f":"IFERROR(IF($B245>K$15,0,IF(OFFSET(index!$I$2,MATCH(K$195,index!$I$3:$I$50,0),MONTH(CF表!$B245)),K$21*K$13/K$196,0)),0)","v":0},{"$f":"IFERROR(IF($B245>L$15,0,IF(OFFSET(index!$I$2,MATCH(L$195,index!$I$3:$I$50,0),MONTH(CF表!$B245)),L$21*L$13/L$196,0)),0)","v":0}]
[null,"2026-10-01",{"$f":"IFERROR(IF($B246>C$15,0,IF(OFFSET(index!$I$2,MATCH(C$195,index!$I$3:$I$50,0),MONTH(CF表!$B246)),C$21*C$13/C$196,0)),0)","v":0},{"$f":"IFERROR(IF($B246>D$15,0,IF(OFFSET(index!$I$2,MATCH(D$195,index!$I$3:$I$50,0),MONTH(CF表!$B246)),D$21*D$13/D$196,0)),0)","v":0},{"$f":"IFERROR(IF($B246>E$15,0,IF(OFFSET(index!$I$2,MATCH(E$195,index!$I$3:$I$50,0),MONTH(CF表!$B246)),E$21*E$13/E$196,0)),0)","v":0},{"$f":"IFERROR(IF($B246>F$15,0,IF(OFFSET(index!$I$2,MATCH(F$195,index!$I$3:$I$50,0),MONTH(CF表!$B246)),F$21*F$13/F$196,0)),0)","v":0},{"$f":"IFERROR(IF($B246>G$15,0,IF(OFFSET(index!$I$2,MATCH(G$195,index!$I$3:$I$50,0),MONTH(CF表!$B246)),G$21*G$13/G$196,0)),0)","v":0},{"$f":"IFERROR(IF($B246>H$15,0,IF(OFFSET(index!$I$2,MATCH(H$195,index!$I$3:$I$50,0),MONTH(CF表!$B246)),H$21*H$13/H$196,0)),0)","v":0},{"$f":"IFERROR(IF($B246>I$15,0,IF(OFFSET(index!$I$2,MATCH(I$195,index!$I$3:$I$50,0),MONTH(CF表!$B246)),I$21*I$13/I$196,0)),0)","v":0},{"$f":"IFERROR(IF($B246>J$15,0,IF(OFFSET(index!$I$2,MATCH(J$195,index!$I$3:$I$50,0),MONTH(CF表!$B246)),J$21*J$13/J$196,0)),0)","v":0},{"$f":"IFERROR(IF($B246>K$15,0,IF(OFFSET(index!$I$2,MATCH(K$195,index!$I$3:$I$50,0),MONTH(CF表!$B246)),K$21*K$13/K$196,0)),0)","v":0},{"$f":"IFERROR(IF($B246>L$15,0,IF(OFFSET(index!$I$2,MATCH(L$195,index!$I$3:$I$50,0),MONTH(CF表!$B246)),L$21*L$13/L$196,0)),0)","v":0}]
[null,"2026-11-01",{"$f":"IFERROR(IF($B247>C$15,0,IF(OFFSET(index!$I$2,MATCH(C$195,index!$I$3:$I$50,0),MONTH(CF表!$B247)),C$21*C$13/C$196,0)),0)","v":0},{"$f":"IFERROR(IF($B247>D$15,0,IF(OFFSET(index!$I$2,MATCH(D$195,index!$I$3:$I$50,0),MONTH(CF表!$B247)),D$21*D$13/D$196,0)),0)","v":0},{"$f":"IFERROR(IF($B247>E$15,0,IF(OFFSET(index!$I$2,MATCH(E$195,index!$I$3:$I$50,0),MONTH(CF表!$B247)),E$21*E$13/E$196,0)),0)","v":0},{"$f":"IFERROR(IF($B247>F$15,0,IF(OFFSET(index!$I$2,MATCH(F$195,index!$I$3:$I$50,0),MONTH(CF表!$B247)),F$21*F$13/F$196,0)),0)","v":0},{"$f":"IFERROR(IF($B247>G$15,0,IF(OFFSET(index!$I$2,MATCH(G$195,index!$I$3:$I$50,0),MONTH(CF表!$B247)),G$21*G$13/G$196,0)),0)","v":0},{"$f":"IFERROR(IF($B247>H$15,0,IF(OFFSET(index!$I$2,MATCH(H$195,index!$I$3:$I$50,0),MONTH(CF表!$B247)),H$21*H$13/H$196,0)),0)","v":0},{"$f":"IFERROR(IF($B247>I$15,0,IF(OFFSET(index!$I$2,MATCH(I$195,index!$I$3:$I$50,0),MONTH(CF表!$B247)),I$21*I$13/I$196,0)),0)","v":0},{"$f":"IFERROR(IF($B247>J$15,0,IF(OFFSET(index!$I$2,MATCH(J$195,index!$I$3:$I$50,0),MONTH(CF表!$B247)),J$21*J$13/J$196,0)),0)","v":0},{"$f":"IFERROR(IF($B247>K$15,0,IF(OFFSET(index!$I$2,MATCH(K$195,index!$I$3:$I$50,0),MONTH(CF表!$B247)),K$21*K$13/K$196,0)),0)","v":0},{"$f":"IFERROR(IF($B247>L$15,0,IF(OFFSET(index!$I$2,MATCH(L$195,index!$I$3:$I$50,0),MONTH(CF表!$B247)),L$21*L$13/L$196,0)),0)","v":0}]
[null,"2026-12-01",{"$f":"IFERROR(IF($B248>C$15,0,IF(OFFSET(index!$I$2,MATCH(C$195,index!$I$3:$I$50,0),MONTH(CF表!$B248)),C$21*C$13/C$196,0)),0)","v":0},{"$f":"IFERROR(IF($B248>D$15,0,IF(OFFSET(index!$I$2,MATCH(D$195,index!$I$3:$I$50,0),MONTH(CF表!$B248)),D$21*D$13/D$196,0)),0)","v":0},{"$f":"IFERROR(IF($B248>E$15,0,IF(OFFSET(index!$I$2,MATCH(E$195,index!$I$3:$I$50,0),MONTH(CF表!$B248)),E$21*E$13/E$196,0)),0)","v":0},{"$f":"IFERROR(IF($B248>F$15,0,IF(OFFSET(index!$I$2,MATCH(F$195,index!$I$3:$I$50,0),MONTH(CF表!$B248)),F$21*F$13/F$196,0)),0)","v":0},{"$f":"IFERROR(IF($B248>G$15,0,IF(OFFSET(index!$I$2,MATCH(G$195,index!$I$3:$I$50,0),MONTH(CF表!$B248)),G$21*G$13/G$196,0)),0)","v":0},{"$f":"IFERROR(IF($B248>H$15,0,IF(OFFSET(index!$I$2,MATCH(H$195,index!$I$3:$I$50,0),MONTH(CF表!$B248)),H$21*H$13/H$196,0)),0)","v":0},{"$f":"IFERROR(IF($B248>I$15,0,IF(OFFSET(index!$I$2,MATCH(I$195,index!$I$3:$I$50,0),MONTH(CF表!$B248)),I$21*I$13/I$196,0)),0)","v":0},{"$f":"IFERROR(IF($B248>J$15,0,IF(OFFSET(index!$I$2,MATCH(J$195,index!$I$3:$I$50,0),MONTH(CF表!$B248)),J$21*J$13/J$196,0)),0)","v":0},{"$f":"IFERROR(IF($B248>K$15,0,IF(OFFSET(index!$I$2,MATCH(K$195,index!$I$3:$I$50,0),MONTH(CF表!$B248)),K$21*K$13/K$196,0)),0)","v":0},{"$f":"IFERROR(IF($B248>L$15,0,IF(OFFSET(index!$I$2,MATCH(L$195,index!$I$3:$I$50,0),MONTH(CF表!$B248)),L$21*L$13/L$196,0)),0)","v":0}]
[null,"2027-01-01",{"$f":"IFERROR(IF($B249>C$15,0,IF(OFFSET(index!$I$2,MATCH(C$195,index!$I$3:$I$50,0),MONTH(CF表!$B249)),C$21*C$13/C$196,0)),0)","v":0},{"$f":"IFERROR(IF($B249>D$15,0,IF(OFFSET(index!$I$2,MATCH(D$195,index!$I$3:$I$50,0),MONTH(CF表!$B249)),D$21*D$13/D$196,0)),0)","v":0},{"$f":"IFERROR(IF($B249>E$15,0,IF(OFFSET(index!$I$2,MATCH(E$195,index!$I$3:$I$50,0),MONTH(CF表!$B249)),E$21*E$13/E$196,0)),0)","v":0},{"$f":"IFERROR(IF($B249>F$15,0,IF(OFFSET(index!$I$2,MATCH(F$195,index!$I$3:$I$50,0),MONTH(CF表!$B249)),F$21*F$13/F$196,0)),0)","v":0},{"$f":"IFERROR(IF($B249>G$15,0,IF(OFFSET(index!$I$2,MATCH(G$195,index!$I$3:$I$50,0),MONTH(CF表!$B249)),G$21*G$13/G$196,0)),0)","v":0},{"$f":"IFERROR(IF($B249>H$15,0,IF(OFFSET(index!$I$2,MATCH(H$195,index!$I$3:$I$50,0),MONTH(CF表!$B249)),H$21*H$13/H$196,0)),0)","v":0},{"$f":"IFERROR(IF($B249>I$15,0,IF(OFFSET(index!$I$2,MATCH(I$195,index!$I$3:$I$50,0),MONTH(CF表!$B249)),I$21*I$13/I$196,0)),0)","v":0},{"$f":"IFERROR(IF($B249>J$15,0,IF(OFFSET(index!$I$2,MATCH(J$195,index!$I$3:$I$50,0),MONTH(CF表!$B249)),J$21*J$13/J$196,0)),0)","v":0},{"$f":"IFERROR(IF($B249>K$15,0,IF(OFFSET(index!$I$2,MATCH(K$195,index!$I$3:$I$50,0),MONTH(CF表!$B249)),K$21*K$13/K$196,0)),0)","v":0},{"$f":"IFERROR(IF($B249>L$15,0,IF(OFFSET(index!$I$2,MATCH(L$195,index!$I$3:$I$50,0),MONTH(CF表!$B249)),L$21*L$13/L$196,0)),0)","v":0}]
[null,"2027-02-01",{"$f":"IFERROR(IF($B250>C$15,0,IF(OFFSET(index!$I$2,MATCH(C$195,index!$I$3:$I$50,0),MONTH(CF表!$B250)),C$21*C$13/C$196,0)),0)","v":0},{"$f":"IFERROR(IF($B250>D$15,0,IF(OFFSET(index!$I$2,MATCH(D$195,index!$I$3:$I$50,0),MONTH(CF表!$B250)),D$21*D$13/D$196,0)),0)","v":0},{"$f":"IFERROR(IF($B250>E$15,0,IF(OFFSET(index!$I$2,MATCH(E$195,index!$I$3:$I$50,0),MONTH(CF表!$B250)),E$21*E$13/E$196,0)),0)","v":0},{"$f":"IFERROR(IF($B250>F$15,0,IF(OFFSET(index!$I$2,MATCH(F$195,index!$I$3:$I$50,0),MONTH(CF表!$B250)),F$21*F$13/F$196,0)),0)","v":0},{"$f":"IFERROR(IF($B250>G$15,0,IF(OFFSET(index!$I$2,MATCH(G$195,index!$I$3:$I$50,0),MONTH(CF表!$B250)),G$21*G$13/G$196,0)),0)","v":0},{"$f":"IFERROR(IF($B250>H$15,0,IF(OFFSET(index!$I$2,MATCH(H$195,index!$I$3:$I$50,0),MONTH(CF表!$B250)),H$21*H$13/H$196,0)),0)","v":0},{"$f":"IFERROR(IF($B250>I$15,0,IF(OFFSET(index!$I$2,MATCH(I$195,index!$I$3:$I$50,0),MONTH(CF表!$B250)),I$21*I$13/I$196,0)),0)","v":0},{"$f":"IFERROR(IF($B250>J$15,0,IF(OFFSET(index!$I$2,MATCH(J$195,index!$I$3:$I$50,0),MONTH(CF表!$B250)),J$21*J$13/J$196,0)),0)","v":0},{"$f":"IFERROR(IF($B250>K$15,0,IF(OFFSET(index!$I$2,MATCH(K$195,index!$I$3:$I$50,0),MONTH(CF表!$B250)),K$21*K$13/K$196,0)),0)","v":0},{"$f":"IFERROR(IF($B250>L$15,0,IF(OFFSET(index!$I$2,MATCH(L$195,index!$I$3:$I$50,0),MONTH(CF表!$B250)),L$21*L$13/L$196,0)),0)","v":0}]
[null,"2027-03-01",{"$f":"IFERROR(IF($B251>C$15,0,IF(OFFSET(index!$I$2,MATCH(C$195,index!$I$3:$I$50,0),MONTH(CF表!$B251)),C$21*C$13/C$196,0)),0)","v":0},{"$f":"IFERROR(IF($B251>D$15,0,IF(OFFSET(index!$I$2,MATCH(D$195,index!$I$3:$I$50,0),MONTH(CF表!$B251)),D$21*D$13/D$196,0)),0)","v":0},{"$f":"IFERROR(IF($B251>E$15,0,IF(OFFSET(index!$I$2,MATCH(E$195,index!$I$3:$I$50,0),MONTH(CF表!$B251)),E$21*E$13/E$196,0)),0)","v":0},{"$f":"IFERROR(IF($B251>F$15,0,IF(OFFSET(index!$I$2,MATCH(F$195,index!$I$3:$I$50,0),MONTH(CF表!$B251)),F$21*F$13/F$196,0)),0)","v":0},{"$f":"IFERROR(IF($B251>G$15,0,IF(OFFSET(index!$I$2,MATCH(G$195,index!$I$3:$I$50,0),MONTH(CF表!$B251)),G$21*G$13/G$196,0)),0)","v":0},{"$f":"IFERROR(IF($B251>H$15,0,IF(OFFSET(index!$I$2,MATCH(H$195,index!$I$3:$I$50,0),MONTH(CF表!$B251)),H$21*H$13/H$196,0)),0)","v":0},{"$f":"IFERROR(IF($B251>I$15,0,IF(OFFSET(index!$I$2,MATCH(I$195,index!$I$3:$I$50,0),MONTH(CF表!$B251)),I$21*I$13/I$196,0)),0)","v":0},{"$f":"IFERROR(IF($B251>J$15,0,IF(OFFSET(index!$I$2,MATCH(J$195,index!$I$3:$I$50,0),MONTH(CF表!$B251)),J$21*J$13/J$196,0)),0)","v":0},{"$f":"IFERROR(IF($B251>K$15,0,IF(OFFSET(index!$I$2,MATCH(K$195,index!$I$3:$I$50,0),MONTH(CF表!$B251)),K$21*K$13/K$196,0)),0)","v":0},{"$f":"IFERROR(IF($B251>L$15,0,IF(OFFSET(index!$I$2,MATCH(L$195,index!$I$3:$I$50,0),MONTH(CF表!$B251)),L$21*L$13/L$196,0)),0)","v":0}]
[null,"2027-04-01",{"$f":"IFERROR(IF($B252>C$15,0,IF(OFFSET(index!$I$2,MATCH(C$195,index!$I$3:$I$50,0),MONTH(CF表!$B252)),C$21*C$13/C$196,0)),0)","v":0},{"$f":"IFERROR(IF($B252>D$15,0,IF(OFFSET(index!$I$2,MATCH(D$195,index!$I$3:$I$50,0),MONTH(CF表!$B252)),D$21*D$13/D$196,0)),0)","v":0},{"$f":"IFERROR(IF($B252>E$15,0,IF(OFFSET(index!$I$2,MATCH(E$195,index!$I$3:$I$50,0),MONTH(CF表!$B252)),E$21*E$13/E$196,0)),0)","v":0},{"$f":"IFERROR(IF($B252>F$15,0,IF(OFFSET(index!$I$2,MATCH(F$195,index!$I$3:$I$50,0),MONTH(CF表!$B252)),F$21*F$13/F$196,0)),0)","v":0},{"$f":"IFERROR(IF($B252>G$15,0,IF(OFFSET(index!$I$2,MATCH(G$195,index!$I$3:$I$50,0),MONTH(CF表!$B252)),G$21*G$13/G$196,0)),0)","v":0},{"$f":"IFERROR(IF($B252>H$15,0,IF(OFFSET(index!$I$2,MATCH(H$195,index!$I$3:$I$50,0),MONTH(CF表!$B252)),H$21*H$13/H$196,0)),0)","v":0},{"$f":"IFERROR(IF($B252>I$15,0,IF(OFFSET(index!$I$2,MATCH(I$195,index!$I$3:$I$50,0),MONTH(CF表!$B252)),I$21*I$13/I$196,0)),0)","v":0},{"$f":"IFERROR(IF($B252>J$15,0,IF(OFFSET(index!$I$2,MATCH(J$195,index!$I$3:$I$50,0),MONTH(CF表!$B252)),J$21*J$13/J$196,0)),0)","v":0},{"$f":"IFERROR(IF($B252>K$15,0,IF(OFFSET(index!$I$2,MATCH(K$195,index!$I$3:$I$50,0),MONTH(CF表!$B252)),K$21*K$13/K$196,0)),0)","v":0},{"$f":"IFERROR(IF($B252>L$15,0,IF(OFFSET(index!$I$2,MATCH(L$195,index!$I$3:$I$50,0),MONTH(CF表!$B252)),L$21*L$13/L$196,0)),0)","v":0}]
[null,"2027-05-01",{"$f":"IFERROR(IF($B253>C$15,0,IF(OFFSET(index!$I$2,MATCH(C$195,index!$I$3:$I$50,0),MONTH(CF表!$B253)),C$21*C$13/C$196,0)),0)","v":0},{"$f":"IFERROR(IF($B253>D$15,0,IF(OFFSET(index!$I$2,MATCH(D$195,index!$I$3:$I$50,0),MONTH(CF表!$B253)),D$21*D$13/D$196,0)),0)","v":0},{"$f":"IFERROR(IF($B253>E$15,0,IF(OFFSET(index!$I$2,MATCH(E$195,index!$I$3:$I$50,0),MONTH(CF表!$B253)),E$21*E$13/E$196,0)),0)","v":0},{"$f":"IFERROR(IF($B253>F$15,0,IF(OFFSET(index!$I$2,MATCH(F$195,index!$I$3:$I$50,0),MONTH(CF表!$B253)),F$21*F$13/F$196,0)),0)","v":0},{"$f":"IFERROR(IF($B253>G$15,0,IF(OFFSET(index!$I$2,MATCH(G$195,index!$I$3:$I$50,0),MONTH(CF表!$B253)),G$21*G$13/G$196,0)),0)","v":0},{"$f":"IFERROR(IF($B253>H$15,0,IF(OFFSET(index!$I$2,MATCH(H$195,index!$I$3:$I$50,0),MONTH(CF表!$B253)),H$21*H$13/H$196,0)),0)","v":0},{"$f":"IFERROR(IF($B253>I$15,0,IF(OFFSET(index!$I$2,MATCH(I$195,index!$I$3:$I$50,0),MONTH(CF表!$B253)),I$21*I$13/I$196,0)),0)","v":0},{"$f":"IFERROR(IF($B253>J$15,0,IF(OFFSET(index!$I$2,MATCH(J$195,index!$I$3:$I$50,0),MONTH(CF表!$B253)),J$21*J$13/J$196,0)),0)","v":0},{"$f":"IFERROR(IF($B253>K$15,0,IF(OFFSET(index!$I$2,MATCH(K$195,index!$I$3:$I$50,0),MONTH(CF表!$B253)),K$21*K$13/K$196,0)),0)","v":0},{"$f":"IFERROR(IF($B253>L$15,0,IF(OFFSET(index!$I$2,MATCH(L$195,index!$I$3:$I$50,0),MONTH(CF表!$B253)),L$21*L$13/L$196,0)),0)","v":0}]
[null,"2027-06-01",{"$f":"IFERROR(IF($B254>C$15,0,IF(OFFSET(index!$I$2,MATCH(C$195,index!$I$3:$I$50,0),MONTH(CF表!$B254)),C$21*C$13/C$196,0)),0)","v":0},{"$f":"IFERROR(IF($B254>D$15,0,IF(OFFSET(index!$I$2,MATCH(D$195,index!$I$3:$I$50,0),MONTH(CF表!$B254)),D$21*D$13/D$196,0)),0)","v":0},{"$f":"IFERROR(IF($B254>E$15,0,IF(OFFSET(index!$I$2,MATCH(E$195,index!$I$3:$I$50,0),MONTH(CF表!$B254)),E$21*E$13/E$196,0)),0)","v":0},{"$f":"IFERROR(IF($B254>F$15,0,IF(OFFSET(index!$I$2,MATCH(F$195,index!$I$3:$I$50,0),MONTH(CF表!$B254)),F$21*F$13/F$196,0)),0)","v":0},{"$f":"IFERROR(IF($B254>G$15,0,IF(OFFSET(index!$I$2,MATCH(G$195,index!$I$3:$I$50,0),MONTH(CF表!$B254)),G$21*G$13/G$196,0)),0)","v":0},{"$f":"IFERROR(IF($B254>H$15,0,IF(OFFSET(index!$I$2,MATCH(H$195,index!$I$3:$I$50,0),MONTH(CF表!$B254)),H$21*H$13/H$196,0)),0)","v":0},{"$f":"IFERROR(IF($B254>I$15,0,IF(OFFSET(index!$I$2,MATCH(I$195,index!$I$3:$I$50,0),MONTH(CF表!$B254)),I$21*I$13/I$196,0)),0)","v":0},{"$f":"IFERROR(IF($B254>J$15,0,IF(OFFSET(index!$I$2,MATCH(J$195,index!$I$3:$I$50,0),MONTH(CF表!$B254)),J$21*J$13/J$196,0)),0)","v":0},{"$f":"IFERROR(IF($B254>K$15,0,IF(OFFSET(index!$I$2,MATCH(K$195,index!$I$3:$I$50,0),MONTH(CF表!$B254)),K$21*K$13/K$196,0)),0)","v":0},{"$f":"IFERROR(IF($B254>L$15,0,IF(OFFSET(index!$I$2,MATCH(L$195,index!$I$3:$I$50,0),MONTH(CF表!$B254)),L$21*L$13/L$196,0)),0)","v":0}]
[null,"2027-07-01",{"$f":"IFERROR(IF($B255>C$15,0,IF(OFFSET(index!$I$2,MATCH(C$195,index!$I$3:$I$50,0),MONTH(CF表!$B255)),C$21*C$13/C$196,0)),0)","v":0},{"$f":"IFERROR(IF($B255>D$15,0,IF(OFFSET(index!$I$2,MATCH(D$195,index!$I$3:$I$50,0),MONTH(CF表!$B255)),D$21*D$13/D$196,0)),0)","v":0},{"$f":"IFERROR(IF($B255>E$15,0,IF(OFFSET(index!$I$2,MATCH(E$195,index!$I$3:$I$50,0),MONTH(CF表!$B255)),E$21*E$13/E$196,0)),0)","v":0},{"$f":"IFERROR(IF($B255>F$15,0,IF(OFFSET(index!$I$2,MATCH(F$195,index!$I$3:$I$50,0),MONTH(CF表!$B255)),F$21*F$13/F$196,0)),0)","v":0},{"$f":"IFERROR(IF($B255>G$15,0,IF(OFFSET(index!$I$2,MATCH(G$195,index!$I$3:$I$50,0),MONTH(CF表!$B255)),G$21*G$13/G$196,0)),0)","v":0},{"$f":"IFERROR(IF($B255>H$15,0,IF(OFFSET(index!$I$2,MATCH(H$195,index!$I$3:$I$50,0),MONTH(CF表!$B255)),H$21*H$13/H$196,0)),0)","v":0},{"$f":"IFERROR(IF($B255>I$15,0,IF(OFFSET(index!$I$2,MATCH(I$195,index!$I$3:$I$50,0),MONTH(CF表!$B255)),I$21*I$13/I$196,0)),0)","v":0},{"$f":"IFERROR(IF($B255>J$15,0,IF(OFFSET(index!$I$2,MATCH(J$195,index!$I$3:$I$50,0),MONTH(CF表!$B255)),J$21*J$13/J$196,0)),0)","v":0},{"$f":"IFERROR(IF($B255>K$15,0,IF(OFFSET(index!$I$2,MATCH(K$195,index!$I$3:$I$50,0),MONTH(CF表!$B255)),K$21*K$13/K$196,0)),0)","v":0},{"$f":"IFERROR(IF($B255>L$15,0,IF(OFFSET(index!$I$2,MATCH(L$195,index!$I$3:$I$50,0),MONTH(CF表!$B255)),L$21*L$13/L$196,0)),0)","v":0}]
[null,"2027-08-01",{"$f":"IFERROR(IF($B256>C$15,0,IF(OFFSET(index!$I$2,MATCH(C$195,index!$I$3:$I$50,0),MONTH(CF表!$B256)),C$21*C$13/C$196,0)),0)","v":0},{"$f":"IFERROR(IF($B256>D$15,0,IF(OFFSET(index!$I$2,MATCH(D$195,index!$I$3:$I$50,0),MONTH(CF表!$B256)),D$21*D$13/D$196,0)),0)","v":0},{"$f":"IFERROR(IF($B256>E$15,0,IF(OFFSET(index!$I$2,MATCH(E$195,index!$I$3:$I$50,0),MONTH(CF表!$B256)),E$21*E$13/E$196,0)),0)","v":0},{"$f":"IFERROR(IF($B256>F$15,0,IF(OFFSET(index!$I$2,MATCH(F$195,index!$I$3:$I$50,0),MONTH(CF表!$B256)),F$21*F$13/F$196,0)),0)","v":0},{"$f":"IFERROR(IF($B256>G$15,0,IF(OFFSET(index!$I$2,MATCH(G$195,index!$I$3:$I$50,0),MONTH(CF表!$B256)),G$21*G$13/G$196,0)),0)","v":0},{"$f":"IFERROR(IF($B256>H$15,0,IF(OFFSET(index!$I$2,MATCH(H$195,index!$I$3:$I$50,0),MONTH(CF表!$B256)),H$21*H$13/H$196,0)),0)","v":0},{"$f":"IFERROR(IF($B256>I$15,0,IF(OFFSET(index!$I$2,MATCH(I$195,index!$I$3:$I$50,0),MONTH(CF表!$B256)),I$21*I$13/I$196,0)),0)","v":0},{"$f":"IFERROR(IF($B256>J$15,0,IF(OFFSET(index!$I$2,MATCH(J$195,index!$I$3:$I$50,0),MONTH(CF表!$B256)),J$21*J$13/J$196,0)),0)","v":0},{"$f":"IFERROR(IF($B256>K$15,0,IF(OFFSET(index!$I$2,MATCH(K$195,index!$I$3:$I$50,0),MONTH(CF表!$B256)),K$21*K$13/K$196,0)),0)","v":0},{"$f":"IFERROR(IF($B256>L$15,0,IF(OFFSET(index!$I$2,MATCH(L$195,index!$I$3:$I$50,0),MONTH(CF表!$B256)),L$21*L$13/L$196,0)),0)","v":0}]
[null,"2027-09-01",{"$f":"IFERROR(IF($B257>C$15,0,IF(OFFSET(index!$I$2,MATCH(C$195,index!$I$3:$I$50,0),MONTH(CF表!$B257)),C$21*C$13/C$196,0)),0)","v":0},{"$f":"IFERROR(IF($B257>D$15,0,IF(OFFSET(index!$I$2,MATCH(D$195,index!$I$3:$I$50,0),MONTH(CF表!$B257)),D$21*D$13/D$196,0)),0)","v":0},{"$f":"IFERROR(IF($B257>E$15,0,IF(OFFSET(index!$I$2,MATCH(E$195,index!$I$3:$I$50,0),MONTH(CF表!$B257)),E$21*E$13/E$196,0)),0)","v":0},{"$f":"IFERROR(IF($B257>F$15,0,IF(OFFSET(index!$I$2,MATCH(F$195,index!$I$3:$I$50,0),MONTH(CF表!$B257)),F$21*F$13/F$196,0)),0)","v":0},{"$f":"IFERROR(IF($B257>G$15,0,IF(OFFSET(index!$I$2,MATCH(G$195,index!$I$3:$I$50,0),MONTH(CF表!$B257)),G$21*G$13/G$196,0)),0)","v":0},{"$f":"IFERROR(IF($B257>H$15,0,IF(OFFSET(index!$I$2,MATCH(H$195,index!$I$3:$I$50,0),MONTH(CF表!$B257)),H$21*H$13/H$196,0)),0)","v":0},{"$f":"IFERROR(IF($B257>I$15,0,IF(OFFSET(index!$I$2,MATCH(I$195,index!$I$3:$I$50,0),MONTH(CF表!$B257)),I$21*I$13/I$196,0)),0)","v":0},{"$f":"IFERROR(IF($B257>J$15,0,IF(OFFSET(index!$I$2,MATCH(J$195,index!$I$3:$I$50,0),MONTH(CF表!$B257)),J$21*J$13/J$196,0)),0)","v":0},{"$f":"IFERROR(IF($B257>K$15,0,IF(OFFSET(index!$I$2,MATCH(K$195,index!$I$3:$I$50,0),MONTH(CF表!$B257)),K$21*K$13/K$196,0)),0)","v":0},{"$f":"IFERROR(IF($B257>L$15,0,IF(OFFSET(index!$I$2,MATCH(L$195,index!$I$3:$I$50,0),MONTH(CF表!$B257)),L$21*L$13/L$196,0)),0)","v":0}]
[null,"2027-10-01",{"$f":"IFERROR(IF($B258>C$15,0,IF(OFFSET(index!$I$2,MATCH(C$195,index!$I$3:$I$50,0),MONTH(CF表!$B258)),C$21*C$13/C$196,0)),0)","v":0},{"$f":"IFERROR(IF($B258>D$15,0,IF(OFFSET(index!$I$2,MATCH(D$195,index!$I$3:$I$50,0),MONTH(CF表!$B258)),D$21*D$13/D$196,0)),0)","v":0},{"$f":"IFERROR(IF($B258>E$15,0,IF(OFFSET(index!$I$2,MATCH(E$195,index!$I$3:$I$50,0),MONTH(CF表!$B258)),E$21*E$13/E$196,0)),0)","v":0},{"$f":"IFERROR(IF($B258>F$15,0,IF(OFFSET(index!$I$2,MATCH(F$195,index!$I$3:$I$50,0),MONTH(CF表!$B258)),F$21*F$13/F$196,0)),0)","v":0},{"$f":"IFERROR(IF($B258>G$15,0,IF(OFFSET(index!$I$2,MATCH(G$195,index!$I$3:$I$50,0),MONTH(CF表!$B258)),G$21*G$13/G$196,0)),0)","v":0},{"$f":"IFERROR(IF($B258>H$15,0,IF(OFFSET(index!$I$2,MATCH(H$195,index!$I$3:$I$50,0),MONTH(CF表!$B258)),H$21*H$13/H$196,0)),0)","v":0},{"$f":"IFERROR(IF($B258>I$15,0,IF(OFFSET(index!$I$2,MATCH(I$195,index!$I$3:$I$50,0),MONTH(CF表!$B258)),I$21*I$13/I$196,0)),0)","v":0},{"$f":"IFERROR(IF($B258>J$15,0,IF(OFFSET(index!$I$2,MATCH(J$195,index!$I$3:$I$50,0),MONTH(CF表!$B258)),J$21*J$13/J$196,0)),0)","v":0},{"$f":"IFERROR(IF($B258>K$15,0,IF(OFFSET(index!$I$2,MATCH(K$195,index!$I$3:$I$50,0),MONTH(CF表!$B258)),K$21*K$13/K$196,0)),0)","v":0},{"$f":"IFERROR(IF($B258>L$15,0,IF(OFFSET(index!$I$2,MATCH(L$195,index!$I$3:$I$50,0),MONTH(CF表!$B258)),L$21*L$13/L$196,0)),0)","v":0}]
[null,"2027-11-01",{"$f":"IFERROR(IF($B259>C$15,0,IF(OFFSET(index!$I$2,MATCH(C$195,index!$I$3:$I$50,0),MONTH(CF表!$B259)),C$21*C$13/C$196,0)),0)","v":0},{"$f":"IFERROR(IF($B259>D$15,0,IF(OFFSET(index!$I$2,MATCH(D$195,index!$I$3:$I$50,0),MONTH(CF表!$B259)),D$21*D$13/D$196,0)),0)","v":0},{"$f":"IFERROR(IF($B259>E$15,0,IF(OFFSET(index!$I$2,MATCH(E$195,index!$I$3:$I$50,0),MONTH(CF表!$B259)),E$21*E$13/E$196,0)),0)","v":0},{"$f":"IFERROR(IF($B259>F$15,0,IF(OFFSET(index!$I$2,MATCH(F$195,index!$I$3:$I$50,0),MONTH(CF表!$B259)),F$21*F$13/F$196,0)),0)","v":0},{"$f":"IFERROR(IF($B259>G$15,0,IF(OFFSET(index!$I$2,MATCH(G$195,index!$I$3:$I$50,0),MONTH(CF表!$B259)),G$21*G$13/G$196,0)),0)","v":0},{"$f":"IFERROR(IF($B259>H$15,0,IF(OFFSET(index!$I$2,MATCH(H$195,index!$I$3:$I$50,0),MONTH(CF表!$B259)),H$21*H$13/H$196,0)),0)","v":0},{"$f":"IFERROR(IF($B259>I$15,0,IF(OFFSET(index!$I$2,MATCH(I$195,index!$I$3:$I$50,0),MONTH(CF表!$B259)),I$21*I$13/I$196,0)),0)","v":0},{"$f":"IFERROR(IF($B259>J$15,0,IF(OFFSET(index!$I$2,MATCH(J$195,index!$I$3:$I$50,0),MONTH(CF表!$B259)),J$21*J$13/J$196,0)),0)","v":0},{"$f":"IFERROR(IF($B259>K$15,0,IF(OFFSET(index!$I$2,MATCH(K$195,index!$I$3:$I$50,0),MONTH(CF表!$B259)),K$21*K$13/K$196,0)),0)","v":0},{"$f":"IFERROR(IF($B259>L$15,0,IF(OFFSET(index!$I$2,MATCH(L$195,index!$I$3:$I$50,0),MONTH(CF表!$B259)),L$21*L$13/L$196,0)),0)","v":0}]
[null,"2027-12-01",{"$f":"IFERROR(IF($B260>C$15,0,IF(OFFSET(index!$I$2,MATCH(C$195,index!$I$3:$I$50,0),MONTH(CF表!$B260)),C$21*C$13/C$196,0)),0)","v":0},{"$f":"IFERROR(IF($B260>D$15,0,IF(OFFSET(index!$I$2,MATCH(D$195,index!$I$3:$I$50,0),MONTH(CF表!$B260)),D$21*D$13/D$196,0)),0)","v":0},{"$f":"IFERROR(IF($B260>E$15,0,IF(OFFSET(index!$I$2,MATCH(E$195,index!$I$3:$I$50,0),MONTH(CF表!$B260)),E$21*E$13/E$196,0)),0)","v":0},{"$f":"IFERROR(IF($B260>F$15,0,IF(OFFSET(index!$I$2,MATCH(F$195,index!$I$3:$I$50,0),MONTH(CF表!$B260)),F$21*F$13/F$196,0)),0)","v":0},{"$f":"IFERROR(IF($B260>G$15,0,IF(OFFSET(index!$I$2,MATCH(G$195,index!$I$3:$I$50,0),MONTH(CF表!$B260)),G$21*G$13/G$196,0)),0)","v":0},{"$f":"IFERROR(IF($B260>H$15,0,IF(OFFSET(index!$I$2,MATCH(H$195,index!$I$3:$I$50,0),MONTH(CF表!$B260)),H$21*H$13/H$196,0)),0)","v":0},{"$f":"IFERROR(IF($B260>I$15,0,IF(OFFSET(index!$I$2,MATCH(I$195,index!$I$3:$I$50,0),MONTH(CF表!$B260)),I$21*I$13/I$196,0)),0)","v":0},{"$f":"IFERROR(IF($B260>J$15,0,IF(OFFSET(index!$I$2,MATCH(J$195,index!$I$3:$I$50,0),MONTH(CF表!$B260)),J$21*J$13/J$196,0)),0)","v":0},{"$f":"IFERROR(IF($B260>K$15,0,IF(OFFSET(index!$I$2,MATCH(K$195,index!$I$3:$I$50,0),MONTH(CF表!$B260)),K$21*K$13/K$196,0)),0)","v":0},{"$f":"IFERROR(IF($B260>L$15,0,IF(OFFSET(index!$I$2,MATCH(L$195,index!$I$3:$I$50,0),MONTH(CF表!$B260)),L$21*L$13/L$196,0)),0)","v":0}]
[null,"2028-01-01",{"$f":"IFERROR(IF($B261>C$15,0,IF(OFFSET(index!$I$2,MATCH(C$195,index!$I$3:$I$50,0),MONTH(CF表!$B261)),C$21*C$13/C$196,0)),0)","v":0},{"$f":"IFERROR(IF($B261>D$15,0,IF(OFFSET(index!$I$2,MATCH(D$195,index!$I$3:$I$50,0),MONTH(CF表!$B261)),D$21*D$13/D$196,0)),0)","v":0},{"$f":"IFERROR(IF($B261>E$15,0,IF(OFFSET(index!$I$2,MATCH(E$195,index!$I$3:$I$50,0),MONTH(CF表!$B261)),E$21*E$13/E$196,0)),0)","v":0},{"$f":"IFERROR(IF($B261>F$15,0,IF(OFFSET(index!$I$2,MATCH(F$195,index!$I$3:$I$50,0),MONTH(CF表!$B261)),F$21*F$13/F$196,0)),0)","v":0},{"$f":"IFERROR(IF($B261>G$15,0,IF(OFFSET(index!$I$2,MATCH(G$195,index!$I$3:$I$50,0),MONTH(CF表!$B261)),G$21*G$13/G$196,0)),0)","v":0},{"$f":"IFERROR(IF($B261>H$15,0,IF(OFFSET(index!$I$2,MATCH(H$195,index!$I$3:$I$50,0),MONTH(CF表!$B261)),H$21*H$13/H$196,0)),0)","v":0},{"$f":"IFERROR(IF($B261>I$15,0,IF(OFFSET(index!$I$2,MATCH(I$195,index!$I$3:$I$50,0),MONTH(CF表!$B261)),I$21*I$13/I$196,0)),0)","v":0},{"$f":"IFERROR(IF($B261>J$15,0,IF(OFFSET(index!$I$2,MATCH(J$195,index!$I$3:$I$50,0),MONTH(CF表!$B261)),J$21*J$13/J$196,0)),0)","v":0},{"$f":"IFERROR(IF($B261>K$15,0,IF(OFFSET(index!$I$2,MATCH(K$195,index!$I$3:$I$50,0),MONTH(CF表!$B261)),K$21*K$13/K$196,0)),0)","v":0},{"$f":"IFERROR(IF($B261>L$15,0,IF(OFFSET(index!$I$2,MATCH(L$195,index!$I$3:$I$50,0),MONTH(CF表!$B261)),L$21*L$13/L$196,0)),0)","v":0}]
[null,"2028-02-01",{"$f":"IFERROR(IF($B262>C$15,0,IF(OFFSET(index!$I$2,MATCH(C$195,index!$I$3:$I$50,0),MONTH(CF表!$B262)),C$21*C$13/C$196,0)),0)","v":0},{"$f":"IFERROR(IF($B262>D$15,0,IF(OFFSET(index!$I$2,MATCH(D$195,index!$I$3:$I$50,0),MONTH(CF表!$B262)),D$21*D$13/D$196,0)),0)","v":0},{"$f":"IFERROR(IF($B262>E$15,0,IF(OFFSET(index!$I$2,MATCH(E$195,index!$I$3:$I$50,0),MONTH(CF表!$B262)),E$21*E$13/E$196,0)),0)","v":0},{"$f":"IFERROR(IF($B262>F$15,0,IF(OFFSET(index!$I$2,MATCH(F$195,index!$I$3:$I$50,0),MONTH(CF表!$B262)),F$21*F$13/F$196,0)),0)","v":0},{"$f":"IFERROR(IF($B262>G$15,0,IF(OFFSET(index!$I$2,MATCH(G$195,index!$I$3:$I$50,0),MONTH(CF表!$B262)),G$21*G$13/G$196,0)),0)","v":0},{"$f":"IFERROR(IF($B262>H$15,0,IF(OFFSET(index!$I$2,MATCH(H$195,index!$I$3:$I$50,0),MONTH(CF表!$B262)),H$21*H$13/H$196,0)),0)","v":0},{"$f":"IFERROR(IF($B262>I$15,0,IF(OFFSET(index!$I$2,MATCH(I$195,index!$I$3:$I$50,0),MONTH(CF表!$B262)),I$21*I$13/I$196,0)),0)","v":0},{"$f":"IFERROR(IF($B262>J$15,0,IF(OFFSET(index!$I$2,MATCH(J$195,index!$I$3:$I$50,0),MONTH(CF表!$B262)),J$21*J$13/J$196,0)),0)","v":0},{"$f":"IFERROR(IF($B262>K$15,0,IF(OFFSET(index!$I$2,MATCH(K$195,index!$I$3:$I$50,0),MONTH(CF表!$B262)),K$21*K$13/K$196,0)),0)","v":0},{"$f":"IFERROR(IF($B262>L$15,0,IF(OFFSET(index!$I$2,MATCH(L$195,index!$I$3:$I$50,0),MONTH(CF表!$B262)),L$21*L$13/L$196,0)),0)","v":0}]
[null,"2028-03-01",{"$f":"IFERROR(IF($B263>C$15,0,IF(OFFSET(index!$I$2,MATCH(C$195,index!$I$3:$I$50,0),MONTH(CF表!$B263)),C$21*C$13/C$196,0)),0)","v":0},{"$f":"IFERROR(IF($B263>D$15,0,IF(OFFSET(index!$I$2,MATCH(D$195,index!$I$3:$I$50,0),MONTH(CF表!$B263)),D$21*D$13/D$196,0)),0)","v":0},{"$f":"IFERROR(IF($B263>E$15,0,IF(OFFSET(index!$I$2,MATCH(E$195,index!$I$3:$I$50,0),MONTH(CF表!$B263)),E$21*E$13/E$196,0)),0)","v":0},{"$f":"IFERROR(IF($B263>F$15,0,IF(OFFSET(index!$I$2,MATCH(F$195,index!$I$3:$I$50,0),MONTH(CF表!$B263)),F$21*F$13/F$196,0)),0)","v":0},{"$f":"IFERROR(IF($B263>G$15,0,IF(OFFSET(index!$I$2,MATCH(G$195,index!$I$3:$I$50,0),MONTH(CF表!$B263)),G$21*G$13/G$196,0)),0)","v":0},{"$f":"IFERROR(IF($B263>H$15,0,IF(OFFSET(index!$I$2,MATCH(H$195,index!$I$3:$I$50,0),MONTH(CF表!$B263)),H$21*H$13/H$196,0)),0)","v":0},{"$f":"IFERROR(IF($B263>I$15,0,IF(OFFSET(index!$I$2,MATCH(I$195,index!$I$3:$I$50,0),MONTH(CF表!$B263)),I$21*I$13/I$196,0)),0)","v":0},{"$f":"IFERROR(IF($B263>J$15,0,IF(OFFSET(index!$I$2,MATCH(J$195,index!$I$3:$I$50,0),MONTH(CF表!$B263)),J$21*J$13/J$196,0)),0)","v":0},{"$f":"IFERROR(IF($B263>K$15,0,IF(OFFSET(index!$I$2,MATCH(K$195,index!$I$3:$I$50,0),MONTH(CF表!$B263)),K$21*K$13/K$196,0)),0)","v":0},{"$f":"IFERROR(IF($B263>L$15,0,IF(OFFSET(index!$I$2,MATCH(L$195,index!$I$3:$I$50,0),MONTH(CF表!$B263)),L$21*L$13/L$196,0)),0)","v":0}]
[null,"2028-04-01",{"$f":"IFERROR(IF($B264>C$15,0,IF(OFFSET(index!$I$2,MATCH(C$195,index!$I$3:$I$50,0),MONTH(CF表!$B264)),C$21*C$13/C$196,0)),0)","v":0},{"$f":"IFERROR(IF($B264>D$15,0,IF(OFFSET(index!$I$2,MATCH(D$195,index!$I$3:$I$50,0),MONTH(CF表!$B264)),D$21*D$13/D$196,0)),0)","v":0},{"$f":"IFERROR(IF($B264>E$15,0,IF(OFFSET(index!$I$2,MATCH(E$195,index!$I$3:$I$50,0),MONTH(CF表!$B264)),E$21*E$13/E$196,0)),0)","v":0},{"$f":"IFERROR(IF($B264>F$15,0,IF(OFFSET(index!$I$2,MATCH(F$195,index!$I$3:$I$50,0),MONTH(CF表!$B264)),F$21*F$13/F$196,0)),0)","v":0},{"$f":"IFERROR(IF($B264>G$15,0,IF(OFFSET(index!$I$2,MATCH(G$195,index!$I$3:$I$50,0),MONTH(CF表!$B264)),G$21*G$13/G$196,0)),0)","v":0},{"$f":"IFERROR(IF($B264>H$15,0,IF(OFFSET(index!$I$2,MATCH(H$195,index!$I$3:$I$50,0),MONTH(CF表!$B264)),H$21*H$13/H$196,0)),0)","v":0},{"$f":"IFERROR(IF($B264>I$15,0,IF(OFFSET(index!$I$2,MATCH(I$195,index!$I$3:$I$50,0),MONTH(CF表!$B264)),I$21*I$13/I$196,0)),0)","v":0},{"$f":"IFERROR(IF($B264>J$15,0,IF(OFFSET(index!$I$2,MATCH(J$195,index!$I$3:$I$50,0),MONTH(CF表!$B264)),J$21*J$13/J$196,0)),0)","v":0},{"$f":"IFERROR(IF($B264>K$15,0,IF(OFFSET(index!$I$2,MATCH(K$195,index!$I$3:$I$50,0),MONTH(CF表!$B264)),K$21*K$13/K$196,0)),0)","v":0},{"$f":"IFERROR(IF($B264>L$15,0,IF(OFFSET(index!$I$2,MATCH(L$195,index!$I$3:$I$50,0),MONTH(CF表!$B264)),L$21*L$13/L$196,0)),0)","v":0}]
[null,"2028-05-01",{"$f":"IFERROR(IF($B265>C$15,0,IF(OFFSET(index!$I$2,MATCH(C$195,index!$I$3:$I$50,0),MONTH(CF表!$B265)),C$21*C$13/C$196,0)),0)","v":0},{"$f":"IFERROR(IF($B265>D$15,0,IF(OFFSET(index!$I$2,MATCH(D$195,index!$I$3:$I$50,0),MONTH(CF表!$B265)),D$21*D$13/D$196,0)),0)","v":0},{"$f":"IFERROR(IF($B265>E$15,0,IF(OFFSET(index!$I$2,MATCH(E$195,index!$I$3:$I$50,0),MONTH(CF表!$B265)),E$21*E$13/E$196,0)),0)","v":0},{"$f":"IFERROR(IF($B265>F$15,0,IF(OFFSET(index!$I$2,MATCH(F$195,index!$I$3:$I$50,0),MONTH(CF表!$B265)),F$21*F$13/F$196,0)),0)","v":0},{"$f":"IFERROR(IF($B265>G$15,0,IF(OFFSET(index!$I$2,MATCH(G$195,index!$I$3:$I$50,0),MONTH(CF表!$B265)),G$21*G$13/G$196,0)),0)","v":0},{"$f":"IFERROR(IF($B265>H$15,0,IF(OFFSET(index!$I$2,MATCH(H$195,index!$I$3:$I$50,0),MONTH(CF表!$B265)),H$21*H$13/H$196,0)),0)","v":0},{"$f":"IFERROR(IF($B265>I$15,0,IF(OFFSET(index!$I$2,MATCH(I$195,index!$I$3:$I$50,0),MONTH(CF表!$B265)),I$21*I$13/I$196,0)),0)","v":0},{"$f":"IFERROR(IF($B265>J$15,0,IF(OFFSET(index!$I$2,MATCH(J$195,index!$I$3:$I$50,0),MONTH(CF表!$B265)),J$21*J$13/J$196,0)),0)","v":0},{"$f":"IFERROR(IF($B265>K$15,0,IF(OFFSET(index!$I$2,MATCH(K$195,index!$I$3:$I$50,0),MONTH(CF表!$B265)),K$21*K$13/K$196,0)),0)","v":0},{"$f":"IFERROR(IF($B265>L$15,0,IF(OFFSET(index!$I$2,MATCH(L$195,index!$I$3:$I$50,0),MONTH(CF表!$B265)),L$21*L$13/L$196,0)),0)","v":0}]
[null,"2028-06-01",{"$f":"IFERROR(IF($B266>C$15,0,IF(OFFSET(index!$I$2,MATCH(C$195,index!$I$3:$I$50,0),MONTH(CF表!$B266)),C$21*C$13/C$196,0)),0)","v":0},{"$f":"IFERROR(IF($B266>D$15,0,IF(OFFSET(index!$I$2,MATCH(D$195,index!$I$3:$I$50,0),MONTH(CF表!$B266)),D$21*D$13/D$196,0)),0)","v":0},{"$f":"IFERROR(IF($B266>E$15,0,IF(OFFSET(index!$I$2,MATCH(E$195,index!$I$3:$I$50,0),MONTH(CF表!$B266)),E$21*E$13/E$196,0)),0)","v":0},{"$f":"IFERROR(IF($B266>F$15,0,IF(OFFSET(index!$I$2,MATCH(F$195,index!$I$3:$I$50,0),MONTH(CF表!$B266)),F$21*F$13/F$196,0)),0)","v":0},{"$f":"IFERROR(IF($B266>G$15,0,IF(OFFSET(index!$I$2,MATCH(G$195,index!$I$3:$I$50,0),MONTH(CF表!$B266)),G$21*G$13/G$196,0)),0)","v":0},{"$f":"IFERROR(IF($B266>H$15,0,IF(OFFSET(index!$I$2,MATCH(H$195,index!$I$3:$I$50,0),MONTH(CF表!$B266)),H$21*H$13/H$196,0)),0)","v":0},{"$f":"IFERROR(IF($B266>I$15,0,IF(OFFSET(index!$I$2,MATCH(I$195,index!$I$3:$I$50,0),MONTH(CF表!$B266)),I$21*I$13/I$196,0)),0)","v":0},{"$f":"IFERROR(IF($B266>J$15,0,IF(OFFSET(index!$I$2,MATCH(J$195,index!$I$3:$I$50,0),MONTH(CF表!$B266)),J$21*J$13/J$196,0)),0)","v":0},{"$f":"IFERROR(IF($B266>K$15,0,IF(OFFSET(index!$I$2,MATCH(K$195,index!$I$3:$I$50,0),MONTH(CF表!$B266)),K$21*K$13/K$196,0)),0)","v":0},{"$f":"IFERROR(IF($B266>L$15,0,IF(OFFSET(index!$I$2,MATCH(L$195,index!$I$3:$I$50,0),MONTH(CF表!$B266)),L$21*L$13/L$196,0)),0)","v":0}]
[null,"2028-07-01",{"$f":"IFERROR(IF($B267>C$15,0,IF(OFFSET(index!$I$2,MATCH(C$195,index!$I$3:$I$50,0),MONTH(CF表!$B267)),C$21*C$13/C$196,0)),0)","v":0},{"$f":"IFERROR(IF($B267>D$15,0,IF(OFFSET(index!$I$2,MATCH(D$195,index!$I$3:$I$50,0),MONTH(CF表!$B267)),D$21*D$13/D$196,0)),0)","v":0},{"$f":"IFERROR(IF($B267>E$15,0,IF(OFFSET(index!$I$2,MATCH(E$195,index!$I$3:$I$50,0),MONTH(CF表!$B267)),E$21*E$13/E$196,0)),0)","v":0},{"$f":"IFERROR(IF($B267>F$15,0,IF(OFFSET(index!$I$2,MATCH(F$195,index!$I$3:$I$50,0),MONTH(CF表!$B267)),F$21*F$13/F$196,0)),0)","v":0},{"$f":"IFERROR(IF($B267>G$15,0,IF(OFFSET(index!$I$2,MATCH(G$195,index!$I$3:$I$50,0),MONTH(CF表!$B267)),G$21*G$13/G$196,0)),0)","v":0},{"$f":"IFERROR(IF($B267>H$15,0,IF(OFFSET(index!$I$2,MATCH(H$195,index!$I$3:$I$50,0),MONTH(CF表!$B267)),H$21*H$13/H$196,0)),0)","v":0},{"$f":"IFERROR(IF($B267>I$15,0,IF(OFFSET(index!$I$2,MATCH(I$195,index!$I$3:$I$50,0),MONTH(CF表!$B267)),I$21*I$13/I$196,0)),0)","v":0},{"$f":"IFERROR(IF($B267>J$15,0,IF(OFFSET(index!$I$2,MATCH(J$195,index!$I$3:$I$50,0),MONTH(CF表!$B267)),J$21*J$13/J$196,0)),0)","v":0},{"$f":"IFERROR(IF($B267>K$15,0,IF(OFFSET(index!$I$2,MATCH(K$195,index!$I$3:$I$50,0),MONTH(CF表!$B267)),K$21*K$13/K$196,0)),0)","v":0},{"$f":"IFERROR(IF($B267>L$15,0,IF(OFFSET(index!$I$2,MATCH(L$195,index!$I$3:$I$50,0),MONTH(CF表!$B267)),L$21*L$13/L$196,0)),0)","v":0}]
[null,"2028-08-01",{"$f":"IFERROR(IF($B268>C$15,0,IF(OFFSET(index!$I$2,MATCH(C$195,index!$I$3:$I$50,0),MONTH(CF表!$B268)),C$21*C$13/C$196,0)),0)","v":0},{"$f":"IFERROR(IF($B268>D$15,0,IF(OFFSET(index!$I$2,MATCH(D$195,index!$I$3:$I$50,0),MONTH(CF表!$B268)),D$21*D$13/D$196,0)),0)","v":0},{"$f":"IFERROR(IF($B268>E$15,0,IF(OFFSET(index!$I$2,MATCH(E$195,index!$I$3:$I$50,0),MONTH(CF表!$B268)),E$21*E$13/E$196,0)),0)","v":0},{"$f":"IFERROR(IF($B268>F$15,0,IF(OFFSET(index!$I$2,MATCH(F$195,index!$I$3:$I$50,0),MONTH(CF表!$B268)),F$21*F$13/F$196,0)),0)","v":0},{"$f":"IFERROR(IF($B268>G$15,0,IF(OFFSET(index!$I$2,MATCH(G$195,index!$I$3:$I$50,0),MONTH(CF表!$B268)),G$21*G$13/G$196,0)),0)","v":0},{"$f":"IFERROR(IF($B268>H$15,0,IF(OFFSET(index!$I$2,MATCH(H$195,index!$I$3:$I$50,0),MONTH(CF表!$B268)),H$21*H$13/H$196,0)),0)","v":0},{"$f":"IFERROR(IF($B268>I$15,0,IF(OFFSET(index!$I$2,MATCH(I$195,index!$I$3:$I$50,0),MONTH(CF表!$B268)),I$21*I$13/I$196,0)),0)","v":0},{"$f":"IFERROR(IF($B268>J$15,0,IF(OFFSET(index!$I$2,MATCH(J$195,index!$I$3:$I$50,0),MONTH(CF表!$B268)),J$21*J$13/J$196,0)),0)","v":0},{"$f":"IFERROR(IF($B268>K$15,0,IF(OFFSET(index!$I$2,MATCH(K$195,index!$I$3:$I$50,0),MONTH(CF表!$B268)),K$21*K$13/K$196,0)),0)","v":0},{"$f":"IFERROR(IF($B268>L$15,0,IF(OFFSET(index!$I$2,MATCH(L$195,index!$I$3:$I$50,0),MONTH(CF表!$B268)),L$21*L$13/L$196,0)),0)","v":0}]
[null,"2028-09-01",{"$f":"IFERROR(IF($B269>C$15,0,IF(OFFSET(index!$I$2,MATCH(C$195,index!$I$3:$I$50,0),MONTH(CF表!$B269)),C$21*C$13/C$196,0)),0)","v":0},{"$f":"IFERROR(IF($B269>D$15,0,IF(OFFSET(index!$I$2,MATCH(D$195,index!$I$3:$I$50,0),MONTH(CF表!$B269)),D$21*D$13/D$196,0)),0)","v":0},{"$f":"IFERROR(IF($B269>E$15,0,IF(OFFSET(index!$I$2,MATCH(E$195,index!$I$3:$I$50,0),MONTH(CF表!$B269)),E$21*E$13/E$196,0)),0)","v":0},{"$f":"IFERROR(IF($B269>F$15,0,IF(OFFSET(index!$I$2,MATCH(F$195,index!$I$3:$I$50,0),MONTH(CF表!$B269)),F$21*F$13/F$196,0)),0)","v":0},{"$f":"IFERROR(IF($B269>G$15,0,IF(OFFSET(index!$I$2,MATCH(G$195,index!$I$3:$I$50,0),MONTH(CF表!$B269)),G$21*G$13/G$196,0)),0)","v":0},{"$f":"IFERROR(IF($B269>H$15,0,IF(OFFSET(index!$I$2,MATCH(H$195,index!$I$3:$I$50,0),MONTH(CF表!$B269)),H$21*H$13/H$196,0)),0)","v":0},{"$f":"IFERROR(IF($B269>I$15,0,IF(OFFSET(index!$I$2,MATCH(I$195,index!$I$3:$I$50,0),MONTH(CF表!$B269)),I$21*I$13/I$196,0)),0)","v":0},{"$f":"IFERROR(IF($B269>J$15,0,IF(OFFSET(index!$I$2,MATCH(J$195,index!$I$3:$I$50,0),MONTH(CF表!$B269)),J$21*J$13/J$196,0)),0)","v":0},{"$f":"IFERROR(IF($B269>K$15,0,IF(OFFSET(index!$I$2,MATCH(K$195,index!$I$3:$I$50,0),MONTH(CF表!$B269)),K$21*K$13/K$196,0)),0)","v":0},{"$f":"IFERROR(IF($B269>L$15,0,IF(OFFSET(index!$I$2,MATCH(L$195,index!$I$3:$I$50,0),MONTH(CF表!$B269)),L$21*L$13/L$196,0)),0)","v":0}]
[null,{"$f":"EDATE(B269,1)","v":"2028-10-01"},{"$f":"IFERROR(IF($B270>C$15,0,IF(OFFSET(index!$I$2,MATCH(C$195,index!$I$3:$I$50,0),MONTH(CF表!$B270)),C$21*C$13/C$196,0)),0)","v":0},{"$f":"IFERROR(IF($B270>D$15,0,IF(OFFSET(index!$I$2,MATCH(D$195,index!$I$3:$I$50,0),MONTH(CF表!$B270)),D$21*D$13/D$196,0)),0)","v":0},{"$f":"IFERROR(IF($B270>E$15,0,IF(OFFSET(index!$I$2,MATCH(E$195,index!$I$3:$I$50,0),MONTH(CF表!$B270)),E$21*E$13/E$196,0)),0)","v":0},{"$f":"IFERROR(IF($B270>F$15,0,IF(OFFSET(index!$I$2,MATCH(F$195,index!$I$3:$I$50,0),MONTH(CF表!$B270)),F$21*F$13/F$196,0)),0)","v":0},{"$f":"IFERROR(IF($B270>G$15,0,IF(OFFSET(index!$I$2,MATCH(G$195,index!$I$3:$I$50,0),MONTH(CF表!$B270)),G$21*G$13/G$196,0)),0)","v":0},{"$f":"IFERROR(IF($B270>H$15,0,IF(OFFSET(index!$I$2,MATCH(H$195,index!$I$3:$I$50,0),MONTH(CF表!$B270)),H$21*H$13/H$196,0)),0)","v":0},{"$f":"IFERROR(IF($B270>I$15,0,IF(OFFSET(index!$I$2,MATCH(I$195,index!$I$3:$I$50,0),MONTH(CF表!$B270)),I$21*I$13/I$196,0)),0)","v":0},{"$f":"IFERROR(IF($B270>J$15,0,IF(OFFSET(index!$I$2,MATCH(J$195,index!$I$3:$I$50,0),MONTH(CF表!$B270)),J$21*J$13/J$196,0)),0)","v":0},{"$f":"IFERROR(IF($B270>K$15,0,IF(OFFSET(index!$I$2,MATCH(K$195,index!$I$3:$I$50,0),MONTH(CF表!$B270)),K$21*K$13/K$196,0)),0)","v":0},{"$f":"IFERROR(IF($B270>L$15,0,IF(OFFSET(index!$I$2,MATCH(L$195,index!$I$3:$I$50,0),MONTH(CF表!$B270)),L$21*L$13/L$196,0)),0)","v":0}]
[null,"2028-11-01",{"$f":"IFERROR(IF($B271>C$15,0,IF(OFFSET(index!$I$2,MATCH(C$195,index!$I$3:$I$50,0),MONTH(CF表!$B271)),C$21*C$13/C$196,0)),0)","v":0},{"$f":"IFERROR(IF($B271>D$15,0,IF(OFFSET(index!$I$2,MATCH(D$195,index!$I$3:$I$50,0),MONTH(CF表!$B271)),D$21*D$13/D$196,0)),0)","v":0},{"$f":"IFERROR(IF($B271>E$15,0,IF(OFFSET(index!$I$2,MATCH(E$195,index!$I$3:$I$50,0),MONTH(CF表!$B271)),E$21*E$13/E$196,0)),0)","v":0},{"$f":"IFERROR(IF($B271>F$15,0,IF(OFFSET(index!$I$2,MATCH(F$195,index!$I$3:$I$50,0),MONTH(CF表!$B271)),F$21*F$13/F$196,0)),0)","v":0},{"$f":"IFERROR(IF($B271>G$15,0,IF(OFFSET(index!$I$2,MATCH(G$195,index!$I$3:$I$50,0),MONTH(CF表!$B271)),G$21*G$13/G$196,0)),0)","v":0},{"$f":"IFERROR(IF($B271>H$15,0,IF(OFFSET(index!$I$2,MATCH(H$195,index!$I$3:$I$50,0),MONTH(CF表!$B271)),H$21*H$13/H$196,0)),0)","v":0},{"$f":"IFERROR(IF($B271>I$15,0,IF(OFFSET(index!$I$2,MATCH(I$195,index!$I$3:$I$50,0),MONTH(CF表!$B271)),I$21*I$13/I$196,0)),0)","v":0},{"$f":"IFERROR(IF($B271>J$15,0,IF(OFFSET(index!$I$2,MATCH(J$195,index!$I$3:$I$50,0),MONTH(CF表!$B271)),J$21*J$13/J$196,0)),0)","v":0},{"$f":"IFERROR(IF($B271>K$15,0,IF(OFFSET(index!$I$2,MATCH(K$195,index!$I$3:$I$50,0),MONTH(CF表!$B271)),K$21*K$13/K$196,0)),0)","v":0},{"$f":"IFERROR(IF($B271>L$15,0,IF(OFFSET(index!$I$2,MATCH(L$195,index!$I$3:$I$50,0),MONTH(CF表!$B271)),L$21*L$13/L$196,0)),0)","v":0}]
[null,"2028-12-01",{"$f":"IFERROR(IF($B272>C$15,0,IF(OFFSET(index!$I$2,MATCH(C$195,index!$I$3:$I$50,0),MONTH(CF表!$B272)),C$21*C$13/C$196,0)),0)","v":0},{"$f":"IFERROR(IF($B272>D$15,0,IF(OFFSET(index!$I$2,MATCH(D$195,index!$I$3:$I$50,0),MONTH(CF表!$B272)),D$21*D$13/D$196,0)),0)","v":0},{"$f":"IFERROR(IF($B272>E$15,0,IF(OFFSET(index!$I$2,MATCH(E$195,index!$I$3:$I$50,0),MONTH(CF表!$B272)),E$21*E$13/E$196,0)),0)","v":0},{"$f":"IFERROR(IF($B272>F$15,0,IF(OFFSET(index!$I$2,MATCH(F$195,index!$I$3:$I$50,0),MONTH(CF表!$B272)),F$21*F$13/F$196,0)),0)","v":0},{"$f":"IFERROR(IF($B272>G$15,0,IF(OFFSET(index!$I$2,MATCH(G$195,index!$I$3:$I$50,0),MONTH(CF表!$B272)),G$21*G$13/G$196,0)),0)","v":0},{"$f":"IFERROR(IF($B272>H$15,0,IF(OFFSET(index!$I$2,MATCH(H$195,index!$I$3:$I$50,0),MONTH(CF表!$B272)),H$21*H$13/H$196,0)),0)","v":0},{"$f":"IFERROR(IF($B272>I$15,0,IF(OFFSET(index!$I$2,MATCH(I$195,index!$I$3:$I$50,0),MONTH(CF表!$B272)),I$21*I$13/I$196,0)),0)","v":0},{"$f":"IFERROR(IF($B272>J$15,0,IF(OFFSET(index!$I$2,MATCH(J$195,index!$I$3:$I$50,0),MONTH(CF表!$B272)),J$21*J$13/J$196,0)),0)","v":0},{"$f":"IFERROR(IF($B272>K$15,0,IF(OFFSET(index!$I$2,MATCH(K$195,index!$I$3:$I$50,0),MONTH(CF表!$B272)),K$21*K$13/K$196,0)),0)","v":0},{"$f":"IFERROR(IF($B272>L$15,0,IF(OFFSET(index!$I$2,MATCH(L$195,index!$I$3:$I$50,0),MONTH(CF表!$B272)),L$21*L$13/L$196,0)),0)","v":0}]
[null,"2029-01-01",{"$f":"IFERROR(IF($B273>C$15,0,IF(OFFSET(index!$I$2,MATCH(C$195,index!$I$3:$I$50,0),MONTH(CF表!$B273)),C$21*C$13/C$196,0)),0)","v":0},{"$f":"IFERROR(IF($B273>D$15,0,IF(OFFSET(index!$I$2,MATCH(D$195,index!$I$3:$I$50,0),MONTH(CF表!$B273)),D$21*D$13/D$196,0)),0)","v":0},{"$f":"IFERROR(IF($B273>E$15,0,IF(OFFSET(index!$I$2,MATCH(E$195,index!$I$3:$I$50,0),MONTH(CF表!$B273)),E$21*E$13/E$196,0)),0)","v":0},{"$f":"IFERROR(IF($B273>F$15,0,IF(OFFSET(index!$I$2,MATCH(F$195,index!$I$3:$I$50,0),MONTH(CF表!$B273)),F$21*F$13/F$196,0)),0)","v":0},{"$f":"IFERROR(IF($B273>G$15,0,IF(OFFSET(index!$I$2,MATCH(G$195,index!$I$3:$I$50,0),MONTH(CF表!$B273)),G$21*G$13/G$196,0)),0)","v":0},{"$f":"IFERROR(IF($B273>H$15,0,IF(OFFSET(index!$I$2,MATCH(H$195,index!$I$3:$I$50,0),MONTH(CF表!$B273)),H$21*H$13/H$196,0)),0)","v":0},{"$f":"IFERROR(IF($B273>I$15,0,IF(OFFSET(index!$I$2,MATCH(I$195,index!$I$3:$I$50,0),MONTH(CF表!$B273)),I$21*I$13/I$196,0)),0)","v":0},{"$f":"IFERROR(IF($B273>J$15,0,IF(OFFSET(index!$I$2,MATCH(J$195,index!$I$3:$I$50,0),MONTH(CF表!$B273)),J$21*J$13/J$196,0)),0)","v":0},{"$f":"IFERROR(IF($B273>K$15,0,IF(OFFSET(index!$I$2,MATCH(K$195,index!$I$3:$I$50,0),MONTH(CF表!$B273)),K$21*K$13/K$196,0)),0)","v":0},{"$f":"IFERROR(IF($B273>L$15,0,IF(OFFSET(index!$I$2,MATCH(L$195,index!$I$3:$I$50,0),MONTH(CF表!$B273)),L$21*L$13/L$196,0)),0)","v":0}]
[null,"2029-02-01",{"$f":"IFERROR(IF($B274>C$15,0,IF(OFFSET(index!$I$2,MATCH(C$195,index!$I$3:$I$50,0),MONTH(CF表!$B274)),C$21*C$13/C$196,0)),0)","v":0},{"$f":"IFERROR(IF($B274>D$15,0,IF(OFFSET(index!$I$2,MATCH(D$195,index!$I$3:$I$50,0),MONTH(CF表!$B274)),D$21*D$13/D$196,0)),0)","v":0},{"$f":"IFERROR(IF($B274>E$15,0,IF(OFFSET(index!$I$2,MATCH(E$195,index!$I$3:$I$50,0),MONTH(CF表!$B274)),E$21*E$13/E$196,0)),0)","v":0},{"$f":"IFERROR(IF($B274>F$15,0,IF(OFFSET(index!$I$2,MATCH(F$195,index!$I$3:$I$50,0),MONTH(CF表!$B274)),F$21*F$13/F$196,0)),0)","v":0},{"$f":"IFERROR(IF($B274>G$15,0,IF(OFFSET(index!$I$2,MATCH(G$195,index!$I$3:$I$50,0),MONTH(CF表!$B274)),G$21*G$13/G$196,0)),0)","v":0},{"$f":"IFERROR(IF($B274>H$15,0,IF(OFFSET(index!$I$2,MATCH(H$195,index!$I$3:$I$50,0),MONTH(CF表!$B274)),H$21*H$13/H$196,0)),0)","v":0},{"$f":"IFERROR(IF($B274>I$15,0,IF(OFFSET(index!$I$2,MATCH(I$195,index!$I$3:$I$50,0),MONTH(CF表!$B274)),I$21*I$13/I$196,0)),0)","v":0},{"$f":"IFERROR(IF($B274>J$15,0,IF(OFFSET(index!$I$2,MATCH(J$195,index!$I$3:$I$50,0),MONTH(CF表!$B274)),J$21*J$13/J$196,0)),0)","v":0},{"$f":"IFERROR(IF($B274>K$15,0,IF(OFFSET(index!$I$2,MATCH(K$195,index!$I$3:$I$50,0),MONTH(CF表!$B274)),K$21*K$13/K$196,0)),0)","v":0},{"$f":"IFERROR(IF($B274>L$15,0,IF(OFFSET(index!$I$2,MATCH(L$195,index!$I$3:$I$50,0),MONTH(CF表!$B274)),L$21*L$13/L$196,0)),0)","v":0}]
[null,"2029-03-01",{"$f":"IFERROR(IF($B275>C$15,0,IF(OFFSET(index!$I$2,MATCH(C$195,index!$I$3:$I$50,0),MONTH(CF表!$B275)),C$21*C$13/C$196,0)),0)","v":0},{"$f":"IFERROR(IF($B275>D$15,0,IF(OFFSET(index!$I$2,MATCH(D$195,index!$I$3:$I$50,0),MONTH(CF表!$B275)),D$21*D$13/D$196,0)),0)","v":0},{"$f":"IFERROR(IF($B275>E$15,0,IF(OFFSET(index!$I$2,MATCH(E$195,index!$I$3:$I$50,0),MONTH(CF表!$B275)),E$21*E$13/E$196,0)),0)","v":0},{"$f":"IFERROR(IF($B275>F$15,0,IF(OFFSET(index!$I$2,MATCH(F$195,index!$I$3:$I$50,0),MONTH(CF表!$B275)),F$21*F$13/F$196,0)),0)","v":0},{"$f":"IFERROR(IF($B275>G$15,0,IF(OFFSET(index!$I$2,MATCH(G$195,index!$I$3:$I$50,0),MONTH(CF表!$B275)),G$21*G$13/G$196,0)),0)","v":0},{"$f":"IFERROR(IF($B275>H$15,0,IF(OFFSET(index!$I$2,MATCH(H$195,index!$I$3:$I$50,0),MONTH(CF表!$B275)),H$21*H$13/H$196,0)),0)","v":0},{"$f":"IFERROR(IF($B275>I$15,0,IF(OFFSET(index!$I$2,MATCH(I$195,index!$I$3:$I$50,0),MONTH(CF表!$B275)),I$21*I$13/I$196,0)),0)","v":0},{"$f":"IFERROR(IF($B275>J$15,0,IF(OFFSET(index!$I$2,MATCH(J$195,index!$I$3:$I$50,0),MONTH(CF表!$B275)),J$21*J$13/J$196,0)),0)","v":0},{"$f":"IFERROR(IF($B275>K$15,0,IF(OFFSET(index!$I$2,MATCH(K$195,index!$I$3:$I$50,0),MONTH(CF表!$B275)),K$21*K$13/K$196,0)),0)","v":0},{"$f":"IFERROR(IF($B275>L$15,0,IF(OFFSET(index!$I$2,MATCH(L$195,index!$I$3:$I$50,0),MONTH(CF表!$B275)),L$21*L$13/L$196,0)),0)","v":0}]
[null,{"$f":"EDATE(B275,1)","v":"2029-04-01"},{"$f":"IFERROR(IF($B276>C$15,0,IF(OFFSET(index!$I$2,MATCH(C$195,index!$I$3:$I$50,0),MONTH(CF表!$B276)),C$21*C$13/C$196,0)),0)","v":0},{"$f":"IFERROR(IF($B276>D$15,0,IF(OFFSET(index!$I$2,MATCH(D$195,index!$I$3:$I$50,0),MONTH(CF表!$B276)),D$21*D$13/D$196,0)),0)","v":0},{"$f":"IFERROR(IF($B276>E$15,0,IF(OFFSET(index!$I$2,MATCH(E$195,index!$I$3:$I$50,0),MONTH(CF表!$B276)),E$21*E$13/E$196,0)),0)","v":0},{"$f":"IFERROR(IF($B276>F$15,0,IF(OFFSET(index!$I$2,MATCH(F$195,index!$I$3:$I$50,0),MONTH(CF表!$B276)),F$21*F$13/F$196,0)),0)","v":0},{"$f":"IFERROR(IF($B276>G$15,0,IF(OFFSET(index!$I$2,MATCH(G$195,index!$I$3:$I$50,0),MONTH(CF表!$B276)),G$21*G$13/G$196,0)),0)","v":0},{"$f":"IFERROR(IF($B276>H$15,0,IF(OFFSET(index!$I$2,MATCH(H$195,index!$I$3:$I$50,0),MONTH(CF表!$B276)),H$21*H$13/H$196,0)),0)","v":0},{"$f":"IFERROR(IF($B276>I$15,0,IF(OFFSET(index!$I$2,MATCH(I$195,index!$I$3:$I$50,0),MONTH(CF表!$B276)),I$21*I$13/I$196,0)),0)","v":0},{"$f":"IFERROR(IF($B276>J$15,0,IF(OFFSET(index!$I$2,MATCH(J$195,index!$I$3:$I$50,0),MONTH(CF表!$B276)),J$21*J$13/J$196,0)),0)","v":0},{"$f":"IFERROR(IF($B276>K$15,0,IF(OFFSET(index!$I$2,MATCH(K$195,index!$I$3:$I$50,0),MONTH(CF表!$B276)),K$21*K$13/K$196,0)),0)","v":0},{"$f":"IFERROR(IF($B276>L$15,0,IF(OFFSET(index!$I$2,MATCH(L$195,index!$I$3:$I$50,0),MONTH(CF表!$B276)),L$21*L$13/L$196,0)),0)","v":0}]
[null,"2029-05-01",{"$f":"IFERROR(IF($B277>C$15,0,IF(OFFSET(index!$I$2,MATCH(C$195,index!$I$3:$I$50,0),MONTH(CF表!$B277)),C$21*C$13/C$196,0)),0)","v":0},{"$f":"IFERROR(IF($B277>D$15,0,IF(OFFSET(index!$I$2,MATCH(D$195,index!$I$3:$I$50,0),MONTH(CF表!$B277)),D$21*D$13/D$196,0)),0)","v":0},{"$f":"IFERROR(IF($B277>E$15,0,IF(OFFSET(index!$I$2,MATCH(E$195,index!$I$3:$I$50,0),MONTH(CF表!$B277)),E$21*E$13/E$196,0)),0)","v":0},{"$f":"IFERROR(IF($B277>F$15,0,IF(OFFSET(index!$I$2,MATCH(F$195,index!$I$3:$I$50,0),MONTH(CF表!$B277)),F$21*F$13/F$196,0)),0)","v":0},{"$f":"IFERROR(IF($B277>G$15,0,IF(OFFSET(index!$I$2,MATCH(G$195,index!$I$3:$I$50,0),MONTH(CF表!$B277)),G$21*G$13/G$196,0)),0)","v":0},{"$f":"IFERROR(IF($B277>H$15,0,IF(OFFSET(index!$I$2,MATCH(H$195,index!$I$3:$I$50,0),MONTH(CF表!$B277)),H$21*H$13/H$196,0)),0)","v":0},{"$f":"IFERROR(IF($B277>I$15,0,IF(OFFSET(index!$I$2,MATCH(I$195,index!$I$3:$I$50,0),MONTH(CF表!$B277)),I$21*I$13/I$196,0)),0)","v":0},{"$f":"IFERROR(IF($B277>J$15,0,IF(OFFSET(index!$I$2,MATCH(J$195,index!$I$3:$I$50,0),MONTH(CF表!$B277)),J$21*J$13/J$196,0)),0)","v":0},{"$f":"IFERROR(IF($B277>K$15,0,IF(OFFSET(index!$I$2,MATCH(K$195,index!$I$3:$I$50,0),MONTH(CF表!$B277)),K$21*K$13/K$196,0)),0)","v":0},{"$f":"IFERROR(IF($B277>L$15,0,IF(OFFSET(index!$I$2,MATCH(L$195,index!$I$3:$I$50,0),MONTH(CF表!$B277)),L$21*L$13/L$196,0)),0)","v":0}]
[null,"2029-06-01",{"$f":"IFERROR(IF($B278>C$15,0,IF(OFFSET(index!$I$2,MATCH(C$195,index!$I$3:$I$50,0),MONTH(CF表!$B278)),C$21*C$13/C$196,0)),0)","v":0},{"$f":"IFERROR(IF($B278>D$15,0,IF(OFFSET(index!$I$2,MATCH(D$195,index!$I$3:$I$50,0),MONTH(CF表!$B278)),D$21*D$13/D$196,0)),0)","v":0},{"$f":"IFERROR(IF($B278>E$15,0,IF(OFFSET(index!$I$2,MATCH(E$195,index!$I$3:$I$50,0),MONTH(CF表!$B278)),E$21*E$13/E$196,0)),0)","v":0},{"$f":"IFERROR(IF($B278>F$15,0,IF(OFFSET(index!$I$2,MATCH(F$195,index!$I$3:$I$50,0),MONTH(CF表!$B278)),F$21*F$13/F$196,0)),0)","v":0},{"$f":"IFERROR(IF($B278>G$15,0,IF(OFFSET(index!$I$2,MATCH(G$195,index!$I$3:$I$50,0),MONTH(CF表!$B278)),G$21*G$13/G$196,0)),0)","v":0},{"$f":"IFERROR(IF($B278>H$15,0,IF(OFFSET(index!$I$2,MATCH(H$195,index!$I$3:$I$50,0),MONTH(CF表!$B278)),H$21*H$13/H$196,0)),0)","v":0},{"$f":"IFERROR(IF($B278>I$15,0,IF(OFFSET(index!$I$2,MATCH(I$195,index!$I$3:$I$50,0),MONTH(CF表!$B278)),I$21*I$13/I$196,0)),0)","v":0},{"$f":"IFERROR(IF($B278>J$15,0,IF(OFFSET(index!$I$2,MATCH(J$195,index!$I$3:$I$50,0),MONTH(CF表!$B278)),J$21*J$13/J$196,0)),0)","v":0},{"$f":"IFERROR(IF($B278>K$15,0,IF(OFFSET(index!$I$2,MATCH(K$195,index!$I$3:$I$50,0),MONTH(CF表!$B278)),K$21*K$13/K$196,0)),0)","v":0},{"$f":"IFERROR(IF($B278>L$15,0,IF(OFFSET(index!$I$2,MATCH(L$195,index!$I$3:$I$50,0),MONTH(CF表!$B278)),L$21*L$13/L$196,0)),0)","v":0}]
[null,"2029-07-01",{"$f":"IFERROR(IF($B279>C$15,0,IF(OFFSET(index!$I$2,MATCH(C$195,index!$I$3:$I$50,0),MONTH(CF表!$B279)),C$21*C$13/C$196,0)),0)","v":0},{"$f":"IFERROR(IF($B279>D$15,0,IF(OFFSET(index!$I$2,MATCH(D$195,index!$I$3:$I$50,0),MONTH(CF表!$B279)),D$21*D$13/D$196,0)),0)","v":0},{"$f":"IFERROR(IF($B279>E$15,0,IF(OFFSET(index!$I$2,MATCH(E$195,index!$I$3:$I$50,0),MONTH(CF表!$B279)),E$21*E$13/E$196,0)),0)","v":0},{"$f":"IFERROR(IF($B279>F$15,0,IF(OFFSET(index!$I$2,MATCH(F$195,index!$I$3:$I$50,0),MONTH(CF表!$B279)),F$21*F$13/F$196,0)),0)","v":0},{"$f":"IFERROR(IF($B279>G$15,0,IF(OFFSET(index!$I$2,MATCH(G$195,index!$I$3:$I$50,0),MONTH(CF表!$B279)),G$21*G$13/G$196,0)),0)","v":0},{"$f":"IFERROR(IF($B279>H$15,0,IF(OFFSET(index!$I$2,MATCH(H$195,index!$I$3:$I$50,0),MONTH(CF表!$B279)),H$21*H$13/H$196,0)),0)","v":0},{"$f":"IFERROR(IF($B279>I$15,0,IF(OFFSET(index!$I$2,MATCH(I$195,index!$I$3:$I$50,0),MONTH(CF表!$B279)),I$21*I$13/I$196,0)),0)","v":0},{"$f":"IFERROR(IF($B279>J$15,0,IF(OFFSET(index!$I$2,MATCH(J$195,index!$I$3:$I$50,0),MONTH(CF表!$B279)),J$21*J$13/J$196,0)),0)","v":0},{"$f":"IFERROR(IF($B279>K$15,0,IF(OFFSET(index!$I$2,MATCH(K$195,index!$I$3:$I$50,0),MONTH(CF表!$B279)),K$21*K$13/K$196,0)),0)","v":0},{"$f":"IFERROR(IF($B279>L$15,0,IF(OFFSET(index!$I$2,MATCH(L$195,index!$I$3:$I$50,0),MONTH(CF表!$B279)),L$21*L$13/L$196,0)),0)","v":0}]
[null,"2029-08-01",{"$f":"IFERROR(IF($B280>C$15,0,IF(OFFSET(index!$I$2,MATCH(C$195,index!$I$3:$I$50,0),MONTH(CF表!$B280)),C$21*C$13/C$196,0)),0)","v":0},{"$f":"IFERROR(IF($B280>D$15,0,IF(OFFSET(index!$I$2,MATCH(D$195,index!$I$3:$I$50,0),MONTH(CF表!$B280)),D$21*D$13/D$196,0)),0)","v":0},{"$f":"IFERROR(IF($B280>E$15,0,IF(OFFSET(index!$I$2,MATCH(E$195,index!$I$3:$I$50,0),MONTH(CF表!$B280)),E$21*E$13/E$196,0)),0)","v":0},{"$f":"IFERROR(IF($B280>F$15,0,IF(OFFSET(index!$I$2,MATCH(F$195,index!$I$3:$I$50,0),MONTH(CF表!$B280)),F$21*F$13/F$196,0)),0)","v":0},{"$f":"IFERROR(IF($B280>G$15,0,IF(OFFSET(index!$I$2,MATCH(G$195,index!$I$3:$I$50,0),MONTH(CF表!$B280)),G$21*G$13/G$196,0)),0)","v":0},{"$f":"IFERROR(IF($B280>H$15,0,IF(OFFSET(index!$I$2,MATCH(H$195,index!$I$3:$I$50,0),MONTH(CF表!$B280)),H$21*H$13/H$196,0)),0)","v":0},{"$f":"IFERROR(IF($B280>I$15,0,IF(OFFSET(index!$I$2,MATCH(I$195,index!$I$3:$I$50,0),MONTH(CF表!$B280)),I$21*I$13/I$196,0)),0)","v":0},{"$f":"IFERROR(IF($B280>J$15,0,IF(OFFSET(index!$I$2,MATCH(J$195,index!$I$3:$I$50,0),MONTH(CF表!$B280)),J$21*J$13/J$196,0)),0)","v":0},{"$f":"IFERROR(IF($B280>K$15,0,IF(OFFSET(index!$I$2,MATCH(K$195,index!$I$3:$I$50,0),MONTH(CF表!$B280)),K$21*K$13/K$196,0)),0)","v":0},{"$f":"IFERROR(IF($B280>L$15,0,IF(OFFSET(index!$I$2,MATCH(L$195,index!$I$3:$I$50,0),MONTH(CF表!$B280)),L$21*L$13/L$196,0)),0)","v":0}]
[null,"2029-09-01",{"$f":"IFERROR(IF($B281>C$15,0,IF(OFFSET(index!$I$2,MATCH(C$195,index!$I$3:$I$50,0),MONTH(CF表!$B281)),C$21*C$13/C$196,0)),0)","v":0},{"$f":"IFERROR(IF($B281>D$15,0,IF(OFFSET(index!$I$2,MATCH(D$195,index!$I$3:$I$50,0),MONTH(CF表!$B281)),D$21*D$13/D$196,0)),0)","v":0},{"$f":"IFERROR(IF($B281>E$15,0,IF(OFFSET(index!$I$2,MATCH(E$195,index!$I$3:$I$50,0),MONTH(CF表!$B281)),E$21*E$13/E$196,0)),0)","v":0},{"$f":"IFERROR(IF($B281>F$15,0,IF(OFFSET(index!$I$2,MATCH(F$195,index!$I$3:$I$50,0),MONTH(CF表!$B281)),F$21*F$13/F$196,0)),0)","v":0},{"$f":"IFERROR(IF($B281>G$15,0,IF(OFFSET(index!$I$2,MATCH(G$195,index!$I$3:$I$50,0),MONTH(CF表!$B281)),G$21*G$13/G$196,0)),0)","v":0},{"$f":"IFERROR(IF($B281>H$15,0,IF(OFFSET(index!$I$2,MATCH(H$195,index!$I$3:$I$50,0),MONTH(CF表!$B281)),H$21*H$13/H$196,0)),0)","v":0},{"$f":"IFERROR(IF($B281>I$15,0,IF(OFFSET(index!$I$2,MATCH(I$195,index!$I$3:$I$50,0),MONTH(CF表!$B281)),I$21*I$13/I$196,0)),0)","v":0},{"$f":"IFERROR(IF($B281>J$15,0,IF(OFFSET(index!$I$2,MATCH(J$195,index!$I$3:$I$50,0),MONTH(CF表!$B281)),J$21*J$13/J$196,0)),0)","v":0},{"$f":"IFERROR(IF($B281>K$15,0,IF(OFFSET(index!$I$2,MATCH(K$195,index!$I$3:$I$50,0),MONTH(CF表!$B281)),K$21*K$13/K$196,0)),0)","v":0},{"$f":"IFERROR(IF($B281>L$15,0,IF(OFFSET(index!$I$2,MATCH(L$195,index!$I$3:$I$50,0),MONTH(CF表!$B281)),L$21*L$13/L$196,0)),0)","v":0}]
[null,"2029-10-01",{"$f":"IFERROR(IF($B282>C$15,0,IF(OFFSET(index!$I$2,MATCH(C$195,index!$I$3:$I$50,0),MONTH(CF表!$B282)),C$21*C$13/C$196,0)),0)","v":0},{"$f":"IFERROR(IF($B282>D$15,0,IF(OFFSET(index!$I$2,MATCH(D$195,index!$I$3:$I$50,0),MONTH(CF表!$B282)),D$21*D$13/D$196,0)),0)","v":0},{"$f":"IFERROR(IF($B282>E$15,0,IF(OFFSET(index!$I$2,MATCH(E$195,index!$I$3:$I$50,0),MONTH(CF表!$B282)),E$21*E$13/E$196,0)),0)","v":0},{"$f":"IFERROR(IF($B282>F$15,0,IF(OFFSET(index!$I$2,MATCH(F$195,index!$I$3:$I$50,0),MONTH(CF表!$B282)),F$21*F$13/F$196,0)),0)","v":0},{"$f":"IFERROR(IF($B282>G$15,0,IF(OFFSET(index!$I$2,MATCH(G$195,index!$I$3:$I$50,0),MONTH(CF表!$B282)),G$21*G$13/G$196,0)),0)","v":0},{"$f":"IFERROR(IF($B282>H$15,0,IF(OFFSET(index!$I$2,MATCH(H$195,index!$I$3:$I$50,0),MONTH(CF表!$B282)),H$21*H$13/H$196,0)),0)","v":0},{"$f":"IFERROR(IF($B282>I$15,0,IF(OFFSET(index!$I$2,MATCH(I$195,index!$I$3:$I$50,0),MONTH(CF表!$B282)),I$21*I$13/I$196,0)),0)","v":0},{"$f":"IFERROR(IF($B282>J$15,0,IF(OFFSET(index!$I$2,MATCH(J$195,index!$I$3:$I$50,0),MONTH(CF表!$B282)),J$21*J$13/J$196,0)),0)","v":0},{"$f":"IFERROR(IF($B282>K$15,0,IF(OFFSET(index!$I$2,MATCH(K$195,index!$I$3:$I$50,0),MONTH(CF表!$B282)),K$21*K$13/K$196,0)),0)","v":0},{"$f":"IFERROR(IF($B282>L$15,0,IF(OFFSET(index!$I$2,MATCH(L$195,index!$I$3:$I$50,0),MONTH(CF表!$B282)),L$21*L$13/L$196,0)),0)","v":0}]
[null,"2029-11-01",{"$f":"IFERROR(IF($B283>C$15,0,IF(OFFSET(index!$I$2,MATCH(C$195,index!$I$3:$I$50,0),MONTH(CF表!$B283)),C$21*C$13/C$196,0)),0)","v":0},{"$f":"IFERROR(IF($B283>D$15,0,IF(OFFSET(index!$I$2,MATCH(D$195,index!$I$3:$I$50,0),MONTH(CF表!$B283)),D$21*D$13/D$196,0)),0)","v":0},{"$f":"IFERROR(IF($B283>E$15,0,IF(OFFSET(index!$I$2,MATCH(E$195,index!$I$3:$I$50,0),MONTH(CF表!$B283)),E$21*E$13/E$196,0)),0)","v":0},{"$f":"IFERROR(IF($B283>F$15,0,IF(OFFSET(index!$I$2,MATCH(F$195,index!$I$3:$I$50,0),MONTH(CF表!$B283)),F$21*F$13/F$196,0)),0)","v":0},{"$f":"IFERROR(IF($B283>G$15,0,IF(OFFSET(index!$I$2,MATCH(G$195,index!$I$3:$I$50,0),MONTH(CF表!$B283)),G$21*G$13/G$196,0)),0)","v":0},{"$f":"IFERROR(IF($B283>H$15,0,IF(OFFSET(index!$I$2,MATCH(H$195,index!$I$3:$I$50,0),MONTH(CF表!$B283)),H$21*H$13/H$196,0)),0)","v":0},{"$f":"IFERROR(IF($B283>I$15,0,IF(OFFSET(index!$I$2,MATCH(I$195,index!$I$3:$I$50,0),MONTH(CF表!$B283)),I$21*I$13/I$196,0)),0)","v":0},{"$f":"IFERROR(IF($B283>J$15,0,IF(OFFSET(index!$I$2,MATCH(J$195,index!$I$3:$I$50,0),MONTH(CF表!$B283)),J$21*J$13/J$196,0)),0)","v":0},{"$f":"IFERROR(IF($B283>K$15,0,IF(OFFSET(index!$I$2,MATCH(K$195,index!$I$3:$I$50,0),MONTH(CF表!$B283)),K$21*K$13/K$196,0)),0)","v":0},{"$f":"IFERROR(IF($B283>L$15,0,IF(OFFSET(index!$I$2,MATCH(L$195,index!$I$3:$I$50,0),MONTH(CF表!$B283)),L$21*L$13/L$196,0)),0)","v":0}]
[null,"2029-12-01",{"$f":"IFERROR(IF($B284>C$15,0,IF(OFFSET(index!$I$2,MATCH(C$195,index!$I$3:$I$50,0),MONTH(CF表!$B284)),C$21*C$13/C$196,0)),0)","v":0},{"$f":"IFERROR(IF($B284>D$15,0,IF(OFFSET(index!$I$2,MATCH(D$195,index!$I$3:$I$50,0),MONTH(CF表!$B284)),D$21*D$13/D$196,0)),0)","v":0},{"$f":"IFERROR(IF($B284>E$15,0,IF(OFFSET(index!$I$2,MATCH(E$195,index!$I$3:$I$50,0),MONTH(CF表!$B284)),E$21*E$13/E$196,0)),0)","v":0},{"$f":"IFERROR(IF($B284>F$15,0,IF(OFFSET(index!$I$2,MATCH(F$195,index!$I$3:$I$50,0),MONTH(CF表!$B284)),F$21*F$13/F$196,0)),0)","v":0},{"$f":"IFERROR(IF($B284>G$15,0,IF(OFFSET(index!$I$2,MATCH(G$195,index!$I$3:$I$50,0),MONTH(CF表!$B284)),G$21*G$13/G$196,0)),0)","v":0},{"$f":"IFERROR(IF($B284>H$15,0,IF(OFFSET(index!$I$2,MATCH(H$195,index!$I$3:$I$50,0),MONTH(CF表!$B284)),H$21*H$13/H$196,0)),0)","v":0},{"$f":"IFERROR(IF($B284>I$15,0,IF(OFFSET(index!$I$2,MATCH(I$195,index!$I$3:$I$50,0),MONTH(CF表!$B284)),I$21*I$13/I$196,0)),0)","v":0},{"$f":"IFERROR(IF($B284>J$15,0,IF(OFFSET(index!$I$2,MATCH(J$195,index!$I$3:$I$50,0),MONTH(CF表!$B284)),J$21*J$13/J$196,0)),0)","v":0},{"$f":"IFERROR(IF($B284>K$15,0,IF(OFFSET(index!$I$2,MATCH(K$195,index!$I$3:$I$50,0),MONTH(CF表!$B284)),K$21*K$13/K$196,0)),0)","v":0},{"$f":"IFERROR(IF($B284>L$15,0,IF(OFFSET(index!$I$2,MATCH(L$195,index!$I$3:$I$50,0),MONTH(CF表!$B284)),L$21*L$13/L$196,0)),0)","v":0}]
[null,"2030-01-01",{"$f":"IFERROR(IF($B285>C$15,0,IF(OFFSET(index!$I$2,MATCH(C$195,index!$I$3:$I$50,0),MONTH(CF表!$B285)),C$21*C$13/C$196,0)),0)","v":0},{"$f":"IFERROR(IF($B285>D$15,0,IF(OFFSET(index!$I$2,MATCH(D$195,index!$I$3:$I$50,0),MONTH(CF表!$B285)),D$21*D$13/D$196,0)),0)","v":0},{"$f":"IFERROR(IF($B285>E$15,0,IF(OFFSET(index!$I$2,MATCH(E$195,index!$I$3:$I$50,0),MONTH(CF表!$B285)),E$21*E$13/E$196,0)),0)","v":0},{"$f":"IFERROR(IF($B285>F$15,0,IF(OFFSET(index!$I$2,MATCH(F$195,index!$I$3:$I$50,0),MONTH(CF表!$B285)),F$21*F$13/F$196,0)),0)","v":0},{"$f":"IFERROR(IF($B285>G$15,0,IF(OFFSET(index!$I$2,MATCH(G$195,index!$I$3:$I$50,0),MONTH(CF表!$B285)),G$21*G$13/G$196,0)),0)","v":0},{"$f":"IFERROR(IF($B285>H$15,0,IF(OFFSET(index!$I$2,MATCH(H$195,index!$I$3:$I$50,0),MONTH(CF表!$B285)),H$21*H$13/H$196,0)),0)","v":0},{"$f":"IFERROR(IF($B285>I$15,0,IF(OFFSET(index!$I$2,MATCH(I$195,index!$I$3:$I$50,0),MONTH(CF表!$B285)),I$21*I$13/I$196,0)),0)","v":0},{"$f":"IFERROR(IF($B285>J$15,0,IF(OFFSET(index!$I$2,MATCH(J$195,index!$I$3:$I$50,0),MONTH(CF表!$B285)),J$21*J$13/J$196,0)),0)","v":0},{"$f":"IFERROR(IF($B285>K$15,0,IF(OFFSET(index!$I$2,MATCH(K$195,index!$I$3:$I$50,0),MONTH(CF表!$B285)),K$21*K$13/K$196,0)),0)","v":0},{"$f":"IFERROR(IF($B285>L$15,0,IF(OFFSET(index!$I$2,MATCH(L$195,index!$I$3:$I$50,0),MONTH(CF表!$B285)),L$21*L$13/L$196,0)),0)","v":0}]
[null,"2030-02-01",{"$f":"IFERROR(IF($B286>C$15,0,IF(OFFSET(index!$I$2,MATCH(C$195,index!$I$3:$I$50,0),MONTH(CF表!$B286)),C$21*C$13/C$196,0)),0)","v":0},{"$f":"IFERROR(IF($B286>D$15,0,IF(OFFSET(index!$I$2,MATCH(D$195,index!$I$3:$I$50,0),MONTH(CF表!$B286)),D$21*D$13/D$196,0)),0)","v":0},{"$f":"IFERROR(IF($B286>E$15,0,IF(OFFSET(index!$I$2,MATCH(E$195,index!$I$3:$I$50,0),MONTH(CF表!$B286)),E$21*E$13/E$196,0)),0)","v":0},{"$f":"IFERROR(IF($B286>F$15,0,IF(OFFSET(index!$I$2,MATCH(F$195,index!$I$3:$I$50,0),MONTH(CF表!$B286)),F$21*F$13/F$196,0)),0)","v":0},{"$f":"IFERROR(IF($B286>G$15,0,IF(OFFSET(index!$I$2,MATCH(G$195,index!$I$3:$I$50,0),MONTH(CF表!$B286)),G$21*G$13/G$196,0)),0)","v":0},{"$f":"IFERROR(IF($B286>H$15,0,IF(OFFSET(index!$I$2,MATCH(H$195,index!$I$3:$I$50,0),MONTH(CF表!$B286)),H$21*H$13/H$196,0)),0)","v":0},{"$f":"IFERROR(IF($B286>I$15,0,IF(OFFSET(index!$I$2,MATCH(I$195,index!$I$3:$I$50,0),MONTH(CF表!$B286)),I$21*I$13/I$196,0)),0)","v":0},{"$f":"IFERROR(IF($B286>J$15,0,IF(OFFSET(index!$I$2,MATCH(J$195,index!$I$3:$I$50,0),MONTH(CF表!$B286)),J$21*J$13/J$196,0)),0)","v":0},{"$f":"IFERROR(IF($B286>K$15,0,IF(OFFSET(index!$I$2,MATCH(K$195,index!$I$3:$I$50,0),MONTH(CF表!$B286)),K$21*K$13/K$196,0)),0)","v":0},{"$f":"IFERROR(IF($B286>L$15,0,IF(OFFSET(index!$I$2,MATCH(L$195,index!$I$3:$I$50,0),MONTH(CF表!$B286)),L$21*L$13/L$196,0)),0)","v":0}]
[null,"2030-03-01",{"$f":"IFERROR(IF($B287>C$15,0,IF(OFFSET(index!$I$2,MATCH(C$195,index!$I$3:$I$50,0),MONTH(CF表!$B287)),C$21*C$13/C$196,0)),0)","v":0},{"$f":"IFERROR(IF($B287>D$15,0,IF(OFFSET(index!$I$2,MATCH(D$195,index!$I$3:$I$50,0),MONTH(CF表!$B287)),D$21*D$13/D$196,0)),0)","v":0},{"$f":"IFERROR(IF($B287>E$15,0,IF(OFFSET(index!$I$2,MATCH(E$195,index!$I$3:$I$50,0),MONTH(CF表!$B287)),E$21*E$13/E$196,0)),0)","v":0},{"$f":"IFERROR(IF($B287>F$15,0,IF(OFFSET(index!$I$2,MATCH(F$195,index!$I$3:$I$50,0),MONTH(CF表!$B287)),F$21*F$13/F$196,0)),0)","v":0},{"$f":"IFERROR(IF($B287>G$15,0,IF(OFFSET(index!$I$2,MATCH(G$195,index!$I$3:$I$50,0),MONTH(CF表!$B287)),G$21*G$13/G$196,0)),0)","v":0},{"$f":"IFERROR(IF($B287>H$15,0,IF(OFFSET(index!$I$2,MATCH(H$195,index!$I$3:$I$50,0),MONTH(CF表!$B287)),H$21*H$13/H$196,0)),0)","v":0},{"$f":"IFERROR(IF($B287>I$15,0,IF(OFFSET(index!$I$2,MATCH(I$195,index!$I$3:$I$50,0),MONTH(CF表!$B287)),I$21*I$13/I$196,0)),0)","v":0},{"$f":"IFERROR(IF($B287>J$15,0,IF(OFFSET(index!$I$2,MATCH(J$195,index!$I$3:$I$50,0),MONTH(CF表!$B287)),J$21*J$13/J$196,0)),0)","v":0},{"$f":"IFERROR(IF($B287>K$15,0,IF(OFFSET(index!$I$2,MATCH(K$195,index!$I$3:$I$50,0),MONTH(CF表!$B287)),K$21*K$13/K$196,0)),0)","v":0},{"$f":"IFERROR(IF($B287>L$15,0,IF(OFFSET(index!$I$2,MATCH(L$195,index!$I$3:$I$50,0),MONTH(CF表!$B287)),L$21*L$13/L$196,0)),0)","v":0}]
[null,"2030-04-01",{"$f":"IFERROR(IF($B288>C$15,0,IF(OFFSET(index!$I$2,MATCH(C$195,index!$I$3:$I$50,0),MONTH(CF表!$B288)),C$21*C$13/C$196,0)),0)","v":0},{"$f":"IFERROR(IF($B288>D$15,0,IF(OFFSET(index!$I$2,MATCH(D$195,index!$I$3:$I$50,0),MONTH(CF表!$B288)),D$21*D$13/D$196,0)),0)","v":0},{"$f":"IFERROR(IF($B288>E$15,0,IF(OFFSET(index!$I$2,MATCH(E$195,index!$I$3:$I$50,0),MONTH(CF表!$B288)),E$21*E$13/E$196,0)),0)","v":0},{"$f":"IFERROR(IF($B288>F$15,0,IF(OFFSET(index!$I$2,MATCH(F$195,index!$I$3:$I$50,0),MONTH(CF表!$B288)),F$21*F$13/F$196,0)),0)","v":0},{"$f":"IFERROR(IF($B288>G$15,0,IF(OFFSET(index!$I$2,MATCH(G$195,index!$I$3:$I$50,0),MONTH(CF表!$B288)),G$21*G$13/G$196,0)),0)","v":0},{"$f":"IFERROR(IF($B288>H$15,0,IF(OFFSET(index!$I$2,MATCH(H$195,index!$I$3:$I$50,0),MONTH(CF表!$B288)),H$21*H$13/H$196,0)),0)","v":0},{"$f":"IFERROR(IF($B288>I$15,0,IF(OFFSET(index!$I$2,MATCH(I$195,index!$I$3:$I$50,0),MONTH(CF表!$B288)),I$21*I$13/I$196,0)),0)","v":0},{"$f":"IFERROR(IF($B288>J$15,0,IF(OFFSET(index!$I$2,MATCH(J$195,index!$I$3:$I$50,0),MONTH(CF表!$B288)),J$21*J$13/J$196,0)),0)","v":0},{"$f":"IFERROR(IF($B288>K$15,0,IF(OFFSET(index!$I$2,MATCH(K$195,index!$I$3:$I$50,0),MONTH(CF表!$B288)),K$21*K$13/K$196,0)),0)","v":0},{"$f":"IFERROR(IF($B288>L$15,0,IF(OFFSET(index!$I$2,MATCH(L$195,index!$I$3:$I$50,0),MONTH(CF表!$B288)),L$21*L$13/L$196,0)),0)","v":0}]
[null,"2030-05-01",{"$f":"IFERROR(IF($B289>C$15,0,IF(OFFSET(index!$I$2,MATCH(C$195,index!$I$3:$I$50,0),MONTH(CF表!$B289)),C$21*C$13/C$196,0)),0)","v":0},{"$f":"IFERROR(IF($B289>D$15,0,IF(OFFSET(index!$I$2,MATCH(D$195,index!$I$3:$I$50,0),MONTH(CF表!$B289)),D$21*D$13/D$196,0)),0)","v":0},{"$f":"IFERROR(IF($B289>E$15,0,IF(OFFSET(index!$I$2,MATCH(E$195,index!$I$3:$I$50,0),MONTH(CF表!$B289)),E$21*E$13/E$196,0)),0)","v":0},{"$f":"IFERROR(IF($B289>F$15,0,IF(OFFSET(index!$I$2,MATCH(F$195,index!$I$3:$I$50,0),MONTH(CF表!$B289)),F$21*F$13/F$196,0)),0)","v":0},{"$f":"IFERROR(IF($B289>G$15,0,IF(OFFSET(index!$I$2,MATCH(G$195,index!$I$3:$I$50,0),MONTH(CF表!$B289)),G$21*G$13/G$196,0)),0)","v":0},{"$f":"IFERROR(IF($B289>H$15,0,IF(OFFSET(index!$I$2,MATCH(H$195,index!$I$3:$I$50,0),MONTH(CF表!$B289)),H$21*H$13/H$196,0)),0)","v":0},{"$f":"IFERROR(IF($B289>I$15,0,IF(OFFSET(index!$I$2,MATCH(I$195,index!$I$3:$I$50,0),MONTH(CF表!$B289)),I$21*I$13/I$196,0)),0)","v":0},{"$f":"IFERROR(IF($B289>J$15,0,IF(OFFSET(index!$I$2,MATCH(J$195,index!$I$3:$I$50,0),MONTH(CF表!$B289)),J$21*J$13/J$196,0)),0)","v":0},{"$f":"IFERROR(IF($B289>K$15,0,IF(OFFSET(index!$I$2,MATCH(K$195,index!$I$3:$I$50,0),MONTH(CF表!$B289)),K$21*K$13/K$196,0)),0)","v":0},{"$f":"IFERROR(IF($B289>L$15,0,IF(OFFSET(index!$I$2,MATCH(L$195,index!$I$3:$I$50,0),MONTH(CF表!$B289)),L$21*L$13/L$196,0)),0)","v":0}]
[null,"2030-06-01",{"$f":"IFERROR(IF($B290>C$15,0,IF(OFFSET(index!$I$2,MATCH(C$195,index!$I$3:$I$50,0),MONTH(CF表!$B290)),C$21*C$13/C$196,0)),0)","v":0},{"$f":"IFERROR(IF($B290>D$15,0,IF(OFFSET(index!$I$2,MATCH(D$195,index!$I$3:$I$50,0),MONTH(CF表!$B290)),D$21*D$13/D$196,0)),0)","v":0},{"$f":"IFERROR(IF($B290>E$15,0,IF(OFFSET(index!$I$2,MATCH(E$195,index!$I$3:$I$50,0),MONTH(CF表!$B290)),E$21*E$13/E$196,0)),0)","v":0},{"$f":"IFERROR(IF($B290>F$15,0,IF(OFFSET(index!$I$2,MATCH(F$195,index!$I$3:$I$50,0),MONTH(CF表!$B290)),F$21*F$13/F$196,0)),0)","v":0},{"$f":"IFERROR(IF($B290>G$15,0,IF(OFFSET(index!$I$2,MATCH(G$195,index!$I$3:$I$50,0),MONTH(CF表!$B290)),G$21*G$13/G$196,0)),0)","v":0},{"$f":"IFERROR(IF($B290>H$15,0,IF(OFFSET(index!$I$2,MATCH(H$195,index!$I$3:$I$50,0),MONTH(CF表!$B290)),H$21*H$13/H$196,0)),0)","v":0},{"$f":"IFERROR(IF($B290>I$15,0,IF(OFFSET(index!$I$2,MATCH(I$195,index!$I$3:$I$50,0),MONTH(CF表!$B290)),I$21*I$13/I$196,0)),0)","v":0},{"$f":"IFERROR(IF($B290>J$15,0,IF(OFFSET(index!$I$2,MATCH(J$195,index!$I$3:$I$50,0),MONTH(CF表!$B290)),J$21*J$13/J$196,0)),0)","v":0},{"$f":"IFERROR(IF($B290>K$15,0,IF(OFFSET(index!$I$2,MATCH(K$195,index!$I$3:$I$50,0),MONTH(CF表!$B290)),K$21*K$13/K$196,0)),0)","v":0},{"$f":"IFERROR(IF($B290>L$15,0,IF(OFFSET(index!$I$2,MATCH(L$195,index!$I$3:$I$50,0),MONTH(CF表!$B290)),L$21*L$13/L$196,0)),0)","v":0}]
[null,"2030-07-01",{"$f":"IFERROR(IF($B291>C$15,0,IF(OFFSET(index!$I$2,MATCH(C$195,index!$I$3:$I$50,0),MONTH(CF表!$B291)),C$21*C$13/C$196,0)),0)","v":0},{"$f":"IFERROR(IF($B291>D$15,0,IF(OFFSET(index!$I$2,MATCH(D$195,index!$I$3:$I$50,0),MONTH(CF表!$B291)),D$21*D$13/D$196,0)),0)","v":0},{"$f":"IFERROR(IF($B291>E$15,0,IF(OFFSET(index!$I$2,MATCH(E$195,index!$I$3:$I$50,0),MONTH(CF表!$B291)),E$21*E$13/E$196,0)),0)","v":0},{"$f":"IFERROR(IF($B291>F$15,0,IF(OFFSET(index!$I$2,MATCH(F$195,index!$I$3:$I$50,0),MONTH(CF表!$B291)),F$21*F$13/F$196,0)),0)","v":0},{"$f":"IFERROR(IF($B291>G$15,0,IF(OFFSET(index!$I$2,MATCH(G$195,index!$I$3:$I$50,0),MONTH(CF表!$B291)),G$21*G$13/G$196,0)),0)","v":0},{"$f":"IFERROR(IF($B291>H$15,0,IF(OFFSET(index!$I$2,MATCH(H$195,index!$I$3:$I$50,0),MONTH(CF表!$B291)),H$21*H$13/H$196,0)),0)","v":0},{"$f":"IFERROR(IF($B291>I$15,0,IF(OFFSET(index!$I$2,MATCH(I$195,index!$I$3:$I$50,0),MONTH(CF表!$B291)),I$21*I$13/I$196,0)),0)","v":0},{"$f":"IFERROR(IF($B291>J$15,0,IF(OFFSET(index!$I$2,MATCH(J$195,index!$I$3:$I$50,0),MONTH(CF表!$B291)),J$21*J$13/J$196,0)),0)","v":0},{"$f":"IFERROR(IF($B291>K$15,0,IF(OFFSET(index!$I$2,MATCH(K$195,index!$I$3:$I$50,0),MONTH(CF表!$B291)),K$21*K$13/K$196,0)),0)","v":0},{"$f":"IFERROR(IF($B291>L$15,0,IF(OFFSET(index!$I$2,MATCH(L$195,index!$I$3:$I$50,0),MONTH(CF表!$B291)),L$21*L$13/L$196,0)),0)","v":0}]
[null,"2030-08-01",{"$f":"IFERROR(IF($B292>C$15,0,IF(OFFSET(index!$I$2,MATCH(C$195,index!$I$3:$I$50,0),MONTH(CF表!$B292)),C$21*C$13/C$196,0)),0)","v":0},{"$f":"IFERROR(IF($B292>D$15,0,IF(OFFSET(index!$I$2,MATCH(D$195,index!$I$3:$I$50,0),MONTH(CF表!$B292)),D$21*D$13/D$196,0)),0)","v":0},{"$f":"IFERROR(IF($B292>E$15,0,IF(OFFSET(index!$I$2,MATCH(E$195,index!$I$3:$I$50,0),MONTH(CF表!$B292)),E$21*E$13/E$196,0)),0)","v":0},{"$f":"IFERROR(IF($B292>F$15,0,IF(OFFSET(index!$I$2,MATCH(F$195,index!$I$3:$I$50,0),MONTH(CF表!$B292)),F$21*F$13/F$196,0)),0)","v":0},{"$f":"IFERROR(IF($B292>G$15,0,IF(OFFSET(index!$I$2,MATCH(G$195,index!$I$3:$I$50,0),MONTH(CF表!$B292)),G$21*G$13/G$196,0)),0)","v":0},{"$f":"IFERROR(IF($B292>H$15,0,IF(OFFSET(index!$I$2,MATCH(H$195,index!$I$3:$I$50,0),MONTH(CF表!$B292)),H$21*H$13/H$196,0)),0)","v":0},{"$f":"IFERROR(IF($B292>I$15,0,IF(OFFSET(index!$I$2,MATCH(I$195,index!$I$3:$I$50,0),MONTH(CF表!$B292)),I$21*I$13/I$196,0)),0)","v":0},{"$f":"IFERROR(IF($B292>J$15,0,IF(OFFSET(index!$I$2,MATCH(J$195,index!$I$3:$I$50,0),MONTH(CF表!$B292)),J$21*J$13/J$196,0)),0)","v":0},{"$f":"IFERROR(IF($B292>K$15,0,IF(OFFSET(index!$I$2,MATCH(K$195,index!$I$3:$I$50,0),MONTH(CF表!$B292)),K$21*K$13/K$196,0)),0)","v":0},{"$f":"IFERROR(IF($B292>L$15,0,IF(OFFSET(index!$I$2,MATCH(L$195,index!$I$3:$I$50,0),MONTH(CF表!$B292)),L$21*L$13/L$196,0)),0)","v":0}]
[null,"2030-09-01",{"$f":"IFERROR(IF($B293>C$15,0,IF(OFFSET(index!$I$2,MATCH(C$195,index!$I$3:$I$50,0),MONTH(CF表!$B293)),C$21*C$13/C$196,0)),0)","v":0},{"$f":"IFERROR(IF($B293>D$15,0,IF(OFFSET(index!$I$2,MATCH(D$195,index!$I$3:$I$50,0),MONTH(CF表!$B293)),D$21*D$13/D$196,0)),0)","v":0},{"$f":"IFERROR(IF($B293>E$15,0,IF(OFFSET(index!$I$2,MATCH(E$195,index!$I$3:$I$50,0),MONTH(CF表!$B293)),E$21*E$13/E$196,0)),0)","v":0},{"$f":"IFERROR(IF($B293>F$15,0,IF(OFFSET(index!$I$2,MATCH(F$195,index!$I$3:$I$50,0),MONTH(CF表!$B293)),F$21*F$13/F$196,0)),0)","v":0},{"$f":"IFERROR(IF($B293>G$15,0,IF(OFFSET(index!$I$2,MATCH(G$195,index!$I$3:$I$50,0),MONTH(CF表!$B293)),G$21*G$13/G$196,0)),0)","v":0},{"$f":"IFERROR(IF($B293>H$15,0,IF(OFFSET(index!$I$2,MATCH(H$195,index!$I$3:$I$50,0),MONTH(CF表!$B293)),H$21*H$13/H$196,0)),0)","v":0},{"$f":"IFERROR(IF($B293>I$15,0,IF(OFFSET(index!$I$2,MATCH(I$195,index!$I$3:$I$50,0),MONTH(CF表!$B293)),I$21*I$13/I$196,0)),0)","v":0},{"$f":"IFERROR(IF($B293>J$15,0,IF(OFFSET(index!$I$2,MATCH(J$195,index!$I$3:$I$50,0),MONTH(CF表!$B293)),J$21*J$13/J$196,0)),0)","v":0},{"$f":"IFERROR(IF($B293>K$15,0,IF(OFFSET(index!$I$2,MATCH(K$195,index!$I$3:$I$50,0),MONTH(CF表!$B293)),K$21*K$13/K$196,0)),0)","v":0},{"$f":"IFERROR(IF($B293>L$15,0,IF(OFFSET(index!$I$2,MATCH(L$195,index!$I$3:$I$50,0),MONTH(CF表!$B293)),L$21*L$13/L$196,0)),0)","v":0}]
[null,{"$f":"EDATE(B293,1)","v":"2030-10-01"},{"$f":"IFERROR(IF($B294>C$15,0,IF(OFFSET(index!$I$2,MATCH(C$195,index!$I$3:$I$50,0),MONTH(CF表!$B294)),C$21*C$13/C$196,0)),0)","v":0},{"$f":"IFERROR(IF($B294>D$15,0,IF(OFFSET(index!$I$2,MATCH(D$195,index!$I$3:$I$50,0),MONTH(CF表!$B294)),D$21*D$13/D$196,0)),0)","v":0},{"$f":"IFERROR(IF($B294>E$15,0,IF(OFFSET(index!$I$2,MATCH(E$195,index!$I$3:$I$50,0),MONTH(CF表!$B294)),E$21*E$13/E$196,0)),0)","v":0},{"$f":"IFERROR(IF($B294>F$15,0,IF(OFFSET(index!$I$2,MATCH(F$195,index!$I$3:$I$50,0),MONTH(CF表!$B294)),F$21*F$13/F$196,0)),0)","v":0},{"$f":"IFERROR(IF($B294>G$15,0,IF(OFFSET(index!$I$2,MATCH(G$195,index!$I$3:$I$50,0),MONTH(CF表!$B294)),G$21*G$13/G$196,0)),0)","v":0},{"$f":"IFERROR(IF($B294>H$15,0,IF(OFFSET(index!$I$2,MATCH(H$195,index!$I$3:$I$50,0),MONTH(CF表!$B294)),H$21*H$13/H$196,0)),0)","v":0},{"$f":"IFERROR(IF($B294>I$15,0,IF(OFFSET(index!$I$2,MATCH(I$195,index!$I$3:$I$50,0),MONTH(CF表!$B294)),I$21*I$13/I$196,0)),0)","v":0},{"$f":"IFERROR(IF($B294>J$15,0,IF(OFFSET(index!$I$2,MATCH(J$195,index!$I$3:$I$50,0),MONTH(CF表!$B294)),J$21*J$13/J$196,0)),0)","v":0},{"$f":"IFERROR(IF($B294>K$15,0,IF(OFFSET(index!$I$2,MATCH(K$195,index!$I$3:$I$50,0),MONTH(CF表!$B294)),K$21*K$13/K$196,0)),0)","v":0},{"$f":"IFERROR(IF($B294>L$15,0,IF(OFFSET(index!$I$2,MATCH(L$195,index!$I$3:$I$50,0),MONTH(CF表!$B294)),L$21*L$13/L$196,0)),0)","v":0}]
[null,"2030-11-01",{"$f":"IFERROR(IF($B295>C$15,0,IF(OFFSET(index!$I$2,MATCH(C$195,index!$I$3:$I$50,0),MONTH(CF表!$B295)),C$21*C$13/C$196,0)),0)","v":0},{"$f":"IFERROR(IF($B295>D$15,0,IF(OFFSET(index!$I$2,MATCH(D$195,index!$I$3:$I$50,0),MONTH(CF表!$B295)),D$21*D$13/D$196,0)),0)","v":0},{"$f":"IFERROR(IF($B295>E$15,0,IF(OFFSET(index!$I$2,MATCH(E$195,index!$I$3:$I$50,0),MONTH(CF表!$B295)),E$21*E$13/E$196,0)),0)","v":0},{"$f":"IFERROR(IF($B295>F$15,0,IF(OFFSET(index!$I$2,MATCH(F$195,index!$I$3:$I$50,0),MONTH(CF表!$B295)),F$21*F$13/F$196,0)),0)","v":0},{"$f":"IFERROR(IF($B295>G$15,0,IF(OFFSET(index!$I$2,MATCH(G$195,index!$I$3:$I$50,0),MONTH(CF表!$B295)),G$21*G$13/G$196,0)),0)","v":0},{"$f":"IFERROR(IF($B295>H$15,0,IF(OFFSET(index!$I$2,MATCH(H$195,index!$I$3:$I$50,0),MONTH(CF表!$B295)),H$21*H$13/H$196,0)),0)","v":0},{"$f":"IFERROR(IF($B295>I$15,0,IF(OFFSET(index!$I$2,MATCH(I$195,index!$I$3:$I$50,0),MONTH(CF表!$B295)),I$21*I$13/I$196,0)),0)","v":0},{"$f":"IFERROR(IF($B295>J$15,0,IF(OFFSET(index!$I$2,MATCH(J$195,index!$I$3:$I$50,0),MONTH(CF表!$B295)),J$21*J$13/J$196,0)),0)","v":0},{"$f":"IFERROR(IF($B295>K$15,0,IF(OFFSET(index!$I$2,MATCH(K$195,index!$I$3:$I$50,0),MONTH(CF表!$B295)),K$21*K$13/K$196,0)),0)","v":0},{"$f":"IFERROR(IF($B295>L$15,0,IF(OFFSET(index!$I$2,MATCH(L$195,index!$I$3:$I$50,0),MONTH(CF表!$B295)),L$21*L$13/L$196,0)),0)","v":0}]
[null,"2030-12-01",{"$f":"IFERROR(IF($B296>C$15,0,IF(OFFSET(index!$I$2,MATCH(C$195,index!$I$3:$I$50,0),MONTH(CF表!$B296)),C$21*C$13/C$196,0)),0)","v":0},{"$f":"IFERROR(IF($B296>D$15,0,IF(OFFSET(index!$I$2,MATCH(D$195,index!$I$3:$I$50,0),MONTH(CF表!$B296)),D$21*D$13/D$196,0)),0)","v":0},{"$f":"IFERROR(IF($B296>E$15,0,IF(OFFSET(index!$I$2,MATCH(E$195,index!$I$3:$I$50,0),MONTH(CF表!$B296)),E$21*E$13/E$196,0)),0)","v":0},{"$f":"IFERROR(IF($B296>F$15,0,IF(OFFSET(index!$I$2,MATCH(F$195,index!$I$3:$I$50,0),MONTH(CF表!$B296)),F$21*F$13/F$196,0)),0)","v":0},{"$f":"IFERROR(IF($B296>G$15,0,IF(OFFSET(index!$I$2,MATCH(G$195,index!$I$3:$I$50,0),MONTH(CF表!$B296)),G$21*G$13/G$196,0)),0)","v":0},{"$f":"IFERROR(IF($B296>H$15,0,IF(OFFSET(index!$I$2,MATCH(H$195,index!$I$3:$I$50,0),MONTH(CF表!$B296)),H$21*H$13/H$196,0)),0)","v":0},{"$f":"IFERROR(IF($B296>I$15,0,IF(OFFSET(index!$I$2,MATCH(I$195,index!$I$3:$I$50,0),MONTH(CF表!$B296)),I$21*I$13/I$196,0)),0)","v":0},{"$f":"IFERROR(IF($B296>J$15,0,IF(OFFSET(index!$I$2,MATCH(J$195,index!$I$3:$I$50,0),MONTH(CF表!$B296)),J$21*J$13/J$196,0)),0)","v":0},{"$f":"IFERROR(IF($B296>K$15,0,IF(OFFSET(index!$I$2,MATCH(K$195,index!$I$3:$I$50,0),MONTH(CF表!$B296)),K$21*K$13/K$196,0)),0)","v":0},{"$f":"IFERROR(IF($B296>L$15,0,IF(OFFSET(index!$I$2,MATCH(L$195,index!$I$3:$I$50,0),MONTH(CF表!$B296)),L$21*L$13/L$196,0)),0)","v":0}]
[null,"2031-01-01",{"$f":"IFERROR(IF($B297>C$15,0,IF(OFFSET(index!$I$2,MATCH(C$195,index!$I$3:$I$50,0),MONTH(CF表!$B297)),C$21*C$13/C$196,0)),0)","v":0},{"$f":"IFERROR(IF($B297>D$15,0,IF(OFFSET(index!$I$2,MATCH(D$195,index!$I$3:$I$50,0),MONTH(CF表!$B297)),D$21*D$13/D$196,0)),0)","v":0},{"$f":"IFERROR(IF($B297>E$15,0,IF(OFFSET(index!$I$2,MATCH(E$195,index!$I$3:$I$50,0),MONTH(CF表!$B297)),E$21*E$13/E$196,0)),0)","v":0},{"$f":"IFERROR(IF($B297>F$15,0,IF(OFFSET(index!$I$2,MATCH(F$195,index!$I$3:$I$50,0),MONTH(CF表!$B297)),F$21*F$13/F$196,0)),0)","v":0},{"$f":"IFERROR(IF($B297>G$15,0,IF(OFFSET(index!$I$2,MATCH(G$195,index!$I$3:$I$50,0),MONTH(CF表!$B297)),G$21*G$13/G$196,0)),0)","v":0},{"$f":"IFERROR(IF($B297>H$15,0,IF(OFFSET(index!$I$2,MATCH(H$195,index!$I$3:$I$50,0),MONTH(CF表!$B297)),H$21*H$13/H$196,0)),0)","v":0},{"$f":"IFERROR(IF($B297>I$15,0,IF(OFFSET(index!$I$2,MATCH(I$195,index!$I$3:$I$50,0),MONTH(CF表!$B297)),I$21*I$13/I$196,0)),0)","v":0},{"$f":"IFERROR(IF($B297>J$15,0,IF(OFFSET(index!$I$2,MATCH(J$195,index!$I$3:$I$50,0),MONTH(CF表!$B297)),J$21*J$13/J$196,0)),0)","v":0},{"$f":"IFERROR(IF($B297>K$15,0,IF(OFFSET(index!$I$2,MATCH(K$195,index!$I$3:$I$50,0),MONTH(CF表!$B297)),K$21*K$13/K$196,0)),0)","v":0},{"$f":"IFERROR(IF($B297>L$15,0,IF(OFFSET(index!$I$2,MATCH(L$195,index!$I$3:$I$50,0),MONTH(CF表!$B297)),L$21*L$13/L$196,0)),0)","v":0}]
[null,"2031-02-01",{"$f":"IFERROR(IF($B298>C$15,0,IF(OFFSET(index!$I$2,MATCH(C$195,index!$I$3:$I$50,0),MONTH(CF表!$B298)),C$21*C$13/C$196,0)),0)","v":0},{"$f":"IFERROR(IF($B298>D$15,0,IF(OFFSET(index!$I$2,MATCH(D$195,index!$I$3:$I$50,0),MONTH(CF表!$B298)),D$21*D$13/D$196,0)),0)","v":0},{"$f":"IFERROR(IF($B298>E$15,0,IF(OFFSET(index!$I$2,MATCH(E$195,index!$I$3:$I$50,0),MONTH(CF表!$B298)),E$21*E$13/E$196,0)),0)","v":0},{"$f":"IFERROR(IF($B298>F$15,0,IF(OFFSET(index!$I$2,MATCH(F$195,index!$I$3:$I$50,0),MONTH(CF表!$B298)),F$21*F$13/F$196,0)),0)","v":0},{"$f":"IFERROR(IF($B298>G$15,0,IF(OFFSET(index!$I$2,MATCH(G$195,index!$I$3:$I$50,0),MONTH(CF表!$B298)),G$21*G$13/G$196,0)),0)","v":0},{"$f":"IFERROR(IF($B298>H$15,0,IF(OFFSET(index!$I$2,MATCH(H$195,index!$I$3:$I$50,0),MONTH(CF表!$B298)),H$21*H$13/H$196,0)),0)","v":0},{"$f":"IFERROR(IF($B298>I$15,0,IF(OFFSET(index!$I$2,MATCH(I$195,index!$I$3:$I$50,0),MONTH(CF表!$B298)),I$21*I$13/I$196,0)),0)","v":0},{"$f":"IFERROR(IF($B298>J$15,0,IF(OFFSET(index!$I$2,MATCH(J$195,index!$I$3:$I$50,0),MONTH(CF表!$B298)),J$21*J$13/J$196,0)),0)","v":0},{"$f":"IFERROR(IF($B298>K$15,0,IF(OFFSET(index!$I$2,MATCH(K$195,index!$I$3:$I$50,0),MONTH(CF表!$B298)),K$21*K$13/K$196,0)),0)","v":0},{"$f":"IFERROR(IF($B298>L$15,0,IF(OFFSET(index!$I$2,MATCH(L$195,index!$I$3:$I$50,0),MONTH(CF表!$B298)),L$21*L$13/L$196,0)),0)","v":0}]
[null,"2031-03-01",{"$f":"IFERROR(IF($B299>C$15,0,IF(OFFSET(index!$I$2,MATCH(C$195,index!$I$3:$I$50,0),MONTH(CF表!$B299)),C$21*C$13/C$196,0)),0)","v":0},{"$f":"IFERROR(IF($B299>D$15,0,IF(OFFSET(index!$I$2,MATCH(D$195,index!$I$3:$I$50,0),MONTH(CF表!$B299)),D$21*D$13/D$196,0)),0)","v":0},{"$f":"IFERROR(IF($B299>E$15,0,IF(OFFSET(index!$I$2,MATCH(E$195,index!$I$3:$I$50,0),MONTH(CF表!$B299)),E$21*E$13/E$196,0)),0)","v":0},{"$f":"IFERROR(IF($B299>F$15,0,IF(OFFSET(index!$I$2,MATCH(F$195,index!$I$3:$I$50,0),MONTH(CF表!$B299)),F$21*F$13/F$196,0)),0)","v":0},{"$f":"IFERROR(IF($B299>G$15,0,IF(OFFSET(index!$I$2,MATCH(G$195,index!$I$3:$I$50,0),MONTH(CF表!$B299)),G$21*G$13/G$196,0)),0)","v":0},{"$f":"IFERROR(IF($B299>H$15,0,IF(OFFSET(index!$I$2,MATCH(H$195,index!$I$3:$I$50,0),MONTH(CF表!$B299)),H$21*H$13/H$196,0)),0)","v":0},{"$f":"IFERROR(IF($B299>I$15,0,IF(OFFSET(index!$I$2,MATCH(I$195,index!$I$3:$I$50,0),MONTH(CF表!$B299)),I$21*I$13/I$196,0)),0)","v":0},{"$f":"IFERROR(IF($B299>J$15,0,IF(OFFSET(index!$I$2,MATCH(J$195,index!$I$3:$I$50,0),MONTH(CF表!$B299)),J$21*J$13/J$196,0)),0)","v":0},{"$f":"IFERROR(IF($B299>K$15,0,IF(OFFSET(index!$I$2,MATCH(K$195,index!$I$3:$I$50,0),MONTH(CF表!$B299)),K$21*K$13/K$196,0)),0)","v":0},{"$f":"IFERROR(IF($B299>L$15,0,IF(OFFSET(index!$I$2,MATCH(L$195,index!$I$3:$I$50,0),MONTH(CF表!$B299)),L$21*L$13/L$196,0)),0)","v":0}]
[null,"2031-04-01",{"$f":"IFERROR(IF($B300>C$15,0,IF(OFFSET(index!$I$2,MATCH(C$195,index!$I$3:$I$50,0),MONTH(CF表!$B300)),C$21*C$13/C$196,0)),0)","v":0},{"$f":"IFERROR(IF($B300>D$15,0,IF(OFFSET(index!$I$2,MATCH(D$195,index!$I$3:$I$50,0),MONTH(CF表!$B300)),D$21*D$13/D$196,0)),0)","v":0},{"$f":"IFERROR(IF($B300>E$15,0,IF(OFFSET(index!$I$2,MATCH(E$195,index!$I$3:$I$50,0),MONTH(CF表!$B300)),E$21*E$13/E$196,0)),0)","v":0},{"$f":"IFERROR(IF($B300>F$15,0,IF(OFFSET(index!$I$2,MATCH(F$195,index!$I$3:$I$50,0),MONTH(CF表!$B300)),F$21*F$13/F$196,0)),0)","v":0},{"$f":"IFERROR(IF($B300>G$15,0,IF(OFFSET(index!$I$2,MATCH(G$195,index!$I$3:$I$50,0),MONTH(CF表!$B300)),G$21*G$13/G$196,0)),0)","v":0},{"$f":"IFERROR(IF($B300>H$15,0,IF(OFFSET(index!$I$2,MATCH(H$195,index!$I$3:$I$50,0),MONTH(CF表!$B300)),H$21*H$13/H$196,0)),0)","v":0},{"$f":"IFERROR(IF($B300>I$15,0,IF(OFFSET(index!$I$2,MATCH(I$195,index!$I$3:$I$50,0),MONTH(CF表!$B300)),I$21*I$13/I$196,0)),0)","v":0},{"$f":"IFERROR(IF($B300>J$15,0,IF(OFFSET(index!$I$2,MATCH(J$195,index!$I$3:$I$50,0),MONTH(CF表!$B300)),J$21*J$13/J$196,0)),0)","v":0},{"$f":"IFERROR(IF($B300>K$15,0,IF(OFFSET(index!$I$2,MATCH(K$195,index!$I$3:$I$50,0),MONTH(CF表!$B300)),K$21*K$13/K$196,0)),0)","v":0},{"$f":"IFERROR(IF($B300>L$15,0,IF(OFFSET(index!$I$2,MATCH(L$195,index!$I$3:$I$50,0),MONTH(CF表!$B300)),L$21*L$13/L$196,0)),0)","v":0}]
[null,"2031-05-01",{"$f":"IFERROR(IF($B301>C$15,0,IF(OFFSET(index!$I$2,MATCH(C$195,index!$I$3:$I$50,0),MONTH(CF表!$B301)),C$21*C$13/C$196,0)),0)","v":0},{"$f":"IFERROR(IF($B301>D$15,0,IF(OFFSET(index!$I$2,MATCH(D$195,index!$I$3:$I$50,0),MONTH(CF表!$B301)),D$21*D$13/D$196,0)),0)","v":0},{"$f":"IFERROR(IF($B301>E$15,0,IF(OFFSET(index!$I$2,MATCH(E$195,index!$I$3:$I$50,0),MONTH(CF表!$B301)),E$21*E$13/E$196,0)),0)","v":0},{"$f":"IFERROR(IF($B301>F$15,0,IF(OFFSET(index!$I$2,MATCH(F$195,index!$I$3:$I$50,0),MONTH(CF表!$B301)),F$21*F$13/F$196,0)),0)","v":0},{"$f":"IFERROR(IF($B301>G$15,0,IF(OFFSET(index!$I$2,MATCH(G$195,index!$I$3:$I$50,0),MONTH(CF表!$B301)),G$21*G$13/G$196,0)),0)","v":0},{"$f":"IFERROR(IF($B301>H$15,0,IF(OFFSET(index!$I$2,MATCH(H$195,index!$I$3:$I$50,0),MONTH(CF表!$B301)),H$21*H$13/H$196,0)),0)","v":0},{"$f":"IFERROR(IF($B301>I$15,0,IF(OFFSET(index!$I$2,MATCH(I$195,index!$I$3:$I$50,0),MONTH(CF表!$B301)),I$21*I$13/I$196,0)),0)","v":0},{"$f":"IFERROR(IF($B301>J$15,0,IF(OFFSET(index!$I$2,MATCH(J$195,index!$I$3:$I$50,0),MONTH(CF表!$B301)),J$21*J$13/J$196,0)),0)","v":0},{"$f":"IFERROR(IF($B301>K$15,0,IF(OFFSET(index!$I$2,MATCH(K$195,index!$I$3:$I$50,0),MONTH(CF表!$B301)),K$21*K$13/K$196,0)),0)","v":0},{"$f":"IFERROR(IF($B301>L$15,0,IF(OFFSET(index!$I$2,MATCH(L$195,index!$I$3:$I$50,0),MONTH(CF表!$B301)),L$21*L$13/L$196,0)),0)","v":0}]
[null,"2031-06-01",{"$f":"IFERROR(IF($B302>C$15,0,IF(OFFSET(index!$I$2,MATCH(C$195,index!$I$3:$I$50,0),MONTH(CF表!$B302)),C$21*C$13/C$196,0)),0)","v":0},{"$f":"IFERROR(IF($B302>D$15,0,IF(OFFSET(index!$I$2,MATCH(D$195,index!$I$3:$I$50,0),MONTH(CF表!$B302)),D$21*D$13/D$196,0)),0)","v":0},{"$f":"IFERROR(IF($B302>E$15,0,IF(OFFSET(index!$I$2,MATCH(E$195,index!$I$3:$I$50,0),MONTH(CF表!$B302)),E$21*E$13/E$196,0)),0)","v":0},{"$f":"IFERROR(IF($B302>F$15,0,IF(OFFSET(index!$I$2,MATCH(F$195,index!$I$3:$I$50,0),MONTH(CF表!$B302)),F$21*F$13/F$196,0)),0)","v":0},{"$f":"IFERROR(IF($B302>G$15,0,IF(OFFSET(index!$I$2,MATCH(G$195,index!$I$3:$I$50,0),MONTH(CF表!$B302)),G$21*G$13/G$196,0)),0)","v":0},{"$f":"IFERROR(IF($B302>H$15,0,IF(OFFSET(index!$I$2,MATCH(H$195,index!$I$3:$I$50,0),MONTH(CF表!$B302)),H$21*H$13/H$196,0)),0)","v":0},{"$f":"IFERROR(IF($B302>I$15,0,IF(OFFSET(index!$I$2,MATCH(I$195,index!$I$3:$I$50,0),MONTH(CF表!$B302)),I$21*I$13/I$196,0)),0)","v":0},{"$f":"IFERROR(IF($B302>J$15,0,IF(OFFSET(index!$I$2,MATCH(J$195,index!$I$3:$I$50,0),MONTH(CF表!$B302)),J$21*J$13/J$196,0)),0)","v":0},{"$f":"IFERROR(IF($B302>K$15,0,IF(OFFSET(index!$I$2,MATCH(K$195,index!$I$3:$I$50,0),MONTH(CF表!$B302)),K$21*K$13/K$196,0)),0)","v":0},{"$f":"IFERROR(IF($B302>L$15,0,IF(OFFSET(index!$I$2,MATCH(L$195,index!$I$3:$I$50,0),MONTH(CF表!$B302)),L$21*L$13/L$196,0)),0)","v":0}]
[null,"2031-07-01",{"$f":"IFERROR(IF($B303>C$15,0,IF(OFFSET(index!$I$2,MATCH(C$195,index!$I$3:$I$50,0),MONTH(CF表!$B303)),C$21*C$13/C$196,0)),0)","v":0},{"$f":"IFERROR(IF($B303>D$15,0,IF(OFFSET(index!$I$2,MATCH(D$195,index!$I$3:$I$50,0),MONTH(CF表!$B303)),D$21*D$13/D$196,0)),0)","v":0},{"$f":"IFERROR(IF($B303>E$15,0,IF(OFFSET(index!$I$2,MATCH(E$195,index!$I$3:$I$50,0),MONTH(CF表!$B303)),E$21*E$13/E$196,0)),0)","v":0},{"$f":"IFERROR(IF($B303>F$15,0,IF(OFFSET(index!$I$2,MATCH(F$195,index!$I$3:$I$50,0),MONTH(CF表!$B303)),F$21*F$13/F$196,0)),0)","v":0},{"$f":"IFERROR(IF($B303>G$15,0,IF(OFFSET(index!$I$2,MATCH(G$195,index!$I$3:$I$50,0),MONTH(CF表!$B303)),G$21*G$13/G$196,0)),0)","v":0},{"$f":"IFERROR(IF($B303>H$15,0,IF(OFFSET(index!$I$2,MATCH(H$195,index!$I$3:$I$50,0),MONTH(CF表!$B303)),H$21*H$13/H$196,0)),0)","v":0},{"$f":"IFERROR(IF($B303>I$15,0,IF(OFFSET(index!$I$2,MATCH(I$195,index!$I$3:$I$50,0),MONTH(CF表!$B303)),I$21*I$13/I$196,0)),0)","v":0},{"$f":"IFERROR(IF($B303>J$15,0,IF(OFFSET(index!$I$2,MATCH(J$195,index!$I$3:$I$50,0),MONTH(CF表!$B303)),J$21*J$13/J$196,0)),0)","v":0},{"$f":"IFERROR(IF($B303>K$15,0,IF(OFFSET(index!$I$2,MATCH(K$195,index!$I$3:$I$50,0),MONTH(CF表!$B303)),K$21*K$13/K$196,0)),0)","v":0},{"$f":"IFERROR(IF($B303>L$15,0,IF(OFFSET(index!$I$2,MATCH(L$195,index!$I$3:$I$50,0),MONTH(CF表!$B303)),L$21*L$13/L$196,0)),0)","v":0}]
[null,"2031-08-01",{"$f":"IFERROR(IF($B304>C$15,0,IF(OFFSET(index!$I$2,MATCH(C$195,index!$I$3:$I$50,0),MONTH(CF表!$B304)),C$21*C$13/C$196,0)),0)","v":0},{"$f":"IFERROR(IF($B304>D$15,0,IF(OFFSET(index!$I$2,MATCH(D$195,index!$I$3:$I$50,0),MONTH(CF表!$B304)),D$21*D$13/D$196,0)),0)","v":0},{"$f":"IFERROR(IF($B304>E$15,0,IF(OFFSET(index!$I$2,MATCH(E$195,index!$I$3:$I$50,0),MONTH(CF表!$B304)),E$21*E$13/E$196,0)),0)","v":0},{"$f":"IFERROR(IF($B304>F$15,0,IF(OFFSET(index!$I$2,MATCH(F$195,index!$I$3:$I$50,0),MONTH(CF表!$B304)),F$21*F$13/F$196,0)),0)","v":0},{"$f":"IFERROR(IF($B304>G$15,0,IF(OFFSET(index!$I$2,MATCH(G$195,index!$I$3:$I$50,0),MONTH(CF表!$B304)),G$21*G$13/G$196,0)),0)","v":0},{"$f":"IFERROR(IF($B304>H$15,0,IF(OFFSET(index!$I$2,MATCH(H$195,index!$I$3:$I$50,0),MONTH(CF表!$B304)),H$21*H$13/H$196,0)),0)","v":0},{"$f":"IFERROR(IF($B304>I$15,0,IF(OFFSET(index!$I$2,MATCH(I$195,index!$I$3:$I$50,0),MONTH(CF表!$B304)),I$21*I$13/I$196,0)),0)","v":0},{"$f":"IFERROR(IF($B304>J$15,0,IF(OFFSET(index!$I$2,MATCH(J$195,index!$I$3:$I$50,0),MONTH(CF表!$B304)),J$21*J$13/J$196,0)),0)","v":0},{"$f":"IFERROR(IF($B304>K$15,0,IF(OFFSET(index!$I$2,MATCH(K$195,index!$I$3:$I$50,0),MONTH(CF表!$B304)),K$21*K$13/K$196,0)),0)","v":0},{"$f":"IFERROR(IF($B304>L$15,0,IF(OFFSET(index!$I$2,MATCH(L$195,index!$I$3:$I$50,0),MONTH(CF表!$B304)),L$21*L$13/L$196,0)),0)","v":0}]
[null,"2031-09-01",{"$f":"IFERROR(IF($B305>C$15,0,IF(OFFSET(index!$I$2,MATCH(C$195,index!$I$3:$I$50,0),MONTH(CF表!$B305)),C$21*C$13/C$196,0)),0)","v":0},{"$f":"IFERROR(IF($B305>D$15,0,IF(OFFSET(index!$I$2,MATCH(D$195,index!$I$3:$I$50,0),MONTH(CF表!$B305)),D$21*D$13/D$196,0)),0)","v":0},{"$f":"IFERROR(IF($B305>E$15,0,IF(OFFSET(index!$I$2,MATCH(E$195,index!$I$3:$I$50,0),MONTH(CF表!$B305)),E$21*E$13/E$196,0)),0)","v":0},{"$f":"IFERROR(IF($B305>F$15,0,IF(OFFSET(index!$I$2,MATCH(F$195,index!$I$3:$I$50,0),MONTH(CF表!$B305)),F$21*F$13/F$196,0)),0)","v":0},{"$f":"IFERROR(IF($B305>G$15,0,IF(OFFSET(index!$I$2,MATCH(G$195,index!$I$3:$I$50,0),MONTH(CF表!$B305)),G$21*G$13/G$196,0)),0)","v":0},{"$f":"IFERROR(IF($B305>H$15,0,IF(OFFSET(index!$I$2,MATCH(H$195,index!$I$3:$I$50,0),MONTH(CF表!$B305)),H$21*H$13/H$196,0)),0)","v":0},{"$f":"IFERROR(IF($B305>I$15,0,IF(OFFSET(index!$I$2,MATCH(I$195,index!$I$3:$I$50,0),MONTH(CF表!$B305)),I$21*I$13/I$196,0)),0)","v":0},{"$f":"IFERROR(IF($B305>J$15,0,IF(OFFSET(index!$I$2,MATCH(J$195,index!$I$3:$I$50,0),MONTH(CF表!$B305)),J$21*J$13/J$196,0)),0)","v":0},{"$f":"IFERROR(IF($B305>K$15,0,IF(OFFSET(index!$I$2,MATCH(K$195,index!$I$3:$I$50,0),MONTH(CF表!$B305)),K$21*K$13/K$196,0)),0)","v":0},{"$f":"IFERROR(IF($B305>L$15,0,IF(OFFSET(index!$I$2,MATCH(L$195,index!$I$3:$I$50,0),MONTH(CF表!$B305)),L$21*L$13/L$196,0)),0)","v":0}]
[null,"2031-10-01",{"$f":"IFERROR(IF($B306>C$15,0,IF(OFFSET(index!$I$2,MATCH(C$195,index!$I$3:$I$50,0),MONTH(CF表!$B306)),C$21*C$13/C$196,0)),0)","v":0},{"$f":"IFERROR(IF($B306>D$15,0,IF(OFFSET(index!$I$2,MATCH(D$195,index!$I$3:$I$50,0),MONTH(CF表!$B306)),D$21*D$13/D$196,0)),0)","v":0},{"$f":"IFERROR(IF($B306>E$15,0,IF(OFFSET(index!$I$2,MATCH(E$195,index!$I$3:$I$50,0),MONTH(CF表!$B306)),E$21*E$13/E$196,0)),0)","v":0},{"$f":"IFERROR(IF($B306>F$15,0,IF(OFFSET(index!$I$2,MATCH(F$195,index!$I$3:$I$50,0),MONTH(CF表!$B306)),F$21*F$13/F$196,0)),0)","v":0},{"$f":"IFERROR(IF($B306>G$15,0,IF(OFFSET(index!$I$2,MATCH(G$195,index!$I$3:$I$50,0),MONTH(CF表!$B306)),G$21*G$13/G$196,0)),0)","v":0},{"$f":"IFERROR(IF($B306>H$15,0,IF(OFFSET(index!$I$2,MATCH(H$195,index!$I$3:$I$50,0),MONTH(CF表!$B306)),H$21*H$13/H$196,0)),0)","v":0},{"$f":"IFERROR(IF($B306>I$15,0,IF(OFFSET(index!$I$2,MATCH(I$195,index!$I$3:$I$50,0),MONTH(CF表!$B306)),I$21*I$13/I$196,0)),0)","v":0},{"$f":"IFERROR(IF($B306>J$15,0,IF(OFFSET(index!$I$2,MATCH(J$195,index!$I$3:$I$50,0),MONTH(CF表!$B306)),J$21*J$13/J$196,0)),0)","v":0},{"$f":"IFERROR(IF($B306>K$15,0,IF(OFFSET(index!$I$2,MATCH(K$195,index!$I$3:$I$50,0),MONTH(CF表!$B306)),K$21*K$13/K$196,0)),0)","v":0},{"$f":"IFERROR(IF($B306>L$15,0,IF(OFFSET(index!$I$2,MATCH(L$195,index!$I$3:$I$50,0),MONTH(CF表!$B306)),L$21*L$13/L$196,0)),0)","v":0}]
[null,"2031-11-01",{"$f":"IFERROR(IF($B307>C$15,0,IF(OFFSET(index!$I$2,MATCH(C$195,index!$I$3:$I$50,0),MONTH(CF表!$B307)),C$21*C$13/C$196,0)),0)","v":0},{"$f":"IFERROR(IF($B307>D$15,0,IF(OFFSET(index!$I$2,MATCH(D$195,index!$I$3:$I$50,0),MONTH(CF表!$B307)),D$21*D$13/D$196,0)),0)","v":0},{"$f":"IFERROR(IF($B307>E$15,0,IF(OFFSET(index!$I$2,MATCH(E$195,index!$I$3:$I$50,0),MONTH(CF表!$B307)),E$21*E$13/E$196,0)),0)","v":0},{"$f":"IFERROR(IF($B307>F$15,0,IF(OFFSET(index!$I$2,MATCH(F$195,index!$I$3:$I$50,0),MONTH(CF表!$B307)),F$21*F$13/F$196,0)),0)","v":0},{"$f":"IFERROR(IF($B307>G$15,0,IF(OFFSET(index!$I$2,MATCH(G$195,index!$I$3:$I$50,0),MONTH(CF表!$B307)),G$21*G$13/G$196,0)),0)","v":0},{"$f":"IFERROR(IF($B307>H$15,0,IF(OFFSET(index!$I$2,MATCH(H$195,index!$I$3:$I$50,0),MONTH(CF表!$B307)),H$21*H$13/H$196,0)),0)","v":0},{"$f":"IFERROR(IF($B307>I$15,0,IF(OFFSET(index!$I$2,MATCH(I$195,index!$I$3:$I$50,0),MONTH(CF表!$B307)),I$21*I$13/I$196,0)),0)","v":0},{"$f":"IFERROR(IF($B307>J$15,0,IF(OFFSET(index!$I$2,MATCH(J$195,index!$I$3:$I$50,0),MONTH(CF表!$B307)),J$21*J$13/J$196,0)),0)","v":0},{"$f":"IFERROR(IF($B307>K$15,0,IF(OFFSET(index!$I$2,MATCH(K$195,index!$I$3:$I$50,0),MONTH(CF表!$B307)),K$21*K$13/K$196,0)),0)","v":0},{"$f":"IFERROR(IF($B307>L$15,0,IF(OFFSET(index!$I$2,MATCH(L$195,index!$I$3:$I$50,0),MONTH(CF表!$B307)),L$21*L$13/L$196,0)),0)","v":0}]
[null,"2031-12-01",{"$f":"IFERROR(IF($B308>C$15,0,IF(OFFSET(index!$I$2,MATCH(C$195,index!$I$3:$I$50,0),MONTH(CF表!$B308)),C$21*C$13/C$196,0)),0)","v":0},{"$f":"IFERROR(IF($B308>D$15,0,IF(OFFSET(index!$I$2,MATCH(D$195,index!$I$3:$I$50,0),MONTH(CF表!$B308)),D$21*D$13/D$196,0)),0)","v":0},{"$f":"IFERROR(IF($B308>E$15,0,IF(OFFSET(index!$I$2,MATCH(E$195,index!$I$3:$I$50,0),MONTH(CF表!$B308)),E$21*E$13/E$196,0)),0)","v":0},{"$f":"IFERROR(IF($B308>F$15,0,IF(OFFSET(index!$I$2,MATCH(F$195,index!$I$3:$I$50,0),MONTH(CF表!$B308)),F$21*F$13/F$196,0)),0)","v":0},{"$f":"IFERROR(IF($B308>G$15,0,IF(OFFSET(index!$I$2,MATCH(G$195,index!$I$3:$I$50,0),MONTH(CF表!$B308)),G$21*G$13/G$196,0)),0)","v":0},{"$f":"IFERROR(IF($B308>H$15,0,IF(OFFSET(index!$I$2,MATCH(H$195,index!$I$3:$I$50,0),MONTH(CF表!$B308)),H$21*H$13/H$196,0)),0)","v":0},{"$f":"IFERROR(IF($B308>I$15,0,IF(OFFSET(index!$I$2,MATCH(I$195,index!$I$3:$I$50,0),MONTH(CF表!$B308)),I$21*I$13/I$196,0)),0)","v":0},{"$f":"IFERROR(IF($B308>J$15,0,IF(OFFSET(index!$I$2,MATCH(J$195,index!$I$3:$I$50,0),MONTH(CF表!$B308)),J$21*J$13/J$196,0)),0)","v":0},{"$f":"IFERROR(IF($B308>K$15,0,IF(OFFSET(index!$I$2,MATCH(K$195,index!$I$3:$I$50,0),MONTH(CF表!$B308)),K$21*K$13/K$196,0)),0)","v":0},{"$f":"IFERROR(IF($B308>L$15,0,IF(OFFSET(index!$I$2,MATCH(L$195,index!$I$3:$I$50,0),MONTH(CF表!$B308)),L$21*L$13/L$196,0)),0)","v":0}]
[null,{"$f":"EDATE(B308,1)","v":"2032-01-01"},{"$f":"IFERROR(IF($B309>C$15,0,IF(OFFSET(index!$I$2,MATCH(C$195,index!$I$3:$I$50,0),MONTH(CF表!$B309)),C$21*C$13/C$196,0)),0)","v":0},{"$f":"IFERROR(IF($B309>D$15,0,IF(OFFSET(index!$I$2,MATCH(D$195,index!$I$3:$I$50,0),MONTH(CF表!$B309)),D$21*D$13/D$196,0)),0)","v":0},{"$f":"IFERROR(IF($B309>E$15,0,IF(OFFSET(index!$I$2,MATCH(E$195,index!$I$3:$I$50,0),MONTH(CF表!$B309)),E$21*E$13/E$196,0)),0)","v":0},{"$f":"IFERROR(IF($B309>F$15,0,IF(OFFSET(index!$I$2,MATCH(F$195,index!$I$3:$I$50,0),MONTH(CF表!$B309)),F$21*F$13/F$196,0)),0)","v":0},{"$f":"IFERROR(IF($B309>G$15,0,IF(OFFSET(index!$I$2,MATCH(G$195,index!$I$3:$I$50,0),MONTH(CF表!$B309)),G$21*G$13/G$196,0)),0)","v":0},{"$f":"IFERROR(IF($B309>H$15,0,IF(OFFSET(index!$I$2,MATCH(H$195,index!$I$3:$I$50,0),MONTH(CF表!$B309)),H$21*H$13/H$196,0)),0)","v":0},{"$f":"IFERROR(IF($B309>I$15,0,IF(OFFSET(index!$I$2,MATCH(I$195,index!$I$3:$I$50,0),MONTH(CF表!$B309)),I$21*I$13/I$196,0)),0)","v":0},{"$f":"IFERROR(IF($B309>J$15,0,IF(OFFSET(index!$I$2,MATCH(J$195,index!$I$3:$I$50,0),MONTH(CF表!$B309)),J$21*J$13/J$196,0)),0)","v":0},{"$f":"IFERROR(IF($B309>K$15,0,IF(OFFSET(index!$I$2,MATCH(K$195,index!$I$3:$I$50,0),MONTH(CF表!$B309)),K$21*K$13/K$196,0)),0)","v":0},{"$f":"IFERROR(IF($B309>L$15,0,IF(OFFSET(index!$I$2,MATCH(L$195,index!$I$3:$I$50,0),MONTH(CF表!$B309)),L$21*L$13/L$196,0)),0)","v":0}]
[null,"2032-02-01",{"$f":"IFERROR(IF($B310>C$15,0,IF(OFFSET(index!$I$2,MATCH(C$195,index!$I$3:$I$50,0),MONTH(CF表!$B310)),C$21*C$13/C$196,0)),0)","v":0},{"$f":"IFERROR(IF($B310>D$15,0,IF(OFFSET(index!$I$2,MATCH(D$195,index!$I$3:$I$50,0),MONTH(CF表!$B310)),D$21*D$13/D$196,0)),0)","v":0},{"$f":"IFERROR(IF($B310>E$15,0,IF(OFFSET(index!$I$2,MATCH(E$195,index!$I$3:$I$50,0),MONTH(CF表!$B310)),E$21*E$13/E$196,0)),0)","v":0},{"$f":"IFERROR(IF($B310>F$15,0,IF(OFFSET(index!$I$2,MATCH(F$195,index!$I$3:$I$50,0),MONTH(CF表!$B310)),F$21*F$13/F$196,0)),0)","v":0},{"$f":"IFERROR(IF($B310>G$15,0,IF(OFFSET(index!$I$2,MATCH(G$195,index!$I$3:$I$50,0),MONTH(CF表!$B310)),G$21*G$13/G$196,0)),0)","v":0},{"$f":"IFERROR(IF($B310>H$15,0,IF(OFFSET(index!$I$2,MATCH(H$195,index!$I$3:$I$50,0),MONTH(CF表!$B310)),H$21*H$13/H$196,0)),0)","v":0},{"$f":"IFERROR(IF($B310>I$15,0,IF(OFFSET(index!$I$2,MATCH(I$195,index!$I$3:$I$50,0),MONTH(CF表!$B310)),I$21*I$13/I$196,0)),0)","v":0},{"$f":"IFERROR(IF($B310>J$15,0,IF(OFFSET(index!$I$2,MATCH(J$195,index!$I$3:$I$50,0),MONTH(CF表!$B310)),J$21*J$13/J$196,0)),0)","v":0},{"$f":"IFERROR(IF($B310>K$15,0,IF(OFFSET(index!$I$2,MATCH(K$195,index!$I$3:$I$50,0),MONTH(CF表!$B310)),K$21*K$13/K$196,0)),0)","v":0},{"$f":"IFERROR(IF($B310>L$15,0,IF(OFFSET(index!$I$2,MATCH(L$195,index!$I$3:$I$50,0),MONTH(CF表!$B310)),L$21*L$13/L$196,0)),0)","v":0}]
[null,"2032-03-01",{"$f":"IFERROR(IF($B311>C$15,0,IF(OFFSET(index!$I$2,MATCH(C$195,index!$I$3:$I$50,0),MONTH(CF表!$B311)),C$21*C$13/C$196,0)),0)","v":0},{"$f":"IFERROR(IF($B311>D$15,0,IF(OFFSET(index!$I$2,MATCH(D$195,index!$I$3:$I$50,0),MONTH(CF表!$B311)),D$21*D$13/D$196,0)),0)","v":0},{"$f":"IFERROR(IF($B311>E$15,0,IF(OFFSET(index!$I$2,MATCH(E$195,index!$I$3:$I$50,0),MONTH(CF表!$B311)),E$21*E$13/E$196,0)),0)","v":0},{"$f":"IFERROR(IF($B311>F$15,0,IF(OFFSET(index!$I$2,MATCH(F$195,index!$I$3:$I$50,0),MONTH(CF表!$B311)),F$21*F$13/F$196,0)),0)","v":0},{"$f":"IFERROR(IF($B311>G$15,0,IF(OFFSET(index!$I$2,MATCH(G$195,index!$I$3:$I$50,0),MONTH(CF表!$B311)),G$21*G$13/G$196,0)),0)","v":0},{"$f":"IFERROR(IF($B311>H$15,0,IF(OFFSET(index!$I$2,MATCH(H$195,index!$I$3:$I$50,0),MONTH(CF表!$B311)),H$21*H$13/H$196,0)),0)","v":0},{"$f":"IFERROR(IF($B311>I$15,0,IF(OFFSET(index!$I$2,MATCH(I$195,index!$I$3:$I$50,0),MONTH(CF表!$B311)),I$21*I$13/I$196,0)),0)","v":0},{"$f":"IFERROR(IF($B311>J$15,0,IF(OFFSET(index!$I$2,MATCH(J$195,index!$I$3:$I$50,0),MONTH(CF表!$B311)),J$21*J$13/J$196,0)),0)","v":0},{"$f":"IFERROR(IF($B311>K$15,0,IF(OFFSET(index!$I$2,MATCH(K$195,index!$I$3:$I$50,0),MONTH(CF表!$B311)),K$21*K$13/K$196,0)),0)","v":0},{"$f":"IFERROR(IF($B311>L$15,0,IF(OFFSET(index!$I$2,MATCH(L$195,index!$I$3:$I$50,0),MONTH(CF表!$B311)),L$21*L$13/L$196,0)),0)","v":0}]
[null,"2032-04-01",{"$f":"IFERROR(IF($B312>C$15,0,IF(OFFSET(index!$I$2,MATCH(C$195,index!$I$3:$I$50,0),MONTH(CF表!$B312)),C$21*C$13/C$196,0)),0)","v":0},{"$f":"IFERROR(IF($B312>D$15,0,IF(OFFSET(index!$I$2,MATCH(D$195,index!$I$3:$I$50,0),MONTH(CF表!$B312)),D$21*D$13/D$196,0)),0)","v":0},{"$f":"IFERROR(IF($B312>E$15,0,IF(OFFSET(index!$I$2,MATCH(E$195,index!$I$3:$I$50,0),MONTH(CF表!$B312)),E$21*E$13/E$196,0)),0)","v":0},{"$f":"IFERROR(IF($B312>F$15,0,IF(OFFSET(index!$I$2,MATCH(F$195,index!$I$3:$I$50,0),MONTH(CF表!$B312)),F$21*F$13/F$196,0)),0)","v":0},{"$f":"IFERROR(IF($B312>G$15,0,IF(OFFSET(index!$I$2,MATCH(G$195,index!$I$3:$I$50,0),MONTH(CF表!$B312)),G$21*G$13/G$196,0)),0)","v":0},{"$f":"IFERROR(IF($B312>H$15,0,IF(OFFSET(index!$I$2,MATCH(H$195,index!$I$3:$I$50,0),MONTH(CF表!$B312)),H$21*H$13/H$196,0)),0)","v":0},{"$f":"IFERROR(IF($B312>I$15,0,IF(OFFSET(index!$I$2,MATCH(I$195,index!$I$3:$I$50,0),MONTH(CF表!$B312)),I$21*I$13/I$196,0)),0)","v":0},{"$f":"IFERROR(IF($B312>J$15,0,IF(OFFSET(index!$I$2,MATCH(J$195,index!$I$3:$I$50,0),MONTH(CF表!$B312)),J$21*J$13/J$196,0)),0)","v":0},{"$f":"IFERROR(IF($B312>K$15,0,IF(OFFSET(index!$I$2,MATCH(K$195,index!$I$3:$I$50,0),MONTH(CF表!$B312)),K$21*K$13/K$196,0)),0)","v":0},{"$f":"IFERROR(IF($B312>L$15,0,IF(OFFSET(index!$I$2,MATCH(L$195,index!$I$3:$I$50,0),MONTH(CF表!$B312)),L$21*L$13/L$196,0)),0)","v":0}]
[null,"2032-05-01",{"$f":"IFERROR(IF($B313>C$15,0,IF(OFFSET(index!$I$2,MATCH(C$195,index!$I$3:$I$50,0),MONTH(CF表!$B313)),C$21*C$13/C$196,0)),0)","v":0},{"$f":"IFERROR(IF($B313>D$15,0,IF(OFFSET(index!$I$2,MATCH(D$195,index!$I$3:$I$50,0),MONTH(CF表!$B313)),D$21*D$13/D$196,0)),0)","v":0},{"$f":"IFERROR(IF($B313>E$15,0,IF(OFFSET(index!$I$2,MATCH(E$195,index!$I$3:$I$50,0),MONTH(CF表!$B313)),E$21*E$13/E$196,0)),0)","v":0},{"$f":"IFERROR(IF($B313>F$15,0,IF(OFFSET(index!$I$2,MATCH(F$195,index!$I$3:$I$50,0),MONTH(CF表!$B313)),F$21*F$13/F$196,0)),0)","v":0},{"$f":"IFERROR(IF($B313>G$15,0,IF(OFFSET(index!$I$2,MATCH(G$195,index!$I$3:$I$50,0),MONTH(CF表!$B313)),G$21*G$13/G$196,0)),0)","v":0},{"$f":"IFERROR(IF($B313>H$15,0,IF(OFFSET(index!$I$2,MATCH(H$195,index!$I$3:$I$50,0),MONTH(CF表!$B313)),H$21*H$13/H$196,0)),0)","v":0},{"$f":"IFERROR(IF($B313>I$15,0,IF(OFFSET(index!$I$2,MATCH(I$195,index!$I$3:$I$50,0),MONTH(CF表!$B313)),I$21*I$13/I$196,0)),0)","v":0},{"$f":"IFERROR(IF($B313>J$15,0,IF(OFFSET(index!$I$2,MATCH(J$195,index!$I$3:$I$50,0),MONTH(CF表!$B313)),J$21*J$13/J$196,0)),0)","v":0},{"$f":"IFERROR(IF($B313>K$15,0,IF(OFFSET(index!$I$2,MATCH(K$195,index!$I$3:$I$50,0),MONTH(CF表!$B313)),K$21*K$13/K$196,0)),0)","v":0},{"$f":"IFERROR(IF($B313>L$15,0,IF(OFFSET(index!$I$2,MATCH(L$195,index!$I$3:$I$50,0),MONTH(CF表!$B313)),L$21*L$13/L$196,0)),0)","v":0}]
[null,"2032-06-01",{"$f":"IFERROR(IF($B314>C$15,0,IF(OFFSET(index!$I$2,MATCH(C$195,index!$I$3:$I$50,0),MONTH(CF表!$B314)),C$21*C$13/C$196,0)),0)","v":0},{"$f":"IFERROR(IF($B314>D$15,0,IF(OFFSET(index!$I$2,MATCH(D$195,index!$I$3:$I$50,0),MONTH(CF表!$B314)),D$21*D$13/D$196,0)),0)","v":0},{"$f":"IFERROR(IF($B314>E$15,0,IF(OFFSET(index!$I$2,MATCH(E$195,index!$I$3:$I$50,0),MONTH(CF表!$B314)),E$21*E$13/E$196,0)),0)","v":0},{"$f":"IFERROR(IF($B314>F$15,0,IF(OFFSET(index!$I$2,MATCH(F$195,index!$I$3:$I$50,0),MONTH(CF表!$B314)),F$21*F$13/F$196,0)),0)","v":0},{"$f":"IFERROR(IF($B314>G$15,0,IF(OFFSET(index!$I$2,MATCH(G$195,index!$I$3:$I$50,0),MONTH(CF表!$B314)),G$21*G$13/G$196,0)),0)","v":0},{"$f":"IFERROR(IF($B314>H$15,0,IF(OFFSET(index!$I$2,MATCH(H$195,index!$I$3:$I$50,0),MONTH(CF表!$B314)),H$21*H$13/H$196,0)),0)","v":0},{"$f":"IFERROR(IF($B314>I$15,0,IF(OFFSET(index!$I$2,MATCH(I$195,index!$I$3:$I$50,0),MONTH(CF表!$B314)),I$21*I$13/I$196,0)),0)","v":0},{"$f":"IFERROR(IF($B314>J$15,0,IF(OFFSET(index!$I$2,MATCH(J$195,index!$I$3:$I$50,0),MONTH(CF表!$B314)),J$21*J$13/J$196,0)),0)","v":0},{"$f":"IFERROR(IF($B314>K$15,0,IF(OFFSET(index!$I$2,MATCH(K$195,index!$I$3:$I$50,0),MONTH(CF表!$B314)),K$21*K$13/K$196,0)),0)","v":0},{"$f":"IFERROR(IF($B314>L$15,0,IF(OFFSET(index!$I$2,MATCH(L$195,index!$I$3:$I$50,0),MONTH(CF表!$B314)),L$21*L$13/L$196,0)),0)","v":0}]
[null,"2032-07-01",{"$f":"IFERROR(IF($B315>C$15,0,IF(OFFSET(index!$I$2,MATCH(C$195,index!$I$3:$I$50,0),MONTH(CF表!$B315)),C$21*C$13/C$196,0)),0)","v":0},{"$f":"IFERROR(IF($B315>D$15,0,IF(OFFSET(index!$I$2,MATCH(D$195,index!$I$3:$I$50,0),MONTH(CF表!$B315)),D$21*D$13/D$196,0)),0)","v":0},{"$f":"IFERROR(IF($B315>E$15,0,IF(OFFSET(index!$I$2,MATCH(E$195,index!$I$3:$I$50,0),MONTH(CF表!$B315)),E$21*E$13/E$196,0)),0)","v":0},{"$f":"IFERROR(IF($B315>F$15,0,IF(OFFSET(index!$I$2,MATCH(F$195,index!$I$3:$I$50,0),MONTH(CF表!$B315)),F$21*F$13/F$196,0)),0)","v":0},{"$f":"IFERROR(IF($B315>G$15,0,IF(OFFSET(index!$I$2,MATCH(G$195,index!$I$3:$I$50,0),MONTH(CF表!$B315)),G$21*G$13/G$196,0)),0)","v":0},{"$f":"IFERROR(IF($B315>H$15,0,IF(OFFSET(index!$I$2,MATCH(H$195,index!$I$3:$I$50,0),MONTH(CF表!$B315)),H$21*H$13/H$196,0)),0)","v":0},{"$f":"IFERROR(IF($B315>I$15,0,IF(OFFSET(index!$I$2,MATCH(I$195,index!$I$3:$I$50,0),MONTH(CF表!$B315)),I$21*I$13/I$196,0)),0)","v":0},{"$f":"IFERROR(IF($B315>J$15,0,IF(OFFSET(index!$I$2,MATCH(J$195,index!$I$3:$I$50,0),MONTH(CF表!$B315)),J$21*J$13/J$196,0)),0)","v":0},{"$f":"IFERROR(IF($B315>K$15,0,IF(OFFSET(index!$I$2,MATCH(K$195,index!$I$3:$I$50,0),MONTH(CF表!$B315)),K$21*K$13/K$196,0)),0)","v":0},{"$f":"IFERROR(IF($B315>L$15,0,IF(OFFSET(index!$I$2,MATCH(L$195,index!$I$3:$I$50,0),MONTH(CF表!$B315)),L$21*L$13/L$196,0)),0)","v":0}]
[null,"2032-08-01",{"$f":"IFERROR(IF($B316>C$15,0,IF(OFFSET(index!$I$2,MATCH(C$195,index!$I$3:$I$50,0),MONTH(CF表!$B316)),C$21*C$13/C$196,0)),0)","v":0},{"$f":"IFERROR(IF($B316>D$15,0,IF(OFFSET(index!$I$2,MATCH(D$195,index!$I$3:$I$50,0),MONTH(CF表!$B316)),D$21*D$13/D$196,0)),0)","v":0},{"$f":"IFERROR(IF($B316>E$15,0,IF(OFFSET(index!$I$2,MATCH(E$195,index!$I$3:$I$50,0),MONTH(CF表!$B316)),E$21*E$13/E$196,0)),0)","v":0},{"$f":"IFERROR(IF($B316>F$15,0,IF(OFFSET(index!$I$2,MATCH(F$195,index!$I$3:$I$50,0),MONTH(CF表!$B316)),F$21*F$13/F$196,0)),0)","v":0},{"$f":"IFERROR(IF($B316>G$15,0,IF(OFFSET(index!$I$2,MATCH(G$195,index!$I$3:$I$50,0),MONTH(CF表!$B316)),G$21*G$13/G$196,0)),0)","v":0},{"$f":"IFERROR(IF($B316>H$15,0,IF(OFFSET(index!$I$2,MATCH(H$195,index!$I$3:$I$50,0),MONTH(CF表!$B316)),H$21*H$13/H$196,0)),0)","v":0},{"$f":"IFERROR(IF($B316>I$15,0,IF(OFFSET(index!$I$2,MATCH(I$195,index!$I$3:$I$50,0),MONTH(CF表!$B316)),I$21*I$13/I$196,0)),0)","v":0},{"$f":"IFERROR(IF($B316>J$15,0,IF(OFFSET(index!$I$2,MATCH(J$195,index!$I$3:$I$50,0),MONTH(CF表!$B316)),J$21*J$13/J$196,0)),0)","v":0},{"$f":"IFERROR(IF($B316>K$15,0,IF(OFFSET(index!$I$2,MATCH(K$195,index!$I$3:$I$50,0),MONTH(CF表!$B316)),K$21*K$13/K$196,0)),0)","v":0},{"$f":"IFERROR(IF($B316>L$15,0,IF(OFFSET(index!$I$2,MATCH(L$195,index!$I$3:$I$50,0),MONTH(CF表!$B316)),L$21*L$13/L$196,0)),0)","v":0}]
[null,{"$f":"EDATE(B316,1)","v":"2032-09-01"},{"$f":"IFERROR(IF($B317>C$15,0,IF(OFFSET(index!$I$2,MATCH(C$195,index!$I$3:$I$50,0),MONTH(CF表!$B317)),C$21*C$13/C$196,0)),0)","v":0},{"$f":"IFERROR(IF($B317>D$15,0,IF(OFFSET(index!$I$2,MATCH(D$195,index!$I$3:$I$50,0),MONTH(CF表!$B317)),D$21*D$13/D$196,0)),0)","v":0},{"$f":"IFERROR(IF($B317>E$15,0,IF(OFFSET(index!$I$2,MATCH(E$195,index!$I$3:$I$50,0),MONTH(CF表!$B317)),E$21*E$13/E$196,0)),0)","v":0},{"$f":"IFERROR(IF($B317>F$15,0,IF(OFFSET(index!$I$2,MATCH(F$195,index!$I$3:$I$50,0),MONTH(CF表!$B317)),F$21*F$13/F$196,0)),0)","v":0},{"$f":"IFERROR(IF($B317>G$15,0,IF(OFFSET(index!$I$2,MATCH(G$195,index!$I$3:$I$50,0),MONTH(CF表!$B317)),G$21*G$13/G$196,0)),0)","v":0},{"$f":"IFERROR(IF($B317>H$15,0,IF(OFFSET(index!$I$2,MATCH(H$195,index!$I$3:$I$50,0),MONTH(CF表!$B317)),H$21*H$13/H$196,0)),0)","v":0},{"$f":"IFERROR(IF($B317>I$15,0,IF(OFFSET(index!$I$2,MATCH(I$195,index!$I$3:$I$50,0),MONTH(CF表!$B317)),I$21*I$13/I$196,0)),0)","v":0},{"$f":"IFERROR(IF($B317>J$15,0,IF(OFFSET(index!$I$2,MATCH(J$195,index!$I$3:$I$50,0),MONTH(CF表!$B317)),J$21*J$13/J$196,0)),0)","v":0},{"$f":"IFERROR(IF($B317>K$15,0,IF(OFFSET(index!$I$2,MATCH(K$195,index!$I$3:$I$50,0),MONTH(CF表!$B317)),K$21*K$13/K$196,0)),0)","v":0},{"$f":"IFERROR(IF($B317>L$15,0,IF(OFFSET(index!$I$2,MATCH(L$195,index!$I$3:$I$50,0),MONTH(CF表!$B317)),L$21*L$13/L$196,0)),0)","v":0}]
[null,"2032-10-01",{"$f":"IFERROR(IF($B318>C$15,0,IF(OFFSET(index!$I$2,MATCH(C$195,index!$I$3:$I$50,0),MONTH(CF表!$B318)),C$21*C$13/C$196,0)),0)","v":0},{"$f":"IFERROR(IF($B318>D$15,0,IF(OFFSET(index!$I$2,MATCH(D$195,index!$I$3:$I$50,0),MONTH(CF表!$B318)),D$21*D$13/D$196,0)),0)","v":0},{"$f":"IFERROR(IF($B318>E$15,0,IF(OFFSET(index!$I$2,MATCH(E$195,index!$I$3:$I$50,0),MONTH(CF表!$B318)),E$21*E$13/E$196,0)),0)","v":0},{"$f":"IFERROR(IF($B318>F$15,0,IF(OFFSET(index!$I$2,MATCH(F$195,index!$I$3:$I$50,0),MONTH(CF表!$B318)),F$21*F$13/F$196,0)),0)","v":0},{"$f":"IFERROR(IF($B318>G$15,0,IF(OFFSET(index!$I$2,MATCH(G$195,index!$I$3:$I$50,0),MONTH(CF表!$B318)),G$21*G$13/G$196,0)),0)","v":0},{"$f":"IFERROR(IF($B318>H$15,0,IF(OFFSET(index!$I$2,MATCH(H$195,index!$I$3:$I$50,0),MONTH(CF表!$B318)),H$21*H$13/H$196,0)),0)","v":0},{"$f":"IFERROR(IF($B318>I$15,0,IF(OFFSET(index!$I$2,MATCH(I$195,index!$I$3:$I$50,0),MONTH(CF表!$B318)),I$21*I$13/I$196,0)),0)","v":0},{"$f":"IFERROR(IF($B318>J$15,0,IF(OFFSET(index!$I$2,MATCH(J$195,index!$I$3:$I$50,0),MONTH(CF表!$B318)),J$21*J$13/J$196,0)),0)","v":0},{"$f":"IFERROR(IF($B318>K$15,0,IF(OFFSET(index!$I$2,MATCH(K$195,index!$I$3:$I$50,0),MONTH(CF表!$B318)),K$21*K$13/K$196,0)),0)","v":0},{"$f":"IFERROR(IF($B318>L$15,0,IF(OFFSET(index!$I$2,MATCH(L$195,index!$I$3:$I$50,0),MONTH(CF表!$B318)),L$21*L$13/L$196,0)),0)","v":0}]
[null,"2032-11-01",{"$f":"IFERROR(IF($B319>C$15,0,IF(OFFSET(index!$I$2,MATCH(C$195,index!$I$3:$I$50,0),MONTH(CF表!$B319)),C$21*C$13/C$196,0)),0)","v":0},{"$f":"IFERROR(IF($B319>D$15,0,IF(OFFSET(index!$I$2,MATCH(D$195,index!$I$3:$I$50,0),MONTH(CF表!$B319)),D$21*D$13/D$196,0)),0)","v":0},{"$f":"IFERROR(IF($B319>E$15,0,IF(OFFSET(index!$I$2,MATCH(E$195,index!$I$3:$I$50,0),MONTH(CF表!$B319)),E$21*E$13/E$196,0)),0)","v":0},{"$f":"IFERROR(IF($B319>F$15,0,IF(OFFSET(index!$I$2,MATCH(F$195,index!$I$3:$I$50,0),MONTH(CF表!$B319)),F$21*F$13/F$196,0)),0)","v":0},{"$f":"IFERROR(IF($B319>G$15,0,IF(OFFSET(index!$I$2,MATCH(G$195,index!$I$3:$I$50,0),MONTH(CF表!$B319)),G$21*G$13/G$196,0)),0)","v":0},{"$f":"IFERROR(IF($B319>H$15,0,IF(OFFSET(index!$I$2,MATCH(H$195,index!$I$3:$I$50,0),MONTH(CF表!$B319)),H$21*H$13/H$196,0)),0)","v":0},{"$f":"IFERROR(IF($B319>I$15,0,IF(OFFSET(index!$I$2,MATCH(I$195,index!$I$3:$I$50,0),MONTH(CF表!$B319)),I$21*I$13/I$196,0)),0)","v":0},{"$f":"IFERROR(IF($B319>J$15,0,IF(OFFSET(index!$I$2,MATCH(J$195,index!$I$3:$I$50,0),MONTH(CF表!$B319)),J$21*J$13/J$196,0)),0)","v":0},{"$f":"IFERROR(IF($B319>K$15,0,IF(OFFSET(index!$I$2,MATCH(K$195,index!$I$3:$I$50,0),MONTH(CF表!$B319)),K$21*K$13/K$196,0)),0)","v":0},{"$f":"IFERROR(IF($B319>L$15,0,IF(OFFSET(index!$I$2,MATCH(L$195,index!$I$3:$I$50,0),MONTH(CF表!$B319)),L$21*L$13/L$196,0)),0)","v":0}]
[null,"2032-12-01",{"$f":"IFERROR(IF($B320>C$15,0,IF(OFFSET(index!$I$2,MATCH(C$195,index!$I$3:$I$50,0),MONTH(CF表!$B320)),C$21*C$13/C$196,0)),0)","v":0},{"$f":"IFERROR(IF($B320>D$15,0,IF(OFFSET(index!$I$2,MATCH(D$195,index!$I$3:$I$50,0),MONTH(CF表!$B320)),D$21*D$13/D$196,0)),0)","v":0},{"$f":"IFERROR(IF($B320>E$15,0,IF(OFFSET(index!$I$2,MATCH(E$195,index!$I$3:$I$50,0),MONTH(CF表!$B320)),E$21*E$13/E$196,0)),0)","v":0},{"$f":"IFERROR(IF($B320>F$15,0,IF(OFFSET(index!$I$2,MATCH(F$195,index!$I$3:$I$50,0),MONTH(CF表!$B320)),F$21*F$13/F$196,0)),0)","v":0},{"$f":"IFERROR(IF($B320>G$15,0,IF(OFFSET(index!$I$2,MATCH(G$195,index!$I$3:$I$50,0),MONTH(CF表!$B320)),G$21*G$13/G$196,0)),0)","v":0},{"$f":"IFERROR(IF($B320>H$15,0,IF(OFFSET(index!$I$2,MATCH(H$195,index!$I$3:$I$50,0),MONTH(CF表!$B320)),H$21*H$13/H$196,0)),0)","v":0},{"$f":"IFERROR(IF($B320>I$15,0,IF(OFFSET(index!$I$2,MATCH(I$195,index!$I$3:$I$50,0),MONTH(CF表!$B320)),I$21*I$13/I$196,0)),0)","v":0},{"$f":"IFERROR(IF($B320>J$15,0,IF(OFFSET(index!$I$2,MATCH(J$195,index!$I$3:$I$50,0),MONTH(CF表!$B320)),J$21*J$13/J$196,0)),0)","v":0},{"$f":"IFERROR(IF($B320>K$15,0,IF(OFFSET(index!$I$2,MATCH(K$195,index!$I$3:$I$50,0),MONTH(CF表!$B320)),K$21*K$13/K$196,0)),0)","v":0},{"$f":"IFERROR(IF($B320>L$15,0,IF(OFFSET(index!$I$2,MATCH(L$195,index!$I$3:$I$50,0),MONTH(CF表!$B320)),L$21*L$13/L$196,0)),0)","v":0}]
[null,"2033-01-01",{"$f":"IFERROR(IF($B321>C$15,0,IF(OFFSET(index!$I$2,MATCH(C$195,index!$I$3:$I$50,0),MONTH(CF表!$B321)),C$21*C$13/C$196,0)),0)","v":0},{"$f":"IFERROR(IF($B321>D$15,0,IF(OFFSET(index!$I$2,MATCH(D$195,index!$I$3:$I$50,0),MONTH(CF表!$B321)),D$21*D$13/D$196,0)),0)","v":0},{"$f":"IFERROR(IF($B321>E$15,0,IF(OFFSET(index!$I$2,MATCH(E$195,index!$I$3:$I$50,0),MONTH(CF表!$B321)),E$21*E$13/E$196,0)),0)","v":0},{"$f":"IFERROR(IF($B321>F$15,0,IF(OFFSET(index!$I$2,MATCH(F$195,index!$I$3:$I$50,0),MONTH(CF表!$B321)),F$21*F$13/F$196,0)),0)","v":0},{"$f":"IFERROR(IF($B321>G$15,0,IF(OFFSET(index!$I$2,MATCH(G$195,index!$I$3:$I$50,0),MONTH(CF表!$B321)),G$21*G$13/G$196,0)),0)","v":0},{"$f":"IFERROR(IF($B321>H$15,0,IF(OFFSET(index!$I$2,MATCH(H$195,index!$I$3:$I$50,0),MONTH(CF表!$B321)),H$21*H$13/H$196,0)),0)","v":0},{"$f":"IFERROR(IF($B321>I$15,0,IF(OFFSET(index!$I$2,MATCH(I$195,index!$I$3:$I$50,0),MONTH(CF表!$B321)),I$21*I$13/I$196,0)),0)","v":0},{"$f":"IFERROR(IF($B321>J$15,0,IF(OFFSET(index!$I$2,MATCH(J$195,index!$I$3:$I$50,0),MONTH(CF表!$B321)),J$21*J$13/J$196,0)),0)","v":0},{"$f":"IFERROR(IF($B321>K$15,0,IF(OFFSET(index!$I$2,MATCH(K$195,index!$I$3:$I$50,0),MONTH(CF表!$B321)),K$21*K$13/K$196,0)),0)","v":0},{"$f":"IFERROR(IF($B321>L$15,0,IF(OFFSET(index!$I$2,MATCH(L$195,index!$I$3:$I$50,0),MONTH(CF表!$B321)),L$21*L$13/L$196,0)),0)","v":0}]
[null,"2033-02-01",{"$f":"IFERROR(IF($B322>C$15,0,IF(OFFSET(index!$I$2,MATCH(C$195,index!$I$3:$I$50,0),MONTH(CF表!$B322)),C$21*C$13/C$196,0)),0)","v":0},{"$f":"IFERROR(IF($B322>D$15,0,IF(OFFSET(index!$I$2,MATCH(D$195,index!$I$3:$I$50,0),MONTH(CF表!$B322)),D$21*D$13/D$196,0)),0)","v":0},{"$f":"IFERROR(IF($B322>E$15,0,IF(OFFSET(index!$I$2,MATCH(E$195,index!$I$3:$I$50,0),MONTH(CF表!$B322)),E$21*E$13/E$196,0)),0)","v":0},{"$f":"IFERROR(IF($B322>F$15,0,IF(OFFSET(index!$I$2,MATCH(F$195,index!$I$3:$I$50,0),MONTH(CF表!$B322)),F$21*F$13/F$196,0)),0)","v":0},{"$f":"IFERROR(IF($B322>G$15,0,IF(OFFSET(index!$I$2,MATCH(G$195,index!$I$3:$I$50,0),MONTH(CF表!$B322)),G$21*G$13/G$196,0)),0)","v":0},{"$f":"IFERROR(IF($B322>H$15,0,IF(OFFSET(index!$I$2,MATCH(H$195,index!$I$3:$I$50,0),MONTH(CF表!$B322)),H$21*H$13/H$196,0)),0)","v":0},{"$f":"IFERROR(IF($B322>I$15,0,IF(OFFSET(index!$I$2,MATCH(I$195,index!$I$3:$I$50,0),MONTH(CF表!$B322)),I$21*I$13/I$196,0)),0)","v":0},{"$f":"IFERROR(IF($B322>J$15,0,IF(OFFSET(index!$I$2,MATCH(J$195,index!$I$3:$I$50,0),MONTH(CF表!$B322)),J$21*J$13/J$196,0)),0)","v":0},{"$f":"IFERROR(IF($B322>K$15,0,IF(OFFSET(index!$I$2,MATCH(K$195,index!$I$3:$I$50,0),MONTH(CF表!$B322)),K$21*K$13/K$196,0)),0)","v":0},{"$f":"IFERROR(IF($B322>L$15,0,IF(OFFSET(index!$I$2,MATCH(L$195,index!$I$3:$I$50,0),MONTH(CF表!$B322)),L$21*L$13/L$196,0)),0)","v":0}]
[null,"2033-03-01",{"$f":"IFERROR(IF($B323>C$15,0,IF(OFFSET(index!$I$2,MATCH(C$195,index!$I$3:$I$50,0),MONTH(CF表!$B323)),C$21*C$13/C$196,0)),0)","v":0},{"$f":"IFERROR(IF($B323>D$15,0,IF(OFFSET(index!$I$2,MATCH(D$195,index!$I$3:$I$50,0),MONTH(CF表!$B323)),D$21*D$13/D$196,0)),0)","v":0},{"$f":"IFERROR(IF($B323>E$15,0,IF(OFFSET(index!$I$2,MATCH(E$195,index!$I$3:$I$50,0),MONTH(CF表!$B323)),E$21*E$13/E$196,0)),0)","v":0},{"$f":"IFERROR(IF($B323>F$15,0,IF(OFFSET(index!$I$2,MATCH(F$195,index!$I$3:$I$50,0),MONTH(CF表!$B323)),F$21*F$13/F$196,0)),0)","v":0},{"$f":"IFERROR(IF($B323>G$15,0,IF(OFFSET(index!$I$2,MATCH(G$195,index!$I$3:$I$50,0),MONTH(CF表!$B323)),G$21*G$13/G$196,0)),0)","v":0},{"$f":"IFERROR(IF($B323>H$15,0,IF(OFFSET(index!$I$2,MATCH(H$195,index!$I$3:$I$50,0),MONTH(CF表!$B323)),H$21*H$13/H$196,0)),0)","v":0},{"$f":"IFERROR(IF($B323>I$15,0,IF(OFFSET(index!$I$2,MATCH(I$195,index!$I$3:$I$50,0),MONTH(CF表!$B323)),I$21*I$13/I$196,0)),0)","v":0},{"$f":"IFERROR(IF($B323>J$15,0,IF(OFFSET(index!$I$2,MATCH(J$195,index!$I$3:$I$50,0),MONTH(CF表!$B323)),J$21*J$13/J$196,0)),0)","v":0},{"$f":"IFERROR(IF($B323>K$15,0,IF(OFFSET(index!$I$2,MATCH(K$195,index!$I$3:$I$50,0),MONTH(CF表!$B323)),K$21*K$13/K$196,0)),0)","v":0},{"$f":"IFERROR(IF($B323>L$15,0,IF(OFFSET(index!$I$2,MATCH(L$195,index!$I$3:$I$50,0),MONTH(CF表!$B323)),L$21*L$13/L$196,0)),0)","v":0}]
[null,"2033-04-01",{"$f":"IFERROR(IF($B324>C$15,0,IF(OFFSET(index!$I$2,MATCH(C$195,index!$I$3:$I$50,0),MONTH(CF表!$B324)),C$21*C$13/C$196,0)),0)","v":0},{"$f":"IFERROR(IF($B324>D$15,0,IF(OFFSET(index!$I$2,MATCH(D$195,index!$I$3:$I$50,0),MONTH(CF表!$B324)),D$21*D$13/D$196,0)),0)","v":0},{"$f":"IFERROR(IF($B324>E$15,0,IF(OFFSET(index!$I$2,MATCH(E$195,index!$I$3:$I$50,0),MONTH(CF表!$B324)),E$21*E$13/E$196,0)),0)","v":0},{"$f":"IFERROR(IF($B324>F$15,0,IF(OFFSET(index!$I$2,MATCH(F$195,index!$I$3:$I$50,0),MONTH(CF表!$B324)),F$21*F$13/F$196,0)),0)","v":0},{"$f":"IFERROR(IF($B324>G$15,0,IF(OFFSET(index!$I$2,MATCH(G$195,index!$I$3:$I$50,0),MONTH(CF表!$B324)),G$21*G$13/G$196,0)),0)","v":0},{"$f":"IFERROR(IF($B324>H$15,0,IF(OFFSET(index!$I$2,MATCH(H$195,index!$I$3:$I$50,0),MONTH(CF表!$B324)),H$21*H$13/H$196,0)),0)","v":0},{"$f":"IFERROR(IF($B324>I$15,0,IF(OFFSET(index!$I$2,MATCH(I$195,index!$I$3:$I$50,0),MONTH(CF表!$B324)),I$21*I$13/I$196,0)),0)","v":0},{"$f":"IFERROR(IF($B324>J$15,0,IF(OFFSET(index!$I$2,MATCH(J$195,index!$I$3:$I$50,0),MONTH(CF表!$B324)),J$21*J$13/J$196,0)),0)","v":0},{"$f":"IFERROR(IF($B324>K$15,0,IF(OFFSET(index!$I$2,MATCH(K$195,index!$I$3:$I$50,0),MONTH(CF表!$B324)),K$21*K$13/K$196,0)),0)","v":0},{"$f":"IFERROR(IF($B324>L$15,0,IF(OFFSET(index!$I$2,MATCH(L$195,index!$I$3:$I$50,0),MONTH(CF表!$B324)),L$21*L$13/L$196,0)),0)","v":0}]
[null,"2033-05-01",{"$f":"IFERROR(IF($B325>C$15,0,IF(OFFSET(index!$I$2,MATCH(C$195,index!$I$3:$I$50,0),MONTH(CF表!$B325)),C$21*C$13/C$196,0)),0)","v":0},{"$f":"IFERROR(IF($B325>D$15,0,IF(OFFSET(index!$I$2,MATCH(D$195,index!$I$3:$I$50,0),MONTH(CF表!$B325)),D$21*D$13/D$196,0)),0)","v":0},{"$f":"IFERROR(IF($B325>E$15,0,IF(OFFSET(index!$I$2,MATCH(E$195,index!$I$3:$I$50,0),MONTH(CF表!$B325)),E$21*E$13/E$196,0)),0)","v":0},{"$f":"IFERROR(IF($B325>F$15,0,IF(OFFSET(index!$I$2,MATCH(F$195,index!$I$3:$I$50,0),MONTH(CF表!$B325)),F$21*F$13/F$196,0)),0)","v":0},{"$f":"IFERROR(IF($B325>G$15,0,IF(OFFSET(index!$I$2,MATCH(G$195,index!$I$3:$I$50,0),MONTH(CF表!$B325)),G$21*G$13/G$196,0)),0)","v":0},{"$f":"IFERROR(IF($B325>H$15,0,IF(OFFSET(index!$I$2,MATCH(H$195,index!$I$3:$I$50,0),MONTH(CF表!$B325)),H$21*H$13/H$196,0)),0)","v":0},{"$f":"IFERROR(IF($B325>I$15,0,IF(OFFSET(index!$I$2,MATCH(I$195,index!$I$3:$I$50,0),MONTH(CF表!$B325)),I$21*I$13/I$196,0)),0)","v":0},{"$f":"IFERROR(IF($B325>J$15,0,IF(OFFSET(index!$I$2,MATCH(J$195,index!$I$3:$I$50,0),MONTH(CF表!$B325)),J$21*J$13/J$196,0)),0)","v":0},{"$f":"IFERROR(IF($B325>K$15,0,IF(OFFSET(index!$I$2,MATCH(K$195,index!$I$3:$I$50,0),MONTH(CF表!$B325)),K$21*K$13/K$196,0)),0)","v":0},{"$f":"IFERROR(IF($B325>L$15,0,IF(OFFSET(index!$I$2,MATCH(L$195,index!$I$3:$I$50,0),MONTH(CF表!$B325)),L$21*L$13/L$196,0)),0)","v":0}]
[null,"2033-06-01",{"$f":"IFERROR(IF($B326>C$15,0,IF(OFFSET(index!$I$2,MATCH(C$195,index!$I$3:$I$50,0),MONTH(CF表!$B326)),C$21*C$13/C$196,0)),0)","v":0},{"$f":"IFERROR(IF($B326>D$15,0,IF(OFFSET(index!$I$2,MATCH(D$195,index!$I$3:$I$50,0),MONTH(CF表!$B326)),D$21*D$13/D$196,0)),0)","v":0},{"$f":"IFERROR(IF($B326>E$15,0,IF(OFFSET(index!$I$2,MATCH(E$195,index!$I$3:$I$50,0),MONTH(CF表!$B326)),E$21*E$13/E$196,0)),0)","v":0},{"$f":"IFERROR(IF($B326>F$15,0,IF(OFFSET(index!$I$2,MATCH(F$195,index!$I$3:$I$50,0),MONTH(CF表!$B326)),F$21*F$13/F$196,0)),0)","v":0},{"$f":"IFERROR(IF($B326>G$15,0,IF(OFFSET(index!$I$2,MATCH(G$195,index!$I$3:$I$50,0),MONTH(CF表!$B326)),G$21*G$13/G$196,0)),0)","v":0},{"$f":"IFERROR(IF($B326>H$15,0,IF(OFFSET(index!$I$2,MATCH(H$195,index!$I$3:$I$50,0),MONTH(CF表!$B326)),H$21*H$13/H$196,0)),0)","v":0},{"$f":"IFERROR(IF($B326>I$15,0,IF(OFFSET(index!$I$2,MATCH(I$195,index!$I$3:$I$50,0),MONTH(CF表!$B326)),I$21*I$13/I$196,0)),0)","v":0},{"$f":"IFERROR(IF($B326>J$15,0,IF(OFFSET(index!$I$2,MATCH(J$195,index!$I$3:$I$50,0),MONTH(CF表!$B326)),J$21*J$13/J$196,0)),0)","v":0},{"$f":"IFERROR(IF($B326>K$15,0,IF(OFFSET(index!$I$2,MATCH(K$195,index!$I$3:$I$50,0),MONTH(CF表!$B326)),K$21*K$13/K$196,0)),0)","v":0},{"$f":"IFERROR(IF($B326>L$15,0,IF(OFFSET(index!$I$2,MATCH(L$195,index!$I$3:$I$50,0),MONTH(CF表!$B326)),L$21*L$13/L$196,0)),0)","v":0}]
[null,"2033-07-01",{"$f":"IFERROR(IF($B327>C$15,0,IF(OFFSET(index!$I$2,MATCH(C$195,index!$I$3:$I$50,0),MONTH(CF表!$B327)),C$21*C$13/C$196,0)),0)","v":0},{"$f":"IFERROR(IF($B327>D$15,0,IF(OFFSET(index!$I$2,MATCH(D$195,index!$I$3:$I$50,0),MONTH(CF表!$B327)),D$21*D$13/D$196,0)),0)","v":0},{"$f":"IFERROR(IF($B327>E$15,0,IF(OFFSET(index!$I$2,MATCH(E$195,index!$I$3:$I$50,0),MONTH(CF表!$B327)),E$21*E$13/E$196,0)),0)","v":0},{"$f":"IFERROR(IF($B327>F$15,0,IF(OFFSET(index!$I$2,MATCH(F$195,index!$I$3:$I$50,0),MONTH(CF表!$B327)),F$21*F$13/F$196,0)),0)","v":0},{"$f":"IFERROR(IF($B327>G$15,0,IF(OFFSET(index!$I$2,MATCH(G$195,index!$I$3:$I$50,0),MONTH(CF表!$B327)),G$21*G$13/G$196,0)),0)","v":0},{"$f":"IFERROR(IF($B327>H$15,0,IF(OFFSET(index!$I$2,MATCH(H$195,index!$I$3:$I$50,0),MONTH(CF表!$B327)),H$21*H$13/H$196,0)),0)","v":0},{"$f":"IFERROR(IF($B327>I$15,0,IF(OFFSET(index!$I$2,MATCH(I$195,index!$I$3:$I$50,0),MONTH(CF表!$B327)),I$21*I$13/I$196,0)),0)","v":0},{"$f":"IFERROR(IF($B327>J$15,0,IF(OFFSET(index!$I$2,MATCH(J$195,index!$I$3:$I$50,0),MONTH(CF表!$B327)),J$21*J$13/J$196,0)),0)","v":0},{"$f":"IFERROR(IF($B327>K$15,0,IF(OFFSET(index!$I$2,MATCH(K$195,index!$I$3:$I$50,0),MONTH(CF表!$B327)),K$21*K$13/K$196,0)),0)","v":0},{"$f":"IFERROR(IF($B327>L$15,0,IF(OFFSET(index!$I$2,MATCH(L$195,index!$I$3:$I$50,0),MONTH(CF表!$B327)),L$21*L$13/L$196,0)),0)","v":0}]
[null,"2033-08-01",{"$f":"IFERROR(IF($B328>C$15,0,IF(OFFSET(index!$I$2,MATCH(C$195,index!$I$3:$I$50,0),MONTH(CF表!$B328)),C$21*C$13/C$196,0)),0)","v":0},{"$f":"IFERROR(IF($B328>D$15,0,IF(OFFSET(index!$I$2,MATCH(D$195,index!$I$3:$I$50,0),MONTH(CF表!$B328)),D$21*D$13/D$196,0)),0)","v":0},{"$f":"IFERROR(IF($B328>E$15,0,IF(OFFSET(index!$I$2,MATCH(E$195,index!$I$3:$I$50,0),MONTH(CF表!$B328)),E$21*E$13/E$196,0)),0)","v":0},{"$f":"IFERROR(IF($B328>F$15,0,IF(OFFSET(index!$I$2,MATCH(F$195,index!$I$3:$I$50,0),MONTH(CF表!$B328)),F$21*F$13/F$196,0)),0)","v":0},{"$f":"IFERROR(IF($B328>G$15,0,IF(OFFSET(index!$I$2,MATCH(G$195,index!$I$3:$I$50,0),MONTH(CF表!$B328)),G$21*G$13/G$196,0)),0)","v":0},{"$f":"IFERROR(IF($B328>H$15,0,IF(OFFSET(index!$I$2,MATCH(H$195,index!$I$3:$I$50,0),MONTH(CF表!$B328)),H$21*H$13/H$196,0)),0)","v":0},{"$f":"IFERROR(IF($B328>I$15,0,IF(OFFSET(index!$I$2,MATCH(I$195,index!$I$3:$I$50,0),MONTH(CF表!$B328)),I$21*I$13/I$196,0)),0)","v":0},{"$f":"IFERROR(IF($B328>J$15,0,IF(OFFSET(index!$I$2,MATCH(J$195,index!$I$3:$I$50,0),MONTH(CF表!$B328)),J$21*J$13/J$196,0)),0)","v":0},{"$f":"IFERROR(IF($B328>K$15,0,IF(OFFSET(index!$I$2,MATCH(K$195,index!$I$3:$I$50,0),MONTH(CF表!$B328)),K$21*K$13/K$196,0)),0)","v":0},{"$f":"IFERROR(IF($B328>L$15,0,IF(OFFSET(index!$I$2,MATCH(L$195,index!$I$3:$I$50,0),MONTH(CF表!$B328)),L$21*L$13/L$196,0)),0)","v":0}]
[null,"2033-09-01",{"$f":"IFERROR(IF($B329>C$15,0,IF(OFFSET(index!$I$2,MATCH(C$195,index!$I$3:$I$50,0),MONTH(CF表!$B329)),C$21*C$13/C$196,0)),0)","v":0},{"$f":"IFERROR(IF($B329>D$15,0,IF(OFFSET(index!$I$2,MATCH(D$195,index!$I$3:$I$50,0),MONTH(CF表!$B329)),D$21*D$13/D$196,0)),0)","v":0},{"$f":"IFERROR(IF($B329>E$15,0,IF(OFFSET(index!$I$2,MATCH(E$195,index!$I$3:$I$50,0),MONTH(CF表!$B329)),E$21*E$13/E$196,0)),0)","v":0},{"$f":"IFERROR(IF($B329>F$15,0,IF(OFFSET(index!$I$2,MATCH(F$195,index!$I$3:$I$50,0),MONTH(CF表!$B329)),F$21*F$13/F$196,0)),0)","v":0},{"$f":"IFERROR(IF($B329>G$15,0,IF(OFFSET(index!$I$2,MATCH(G$195,index!$I$3:$I$50,0),MONTH(CF表!$B329)),G$21*G$13/G$196,0)),0)","v":0},{"$f":"IFERROR(IF($B329>H$15,0,IF(OFFSET(index!$I$2,MATCH(H$195,index!$I$3:$I$50,0),MONTH(CF表!$B329)),H$21*H$13/H$196,0)),0)","v":0},{"$f":"IFERROR(IF($B329>I$15,0,IF(OFFSET(index!$I$2,MATCH(I$195,index!$I$3:$I$50,0),MONTH(CF表!$B329)),I$21*I$13/I$196,0)),0)","v":0},{"$f":"IFERROR(IF($B329>J$15,0,IF(OFFSET(index!$I$2,MATCH(J$195,index!$I$3:$I$50,0),MONTH(CF表!$B329)),J$21*J$13/J$196,0)),0)","v":0},{"$f":"IFERROR(IF($B329>K$15,0,IF(OFFSET(index!$I$2,MATCH(K$195,index!$I$3:$I$50,0),MONTH(CF表!$B329)),K$21*K$13/K$196,0)),0)","v":0},{"$f":"IFERROR(IF($B329>L$15,0,IF(OFFSET(index!$I$2,MATCH(L$195,index!$I$3:$I$50,0),MONTH(CF表!$B329)),L$21*L$13/L$196,0)),0)","v":0}]
[null,"2033-10-01",{"$f":"IFERROR(IF($B330>C$15,0,IF(OFFSET(index!$I$2,MATCH(C$195,index!$I$3:$I$50,0),MONTH(CF表!$B330)),C$21*C$13/C$196,0)),0)","v":0},{"$f":"IFERROR(IF($B330>D$15,0,IF(OFFSET(index!$I$2,MATCH(D$195,index!$I$3:$I$50,0),MONTH(CF表!$B330)),D$21*D$13/D$196,0)),0)","v":0},{"$f":"IFERROR(IF($B330>E$15,0,IF(OFFSET(index!$I$2,MATCH(E$195,index!$I$3:$I$50,0),MONTH(CF表!$B330)),E$21*E$13/E$196,0)),0)","v":0},{"$f":"IFERROR(IF($B330>F$15,0,IF(OFFSET(index!$I$2,MATCH(F$195,index!$I$3:$I$50,0),MONTH(CF表!$B330)),F$21*F$13/F$196,0)),0)","v":0},{"$f":"IFERROR(IF($B330>G$15,0,IF(OFFSET(index!$I$2,MATCH(G$195,index!$I$3:$I$50,0),MONTH(CF表!$B330)),G$21*G$13/G$196,0)),0)","v":0},{"$f":"IFERROR(IF($B330>H$15,0,IF(OFFSET(index!$I$2,MATCH(H$195,index!$I$3:$I$50,0),MONTH(CF表!$B330)),H$21*H$13/H$196,0)),0)","v":0},{"$f":"IFERROR(IF($B330>I$15,0,IF(OFFSET(index!$I$2,MATCH(I$195,index!$I$3:$I$50,0),MONTH(CF表!$B330)),I$21*I$13/I$196,0)),0)","v":0},{"$f":"IFERROR(IF($B330>J$15,0,IF(OFFSET(index!$I$2,MATCH(J$195,index!$I$3:$I$50,0),MONTH(CF表!$B330)),J$21*J$13/J$196,0)),0)","v":0},{"$f":"IFERROR(IF($B330>K$15,0,IF(OFFSET(index!$I$2,MATCH(K$195,index!$I$3:$I$50,0),MONTH(CF表!$B330)),K$21*K$13/K$196,0)),0)","v":0},{"$f":"IFERROR(IF($B330>L$15,0,IF(OFFSET(index!$I$2,MATCH(L$195,index!$I$3:$I$50,0),MONTH(CF表!$B330)),L$21*L$13/L$196,0)),0)","v":0}]
[null,"2033-11-01",{"$f":"IFERROR(IF($B331>C$15,0,IF(OFFSET(index!$I$2,MATCH(C$195,index!$I$3:$I$50,0),MONTH(CF表!$B331)),C$21*C$13/C$196,0)),0)","v":0},{"$f":"IFERROR(IF($B331>D$15,0,IF(OFFSET(index!$I$2,MATCH(D$195,index!$I$3:$I$50,0),MONTH(CF表!$B331)),D$21*D$13/D$196,0)),0)","v":0},{"$f":"IFERROR(IF($B331>E$15,0,IF(OFFSET(index!$I$2,MATCH(E$195,index!$I$3:$I$50,0),MONTH(CF表!$B331)),E$21*E$13/E$196,0)),0)","v":0},{"$f":"IFERROR(IF($B331>F$15,0,IF(OFFSET(index!$I$2,MATCH(F$195,index!$I$3:$I$50,0),MONTH(CF表!$B331)),F$21*F$13/F$196,0)),0)","v":0},{"$f":"IFERROR(IF($B331>G$15,0,IF(OFFSET(index!$I$2,MATCH(G$195,index!$I$3:$I$50,0),MONTH(CF表!$B331)),G$21*G$13/G$196,0)),0)","v":0},{"$f":"IFERROR(IF($B331>H$15,0,IF(OFFSET(index!$I$2,MATCH(H$195,index!$I$3:$I$50,0),MONTH(CF表!$B331)),H$21*H$13/H$196,0)),0)","v":0},{"$f":"IFERROR(IF($B331>I$15,0,IF(OFFSET(index!$I$2,MATCH(I$195,index!$I$3:$I$50,0),MONTH(CF表!$B331)),I$21*I$13/I$196,0)),0)","v":0},{"$f":"IFERROR(IF($B331>J$15,0,IF(OFFSET(index!$I$2,MATCH(J$195,index!$I$3:$I$50,0),MONTH(CF表!$B331)),J$21*J$13/J$196,0)),0)","v":0},{"$f":"IFERROR(IF($B331>K$15,0,IF(OFFSET(index!$I$2,MATCH(K$195,index!$I$3:$I$50,0),MONTH(CF表!$B331)),K$21*K$13/K$196,0)),0)","v":0},{"$f":"IFERROR(IF($B331>L$15,0,IF(OFFSET(index!$I$2,MATCH(L$195,index!$I$3:$I$50,0),MONTH(CF表!$B331)),L$21*L$13/L$196,0)),0)","v":0}]
[null,"2033-12-01",{"$f":"IFERROR(IF($B332>C$15,0,IF(OFFSET(index!$I$2,MATCH(C$195,index!$I$3:$I$50,0),MONTH(CF表!$B332)),C$21*C$13/C$196,0)),0)","v":0},{"$f":"IFERROR(IF($B332>D$15,0,IF(OFFSET(index!$I$2,MATCH(D$195,index!$I$3:$I$50,0),MONTH(CF表!$B332)),D$21*D$13/D$196,0)),0)","v":0},{"$f":"IFERROR(IF($B332>E$15,0,IF(OFFSET(index!$I$2,MATCH(E$195,index!$I$3:$I$50,0),MONTH(CF表!$B332)),E$21*E$13/E$196,0)),0)","v":0},{"$f":"IFERROR(IF($B332>F$15,0,IF(OFFSET(index!$I$2,MATCH(F$195,index!$I$3:$I$50,0),MONTH(CF表!$B332)),F$21*F$13/F$196,0)),0)","v":0},{"$f":"IFERROR(IF($B332>G$15,0,IF(OFFSET(index!$I$2,MATCH(G$195,index!$I$3:$I$50,0),MONTH(CF表!$B332)),G$21*G$13/G$196,0)),0)","v":0},{"$f":"IFERROR(IF($B332>H$15,0,IF(OFFSET(index!$I$2,MATCH(H$195,index!$I$3:$I$50,0),MONTH(CF表!$B332)),H$21*H$13/H$196,0)),0)","v":0},{"$f":"IFERROR(IF($B332>I$15,0,IF(OFFSET(index!$I$2,MATCH(I$195,index!$I$3:$I$50,0),MONTH(CF表!$B332)),I$21*I$13/I$196,0)),0)","v":0},{"$f":"IFERROR(IF($B332>J$15,0,IF(OFFSET(index!$I$2,MATCH(J$195,index!$I$3:$I$50,0),MONTH(CF表!$B332)),J$21*J$13/J$196,0)),0)","v":0},{"$f":"IFERROR(IF($B332>K$15,0,IF(OFFSET(index!$I$2,MATCH(K$195,index!$I$3:$I$50,0),MONTH(CF表!$B332)),K$21*K$13/K$196,0)),0)","v":0},{"$f":"IFERROR(IF($B332>L$15,0,IF(OFFSET(index!$I$2,MATCH(L$195,index!$I$3:$I$50,0),MONTH(CF表!$B332)),L$21*L$13/L$196,0)),0)","v":0}]
[null,"2034-01-01",{"$f":"IFERROR(IF($B333>C$15,0,IF(OFFSET(index!$I$2,MATCH(C$195,index!$I$3:$I$50,0),MONTH(CF表!$B333)),C$21*C$13/C$196,0)),0)","v":0},{"$f":"IFERROR(IF($B333>D$15,0,IF(OFFSET(index!$I$2,MATCH(D$195,index!$I$3:$I$50,0),MONTH(CF表!$B333)),D$21*D$13/D$196,0)),0)","v":0},{"$f":"IFERROR(IF($B333>E$15,0,IF(OFFSET(index!$I$2,MATCH(E$195,index!$I$3:$I$50,0),MONTH(CF表!$B333)),E$21*E$13/E$196,0)),0)","v":0},{"$f":"IFERROR(IF($B333>F$15,0,IF(OFFSET(index!$I$2,MATCH(F$195,index!$I$3:$I$50,0),MONTH(CF表!$B333)),F$21*F$13/F$196,0)),0)","v":0},{"$f":"IFERROR(IF($B333>G$15,0,IF(OFFSET(index!$I$2,MATCH(G$195,index!$I$3:$I$50,0),MONTH(CF表!$B333)),G$21*G$13/G$196,0)),0)","v":0},{"$f":"IFERROR(IF($B333>H$15,0,IF(OFFSET(index!$I$2,MATCH(H$195,index!$I$3:$I$50,0),MONTH(CF表!$B333)),H$21*H$13/H$196,0)),0)","v":0},{"$f":"IFERROR(IF($B333>I$15,0,IF(OFFSET(index!$I$2,MATCH(I$195,index!$I$3:$I$50,0),MONTH(CF表!$B333)),I$21*I$13/I$196,0)),0)","v":0},{"$f":"IFERROR(IF($B333>J$15,0,IF(OFFSET(index!$I$2,MATCH(J$195,index!$I$3:$I$50,0),MONTH(CF表!$B333)),J$21*J$13/J$196,0)),0)","v":0},{"$f":"IFERROR(IF($B333>K$15,0,IF(OFFSET(index!$I$2,MATCH(K$195,index!$I$3:$I$50,0),MONTH(CF表!$B333)),K$21*K$13/K$196,0)),0)","v":0},{"$f":"IFERROR(IF($B333>L$15,0,IF(OFFSET(index!$I$2,MATCH(L$195,index!$I$3:$I$50,0),MONTH(CF表!$B333)),L$21*L$13/L$196,0)),0)","v":0}]
[null,"2034-02-01",{"$f":"IFERROR(IF($B334>C$15,0,IF(OFFSET(index!$I$2,MATCH(C$195,index!$I$3:$I$50,0),MONTH(CF表!$B334)),C$21*C$13/C$196,0)),0)","v":0},{"$f":"IFERROR(IF($B334>D$15,0,IF(OFFSET(index!$I$2,MATCH(D$195,index!$I$3:$I$50,0),MONTH(CF表!$B334)),D$21*D$13/D$196,0)),0)","v":0},{"$f":"IFERROR(IF($B334>E$15,0,IF(OFFSET(index!$I$2,MATCH(E$195,index!$I$3:$I$50,0),MONTH(CF表!$B334)),E$21*E$13/E$196,0)),0)","v":0},{"$f":"IFERROR(IF($B334>F$15,0,IF(OFFSET(index!$I$2,MATCH(F$195,index!$I$3:$I$50,0),MONTH(CF表!$B334)),F$21*F$13/F$196,0)),0)","v":0},{"$f":"IFERROR(IF($B334>G$15,0,IF(OFFSET(index!$I$2,MATCH(G$195,index!$I$3:$I$50,0),MONTH(CF表!$B334)),G$21*G$13/G$196,0)),0)","v":0},{"$f":"IFERROR(IF($B334>H$15,0,IF(OFFSET(index!$I$2,MATCH(H$195,index!$I$3:$I$50,0),MONTH(CF表!$B334)),H$21*H$13/H$196,0)),0)","v":0},{"$f":"IFERROR(IF($B334>I$15,0,IF(OFFSET(index!$I$2,MATCH(I$195,index!$I$3:$I$50,0),MONTH(CF表!$B334)),I$21*I$13/I$196,0)),0)","v":0},{"$f":"IFERROR(IF($B334>J$15,0,IF(OFFSET(index!$I$2,MATCH(J$195,index!$I$3:$I$50,0),MONTH(CF表!$B334)),J$21*J$13/J$196,0)),0)","v":0},{"$f":"IFERROR(IF($B334>K$15,0,IF(OFFSET(index!$I$2,MATCH(K$195,index!$I$3:$I$50,0),MONTH(CF表!$B334)),K$21*K$13/K$196,0)),0)","v":0},{"$f":"IFERROR(IF($B334>L$15,0,IF(OFFSET(index!$I$2,MATCH(L$195,index!$I$3:$I$50,0),MONTH(CF表!$B334)),L$21*L$13/L$196,0)),0)","v":0}]
[null,"2034-03-01",{"$f":"IFERROR(IF($B335>C$15,0,IF(OFFSET(index!$I$2,MATCH(C$195,index!$I$3:$I$50,0),MONTH(CF表!$B335)),C$21*C$13/C$196,0)),0)","v":0},{"$f":"IFERROR(IF($B335>D$15,0,IF(OFFSET(index!$I$2,MATCH(D$195,index!$I$3:$I$50,0),MONTH(CF表!$B335)),D$21*D$13/D$196,0)),0)","v":0},{"$f":"IFERROR(IF($B335>E$15,0,IF(OFFSET(index!$I$2,MATCH(E$195,index!$I$3:$I$50,0),MONTH(CF表!$B335)),E$21*E$13/E$196,0)),0)","v":0},{"$f":"IFERROR(IF($B335>F$15,0,IF(OFFSET(index!$I$2,MATCH(F$195,index!$I$3:$I$50,0),MONTH(CF表!$B335)),F$21*F$13/F$196,0)),0)","v":0},{"$f":"IFERROR(IF($B335>G$15,0,IF(OFFSET(index!$I$2,MATCH(G$195,index!$I$3:$I$50,0),MONTH(CF表!$B335)),G$21*G$13/G$196,0)),0)","v":0},{"$f":"IFERROR(IF($B335>H$15,0,IF(OFFSET(index!$I$2,MATCH(H$195,index!$I$3:$I$50,0),MONTH(CF表!$B335)),H$21*H$13/H$196,0)),0)","v":0},{"$f":"IFERROR(IF($B335>I$15,0,IF(OFFSET(index!$I$2,MATCH(I$195,index!$I$3:$I$50,0),MONTH(CF表!$B335)),I$21*I$13/I$196,0)),0)","v":0},{"$f":"IFERROR(IF($B335>J$15,0,IF(OFFSET(index!$I$2,MATCH(J$195,index!$I$3:$I$50,0),MONTH(CF表!$B335)),J$21*J$13/J$196,0)),0)","v":0},{"$f":"IFERROR(IF($B335>K$15,0,IF(OFFSET(index!$I$2,MATCH(K$195,index!$I$3:$I$50,0),MONTH(CF表!$B335)),K$21*K$13/K$196,0)),0)","v":0},{"$f":"IFERROR(IF($B335>L$15,0,IF(OFFSET(index!$I$2,MATCH(L$195,index!$I$3:$I$50,0),MONTH(CF表!$B335)),L$21*L$13/L$196,0)),0)","v":0}]
[null,"2034-04-01",{"$f":"IFERROR(IF($B336>C$15,0,IF(OFFSET(index!$I$2,MATCH(C$195,index!$I$3:$I$50,0),MONTH(CF表!$B336)),C$21*C$13/C$196,0)),0)","v":0},{"$f":"IFERROR(IF($B336>D$15,0,IF(OFFSET(index!$I$2,MATCH(D$195,index!$I$3:$I$50,0),MONTH(CF表!$B336)),D$21*D$13/D$196,0)),0)","v":0},{"$f":"IFERROR(IF($B336>E$15,0,IF(OFFSET(index!$I$2,MATCH(E$195,index!$I$3:$I$50,0),MONTH(CF表!$B336)),E$21*E$13/E$196,0)),0)","v":0},{"$f":"IFERROR(IF($B336>F$15,0,IF(OFFSET(index!$I$2,MATCH(F$195,index!$I$3:$I$50,0),MONTH(CF表!$B336)),F$21*F$13/F$196,0)),0)","v":0},{"$f":"IFERROR(IF($B336>G$15,0,IF(OFFSET(index!$I$2,MATCH(G$195,index!$I$3:$I$50,0),MONTH(CF表!$B336)),G$21*G$13/G$196,0)),0)","v":0},{"$f":"IFERROR(IF($B336>H$15,0,IF(OFFSET(index!$I$2,MATCH(H$195,index!$I$3:$I$50,0),MONTH(CF表!$B336)),H$21*H$13/H$196,0)),0)","v":0},{"$f":"IFERROR(IF($B336>I$15,0,IF(OFFSET(index!$I$2,MATCH(I$195,index!$I$3:$I$50,0),MONTH(CF表!$B336)),I$21*I$13/I$196,0)),0)","v":0},{"$f":"IFERROR(IF($B336>J$15,0,IF(OFFSET(index!$I$2,MATCH(J$195,index!$I$3:$I$50,0),MONTH(CF表!$B336)),J$21*J$13/J$196,0)),0)","v":0},{"$f":"IFERROR(IF($B336>K$15,0,IF(OFFSET(index!$I$2,MATCH(K$195,index!$I$3:$I$50,0),MONTH(CF表!$B336)),K$21*K$13/K$196,0)),0)","v":0},{"$f":"IFERROR(IF($B336>L$15,0,IF(OFFSET(index!$I$2,MATCH(L$195,index!$I$3:$I$50,0),MONTH(CF表!$B336)),L$21*L$13/L$196,0)),0)","v":0}]
[null,"2034-05-01",{"$f":"IFERROR(IF($B337>C$15,0,IF(OFFSET(index!$I$2,MATCH(C$195,index!$I$3:$I$50,0),MONTH(CF表!$B337)),C$21*C$13/C$196,0)),0)","v":0},{"$f":"IFERROR(IF($B337>D$15,0,IF(OFFSET(index!$I$2,MATCH(D$195,index!$I$3:$I$50,0),MONTH(CF表!$B337)),D$21*D$13/D$196,0)),0)","v":0},{"$f":"IFERROR(IF($B337>E$15,0,IF(OFFSET(index!$I$2,MATCH(E$195,index!$I$3:$I$50,0),MONTH(CF表!$B337)),E$21*E$13/E$196,0)),0)","v":0},{"$f":"IFERROR(IF($B337>F$15,0,IF(OFFSET(index!$I$2,MATCH(F$195,index!$I$3:$I$50,0),MONTH(CF表!$B337)),F$21*F$13/F$196,0)),0)","v":0},{"$f":"IFERROR(IF($B337>G$15,0,IF(OFFSET(index!$I$2,MATCH(G$195,index!$I$3:$I$50,0),MONTH(CF表!$B337)),G$21*G$13/G$196,0)),0)","v":0},{"$f":"IFERROR(IF($B337>H$15,0,IF(OFFSET(index!$I$2,MATCH(H$195,index!$I$3:$I$50,0),MONTH(CF表!$B337)),H$21*H$13/H$196,0)),0)","v":0},{"$f":"IFERROR(IF($B337>I$15,0,IF(OFFSET(index!$I$2,MATCH(I$195,index!$I$3:$I$50,0),MONTH(CF表!$B337)),I$21*I$13/I$196,0)),0)","v":0},{"$f":"IFERROR(IF($B337>J$15,0,IF(OFFSET(index!$I$2,MATCH(J$195,index!$I$3:$I$50,0),MONTH(CF表!$B337)),J$21*J$13/J$196,0)),0)","v":0},{"$f":"IFERROR(IF($B337>K$15,0,IF(OFFSET(index!$I$2,MATCH(K$195,index!$I$3:$I$50,0),MONTH(CF表!$B337)),K$21*K$13/K$196,0)),0)","v":0},{"$f":"IFERROR(IF($B337>L$15,0,IF(OFFSET(index!$I$2,MATCH(L$195,index!$I$3:$I$50,0),MONTH(CF表!$B337)),L$21*L$13/L$196,0)),0)","v":0}]
[null,"2034-06-01",{"$f":"IFERROR(IF($B338>C$15,0,IF(OFFSET(index!$I$2,MATCH(C$195,index!$I$3:$I$50,0),MONTH(CF表!$B338)),C$21*C$13/C$196,0)),0)","v":0},{"$f":"IFERROR(IF($B338>D$15,0,IF(OFFSET(index!$I$2,MATCH(D$195,index!$I$3:$I$50,0),MONTH(CF表!$B338)),D$21*D$13/D$196,0)),0)","v":0},{"$f":"IFERROR(IF($B338>E$15,0,IF(OFFSET(index!$I$2,MATCH(E$195,index!$I$3:$I$50,0),MONTH(CF表!$B338)),E$21*E$13/E$196,0)),0)","v":0},{"$f":"IFERROR(IF($B338>F$15,0,IF(OFFSET(index!$I$2,MATCH(F$195,index!$I$3:$I$50,0),MONTH(CF表!$B338)),F$21*F$13/F$196,0)),0)","v":0},{"$f":"IFERROR(IF($B338>G$15,0,IF(OFFSET(index!$I$2,MATCH(G$195,index!$I$3:$I$50,0),MONTH(CF表!$B338)),G$21*G$13/G$196,0)),0)","v":0},{"$f":"IFERROR(IF($B338>H$15,0,IF(OFFSET(index!$I$2,MATCH(H$195,index!$I$3:$I$50,0),MONTH(CF表!$B338)),H$21*H$13/H$196,0)),0)","v":0},{"$f":"IFERROR(IF($B338>I$15,0,IF(OFFSET(index!$I$2,MATCH(I$195,index!$I$3:$I$50,0),MONTH(CF表!$B338)),I$21*I$13/I$196,0)),0)","v":0},{"$f":"IFERROR(IF($B338>J$15,0,IF(OFFSET(index!$I$2,MATCH(J$195,index!$I$3:$I$50,0),MONTH(CF表!$B338)),J$21*J$13/J$196,0)),0)","v":0},{"$f":"IFERROR(IF($B338>K$15,0,IF(OFFSET(index!$I$2,MATCH(K$195,index!$I$3:$I$50,0),MONTH(CF表!$B338)),K$21*K$13/K$196,0)),0)","v":0},{"$f":"IFERROR(IF($B338>L$15,0,IF(OFFSET(index!$I$2,MATCH(L$195,index!$I$3:$I$50,0),MONTH(CF表!$B338)),L$21*L$13/L$196,0)),0)","v":0}]
[null,"2034-07-01",{"$f":"IFERROR(IF($B339>C$15,0,IF(OFFSET(index!$I$2,MATCH(C$195,index!$I$3:$I$50,0),MONTH(CF表!$B339)),C$21*C$13/C$196,0)),0)","v":0},{"$f":"IFERROR(IF($B339>D$15,0,IF(OFFSET(index!$I$2,MATCH(D$195,index!$I$3:$I$50,0),MONTH(CF表!$B339)),D$21*D$13/D$196,0)),0)","v":0},{"$f":"IFERROR(IF($B339>E$15,0,IF(OFFSET(index!$I$2,MATCH(E$195,index!$I$3:$I$50,0),MONTH(CF表!$B339)),E$21*E$13/E$196,0)),0)","v":0},{"$f":"IFERROR(IF($B339>F$15,0,IF(OFFSET(index!$I$2,MATCH(F$195,index!$I$3:$I$50,0),MONTH(CF表!$B339)),F$21*F$13/F$196,0)),0)","v":0},{"$f":"IFERROR(IF($B339>G$15,0,IF(OFFSET(index!$I$2,MATCH(G$195,index!$I$3:$I$50,0),MONTH(CF表!$B339)),G$21*G$13/G$196,0)),0)","v":0},{"$f":"IFERROR(IF($B339>H$15,0,IF(OFFSET(index!$I$2,MATCH(H$195,index!$I$3:$I$50,0),MONTH(CF表!$B339)),H$21*H$13/H$196,0)),0)","v":0},{"$f":"IFERROR(IF($B339>I$15,0,IF(OFFSET(index!$I$2,MATCH(I$195,index!$I$3:$I$50,0),MONTH(CF表!$B339)),I$21*I$13/I$196,0)),0)","v":0},{"$f":"IFERROR(IF($B339>J$15,0,IF(OFFSET(index!$I$2,MATCH(J$195,index!$I$3:$I$50,0),MONTH(CF表!$B339)),J$21*J$13/J$196,0)),0)","v":0},{"$f":"IFERROR(IF($B339>K$15,0,IF(OFFSET(index!$I$2,MATCH(K$195,index!$I$3:$I$50,0),MONTH(CF表!$B339)),K$21*K$13/K$196,0)),0)","v":0},{"$f":"IFERROR(IF($B339>L$15,0,IF(OFFSET(index!$I$2,MATCH(L$195,index!$I$3:$I$50,0),MONTH(CF表!$B339)),L$21*L$13/L$196,0)),0)","v":0}]
[null,"2034-08-01",{"$f":"IFERROR(IF($B340>C$15,0,IF(OFFSET(index!$I$2,MATCH(C$195,index!$I$3:$I$50,0),MONTH(CF表!$B340)),C$21*C$13/C$196,0)),0)","v":0},{"$f":"IFERROR(IF($B340>D$15,0,IF(OFFSET(index!$I$2,MATCH(D$195,index!$I$3:$I$50,0),MONTH(CF表!$B340)),D$21*D$13/D$196,0)),0)","v":0},{"$f":"IFERROR(IF($B340>E$15,0,IF(OFFSET(index!$I$2,MATCH(E$195,index!$I$3:$I$50,0),MONTH(CF表!$B340)),E$21*E$13/E$196,0)),0)","v":0},{"$f":"IFERROR(IF($B340>F$15,0,IF(OFFSET(index!$I$2,MATCH(F$195,index!$I$3:$I$50,0),MONTH(CF表!$B340)),F$21*F$13/F$196,0)),0)","v":0},{"$f":"IFERROR(IF($B340>G$15,0,IF(OFFSET(index!$I$2,MATCH(G$195,index!$I$3:$I$50,0),MONTH(CF表!$B340)),G$21*G$13/G$196,0)),0)","v":0},{"$f":"IFERROR(IF($B340>H$15,0,IF(OFFSET(index!$I$2,MATCH(H$195,index!$I$3:$I$50,0),MONTH(CF表!$B340)),H$21*H$13/H$196,0)),0)","v":0},{"$f":"IFERROR(IF($B340>I$15,0,IF(OFFSET(index!$I$2,MATCH(I$195,index!$I$3:$I$50,0),MONTH(CF表!$B340)),I$21*I$13/I$196,0)),0)","v":0},{"$f":"IFERROR(IF($B340>J$15,0,IF(OFFSET(index!$I$2,MATCH(J$195,index!$I$3:$I$50,0),MONTH(CF表!$B340)),J$21*J$13/J$196,0)),0)","v":0},{"$f":"IFERROR(IF($B340>K$15,0,IF(OFFSET(index!$I$2,MATCH(K$195,index!$I$3:$I$50,0),MONTH(CF表!$B340)),K$21*K$13/K$196,0)),0)","v":0},{"$f":"IFERROR(IF($B340>L$15,0,IF(OFFSET(index!$I$2,MATCH(L$195,index!$I$3:$I$50,0),MONTH(CF表!$B340)),L$21*L$13/L$196,0)),0)","v":0}]
[null,"2034-09-01",{"$f":"IFERROR(IF($B341>C$15,0,IF(OFFSET(index!$I$2,MATCH(C$195,index!$I$3:$I$50,0),MONTH(CF表!$B341)),C$21*C$13/C$196,0)),0)","v":0},{"$f":"IFERROR(IF($B341>D$15,0,IF(OFFSET(index!$I$2,MATCH(D$195,index!$I$3:$I$50,0),MONTH(CF表!$B341)),D$21*D$13/D$196,0)),0)","v":0},{"$f":"IFERROR(IF($B341>E$15,0,IF(OFFSET(index!$I$2,MATCH(E$195,index!$I$3:$I$50,0),MONTH(CF表!$B341)),E$21*E$13/E$196,0)),0)","v":0},{"$f":"IFERROR(IF($B341>F$15,0,IF(OFFSET(index!$I$2,MATCH(F$195,index!$I$3:$I$50,0),MONTH(CF表!$B341)),F$21*F$13/F$196,0)),0)","v":0},{"$f":"IFERROR(IF($B341>G$15,0,IF(OFFSET(index!$I$2,MATCH(G$195,index!$I$3:$I$50,0),MONTH(CF表!$B341)),G$21*G$13/G$196,0)),0)","v":0},{"$f":"IFERROR(IF($B341>H$15,0,IF(OFFSET(index!$I$2,MATCH(H$195,index!$I$3:$I$50,0),MONTH(CF表!$B341)),H$21*H$13/H$196,0)),0)","v":0},{"$f":"IFERROR(IF($B341>I$15,0,IF(OFFSET(index!$I$2,MATCH(I$195,index!$I$3:$I$50,0),MONTH(CF表!$B341)),I$21*I$13/I$196,0)),0)","v":0},{"$f":"IFERROR(IF($B341>J$15,0,IF(OFFSET(index!$I$2,MATCH(J$195,index!$I$3:$I$50,0),MONTH(CF表!$B341)),J$21*J$13/J$196,0)),0)","v":0},{"$f":"IFERROR(IF($B341>K$15,0,IF(OFFSET(index!$I$2,MATCH(K$195,index!$I$3:$I$50,0),MONTH(CF表!$B341)),K$21*K$13/K$196,0)),0)","v":0},{"$f":"IFERROR(IF($B341>L$15,0,IF(OFFSET(index!$I$2,MATCH(L$195,index!$I$3:$I$50,0),MONTH(CF表!$B341)),L$21*L$13/L$196,0)),0)","v":0}]
[null,"2034-10-01",{"$f":"IFERROR(IF($B342>C$15,0,IF(OFFSET(index!$I$2,MATCH(C$195,index!$I$3:$I$50,0),MONTH(CF表!$B342)),C$21*C$13/C$196,0)),0)","v":0},{"$f":"IFERROR(IF($B342>D$15,0,IF(OFFSET(index!$I$2,MATCH(D$195,index!$I$3:$I$50,0),MONTH(CF表!$B342)),D$21*D$13/D$196,0)),0)","v":0},{"$f":"IFERROR(IF($B342>E$15,0,IF(OFFSET(index!$I$2,MATCH(E$195,index!$I$3:$I$50,0),MONTH(CF表!$B342)),E$21*E$13/E$196,0)),0)","v":0},{"$f":"IFERROR(IF($B342>F$15,0,IF(OFFSET(index!$I$2,MATCH(F$195,index!$I$3:$I$50,0),MONTH(CF表!$B342)),F$21*F$13/F$196,0)),0)","v":0},{"$f":"IFERROR(IF($B342>G$15,0,IF(OFFSET(index!$I$2,MATCH(G$195,index!$I$3:$I$50,0),MONTH(CF表!$B342)),G$21*G$13/G$196,0)),0)","v":0},{"$f":"IFERROR(IF($B342>H$15,0,IF(OFFSET(index!$I$2,MATCH(H$195,index!$I$3:$I$50,0),MONTH(CF表!$B342)),H$21*H$13/H$196,0)),0)","v":0},{"$f":"IFERROR(IF($B342>I$15,0,IF(OFFSET(index!$I$2,MATCH(I$195,index!$I$3:$I$50,0),MONTH(CF表!$B342)),I$21*I$13/I$196,0)),0)","v":0},{"$f":"IFERROR(IF($B342>J$15,0,IF(OFFSET(index!$I$2,MATCH(J$195,index!$I$3:$I$50,0),MONTH(CF表!$B342)),J$21*J$13/J$196,0)),0)","v":0},{"$f":"IFERROR(IF($B342>K$15,0,IF(OFFSET(index!$I$2,MATCH(K$195,index!$I$3:$I$50,0),MONTH(CF表!$B342)),K$21*K$13/K$196,0)),0)","v":0},{"$f":"IFERROR(IF($B342>L$15,0,IF(OFFSET(index!$I$2,MATCH(L$195,index!$I$3:$I$50,0),MONTH(CF表!$B342)),L$21*L$13/L$196,0)),0)","v":0}]
[null,"2034-11-01",{"$f":"IFERROR(IF($B343>C$15,0,IF(OFFSET(index!$I$2,MATCH(C$195,index!$I$3:$I$50,0),MONTH(CF表!$B343)),C$21*C$13/C$196,0)),0)","v":0},{"$f":"IFERROR(IF($B343>D$15,0,IF(OFFSET(index!$I$2,MATCH(D$195,index!$I$3:$I$50,0),MONTH(CF表!$B343)),D$21*D$13/D$196,0)),0)","v":0},{"$f":"IFERROR(IF($B343>E$15,0,IF(OFFSET(index!$I$2,MATCH(E$195,index!$I$3:$I$50,0),MONTH(CF表!$B343)),E$21*E$13/E$196,0)),0)","v":0},{"$f":"IFERROR(IF($B343>F$15,0,IF(OFFSET(index!$I$2,MATCH(F$195,index!$I$3:$I$50,0),MONTH(CF表!$B343)),F$21*F$13/F$196,0)),0)","v":0},{"$f":"IFERROR(IF($B343>G$15,0,IF(OFFSET(index!$I$2,MATCH(G$195,index!$I$3:$I$50,0),MONTH(CF表!$B343)),G$21*G$13/G$196,0)),0)","v":0},{"$f":"IFERROR(IF($B343>H$15,0,IF(OFFSET(index!$I$2,MATCH(H$195,index!$I$3:$I$50,0),MONTH(CF表!$B343)),H$21*H$13/H$196,0)),0)","v":0},{"$f":"IFERROR(IF($B343>I$15,0,IF(OFFSET(index!$I$2,MATCH(I$195,index!$I$3:$I$50,0),MONTH(CF表!$B343)),I$21*I$13/I$196,0)),0)","v":0},{"$f":"IFERROR(IF($B343>J$15,0,IF(OFFSET(index!$I$2,MATCH(J$195,index!$I$3:$I$50,0),MONTH(CF表!$B343)),J$21*J$13/J$196,0)),0)","v":0},{"$f":"IFERROR(IF($B343>K$15,0,IF(OFFSET(index!$I$2,MATCH(K$195,index!$I$3:$I$50,0),MONTH(CF表!$B343)),K$21*K$13/K$196,0)),0)","v":0},{"$f":"IFERROR(IF($B343>L$15,0,IF(OFFSET(index!$I$2,MATCH(L$195,index!$I$3:$I$50,0),MONTH(CF表!$B343)),L$21*L$13/L$196,0)),0)","v":0}]
[null,"2034-12-01",{"$f":"IFERROR(IF($B344>C$15,0,IF(OFFSET(index!$I$2,MATCH(C$195,index!$I$3:$I$50,0),MONTH(CF表!$B344)),C$21*C$13/C$196,0)),0)","v":0},{"$f":"IFERROR(IF($B344>D$15,0,IF(OFFSET(index!$I$2,MATCH(D$195,index!$I$3:$I$50,0),MONTH(CF表!$B344)),D$21*D$13/D$196,0)),0)","v":0},{"$f":"IFERROR(IF($B344>E$15,0,IF(OFFSET(index!$I$2,MATCH(E$195,index!$I$3:$I$50,0),MONTH(CF表!$B344)),E$21*E$13/E$196,0)),0)","v":0},{"$f":"IFERROR(IF($B344>F$15,0,IF(OFFSET(index!$I$2,MATCH(F$195,index!$I$3:$I$50,0),MONTH(CF表!$B344)),F$21*F$13/F$196,0)),0)","v":0},{"$f":"IFERROR(IF($B344>G$15,0,IF(OFFSET(index!$I$2,MATCH(G$195,index!$I$3:$I$50,0),MONTH(CF表!$B344)),G$21*G$13/G$196,0)),0)","v":0},{"$f":"IFERROR(IF($B344>H$15,0,IF(OFFSET(index!$I$2,MATCH(H$195,index!$I$3:$I$50,0),MONTH(CF表!$B344)),H$21*H$13/H$196,0)),0)","v":0},{"$f":"IFERROR(IF($B344>I$15,0,IF(OFFSET(index!$I$2,MATCH(I$195,index!$I$3:$I$50,0),MONTH(CF表!$B344)),I$21*I$13/I$196,0)),0)","v":0},{"$f":"IFERROR(IF($B344>J$15,0,IF(OFFSET(index!$I$2,MATCH(J$195,index!$I$3:$I$50,0),MONTH(CF表!$B344)),J$21*J$13/J$196,0)),0)","v":0},{"$f":"IFERROR(IF($B344>K$15,0,IF(OFFSET(index!$I$2,MATCH(K$195,index!$I$3:$I$50,0),MONTH(CF表!$B344)),K$21*K$13/K$196,0)),0)","v":0},{"$f":"IFERROR(IF($B344>L$15,0,IF(OFFSET(index!$I$2,MATCH(L$195,index!$I$3:$I$50,0),MONTH(CF表!$B344)),L$21*L$13/L$196,0)),0)","v":0}]
[null,"2035-01-01",{"$f":"IFERROR(IF($B345>C$15,0,IF(OFFSET(index!$I$2,MATCH(C$195,index!$I$3:$I$50,0),MONTH(CF表!$B345)),C$21*C$13/C$196,0)),0)","v":0},{"$f":"IFERROR(IF($B345>D$15,0,IF(OFFSET(index!$I$2,MATCH(D$195,index!$I$3:$I$50,0),MONTH(CF表!$B345)),D$21*D$13/D$196,0)),0)","v":0},{"$f":"IFERROR(IF($B345>E$15,0,IF(OFFSET(index!$I$2,MATCH(E$195,index!$I$3:$I$50,0),MONTH(CF表!$B345)),E$21*E$13/E$196,0)),0)","v":0},{"$f":"IFERROR(IF($B345>F$15,0,IF(OFFSET(index!$I$2,MATCH(F$195,index!$I$3:$I$50,0),MONTH(CF表!$B345)),F$21*F$13/F$196,0)),0)","v":0},{"$f":"IFERROR(IF($B345>G$15,0,IF(OFFSET(index!$I$2,MATCH(G$195,index!$I$3:$I$50,0),MONTH(CF表!$B345)),G$21*G$13/G$196,0)),0)","v":0},{"$f":"IFERROR(IF($B345>H$15,0,IF(OFFSET(index!$I$2,MATCH(H$195,index!$I$3:$I$50,0),MONTH(CF表!$B345)),H$21*H$13/H$196,0)),0)","v":0},{"$f":"IFERROR(IF($B345>I$15,0,IF(OFFSET(index!$I$2,MATCH(I$195,index!$I$3:$I$50,0),MONTH(CF表!$B345)),I$21*I$13/I$196,0)),0)","v":0},{"$f":"IFERROR(IF($B345>J$15,0,IF(OFFSET(index!$I$2,MATCH(J$195,index!$I$3:$I$50,0),MONTH(CF表!$B345)),J$21*J$13/J$196,0)),0)","v":0},{"$f":"IFERROR(IF($B345>K$15,0,IF(OFFSET(index!$I$2,MATCH(K$195,index!$I$3:$I$50,0),MONTH(CF表!$B345)),K$21*K$13/K$196,0)),0)","v":0},{"$f":"IFERROR(IF($B345>L$15,0,IF(OFFSET(index!$I$2,MATCH(L$195,index!$I$3:$I$50,0),MONTH(CF表!$B345)),L$21*L$13/L$196,0)),0)","v":0}]
[null,"2035-02-01",{"$f":"IFERROR(IF($B346>C$15,0,IF(OFFSET(index!$I$2,MATCH(C$195,index!$I$3:$I$50,0),MONTH(CF表!$B346)),C$21*C$13/C$196,0)),0)","v":0},{"$f":"IFERROR(IF($B346>D$15,0,IF(OFFSET(index!$I$2,MATCH(D$195,index!$I$3:$I$50,0),MONTH(CF表!$B346)),D$21*D$13/D$196,0)),0)","v":0},{"$f":"IFERROR(IF($B346>E$15,0,IF(OFFSET(index!$I$2,MATCH(E$195,index!$I$3:$I$50,0),MONTH(CF表!$B346)),E$21*E$13/E$196,0)),0)","v":0},{"$f":"IFERROR(IF($B346>F$15,0,IF(OFFSET(index!$I$2,MATCH(F$195,index!$I$3:$I$50,0),MONTH(CF表!$B346)),F$21*F$13/F$196,0)),0)","v":0},{"$f":"IFERROR(IF($B346>G$15,0,IF(OFFSET(index!$I$2,MATCH(G$195,index!$I$3:$I$50,0),MONTH(CF表!$B346)),G$21*G$13/G$196,0)),0)","v":0},{"$f":"IFERROR(IF($B346>H$15,0,IF(OFFSET(index!$I$2,MATCH(H$195,index!$I$3:$I$50,0),MONTH(CF表!$B346)),H$21*H$13/H$196,0)),0)","v":0},{"$f":"IFERROR(IF($B346>I$15,0,IF(OFFSET(index!$I$2,MATCH(I$195,index!$I$3:$I$50,0),MONTH(CF表!$B346)),I$21*I$13/I$196,0)),0)","v":0},{"$f":"IFERROR(IF($B346>J$15,0,IF(OFFSET(index!$I$2,MATCH(J$195,index!$I$3:$I$50,0),MONTH(CF表!$B346)),J$21*J$13/J$196,0)),0)","v":0},{"$f":"IFERROR(IF($B346>K$15,0,IF(OFFSET(index!$I$2,MATCH(K$195,index!$I$3:$I$50,0),MONTH(CF表!$B346)),K$21*K$13/K$196,0)),0)","v":0},{"$f":"IFERROR(IF($B346>L$15,0,IF(OFFSET(index!$I$2,MATCH(L$195,index!$I$3:$I$50,0),MONTH(CF表!$B346)),L$21*L$13/L$196,0)),0)","v":0}]
[null,"2035-03-01",{"$f":"IFERROR(IF($B347>C$15,0,IF(OFFSET(index!$I$2,MATCH(C$195,index!$I$3:$I$50,0),MONTH(CF表!$B347)),C$21*C$13/C$196,0)),0)","v":0},{"$f":"IFERROR(IF($B347>D$15,0,IF(OFFSET(index!$I$2,MATCH(D$195,index!$I$3:$I$50,0),MONTH(CF表!$B347)),D$21*D$13/D$196,0)),0)","v":0},{"$f":"IFERROR(IF($B347>E$15,0,IF(OFFSET(index!$I$2,MATCH(E$195,index!$I$3:$I$50,0),MONTH(CF表!$B347)),E$21*E$13/E$196,0)),0)","v":0},{"$f":"IFERROR(IF($B347>F$15,0,IF(OFFSET(index!$I$2,MATCH(F$195,index!$I$3:$I$50,0),MONTH(CF表!$B347)),F$21*F$13/F$196,0)),0)","v":0},{"$f":"IFERROR(IF($B347>G$15,0,IF(OFFSET(index!$I$2,MATCH(G$195,index!$I$3:$I$50,0),MONTH(CF表!$B347)),G$21*G$13/G$196,0)),0)","v":0},{"$f":"IFERROR(IF($B347>H$15,0,IF(OFFSET(index!$I$2,MATCH(H$195,index!$I$3:$I$50,0),MONTH(CF表!$B347)),H$21*H$13/H$196,0)),0)","v":0},{"$f":"IFERROR(IF($B347>I$15,0,IF(OFFSET(index!$I$2,MATCH(I$195,index!$I$3:$I$50,0),MONTH(CF表!$B347)),I$21*I$13/I$196,0)),0)","v":0},{"$f":"IFERROR(IF($B347>J$15,0,IF(OFFSET(index!$I$2,MATCH(J$195,index!$I$3:$I$50,0),MONTH(CF表!$B347)),J$21*J$13/J$196,0)),0)","v":0},{"$f":"IFERROR(IF($B347>K$15,0,IF(OFFSET(index!$I$2,MATCH(K$195,index!$I$3:$I$50,0),MONTH(CF表!$B347)),K$21*K$13/K$196,0)),0)","v":0},{"$f":"IFERROR(IF($B347>L$15,0,IF(OFFSET(index!$I$2,MATCH(L$195,index!$I$3:$I$50,0),MONTH(CF表!$B347)),L$21*L$13/L$196,0)),0)","v":0}]
[null,"2035-04-01",{"$f":"IFERROR(IF($B348>C$15,0,IF(OFFSET(index!$I$2,MATCH(C$195,index!$I$3:$I$50,0),MONTH(CF表!$B348)),C$21*C$13/C$196,0)),0)","v":0},{"$f":"IFERROR(IF($B348>D$15,0,IF(OFFSET(index!$I$2,MATCH(D$195,index!$I$3:$I$50,0),MONTH(CF表!$B348)),D$21*D$13/D$196,0)),0)","v":0},{"$f":"IFERROR(IF($B348>E$15,0,IF(OFFSET(index!$I$2,MATCH(E$195,index!$I$3:$I$50,0),MONTH(CF表!$B348)),E$21*E$13/E$196,0)),0)","v":0},{"$f":"IFERROR(IF($B348>F$15,0,IF(OFFSET(index!$I$2,MATCH(F$195,index!$I$3:$I$50,0),MONTH(CF表!$B348)),F$21*F$13/F$196,0)),0)","v":0},{"$f":"IFERROR(IF($B348>G$15,0,IF(OFFSET(index!$I$2,MATCH(G$195,index!$I$3:$I$50,0),MONTH(CF表!$B348)),G$21*G$13/G$196,0)),0)","v":0},{"$f":"IFERROR(IF($B348>H$15,0,IF(OFFSET(index!$I$2,MATCH(H$195,index!$I$3:$I$50,0),MONTH(CF表!$B348)),H$21*H$13/H$196,0)),0)","v":0},{"$f":"IFERROR(IF($B348>I$15,0,IF(OFFSET(index!$I$2,MATCH(I$195,index!$I$3:$I$50,0),MONTH(CF表!$B348)),I$21*I$13/I$196,0)),0)","v":0},{"$f":"IFERROR(IF($B348>J$15,0,IF(OFFSET(index!$I$2,MATCH(J$195,index!$I$3:$I$50,0),MONTH(CF表!$B348)),J$21*J$13/J$196,0)),0)","v":0},{"$f":"IFERROR(IF($B348>K$15,0,IF(OFFSET(index!$I$2,MATCH(K$195,index!$I$3:$I$50,0),MONTH(CF表!$B348)),K$21*K$13/K$196,0)),0)","v":0},{"$f":"IFERROR(IF($B348>L$15,0,IF(OFFSET(index!$I$2,MATCH(L$195,index!$I$3:$I$50,0),MONTH(CF表!$B348)),L$21*L$13/L$196,0)),0)","v":0}]
[null,"2035-05-01",{"$f":"IFERROR(IF($B349>C$15,0,IF(OFFSET(index!$I$2,MATCH(C$195,index!$I$3:$I$50,0),MONTH(CF表!$B349)),C$21*C$13/C$196,0)),0)","v":0},{"$f":"IFERROR(IF($B349>D$15,0,IF(OFFSET(index!$I$2,MATCH(D$195,index!$I$3:$I$50,0),MONTH(CF表!$B349)),D$21*D$13/D$196,0)),0)","v":0},{"$f":"IFERROR(IF($B349>E$15,0,IF(OFFSET(index!$I$2,MATCH(E$195,index!$I$3:$I$50,0),MONTH(CF表!$B349)),E$21*E$13/E$196,0)),0)","v":0},{"$f":"IFERROR(IF($B349>F$15,0,IF(OFFSET(index!$I$2,MATCH(F$195,index!$I$3:$I$50,0),MONTH(CF表!$B349)),F$21*F$13/F$196,0)),0)","v":0},{"$f":"IFERROR(IF($B349>G$15,0,IF(OFFSET(index!$I$2,MATCH(G$195,index!$I$3:$I$50,0),MONTH(CF表!$B349)),G$21*G$13/G$196,0)),0)","v":0},{"$f":"IFERROR(IF($B349>H$15,0,IF(OFFSET(index!$I$2,MATCH(H$195,index!$I$3:$I$50,0),MONTH(CF表!$B349)),H$21*H$13/H$196,0)),0)","v":0},{"$f":"IFERROR(IF($B349>I$15,0,IF(OFFSET(index!$I$2,MATCH(I$195,index!$I$3:$I$50,0),MONTH(CF表!$B349)),I$21*I$13/I$196,0)),0)","v":0},{"$f":"IFERROR(IF($B349>J$15,0,IF(OFFSET(index!$I$2,MATCH(J$195,index!$I$3:$I$50,0),MONTH(CF表!$B349)),J$21*J$13/J$196,0)),0)","v":0},{"$f":"IFERROR(IF($B349>K$15,0,IF(OFFSET(index!$I$2,MATCH(K$195,index!$I$3:$I$50,0),MONTH(CF表!$B349)),K$21*K$13/K$196,0)),0)","v":0},{"$f":"IFERROR(IF($B349>L$15,0,IF(OFFSET(index!$I$2,MATCH(L$195,index!$I$3:$I$50,0),MONTH(CF表!$B349)),L$21*L$13/L$196,0)),0)","v":0}]
[null,"2035-06-01",{"$f":"IFERROR(IF($B350>C$15,0,IF(OFFSET(index!$I$2,MATCH(C$195,index!$I$3:$I$50,0),MONTH(CF表!$B350)),C$21*C$13/C$196,0)),0)","v":0},{"$f":"IFERROR(IF($B350>D$15,0,IF(OFFSET(index!$I$2,MATCH(D$195,index!$I$3:$I$50,0),MONTH(CF表!$B350)),D$21*D$13/D$196,0)),0)","v":0},{"$f":"IFERROR(IF($B350>E$15,0,IF(OFFSET(index!$I$2,MATCH(E$195,index!$I$3:$I$50,0),MONTH(CF表!$B350)),E$21*E$13/E$196,0)),0)","v":0},{"$f":"IFERROR(IF($B350>F$15,0,IF(OFFSET(index!$I$2,MATCH(F$195,index!$I$3:$I$50,0),MONTH(CF表!$B350)),F$21*F$13/F$196,0)),0)","v":0},{"$f":"IFERROR(IF($B350>G$15,0,IF(OFFSET(index!$I$2,MATCH(G$195,index!$I$3:$I$50,0),MONTH(CF表!$B350)),G$21*G$13/G$196,0)),0)","v":0},{"$f":"IFERROR(IF($B350>H$15,0,IF(OFFSET(index!$I$2,MATCH(H$195,index!$I$3:$I$50,0),MONTH(CF表!$B350)),H$21*H$13/H$196,0)),0)","v":0},{"$f":"IFERROR(IF($B350>I$15,0,IF(OFFSET(index!$I$2,MATCH(I$195,index!$I$3:$I$50,0),MONTH(CF表!$B350)),I$21*I$13/I$196,0)),0)","v":0},{"$f":"IFERROR(IF($B350>J$15,0,IF(OFFSET(index!$I$2,MATCH(J$195,index!$I$3:$I$50,0),MONTH(CF表!$B350)),J$21*J$13/J$196,0)),0)","v":0},{"$f":"IFERROR(IF($B350>K$15,0,IF(OFFSET(index!$I$2,MATCH(K$195,index!$I$3:$I$50,0),MONTH(CF表!$B350)),K$21*K$13/K$196,0)),0)","v":0},{"$f":"IFERROR(IF($B350>L$15,0,IF(OFFSET(index!$I$2,MATCH(L$195,index!$I$3:$I$50,0),MONTH(CF表!$B350)),L$21*L$13/L$196,0)),0)","v":0}]
[null,"2035-07-01",{"$f":"IFERROR(IF($B351>C$15,0,IF(OFFSET(index!$I$2,MATCH(C$195,index!$I$3:$I$50,0),MONTH(CF表!$B351)),C$21*C$13/C$196,0)),0)","v":0},{"$f":"IFERROR(IF($B351>D$15,0,IF(OFFSET(index!$I$2,MATCH(D$195,index!$I$3:$I$50,0),MONTH(CF表!$B351)),D$21*D$13/D$196,0)),0)","v":0},{"$f":"IFERROR(IF($B351>E$15,0,IF(OFFSET(index!$I$2,MATCH(E$195,index!$I$3:$I$50,0),MONTH(CF表!$B351)),E$21*E$13/E$196,0)),0)","v":0},{"$f":"IFERROR(IF($B351>F$15,0,IF(OFFSET(index!$I$2,MATCH(F$195,index!$I$3:$I$50,0),MONTH(CF表!$B351)),F$21*F$13/F$196,0)),0)","v":0},{"$f":"IFERROR(IF($B351>G$15,0,IF(OFFSET(index!$I$2,MATCH(G$195,index!$I$3:$I$50,0),MONTH(CF表!$B351)),G$21*G$13/G$196,0)),0)","v":0},{"$f":"IFERROR(IF($B351>H$15,0,IF(OFFSET(index!$I$2,MATCH(H$195,index!$I$3:$I$50,0),MONTH(CF表!$B351)),H$21*H$13/H$196,0)),0)","v":0},{"$f":"IFERROR(IF($B351>I$15,0,IF(OFFSET(index!$I$2,MATCH(I$195,index!$I$3:$I$50,0),MONTH(CF表!$B351)),I$21*I$13/I$196,0)),0)","v":0},{"$f":"IFERROR(IF($B351>J$15,0,IF(OFFSET(index!$I$2,MATCH(J$195,index!$I$3:$I$50,0),MONTH(CF表!$B351)),J$21*J$13/J$196,0)),0)","v":0},{"$f":"IFERROR(IF($B351>K$15,0,IF(OFFSET(index!$I$2,MATCH(K$195,index!$I$3:$I$50,0),MONTH(CF表!$B351)),K$21*K$13/K$196,0)),0)","v":0},{"$f":"IFERROR(IF($B351>L$15,0,IF(OFFSET(index!$I$2,MATCH(L$195,index!$I$3:$I$50,0),MONTH(CF表!$B351)),L$21*L$13/L$196,0)),0)","v":0}]
[null,"2035-08-01",{"$f":"IFERROR(IF($B352>C$15,0,IF(OFFSET(index!$I$2,MATCH(C$195,index!$I$3:$I$50,0),MONTH(CF表!$B352)),C$21*C$13/C$196,0)),0)","v":0},{"$f":"IFERROR(IF($B352>D$15,0,IF(OFFSET(index!$I$2,MATCH(D$195,index!$I$3:$I$50,0),MONTH(CF表!$B352)),D$21*D$13/D$196,0)),0)","v":0},{"$f":"IFERROR(IF($B352>E$15,0,IF(OFFSET(index!$I$2,MATCH(E$195,index!$I$3:$I$50,0),MONTH(CF表!$B352)),E$21*E$13/E$196,0)),0)","v":0},{"$f":"IFERROR(IF($B352>F$15,0,IF(OFFSET(index!$I$2,MATCH(F$195,index!$I$3:$I$50,0),MONTH(CF表!$B352)),F$21*F$13/F$196,0)),0)","v":0},{"$f":"IFERROR(IF($B352>G$15,0,IF(OFFSET(index!$I$2,MATCH(G$195,index!$I$3:$I$50,0),MONTH(CF表!$B352)),G$21*G$13/G$196,0)),0)","v":0},{"$f":"IFERROR(IF($B352>H$15,0,IF(OFFSET(index!$I$2,MATCH(H$195,index!$I$3:$I$50,0),MONTH(CF表!$B352)),H$21*H$13/H$196,0)),0)","v":0},{"$f":"IFERROR(IF($B352>I$15,0,IF(OFFSET(index!$I$2,MATCH(I$195,index!$I$3:$I$50,0),MONTH(CF表!$B352)),I$21*I$13/I$196,0)),0)","v":0},{"$f":"IFERROR(IF($B352>J$15,0,IF(OFFSET(index!$I$2,MATCH(J$195,index!$I$3:$I$50,0),MONTH(CF表!$B352)),J$21*J$13/J$196,0)),0)","v":0},{"$f":"IFERROR(IF($B352>K$15,0,IF(OFFSET(index!$I$2,MATCH(K$195,index!$I$3:$I$50,0),MONTH(CF表!$B352)),K$21*K$13/K$196,0)),0)","v":0},{"$f":"IFERROR(IF($B352>L$15,0,IF(OFFSET(index!$I$2,MATCH(L$195,index!$I$3:$I$50,0),MONTH(CF表!$B352)),L$21*L$13/L$196,0)),0)","v":0}]
[null,"2035-09-01",{"$f":"IFERROR(IF($B353>C$15,0,IF(OFFSET(index!$I$2,MATCH(C$195,index!$I$3:$I$50,0),MONTH(CF表!$B353)),C$21*C$13/C$196,0)),0)","v":0},{"$f":"IFERROR(IF($B353>D$15,0,IF(OFFSET(index!$I$2,MATCH(D$195,index!$I$3:$I$50,0),MONTH(CF表!$B353)),D$21*D$13/D$196,0)),0)","v":0},{"$f":"IFERROR(IF($B353>E$15,0,IF(OFFSET(index!$I$2,MATCH(E$195,index!$I$3:$I$50,0),MONTH(CF表!$B353)),E$21*E$13/E$196,0)),0)","v":0},{"$f":"IFERROR(IF($B353>F$15,0,IF(OFFSET(index!$I$2,MATCH(F$195,index!$I$3:$I$50,0),MONTH(CF表!$B353)),F$21*F$13/F$196,0)),0)","v":0},{"$f":"IFERROR(IF($B353>G$15,0,IF(OFFSET(index!$I$2,MATCH(G$195,index!$I$3:$I$50,0),MONTH(CF表!$B353)),G$21*G$13/G$196,0)),0)","v":0},{"$f":"IFERROR(IF($B353>H$15,0,IF(OFFSET(index!$I$2,MATCH(H$195,index!$I$3:$I$50,0),MONTH(CF表!$B353)),H$21*H$13/H$196,0)),0)","v":0},{"$f":"IFERROR(IF($B353>I$15,0,IF(OFFSET(index!$I$2,MATCH(I$195,index!$I$3:$I$50,0),MONTH(CF表!$B353)),I$21*I$13/I$196,0)),0)","v":0},{"$f":"IFERROR(IF($B353>J$15,0,IF(OFFSET(index!$I$2,MATCH(J$195,index!$I$3:$I$50,0),MONTH(CF表!$B353)),J$21*J$13/J$196,0)),0)","v":0},{"$f":"IFERROR(IF($B353>K$15,0,IF(OFFSET(index!$I$2,MATCH(K$195,index!$I$3:$I$50,0),MONTH(CF表!$B353)),K$21*K$13/K$196,0)),0)","v":0},{"$f":"IFERROR(IF($B353>L$15,0,IF(OFFSET(index!$I$2,MATCH(L$195,index!$I$3:$I$50,0),MONTH(CF表!$B353)),L$21*L$13/L$196,0)),0)","v":0}]
[null,"2035-10-01",{"$f":"IFERROR(IF($B354>C$15,0,IF(OFFSET(index!$I$2,MATCH(C$195,index!$I$3:$I$50,0),MONTH(CF表!$B354)),C$21*C$13/C$196,0)),0)","v":0},{"$f":"IFERROR(IF($B354>D$15,0,IF(OFFSET(index!$I$2,MATCH(D$195,index!$I$3:$I$50,0),MONTH(CF表!$B354)),D$21*D$13/D$196,0)),0)","v":0},{"$f":"IFERROR(IF($B354>E$15,0,IF(OFFSET(index!$I$2,MATCH(E$195,index!$I$3:$I$50,0),MONTH(CF表!$B354)),E$21*E$13/E$196,0)),0)","v":0},{"$f":"IFERROR(IF($B354>F$15,0,IF(OFFSET(index!$I$2,MATCH(F$195,index!$I$3:$I$50,0),MONTH(CF表!$B354)),F$21*F$13/F$196,0)),0)","v":0},{"$f":"IFERROR(IF($B354>G$15,0,IF(OFFSET(index!$I$2,MATCH(G$195,index!$I$3:$I$50,0),MONTH(CF表!$B354)),G$21*G$13/G$196,0)),0)","v":0},{"$f":"IFERROR(IF($B354>H$15,0,IF(OFFSET(index!$I$2,MATCH(H$195,index!$I$3:$I$50,0),MONTH(CF表!$B354)),H$21*H$13/H$196,0)),0)","v":0},{"$f":"IFERROR(IF($B354>I$15,0,IF(OFFSET(index!$I$2,MATCH(I$195,index!$I$3:$I$50,0),MONTH(CF表!$B354)),I$21*I$13/I$196,0)),0)","v":0},{"$f":"IFERROR(IF($B354>J$15,0,IF(OFFSET(index!$I$2,MATCH(J$195,index!$I$3:$I$50,0),MONTH(CF表!$B354)),J$21*J$13/J$196,0)),0)","v":0},{"$f":"IFERROR(IF($B354>K$15,0,IF(OFFSET(index!$I$2,MATCH(K$195,index!$I$3:$I$50,0),MONTH(CF表!$B354)),K$21*K$13/K$196,0)),0)","v":0},{"$f":"IFERROR(IF($B354>L$15,0,IF(OFFSET(index!$I$2,MATCH(L$195,index!$I$3:$I$50,0),MONTH(CF表!$B354)),L$21*L$13/L$196,0)),0)","v":0}]
[null,"2035-11-01",{"$f":"IFERROR(IF($B355>C$15,0,IF(OFFSET(index!$I$2,MATCH(C$195,index!$I$3:$I$50,0),MONTH(CF表!$B355)),C$21*C$13/C$196,0)),0)","v":0},{"$f":"IFERROR(IF($B355>D$15,0,IF(OFFSET(index!$I$2,MATCH(D$195,index!$I$3:$I$50,0),MONTH(CF表!$B355)),D$21*D$13/D$196,0)),0)","v":0},{"$f":"IFERROR(IF($B355>E$15,0,IF(OFFSET(index!$I$2,MATCH(E$195,index!$I$3:$I$50,0),MONTH(CF表!$B355)),E$21*E$13/E$196,0)),0)","v":0},{"$f":"IFERROR(IF($B355>F$15,0,IF(OFFSET(index!$I$2,MATCH(F$195,index!$I$3:$I$50,0),MONTH(CF表!$B355)),F$21*F$13/F$196,0)),0)","v":0},{"$f":"IFERROR(IF($B355>G$15,0,IF(OFFSET(index!$I$2,MATCH(G$195,index!$I$3:$I$50,0),MONTH(CF表!$B355)),G$21*G$13/G$196,0)),0)","v":0},{"$f":"IFERROR(IF($B355>H$15,0,IF(OFFSET(index!$I$2,MATCH(H$195,index!$I$3:$I$50,0),MONTH(CF表!$B355)),H$21*H$13/H$196,0)),0)","v":0},{"$f":"IFERROR(IF($B355>I$15,0,IF(OFFSET(index!$I$2,MATCH(I$195,index!$I$3:$I$50,0),MONTH(CF表!$B355)),I$21*I$13/I$196,0)),0)","v":0},{"$f":"IFERROR(IF($B355>J$15,0,IF(OFFSET(index!$I$2,MATCH(J$195,index!$I$3:$I$50,0),MONTH(CF表!$B355)),J$21*J$13/J$196,0)),0)","v":0},{"$f":"IFERROR(IF($B355>K$15,0,IF(OFFSET(index!$I$2,MATCH(K$195,index!$I$3:$I$50,0),MONTH(CF表!$B355)),K$21*K$13/K$196,0)),0)","v":0},{"$f":"IFERROR(IF($B355>L$15,0,IF(OFFSET(index!$I$2,MATCH(L$195,index!$I$3:$I$50,0),MONTH(CF表!$B355)),L$21*L$13/L$196,0)),0)","v":0}]
[null,"2035-12-01",{"$f":"IFERROR(IF($B356>C$15,0,IF(OFFSET(index!$I$2,MATCH(C$195,index!$I$3:$I$50,0),MONTH(CF表!$B356)),C$21*C$13/C$196,0)),0)","v":0},{"$f":"IFERROR(IF($B356>D$15,0,IF(OFFSET(index!$I$2,MATCH(D$195,index!$I$3:$I$50,0),MONTH(CF表!$B356)),D$21*D$13/D$196,0)),0)","v":0},{"$f":"IFERROR(IF($B356>E$15,0,IF(OFFSET(index!$I$2,MATCH(E$195,index!$I$3:$I$50,0),MONTH(CF表!$B356)),E$21*E$13/E$196,0)),0)","v":0},{"$f":"IFERROR(IF($B356>F$15,0,IF(OFFSET(index!$I$2,MATCH(F$195,index!$I$3:$I$50,0),MONTH(CF表!$B356)),F$21*F$13/F$196,0)),0)","v":0},{"$f":"IFERROR(IF($B356>G$15,0,IF(OFFSET(index!$I$2,MATCH(G$195,index!$I$3:$I$50,0),MONTH(CF表!$B356)),G$21*G$13/G$196,0)),0)","v":0},{"$f":"IFERROR(IF($B356>H$15,0,IF(OFFSET(index!$I$2,MATCH(H$195,index!$I$3:$I$50,0),MONTH(CF表!$B356)),H$21*H$13/H$196,0)),0)","v":0},{"$f":"IFERROR(IF($B356>I$15,0,IF(OFFSET(index!$I$2,MATCH(I$195,index!$I$3:$I$50,0),MONTH(CF表!$B356)),I$21*I$13/I$196,0)),0)","v":0},{"$f":"IFERROR(IF($B356>J$15,0,IF(OFFSET(index!$I$2,MATCH(J$195,index!$I$3:$I$50,0),MONTH(CF表!$B356)),J$21*J$13/J$196,0)),0)","v":0},{"$f":"IFERROR(IF($B356>K$15,0,IF(OFFSET(index!$I$2,MATCH(K$195,index!$I$3:$I$50,0),MONTH(CF表!$B356)),K$21*K$13/K$196,0)),0)","v":0},{"$f":"IFERROR(IF($B356>L$15,0,IF(OFFSET(index!$I$2,MATCH(L$195,index!$I$3:$I$50,0),MONTH(CF表!$B356)),L$21*L$13/L$196,0)),0)","v":0}]
[null,"2036-01-01",{"$f":"IFERROR(IF($B357>C$15,0,IF(OFFSET(index!$I$2,MATCH(C$195,index!$I$3:$I$50,0),MONTH(CF表!$B357)),C$21*C$13/C$196,0)),0)","v":0},{"$f":"IFERROR(IF($B357>D$15,0,IF(OFFSET(index!$I$2,MATCH(D$195,index!$I$3:$I$50,0),MONTH(CF表!$B357)),D$21*D$13/D$196,0)),0)","v":0},{"$f":"IFERROR(IF($B357>E$15,0,IF(OFFSET(index!$I$2,MATCH(E$195,index!$I$3:$I$50,0),MONTH(CF表!$B357)),E$21*E$13/E$196,0)),0)","v":0},{"$f":"IFERROR(IF($B357>F$15,0,IF(OFFSET(index!$I$2,MATCH(F$195,index!$I$3:$I$50,0),MONTH(CF表!$B357)),F$21*F$13/F$196,0)),0)","v":0},{"$f":"IFERROR(IF($B357>G$15,0,IF(OFFSET(index!$I$2,MATCH(G$195,index!$I$3:$I$50,0),MONTH(CF表!$B357)),G$21*G$13/G$196,0)),0)","v":0},{"$f":"IFERROR(IF($B357>H$15,0,IF(OFFSET(index!$I$2,MATCH(H$195,index!$I$3:$I$50,0),MONTH(CF表!$B357)),H$21*H$13/H$196,0)),0)","v":0},{"$f":"IFERROR(IF($B357>I$15,0,IF(OFFSET(index!$I$2,MATCH(I$195,index!$I$3:$I$50,0),MONTH(CF表!$B357)),I$21*I$13/I$196,0)),0)","v":0},{"$f":"IFERROR(IF($B357>J$15,0,IF(OFFSET(index!$I$2,MATCH(J$195,index!$I$3:$I$50,0),MONTH(CF表!$B357)),J$21*J$13/J$196,0)),0)","v":0},{"$f":"IFERROR(IF($B357>K$15,0,IF(OFFSET(index!$I$2,MATCH(K$195,index!$I$3:$I$50,0),MONTH(CF表!$B357)),K$21*K$13/K$196,0)),0)","v":0},{"$f":"IFERROR(IF($B357>L$15,0,IF(OFFSET(index!$I$2,MATCH(L$195,index!$I$3:$I$50,0),MONTH(CF表!$B357)),L$21*L$13/L$196,0)),0)","v":0}]
[null,"2036-02-01",{"$f":"IFERROR(IF($B358>C$15,0,IF(OFFSET(index!$I$2,MATCH(C$195,index!$I$3:$I$50,0),MONTH(CF表!$B358)),C$21*C$13/C$196,0)),0)","v":0},{"$f":"IFERROR(IF($B358>D$15,0,IF(OFFSET(index!$I$2,MATCH(D$195,index!$I$3:$I$50,0),MONTH(CF表!$B358)),D$21*D$13/D$196,0)),0)","v":0},{"$f":"IFERROR(IF($B358>E$15,0,IF(OFFSET(index!$I$2,MATCH(E$195,index!$I$3:$I$50,0),MONTH(CF表!$B358)),E$21*E$13/E$196,0)),0)","v":0},{"$f":"IFERROR(IF($B358>F$15,0,IF(OFFSET(index!$I$2,MATCH(F$195,index!$I$3:$I$50,0),MONTH(CF表!$B358)),F$21*F$13/F$196,0)),0)","v":0},{"$f":"IFERROR(IF($B358>G$15,0,IF(OFFSET(index!$I$2,MATCH(G$195,index!$I$3:$I$50,0),MONTH(CF表!$B358)),G$21*G$13/G$196,0)),0)","v":0},{"$f":"IFERROR(IF($B358>H$15,0,IF(OFFSET(index!$I$2,MATCH(H$195,index!$I$3:$I$50,0),MONTH(CF表!$B358)),H$21*H$13/H$196,0)),0)","v":0},{"$f":"IFERROR(IF($B358>I$15,0,IF(OFFSET(index!$I$2,MATCH(I$195,index!$I$3:$I$50,0),MONTH(CF表!$B358)),I$21*I$13/I$196,0)),0)","v":0},{"$f":"IFERROR(IF($B358>J$15,0,IF(OFFSET(index!$I$2,MATCH(J$195,index!$I$3:$I$50,0),MONTH(CF表!$B358)),J$21*J$13/J$196,0)),0)","v":0},{"$f":"IFERROR(IF($B358>K$15,0,IF(OFFSET(index!$I$2,MATCH(K$195,index!$I$3:$I$50,0),MONTH(CF表!$B358)),K$21*K$13/K$196,0)),0)","v":0},{"$f":"IFERROR(IF($B358>L$15,0,IF(OFFSET(index!$I$2,MATCH(L$195,index!$I$3:$I$50,0),MONTH(CF表!$B358)),L$21*L$13/L$196,0)),0)","v":0}]
[null,"2036-03-01",{"$f":"IFERROR(IF($B359>C$15,0,IF(OFFSET(index!$I$2,MATCH(C$195,index!$I$3:$I$50,0),MONTH(CF表!$B359)),C$21*C$13/C$196,0)),0)","v":0},{"$f":"IFERROR(IF($B359>D$15,0,IF(OFFSET(index!$I$2,MATCH(D$195,index!$I$3:$I$50,0),MONTH(CF表!$B359)),D$21*D$13/D$196,0)),0)","v":0},{"$f":"IFERROR(IF($B359>E$15,0,IF(OFFSET(index!$I$2,MATCH(E$195,index!$I$3:$I$50,0),MONTH(CF表!$B359)),E$21*E$13/E$196,0)),0)","v":0},{"$f":"IFERROR(IF($B359>F$15,0,IF(OFFSET(index!$I$2,MATCH(F$195,index!$I$3:$I$50,0),MONTH(CF表!$B359)),F$21*F$13/F$196,0)),0)","v":0},{"$f":"IFERROR(IF($B359>G$15,0,IF(OFFSET(index!$I$2,MATCH(G$195,index!$I$3:$I$50,0),MONTH(CF表!$B359)),G$21*G$13/G$196,0)),0)","v":0},{"$f":"IFERROR(IF($B359>H$15,0,IF(OFFSET(index!$I$2,MATCH(H$195,index!$I$3:$I$50,0),MONTH(CF表!$B359)),H$21*H$13/H$196,0)),0)","v":0},{"$f":"IFERROR(IF($B359>I$15,0,IF(OFFSET(index!$I$2,MATCH(I$195,index!$I$3:$I$50,0),MONTH(CF表!$B359)),I$21*I$13/I$196,0)),0)","v":0},{"$f":"IFERROR(IF($B359>J$15,0,IF(OFFSET(index!$I$2,MATCH(J$195,index!$I$3:$I$50,0),MONTH(CF表!$B359)),J$21*J$13/J$196,0)),0)","v":0},{"$f":"IFERROR(IF($B359>K$15,0,IF(OFFSET(index!$I$2,MATCH(K$195,index!$I$3:$I$50,0),MONTH(CF表!$B359)),K$21*K$13/K$196,0)),0)","v":0},{"$f":"IFERROR(IF($B359>L$15,0,IF(OFFSET(index!$I$2,MATCH(L$195,index!$I$3:$I$50,0),MONTH(CF表!$B359)),L$21*L$13/L$196,0)),0)","v":0}]
[null,"2036-04-01",{"$f":"IFERROR(IF($B360>C$15,0,IF(OFFSET(index!$I$2,MATCH(C$195,index!$I$3:$I$50,0),MONTH(CF表!$B360)),C$21*C$13/C$196,0)),0)","v":0},{"$f":"IFERROR(IF($B360>D$15,0,IF(OFFSET(index!$I$2,MATCH(D$195,index!$I$3:$I$50,0),MONTH(CF表!$B360)),D$21*D$13/D$196,0)),0)","v":0},{"$f":"IFERROR(IF($B360>E$15,0,IF(OFFSET(index!$I$2,MATCH(E$195,index!$I$3:$I$50,0),MONTH(CF表!$B360)),E$21*E$13/E$196,0)),0)","v":0},{"$f":"IFERROR(IF($B360>F$15,0,IF(OFFSET(index!$I$2,MATCH(F$195,index!$I$3:$I$50,0),MONTH(CF表!$B360)),F$21*F$13/F$196,0)),0)","v":0},{"$f":"IFERROR(IF($B360>G$15,0,IF(OFFSET(index!$I$2,MATCH(G$195,index!$I$3:$I$50,0),MONTH(CF表!$B360)),G$21*G$13/G$196,0)),0)","v":0},{"$f":"IFERROR(IF($B360>H$15,0,IF(OFFSET(index!$I$2,MATCH(H$195,index!$I$3:$I$50,0),MONTH(CF表!$B360)),H$21*H$13/H$196,0)),0)","v":0},{"$f":"IFERROR(IF($B360>I$15,0,IF(OFFSET(index!$I$2,MATCH(I$195,index!$I$3:$I$50,0),MONTH(CF表!$B360)),I$21*I$13/I$196,0)),0)","v":0},{"$f":"IFERROR(IF($B360>J$15,0,IF(OFFSET(index!$I$2,MATCH(J$195,index!$I$3:$I$50,0),MONTH(CF表!$B360)),J$21*J$13/J$196,0)),0)","v":0},{"$f":"IFERROR(IF($B360>K$15,0,IF(OFFSET(index!$I$2,MATCH(K$195,index!$I$3:$I$50,0),MONTH(CF表!$B360)),K$21*K$13/K$196,0)),0)","v":0},{"$f":"IFERROR(IF($B360>L$15,0,IF(OFFSET(index!$I$2,MATCH(L$195,index!$I$3:$I$50,0),MONTH(CF表!$B360)),L$21*L$13/L$196,0)),0)","v":0}]
[null,"2036-05-01",{"$f":"IFERROR(IF($B361>C$15,0,IF(OFFSET(index!$I$2,MATCH(C$195,index!$I$3:$I$50,0),MONTH(CF表!$B361)),C$21*C$13/C$196,0)),0)","v":0},{"$f":"IFERROR(IF($B361>D$15,0,IF(OFFSET(index!$I$2,MATCH(D$195,index!$I$3:$I$50,0),MONTH(CF表!$B361)),D$21*D$13/D$196,0)),0)","v":0},{"$f":"IFERROR(IF($B361>E$15,0,IF(OFFSET(index!$I$2,MATCH(E$195,index!$I$3:$I$50,0),MONTH(CF表!$B361)),E$21*E$13/E$196,0)),0)","v":0},{"$f":"IFERROR(IF($B361>F$15,0,IF(OFFSET(index!$I$2,MATCH(F$195,index!$I$3:$I$50,0),MONTH(CF表!$B361)),F$21*F$13/F$196,0)),0)","v":0},{"$f":"IFERROR(IF($B361>G$15,0,IF(OFFSET(index!$I$2,MATCH(G$195,index!$I$3:$I$50,0),MONTH(CF表!$B361)),G$21*G$13/G$196,0)),0)","v":0},{"$f":"IFERROR(IF($B361>H$15,0,IF(OFFSET(index!$I$2,MATCH(H$195,index!$I$3:$I$50,0),MONTH(CF表!$B361)),H$21*H$13/H$196,0)),0)","v":0},{"$f":"IFERROR(IF($B361>I$15,0,IF(OFFSET(index!$I$2,MATCH(I$195,index!$I$3:$I$50,0),MONTH(CF表!$B361)),I$21*I$13/I$196,0)),0)","v":0},{"$f":"IFERROR(IF($B361>J$15,0,IF(OFFSET(index!$I$2,MATCH(J$195,index!$I$3:$I$50,0),MONTH(CF表!$B361)),J$21*J$13/J$196,0)),0)","v":0},{"$f":"IFERROR(IF($B361>K$15,0,IF(OFFSET(index!$I$2,MATCH(K$195,index!$I$3:$I$50,0),MONTH(CF表!$B361)),K$21*K$13/K$196,0)),0)","v":0},{"$f":"IFERROR(IF($B361>L$15,0,IF(OFFSET(index!$I$2,MATCH(L$195,index!$I$3:$I$50,0),MONTH(CF表!$B361)),L$21*L$13/L$196,0)),0)","v":0}]
[null,"2036-06-01",{"$f":"IFERROR(IF($B362>C$15,0,IF(OFFSET(index!$I$2,MATCH(C$195,index!$I$3:$I$50,0),MONTH(CF表!$B362)),C$21*C$13/C$196,0)),0)","v":0},{"$f":"IFERROR(IF($B362>D$15,0,IF(OFFSET(index!$I$2,MATCH(D$195,index!$I$3:$I$50,0),MONTH(CF表!$B362)),D$21*D$13/D$196,0)),0)","v":0},{"$f":"IFERROR(IF($B362>E$15,0,IF(OFFSET(index!$I$2,MATCH(E$195,index!$I$3:$I$50,0),MONTH(CF表!$B362)),E$21*E$13/E$196,0)),0)","v":0},{"$f":"IFERROR(IF($B362>F$15,0,IF(OFFSET(index!$I$2,MATCH(F$195,index!$I$3:$I$50,0),MONTH(CF表!$B362)),F$21*F$13/F$196,0)),0)","v":0},{"$f":"IFERROR(IF($B362>G$15,0,IF(OFFSET(index!$I$2,MATCH(G$195,index!$I$3:$I$50,0),MONTH(CF表!$B362)),G$21*G$13/G$196,0)),0)","v":0},{"$f":"IFERROR(IF($B362>H$15,0,IF(OFFSET(index!$I$2,MATCH(H$195,index!$I$3:$I$50,0),MONTH(CF表!$B362)),H$21*H$13/H$196,0)),0)","v":0},{"$f":"IFERROR(IF($B362>I$15,0,IF(OFFSET(index!$I$2,MATCH(I$195,index!$I$3:$I$50,0),MONTH(CF表!$B362)),I$21*I$13/I$196,0)),0)","v":0},{"$f":"IFERROR(IF($B362>J$15,0,IF(OFFSET(index!$I$2,MATCH(J$195,index!$I$3:$I$50,0),MONTH(CF表!$B362)),J$21*J$13/J$196,0)),0)","v":0},{"$f":"IFERROR(IF($B362>K$15,0,IF(OFFSET(index!$I$2,MATCH(K$195,index!$I$3:$I$50,0),MONTH(CF表!$B362)),K$21*K$13/K$196,0)),0)","v":0},{"$f":"IFERROR(IF($B362>L$15,0,IF(OFFSET(index!$I$2,MATCH(L$195,index!$I$3:$I$50,0),MONTH(CF表!$B362)),L$21*L$13/L$196,0)),0)","v":0}]
[null,"2036-07-01",{"$f":"IFERROR(IF($B363>C$15,0,IF(OFFSET(index!$I$2,MATCH(C$195,index!$I$3:$I$50,0),MONTH(CF表!$B363)),C$21*C$13/C$196,0)),0)","v":0},{"$f":"IFERROR(IF($B363>D$15,0,IF(OFFSET(index!$I$2,MATCH(D$195,index!$I$3:$I$50,0),MONTH(CF表!$B363)),D$21*D$13/D$196,0)),0)","v":0},{"$f":"IFERROR(IF($B363>E$15,0,IF(OFFSET(index!$I$2,MATCH(E$195,index!$I$3:$I$50,0),MONTH(CF表!$B363)),E$21*E$13/E$196,0)),0)","v":0},{"$f":"IFERROR(IF($B363>F$15,0,IF(OFFSET(index!$I$2,MATCH(F$195,index!$I$3:$I$50,0),MONTH(CF表!$B363)),F$21*F$13/F$196,0)),0)","v":0},{"$f":"IFERROR(IF($B363>G$15,0,IF(OFFSET(index!$I$2,MATCH(G$195,index!$I$3:$I$50,0),MONTH(CF表!$B363)),G$21*G$13/G$196,0)),0)","v":0},{"$f":"IFERROR(IF($B363>H$15,0,IF(OFFSET(index!$I$2,MATCH(H$195,index!$I$3:$I$50,0),MONTH(CF表!$B363)),H$21*H$13/H$196,0)),0)","v":0},{"$f":"IFERROR(IF($B363>I$15,0,IF(OFFSET(index!$I$2,MATCH(I$195,index!$I$3:$I$50,0),MONTH(CF表!$B363)),I$21*I$13/I$196,0)),0)","v":0},{"$f":"IFERROR(IF($B363>J$15,0,IF(OFFSET(index!$I$2,MATCH(J$195,index!$I$3:$I$50,0),MONTH(CF表!$B363)),J$21*J$13/J$196,0)),0)","v":0},{"$f":"IFERROR(IF($B363>K$15,0,IF(OFFSET(index!$I$2,MATCH(K$195,index!$I$3:$I$50,0),MONTH(CF表!$B363)),K$21*K$13/K$196,0)),0)","v":0},{"$f":"IFERROR(IF($B363>L$15,0,IF(OFFSET(index!$I$2,MATCH(L$195,index!$I$3:$I$50,0),MONTH(CF表!$B363)),L$21*L$13/L$196,0)),0)","v":0}]
[null,"2036-08-01",{"$f":"IFERROR(IF($B364>C$15,0,IF(OFFSET(index!$I$2,MATCH(C$195,index!$I$3:$I$50,0),MONTH(CF表!$B364)),C$21*C$13/C$196,0)),0)","v":0},{"$f":"IFERROR(IF($B364>D$15,0,IF(OFFSET(index!$I$2,MATCH(D$195,index!$I$3:$I$50,0),MONTH(CF表!$B364)),D$21*D$13/D$196,0)),0)","v":0},{"$f":"IFERROR(IF($B364>E$15,0,IF(OFFSET(index!$I$2,MATCH(E$195,index!$I$3:$I$50,0),MONTH(CF表!$B364)),E$21*E$13/E$196,0)),0)","v":0},{"$f":"IFERROR(IF($B364>F$15,0,IF(OFFSET(index!$I$2,MATCH(F$195,index!$I$3:$I$50,0),MONTH(CF表!$B364)),F$21*F$13/F$196,0)),0)","v":0},{"$f":"IFERROR(IF($B364>G$15,0,IF(OFFSET(index!$I$2,MATCH(G$195,index!$I$3:$I$50,0),MONTH(CF表!$B364)),G$21*G$13/G$196,0)),0)","v":0},{"$f":"IFERROR(IF($B364>H$15,0,IF(OFFSET(index!$I$2,MATCH(H$195,index!$I$3:$I$50,0),MONTH(CF表!$B364)),H$21*H$13/H$196,0)),0)","v":0},{"$f":"IFERROR(IF($B364>I$15,0,IF(OFFSET(index!$I$2,MATCH(I$195,index!$I$3:$I$50,0),MONTH(CF表!$B364)),I$21*I$13/I$196,0)),0)","v":0},{"$f":"IFERROR(IF($B364>J$15,0,IF(OFFSET(index!$I$2,MATCH(J$195,index!$I$3:$I$50,0),MONTH(CF表!$B364)),J$21*J$13/J$196,0)),0)","v":0},{"$f":"IFERROR(IF($B364>K$15,0,IF(OFFSET(index!$I$2,MATCH(K$195,index!$I$3:$I$50,0),MONTH(CF表!$B364)),K$21*K$13/K$196,0)),0)","v":0},{"$f":"IFERROR(IF($B364>L$15,0,IF(OFFSET(index!$I$2,MATCH(L$195,index!$I$3:$I$50,0),MONTH(CF表!$B364)),L$21*L$13/L$196,0)),0)","v":0}]
[null,"2036-09-01",{"$f":"IFERROR(IF($B365>C$15,0,IF(OFFSET(index!$I$2,MATCH(C$195,index!$I$3:$I$50,0),MONTH(CF表!$B365)),C$21*C$13/C$196,0)),0)","v":0},{"$f":"IFERROR(IF($B365>D$15,0,IF(OFFSET(index!$I$2,MATCH(D$195,index!$I$3:$I$50,0),MONTH(CF表!$B365)),D$21*D$13/D$196,0)),0)","v":0},{"$f":"IFERROR(IF($B365>E$15,0,IF(OFFSET(index!$I$2,MATCH(E$195,index!$I$3:$I$50,0),MONTH(CF表!$B365)),E$21*E$13/E$196,0)),0)","v":0},{"$f":"IFERROR(IF($B365>F$15,0,IF(OFFSET(index!$I$2,MATCH(F$195,index!$I$3:$I$50,0),MONTH(CF表!$B365)),F$21*F$13/F$196,0)),0)","v":0},{"$f":"IFERROR(IF($B365>G$15,0,IF(OFFSET(index!$I$2,MATCH(G$195,index!$I$3:$I$50,0),MONTH(CF表!$B365)),G$21*G$13/G$196,0)),0)","v":0},{"$f":"IFERROR(IF($B365>H$15,0,IF(OFFSET(index!$I$2,MATCH(H$195,index!$I$3:$I$50,0),MONTH(CF表!$B365)),H$21*H$13/H$196,0)),0)","v":0},{"$f":"IFERROR(IF($B365>I$15,0,IF(OFFSET(index!$I$2,MATCH(I$195,index!$I$3:$I$50,0),MONTH(CF表!$B365)),I$21*I$13/I$196,0)),0)","v":0},{"$f":"IFERROR(IF($B365>J$15,0,IF(OFFSET(index!$I$2,MATCH(J$195,index!$I$3:$I$50,0),MONTH(CF表!$B365)),J$21*J$13/J$196,0)),0)","v":0},{"$f":"IFERROR(IF($B365>K$15,0,IF(OFFSET(index!$I$2,MATCH(K$195,index!$I$3:$I$50,0),MONTH(CF表!$B365)),K$21*K$13/K$196,0)),0)","v":0},{"$f":"IFERROR(IF($B365>L$15,0,IF(OFFSET(index!$I$2,MATCH(L$195,index!$I$3:$I$50,0),MONTH(CF表!$B365)),L$21*L$13/L$196,0)),0)","v":0}]
[null,"2036-10-01",{"$f":"IFERROR(IF($B366>C$15,0,IF(OFFSET(index!$I$2,MATCH(C$195,index!$I$3:$I$50,0),MONTH(CF表!$B366)),C$21*C$13/C$196,0)),0)","v":0},{"$f":"IFERROR(IF($B366>D$15,0,IF(OFFSET(index!$I$2,MATCH(D$195,index!$I$3:$I$50,0),MONTH(CF表!$B366)),D$21*D$13/D$196,0)),0)","v":0},{"$f":"IFERROR(IF($B366>E$15,0,IF(OFFSET(index!$I$2,MATCH(E$195,index!$I$3:$I$50,0),MONTH(CF表!$B366)),E$21*E$13/E$196,0)),0)","v":0},{"$f":"IFERROR(IF($B366>F$15,0,IF(OFFSET(index!$I$2,MATCH(F$195,index!$I$3:$I$50,0),MONTH(CF表!$B366)),F$21*F$13/F$196,0)),0)","v":0},{"$f":"IFERROR(IF($B366>G$15,0,IF(OFFSET(index!$I$2,MATCH(G$195,index!$I$3:$I$50,0),MONTH(CF表!$B366)),G$21*G$13/G$196,0)),0)","v":0},{"$f":"IFERROR(IF($B366>H$15,0,IF(OFFSET(index!$I$2,MATCH(H$195,index!$I$3:$I$50,0),MONTH(CF表!$B366)),H$21*H$13/H$196,0)),0)","v":0},{"$f":"IFERROR(IF($B366>I$15,0,IF(OFFSET(index!$I$2,MATCH(I$195,index!$I$3:$I$50,0),MONTH(CF表!$B366)),I$21*I$13/I$196,0)),0)","v":0},{"$f":"IFERROR(IF($B366>J$15,0,IF(OFFSET(index!$I$2,MATCH(J$195,index!$I$3:$I$50,0),MONTH(CF表!$B366)),J$21*J$13/J$196,0)),0)","v":0},{"$f":"IFERROR(IF($B366>K$15,0,IF(OFFSET(index!$I$2,MATCH(K$195,index!$I$3:$I$50,0),MONTH(CF表!$B366)),K$21*K$13/K$196,0)),0)","v":0},{"$f":"IFERROR(IF($B366>L$15,0,IF(OFFSET(index!$I$2,MATCH(L$195,index!$I$3:$I$50,0),MONTH(CF表!$B366)),L$21*L$13/L$196,0)),0)","v":0}]
[null,"2036-11-01",{"$f":"IFERROR(IF($B367>C$15,0,IF(OFFSET(index!$I$2,MATCH(C$195,index!$I$3:$I$50,0),MONTH(CF表!$B367)),C$21*C$13/C$196,0)),0)","v":0},{"$f":"IFERROR(IF($B367>D$15,0,IF(OFFSET(index!$I$2,MATCH(D$195,index!$I$3:$I$50,0),MONTH(CF表!$B367)),D$21*D$13/D$196,0)),0)","v":0},{"$f":"IFERROR(IF($B367>E$15,0,IF(OFFSET(index!$I$2,MATCH(E$195,index!$I$3:$I$50,0),MONTH(CF表!$B367)),E$21*E$13/E$196,0)),0)","v":0},{"$f":"IFERROR(IF($B367>F$15,0,IF(OFFSET(index!$I$2,MATCH(F$195,index!$I$3:$I$50,0),MONTH(CF表!$B367)),F$21*F$13/F$196,0)),0)","v":0},{"$f":"IFERROR(IF($B367>G$15,0,IF(OFFSET(index!$I$2,MATCH(G$195,index!$I$3:$I$50,0),MONTH(CF表!$B367)),G$21*G$13/G$196,0)),0)","v":0},{"$f":"IFERROR(IF($B367>H$15,0,IF(OFFSET(index!$I$2,MATCH(H$195,index!$I$3:$I$50,0),MONTH(CF表!$B367)),H$21*H$13/H$196,0)),0)","v":0},{"$f":"IFERROR(IF($B367>I$15,0,IF(OFFSET(index!$I$2,MATCH(I$195,index!$I$3:$I$50,0),MONTH(CF表!$B367)),I$21*I$13/I$196,0)),0)","v":0},{"$f":"IFERROR(IF($B367>J$15,0,IF(OFFSET(index!$I$2,MATCH(J$195,index!$I$3:$I$50,0),MONTH(CF表!$B367)),J$21*J$13/J$196,0)),0)","v":0},{"$f":"IFERROR(IF($B367>K$15,0,IF(OFFSET(index!$I$2,MATCH(K$195,index!$I$3:$I$50,0),MONTH(CF表!$B367)),K$21*K$13/K$196,0)),0)","v":0},{"$f":"IFERROR(IF($B367>L$15,0,IF(OFFSET(index!$I$2,MATCH(L$195,index!$I$3:$I$50,0),MONTH(CF表!$B367)),L$21*L$13/L$196,0)),0)","v":0}]
[null,"2036-12-01",{"$f":"IFERROR(IF($B368>C$15,0,IF(OFFSET(index!$I$2,MATCH(C$195,index!$I$3:$I$50,0),MONTH(CF表!$B368)),C$21*C$13/C$196,0)),0)","v":0},{"$f":"IFERROR(IF($B368>D$15,0,IF(OFFSET(index!$I$2,MATCH(D$195,index!$I$3:$I$50,0),MONTH(CF表!$B368)),D$21*D$13/D$196,0)),0)","v":0},{"$f":"IFERROR(IF($B368>E$15,0,IF(OFFSET(index!$I$2,MATCH(E$195,index!$I$3:$I$50,0),MONTH(CF表!$B368)),E$21*E$13/E$196,0)),0)","v":0},{"$f":"IFERROR(IF($B368>F$15,0,IF(OFFSET(index!$I$2,MATCH(F$195,index!$I$3:$I$50,0),MONTH(CF表!$B368)),F$21*F$13/F$196,0)),0)","v":0},{"$f":"IFERROR(IF($B368>G$15,0,IF(OFFSET(index!$I$2,MATCH(G$195,index!$I$3:$I$50,0),MONTH(CF表!$B368)),G$21*G$13/G$196,0)),0)","v":0},{"$f":"IFERROR(IF($B368>H$15,0,IF(OFFSET(index!$I$2,MATCH(H$195,index!$I$3:$I$50,0),MONTH(CF表!$B368)),H$21*H$13/H$196,0)),0)","v":0},{"$f":"IFERROR(IF($B368>I$15,0,IF(OFFSET(index!$I$2,MATCH(I$195,index!$I$3:$I$50,0),MONTH(CF表!$B368)),I$21*I$13/I$196,0)),0)","v":0},{"$f":"IFERROR(IF($B368>J$15,0,IF(OFFSET(index!$I$2,MATCH(J$195,index!$I$3:$I$50,0),MONTH(CF表!$B368)),J$21*J$13/J$196,0)),0)","v":0},{"$f":"IFERROR(IF($B368>K$15,0,IF(OFFSET(index!$I$2,MATCH(K$195,index!$I$3:$I$50,0),MONTH(CF表!$B368)),K$21*K$13/K$196,0)),0)","v":0},{"$f":"IFERROR(IF($B368>L$15,0,IF(OFFSET(index!$I$2,MATCH(L$195,index!$I$3:$I$50,0),MONTH(CF表!$B368)),L$21*L$13/L$196,0)),0)","v":0}]
[null,"2037-01-01",{"$f":"IFERROR(IF($B369>C$15,0,IF(OFFSET(index!$I$2,MATCH(C$195,index!$I$3:$I$50,0),MONTH(CF表!$B369)),C$21*C$13/C$196,0)),0)","v":0},{"$f":"IFERROR(IF($B369>D$15,0,IF(OFFSET(index!$I$2,MATCH(D$195,index!$I$3:$I$50,0),MONTH(CF表!$B369)),D$21*D$13/D$196,0)),0)","v":0},{"$f":"IFERROR(IF($B369>E$15,0,IF(OFFSET(index!$I$2,MATCH(E$195,index!$I$3:$I$50,0),MONTH(CF表!$B369)),E$21*E$13/E$196,0)),0)","v":0},{"$f":"IFERROR(IF($B369>F$15,0,IF(OFFSET(index!$I$2,MATCH(F$195,index!$I$3:$I$50,0),MONTH(CF表!$B369)),F$21*F$13/F$196,0)),0)","v":0},{"$f":"IFERROR(IF($B369>G$15,0,IF(OFFSET(index!$I$2,MATCH(G$195,index!$I$3:$I$50,0),MONTH(CF表!$B369)),G$21*G$13/G$196,0)),0)","v":0},{"$f":"IFERROR(IF($B369>H$15,0,IF(OFFSET(index!$I$2,MATCH(H$195,index!$I$3:$I$50,0),MONTH(CF表!$B369)),H$21*H$13/H$196,0)),0)","v":0},{"$f":"IFERROR(IF($B369>I$15,0,IF(OFFSET(index!$I$2,MATCH(I$195,index!$I$3:$I$50,0),MONTH(CF表!$B369)),I$21*I$13/I$196,0)),0)","v":0},{"$f":"IFERROR(IF($B369>J$15,0,IF(OFFSET(index!$I$2,MATCH(J$195,index!$I$3:$I$50,0),MONTH(CF表!$B369)),J$21*J$13/J$196,0)),0)","v":0},{"$f":"IFERROR(IF($B369>K$15,0,IF(OFFSET(index!$I$2,MATCH(K$195,index!$I$3:$I$50,0),MONTH(CF表!$B369)),K$21*K$13/K$196,0)),0)","v":0},{"$f":"IFERROR(IF($B369>L$15,0,IF(OFFSET(index!$I$2,MATCH(L$195,index!$I$3:$I$50,0),MONTH(CF表!$B369)),L$21*L$13/L$196,0)),0)","v":0}]
[null,"2037-02-01",{"$f":"IFERROR(IF($B370>C$15,0,IF(OFFSET(index!$I$2,MATCH(C$195,index!$I$3:$I$50,0),MONTH(CF表!$B370)),C$21*C$13/C$196,0)),0)","v":0},{"$f":"IFERROR(IF($B370>D$15,0,IF(OFFSET(index!$I$2,MATCH(D$195,index!$I$3:$I$50,0),MONTH(CF表!$B370)),D$21*D$13/D$196,0)),0)","v":0},{"$f":"IFERROR(IF($B370>E$15,0,IF(OFFSET(index!$I$2,MATCH(E$195,index!$I$3:$I$50,0),MONTH(CF表!$B370)),E$21*E$13/E$196,0)),0)","v":0},{"$f":"IFERROR(IF($B370>F$15,0,IF(OFFSET(index!$I$2,MATCH(F$195,index!$I$3:$I$50,0),MONTH(CF表!$B370)),F$21*F$13/F$196,0)),0)","v":0},{"$f":"IFERROR(IF($B370>G$15,0,IF(OFFSET(index!$I$2,MATCH(G$195,index!$I$3:$I$50,0),MONTH(CF表!$B370)),G$21*G$13/G$196,0)),0)","v":0},{"$f":"IFERROR(IF($B370>H$15,0,IF(OFFSET(index!$I$2,MATCH(H$195,index!$I$3:$I$50,0),MONTH(CF表!$B370)),H$21*H$13/H$196,0)),0)","v":0},{"$f":"IFERROR(IF($B370>I$15,0,IF(OFFSET(index!$I$2,MATCH(I$195,index!$I$3:$I$50,0),MONTH(CF表!$B370)),I$21*I$13/I$196,0)),0)","v":0},{"$f":"IFERROR(IF($B370>J$15,0,IF(OFFSET(index!$I$2,MATCH(J$195,index!$I$3:$I$50,0),MONTH(CF表!$B370)),J$21*J$13/J$196,0)),0)","v":0},{"$f":"IFERROR(IF($B370>K$15,0,IF(OFFSET(index!$I$2,MATCH(K$195,index!$I$3:$I$50,0),MONTH(CF表!$B370)),K$21*K$13/K$196,0)),0)","v":0},{"$f":"IFERROR(IF($B370>L$15,0,IF(OFFSET(index!$I$2,MATCH(L$195,index!$I$3:$I$50,0),MONTH(CF表!$B370)),L$21*L$13/L$196,0)),0)","v":0}]
[null,"2037-03-01",{"$f":"IFERROR(IF($B371>C$15,0,IF(OFFSET(index!$I$2,MATCH(C$195,index!$I$3:$I$50,0),MONTH(CF表!$B371)),C$21*C$13/C$196,0)),0)","v":0},{"$f":"IFERROR(IF($B371>D$15,0,IF(OFFSET(index!$I$2,MATCH(D$195,index!$I$3:$I$50,0),MONTH(CF表!$B371)),D$21*D$13/D$196,0)),0)","v":0},{"$f":"IFERROR(IF($B371>E$15,0,IF(OFFSET(index!$I$2,MATCH(E$195,index!$I$3:$I$50,0),MONTH(CF表!$B371)),E$21*E$13/E$196,0)),0)","v":0},{"$f":"IFERROR(IF($B371>F$15,0,IF(OFFSET(index!$I$2,MATCH(F$195,index!$I$3:$I$50,0),MONTH(CF表!$B371)),F$21*F$13/F$196,0)),0)","v":0},{"$f":"IFERROR(IF($B371>G$15,0,IF(OFFSET(index!$I$2,MATCH(G$195,index!$I$3:$I$50,0),MONTH(CF表!$B371)),G$21*G$13/G$196,0)),0)","v":0},{"$f":"IFERROR(IF($B371>H$15,0,IF(OFFSET(index!$I$2,MATCH(H$195,index!$I$3:$I$50,0),MONTH(CF表!$B371)),H$21*H$13/H$196,0)),0)","v":0},{"$f":"IFERROR(IF($B371>I$15,0,IF(OFFSET(index!$I$2,MATCH(I$195,index!$I$3:$I$50,0),MONTH(CF表!$B371)),I$21*I$13/I$196,0)),0)","v":0},{"$f":"IFERROR(IF($B371>J$15,0,IF(OFFSET(index!$I$2,MATCH(J$195,index!$I$3:$I$50,0),MONTH(CF表!$B371)),J$21*J$13/J$196,0)),0)","v":0},{"$f":"IFERROR(IF($B371>K$15,0,IF(OFFSET(index!$I$2,MATCH(K$195,index!$I$3:$I$50,0),MONTH(CF表!$B371)),K$21*K$13/K$196,0)),0)","v":0},{"$f":"IFERROR(IF($B371>L$15,0,IF(OFFSET(index!$I$2,MATCH(L$195,index!$I$3:$I$50,0),MONTH(CF表!$B371)),L$21*L$13/L$196,0)),0)","v":0}]
[null,"2037-04-01",{"$f":"IFERROR(IF($B372>C$15,0,IF(OFFSET(index!$I$2,MATCH(C$195,index!$I$3:$I$50,0),MONTH(CF表!$B372)),C$21*C$13/C$196,0)),0)","v":0},{"$f":"IFERROR(IF($B372>D$15,0,IF(OFFSET(index!$I$2,MATCH(D$195,index!$I$3:$I$50,0),MONTH(CF表!$B372)),D$21*D$13/D$196,0)),0)","v":0},{"$f":"IFERROR(IF($B372>E$15,0,IF(OFFSET(index!$I$2,MATCH(E$195,index!$I$3:$I$50,0),MONTH(CF表!$B372)),E$21*E$13/E$196,0)),0)","v":0},{"$f":"IFERROR(IF($B372>F$15,0,IF(OFFSET(index!$I$2,MATCH(F$195,index!$I$3:$I$50,0),MONTH(CF表!$B372)),F$21*F$13/F$196,0)),0)","v":0},{"$f":"IFERROR(IF($B372>G$15,0,IF(OFFSET(index!$I$2,MATCH(G$195,index!$I$3:$I$50,0),MONTH(CF表!$B372)),G$21*G$13/G$196,0)),0)","v":0},{"$f":"IFERROR(IF($B372>H$15,0,IF(OFFSET(index!$I$2,MATCH(H$195,index!$I$3:$I$50,0),MONTH(CF表!$B372)),H$21*H$13/H$196,0)),0)","v":0},{"$f":"IFERROR(IF($B372>I$15,0,IF(OFFSET(index!$I$2,MATCH(I$195,index!$I$3:$I$50,0),MONTH(CF表!$B372)),I$21*I$13/I$196,0)),0)","v":0},{"$f":"IFERROR(IF($B372>J$15,0,IF(OFFSET(index!$I$2,MATCH(J$195,index!$I$3:$I$50,0),MONTH(CF表!$B372)),J$21*J$13/J$196,0)),0)","v":0},{"$f":"IFERROR(IF($B372>K$15,0,IF(OFFSET(index!$I$2,MATCH(K$195,index!$I$3:$I$50,0),MONTH(CF表!$B372)),K$21*K$13/K$196,0)),0)","v":0},{"$f":"IFERROR(IF($B372>L$15,0,IF(OFFSET(index!$I$2,MATCH(L$195,index!$I$3:$I$50,0),MONTH(CF表!$B372)),L$21*L$13/L$196,0)),0)","v":0}]
[null,"2037-05-01",{"$f":"IFERROR(IF($B373>C$15,0,IF(OFFSET(index!$I$2,MATCH(C$195,index!$I$3:$I$50,0),MONTH(CF表!$B373)),C$21*C$13/C$196,0)),0)","v":0},{"$f":"IFERROR(IF($B373>D$15,0,IF(OFFSET(index!$I$2,MATCH(D$195,index!$I$3:$I$50,0),MONTH(CF表!$B373)),D$21*D$13/D$196,0)),0)","v":0},{"$f":"IFERROR(IF($B373>E$15,0,IF(OFFSET(index!$I$2,MATCH(E$195,index!$I$3:$I$50,0),MONTH(CF表!$B373)),E$21*E$13/E$196,0)),0)","v":0},{"$f":"IFERROR(IF($B373>F$15,0,IF(OFFSET(index!$I$2,MATCH(F$195,index!$I$3:$I$50,0),MONTH(CF表!$B373)),F$21*F$13/F$196,0)),0)","v":0},{"$f":"IFERROR(IF($B373>G$15,0,IF(OFFSET(index!$I$2,MATCH(G$195,index!$I$3:$I$50,0),MONTH(CF表!$B373)),G$21*G$13/G$196,0)),0)","v":0},{"$f":"IFERROR(IF($B373>H$15,0,IF(OFFSET(index!$I$2,MATCH(H$195,index!$I$3:$I$50,0),MONTH(CF表!$B373)),H$21*H$13/H$196,0)),0)","v":0},{"$f":"IFERROR(IF($B373>I$15,0,IF(OFFSET(index!$I$2,MATCH(I$195,index!$I$3:$I$50,0),MONTH(CF表!$B373)),I$21*I$13/I$196,0)),0)","v":0},{"$f":"IFERROR(IF($B373>J$15,0,IF(OFFSET(index!$I$2,MATCH(J$195,index!$I$3:$I$50,0),MONTH(CF表!$B373)),J$21*J$13/J$196,0)),0)","v":0},{"$f":"IFERROR(IF($B373>K$15,0,IF(OFFSET(index!$I$2,MATCH(K$195,index!$I$3:$I$50,0),MONTH(CF表!$B373)),K$21*K$13/K$196,0)),0)","v":0},{"$f":"IFERROR(IF($B373>L$15,0,IF(OFFSET(index!$I$2,MATCH(L$195,index!$I$3:$I$50,0),MONTH(CF表!$B373)),L$21*L$13/L$196,0)),0)","v":0}]
[null,"2037-06-01",{"$f":"IFERROR(IF($B374>C$15,0,IF(OFFSET(index!$I$2,MATCH(C$195,index!$I$3:$I$50,0),MONTH(CF表!$B374)),C$21*C$13/C$196,0)),0)","v":0},{"$f":"IFERROR(IF($B374>D$15,0,IF(OFFSET(index!$I$2,MATCH(D$195,index!$I$3:$I$50,0),MONTH(CF表!$B374)),D$21*D$13/D$196,0)),0)","v":0},{"$f":"IFERROR(IF($B374>E$15,0,IF(OFFSET(index!$I$2,MATCH(E$195,index!$I$3:$I$50,0),MONTH(CF表!$B374)),E$21*E$13/E$196,0)),0)","v":0},{"$f":"IFERROR(IF($B374>F$15,0,IF(OFFSET(index!$I$2,MATCH(F$195,index!$I$3:$I$50,0),MONTH(CF表!$B374)),F$21*F$13/F$196,0)),0)","v":0},{"$f":"IFERROR(IF($B374>G$15,0,IF(OFFSET(index!$I$2,MATCH(G$195,index!$I$3:$I$50,0),MONTH(CF表!$B374)),G$21*G$13/G$196,0)),0)","v":0},{"$f":"IFERROR(IF($B374>H$15,0,IF(OFFSET(index!$I$2,MATCH(H$195,index!$I$3:$I$50,0),MONTH(CF表!$B374)),H$21*H$13/H$196,0)),0)","v":0},{"$f":"IFERROR(IF($B374>I$15,0,IF(OFFSET(index!$I$2,MATCH(I$195,index!$I$3:$I$50,0),MONTH(CF表!$B374)),I$21*I$13/I$196,0)),0)","v":0},{"$f":"IFERROR(IF($B374>J$15,0,IF(OFFSET(index!$I$2,MATCH(J$195,index!$I$3:$I$50,0),MONTH(CF表!$B374)),J$21*J$13/J$196,0)),0)","v":0},{"$f":"IFERROR(IF($B374>K$15,0,IF(OFFSET(index!$I$2,MATCH(K$195,index!$I$3:$I$50,0),MONTH(CF表!$B374)),K$21*K$13/K$196,0)),0)","v":0},{"$f":"IFERROR(IF($B374>L$15,0,IF(OFFSET(index!$I$2,MATCH(L$195,index!$I$3:$I$50,0),MONTH(CF表!$B374)),L$21*L$13/L$196,0)),0)","v":0}]
[null,"2037-07-01",{"$f":"IFERROR(IF($B375>C$15,0,IF(OFFSET(index!$I$2,MATCH(C$195,index!$I$3:$I$50,0),MONTH(CF表!$B375)),C$21*C$13/C$196,0)),0)","v":0},{"$f":"IFERROR(IF($B375>D$15,0,IF(OFFSET(index!$I$2,MATCH(D$195,index!$I$3:$I$50,0),MONTH(CF表!$B375)),D$21*D$13/D$196,0)),0)","v":0},{"$f":"IFERROR(IF($B375>E$15,0,IF(OFFSET(index!$I$2,MATCH(E$195,index!$I$3:$I$50,0),MONTH(CF表!$B375)),E$21*E$13/E$196,0)),0)","v":0},{"$f":"IFERROR(IF($B375>F$15,0,IF(OFFSET(index!$I$2,MATCH(F$195,index!$I$3:$I$50,0),MONTH(CF表!$B375)),F$21*F$13/F$196,0)),0)","v":0},{"$f":"IFERROR(IF($B375>G$15,0,IF(OFFSET(index!$I$2,MATCH(G$195,index!$I$3:$I$50,0),MONTH(CF表!$B375)),G$21*G$13/G$196,0)),0)","v":0},{"$f":"IFERROR(IF($B375>H$15,0,IF(OFFSET(index!$I$2,MATCH(H$195,index!$I$3:$I$50,0),MONTH(CF表!$B375)),H$21*H$13/H$196,0)),0)","v":0},{"$f":"IFERROR(IF($B375>I$15,0,IF(OFFSET(index!$I$2,MATCH(I$195,index!$I$3:$I$50,0),MONTH(CF表!$B375)),I$21*I$13/I$196,0)),0)","v":0},{"$f":"IFERROR(IF($B375>J$15,0,IF(OFFSET(index!$I$2,MATCH(J$195,index!$I$3:$I$50,0),MONTH(CF表!$B375)),J$21*J$13/J$196,0)),0)","v":0},{"$f":"IFERROR(IF($B375>K$15,0,IF(OFFSET(index!$I$2,MATCH(K$195,index!$I$3:$I$50,0),MONTH(CF表!$B375)),K$21*K$13/K$196,0)),0)","v":0},{"$f":"IFERROR(IF($B375>L$15,0,IF(OFFSET(index!$I$2,MATCH(L$195,index!$I$3:$I$50,0),MONTH(CF表!$B375)),L$21*L$13/L$196,0)),0)","v":0}]
[null,"2037-08-01",{"$f":"IFERROR(IF($B376>C$15,0,IF(OFFSET(index!$I$2,MATCH(C$195,index!$I$3:$I$50,0),MONTH(CF表!$B376)),C$21*C$13/C$196,0)),0)","v":0},{"$f":"IFERROR(IF($B376>D$15,0,IF(OFFSET(index!$I$2,MATCH(D$195,index!$I$3:$I$50,0),MONTH(CF表!$B376)),D$21*D$13/D$196,0)),0)","v":0},{"$f":"IFERROR(IF($B376>E$15,0,IF(OFFSET(index!$I$2,MATCH(E$195,index!$I$3:$I$50,0),MONTH(CF表!$B376)),E$21*E$13/E$196,0)),0)","v":0},{"$f":"IFERROR(IF($B376>F$15,0,IF(OFFSET(index!$I$2,MATCH(F$195,index!$I$3:$I$50,0),MONTH(CF表!$B376)),F$21*F$13/F$196,0)),0)","v":0},{"$f":"IFERROR(IF($B376>G$15,0,IF(OFFSET(index!$I$2,MATCH(G$195,index!$I$3:$I$50,0),MONTH(CF表!$B376)),G$21*G$13/G$196,0)),0)","v":0},{"$f":"IFERROR(IF($B376>H$15,0,IF(OFFSET(index!$I$2,MATCH(H$195,index!$I$3:$I$50,0),MONTH(CF表!$B376)),H$21*H$13/H$196,0)),0)","v":0},{"$f":"IFERROR(IF($B376>I$15,0,IF(OFFSET(index!$I$2,MATCH(I$195,index!$I$3:$I$50,0),MONTH(CF表!$B376)),I$21*I$13/I$196,0)),0)","v":0},{"$f":"IFERROR(IF($B376>J$15,0,IF(OFFSET(index!$I$2,MATCH(J$195,index!$I$3:$I$50,0),MONTH(CF表!$B376)),J$21*J$13/J$196,0)),0)","v":0},{"$f":"IFERROR(IF($B376>K$15,0,IF(OFFSET(index!$I$2,MATCH(K$195,index!$I$3:$I$50,0),MONTH(CF表!$B376)),K$21*K$13/K$196,0)),0)","v":0},{"$f":"IFERROR(IF($B376>L$15,0,IF(OFFSET(index!$I$2,MATCH(L$195,index!$I$3:$I$50,0),MONTH(CF表!$B376)),L$21*L$13/L$196,0)),0)","v":0}]
[null,"2037-09-01",{"$f":"IFERROR(IF($B377>C$15,0,IF(OFFSET(index!$I$2,MATCH(C$195,index!$I$3:$I$50,0),MONTH(CF表!$B377)),C$21*C$13/C$196,0)),0)","v":0},{"$f":"IFERROR(IF($B377>D$15,0,IF(OFFSET(index!$I$2,MATCH(D$195,index!$I$3:$I$50,0),MONTH(CF表!$B377)),D$21*D$13/D$196,0)),0)","v":0},{"$f":"IFERROR(IF($B377>E$15,0,IF(OFFSET(index!$I$2,MATCH(E$195,index!$I$3:$I$50,0),MONTH(CF表!$B377)),E$21*E$13/E$196,0)),0)","v":0},{"$f":"IFERROR(IF($B377>F$15,0,IF(OFFSET(index!$I$2,MATCH(F$195,index!$I$3:$I$50,0),MONTH(CF表!$B377)),F$21*F$13/F$196,0)),0)","v":0},{"$f":"IFERROR(IF($B377>G$15,0,IF(OFFSET(index!$I$2,MATCH(G$195,index!$I$3:$I$50,0),MONTH(CF表!$B377)),G$21*G$13/G$196,0)),0)","v":0},{"$f":"IFERROR(IF($B377>H$15,0,IF(OFFSET(index!$I$2,MATCH(H$195,index!$I$3:$I$50,0),MONTH(CF表!$B377)),H$21*H$13/H$196,0)),0)","v":0},{"$f":"IFERROR(IF($B377>I$15,0,IF(OFFSET(index!$I$2,MATCH(I$195,index!$I$3:$I$50,0),MONTH(CF表!$B377)),I$21*I$13/I$196,0)),0)","v":0},{"$f":"IFERROR(IF($B377>J$15,0,IF(OFFSET(index!$I$2,MATCH(J$195,index!$I$3:$I$50,0),MONTH(CF表!$B377)),J$21*J$13/J$196,0)),0)","v":0},{"$f":"IFERROR(IF($B377>K$15,0,IF(OFFSET(index!$I$2,MATCH(K$195,index!$I$3:$I$50,0),MONTH(CF表!$B377)),K$21*K$13/K$196,0)),0)","v":0},{"$f":"IFERROR(IF($B377>L$15,0,IF(OFFSET(index!$I$2,MATCH(L$195,index!$I$3:$I$50,0),MONTH(CF表!$B377)),L$21*L$13/L$196,0)),0)","v":0}]
[null,"2037-10-01",{"$f":"IFERROR(IF($B378>C$15,0,IF(OFFSET(index!$I$2,MATCH(C$195,index!$I$3:$I$50,0),MONTH(CF表!$B378)),C$21*C$13/C$196,0)),0)","v":0},{"$f":"IFERROR(IF($B378>D$15,0,IF(OFFSET(index!$I$2,MATCH(D$195,index!$I$3:$I$50,0),MONTH(CF表!$B378)),D$21*D$13/D$196,0)),0)","v":0},{"$f":"IFERROR(IF($B378>E$15,0,IF(OFFSET(index!$I$2,MATCH(E$195,index!$I$3:$I$50,0),MONTH(CF表!$B378)),E$21*E$13/E$196,0)),0)","v":0},{"$f":"IFERROR(IF($B378>F$15,0,IF(OFFSET(index!$I$2,MATCH(F$195,index!$I$3:$I$50,0),MONTH(CF表!$B378)),F$21*F$13/F$196,0)),0)","v":0},{"$f":"IFERROR(IF($B378>G$15,0,IF(OFFSET(index!$I$2,MATCH(G$195,index!$I$3:$I$50,0),MONTH(CF表!$B378)),G$21*G$13/G$196,0)),0)","v":0},{"$f":"IFERROR(IF($B378>H$15,0,IF(OFFSET(index!$I$2,MATCH(H$195,index!$I$3:$I$50,0),MONTH(CF表!$B378)),H$21*H$13/H$196,0)),0)","v":0},{"$f":"IFERROR(IF($B378>I$15,0,IF(OFFSET(index!$I$2,MATCH(I$195,index!$I$3:$I$50,0),MONTH(CF表!$B378)),I$21*I$13/I$196,0)),0)","v":0},{"$f":"IFERROR(IF($B378>J$15,0,IF(OFFSET(index!$I$2,MATCH(J$195,index!$I$3:$I$50,0),MONTH(CF表!$B378)),J$21*J$13/J$196,0)),0)","v":0},{"$f":"IFERROR(IF($B378>K$15,0,IF(OFFSET(index!$I$2,MATCH(K$195,index!$I$3:$I$50,0),MONTH(CF表!$B378)),K$21*K$13/K$196,0)),0)","v":0},{"$f":"IFERROR(IF($B378>L$15,0,IF(OFFSET(index!$I$2,MATCH(L$195,index!$I$3:$I$50,0),MONTH(CF表!$B378)),L$21*L$13/L$196,0)),0)","v":0}]
[null,"2037-11-01",{"$f":"IFERROR(IF($B379>C$15,0,IF(OFFSET(index!$I$2,MATCH(C$195,index!$I$3:$I$50,0),MONTH(CF表!$B379)),C$21*C$13/C$196,0)),0)","v":0},{"$f":"IFERROR(IF($B379>D$15,0,IF(OFFSET(index!$I$2,MATCH(D$195,index!$I$3:$I$50,0),MONTH(CF表!$B379)),D$21*D$13/D$196,0)),0)","v":0},{"$f":"IFERROR(IF($B379>E$15,0,IF(OFFSET(index!$I$2,MATCH(E$195,index!$I$3:$I$50,0),MONTH(CF表!$B379)),E$21*E$13/E$196,0)),0)","v":0},{"$f":"IFERROR(IF($B379>F$15,0,IF(OFFSET(index!$I$2,MATCH(F$195,index!$I$3:$I$50,0),MONTH(CF表!$B379)),F$21*F$13/F$196,0)),0)","v":0},{"$f":"IFERROR(IF($B379>G$15,0,IF(OFFSET(index!$I$2,MATCH(G$195,index!$I$3:$I$50,0),MONTH(CF表!$B379)),G$21*G$13/G$196,0)),0)","v":0},{"$f":"IFERROR(IF($B379>H$15,0,IF(OFFSET(index!$I$2,MATCH(H$195,index!$I$3:$I$50,0),MONTH(CF表!$B379)),H$21*H$13/H$196,0)),0)","v":0},{"$f":"IFERROR(IF($B379>I$15,0,IF(OFFSET(index!$I$2,MATCH(I$195,index!$I$3:$I$50,0),MONTH(CF表!$B379)),I$21*I$13/I$196,0)),0)","v":0},{"$f":"IFERROR(IF($B379>J$15,0,IF(OFFSET(index!$I$2,MATCH(J$195,index!$I$3:$I$50,0),MONTH(CF表!$B379)),J$21*J$13/J$196,0)),0)","v":0},{"$f":"IFERROR(IF($B379>K$15,0,IF(OFFSET(index!$I$2,MATCH(K$195,index!$I$3:$I$50,0),MONTH(CF表!$B379)),K$21*K$13/K$196,0)),0)","v":0},{"$f":"IFERROR(IF($B379>L$15,0,IF(OFFSET(index!$I$2,MATCH(L$195,index!$I$3:$I$50,0),MONTH(CF表!$B379)),L$21*L$13/L$196,0)),0)","v":0}]
[null,"2037-12-01",{"$f":"IFERROR(IF($B380>C$15,0,IF(OFFSET(index!$I$2,MATCH(C$195,index!$I$3:$I$50,0),MONTH(CF表!$B380)),C$21*C$13/C$196,0)),0)","v":0},{"$f":"IFERROR(IF($B380>D$15,0,IF(OFFSET(index!$I$2,MATCH(D$195,index!$I$3:$I$50,0),MONTH(CF表!$B380)),D$21*D$13/D$196,0)),0)","v":0},{"$f":"IFERROR(IF($B380>E$15,0,IF(OFFSET(index!$I$2,MATCH(E$195,index!$I$3:$I$50,0),MONTH(CF表!$B380)),E$21*E$13/E$196,0)),0)","v":0},{"$f":"IFERROR(IF($B380>F$15,0,IF(OFFSET(index!$I$2,MATCH(F$195,index!$I$3:$I$50,0),MONTH(CF表!$B380)),F$21*F$13/F$196,0)),0)","v":0},{"$f":"IFERROR(IF($B380>G$15,0,IF(OFFSET(index!$I$2,MATCH(G$195,index!$I$3:$I$50,0),MONTH(CF表!$B380)),G$21*G$13/G$196,0)),0)","v":0},{"$f":"IFERROR(IF($B380>H$15,0,IF(OFFSET(index!$I$2,MATCH(H$195,index!$I$3:$I$50,0),MONTH(CF表!$B380)),H$21*H$13/H$196,0)),0)","v":0},{"$f":"IFERROR(IF($B380>I$15,0,IF(OFFSET(index!$I$2,MATCH(I$195,index!$I$3:$I$50,0),MONTH(CF表!$B380)),I$21*I$13/I$196,0)),0)","v":0},{"$f":"IFERROR(IF($B380>J$15,0,IF(OFFSET(index!$I$2,MATCH(J$195,index!$I$3:$I$50,0),MONTH(CF表!$B380)),J$21*J$13/J$196,0)),0)","v":0},{"$f":"IFERROR(IF($B380>K$15,0,IF(OFFSET(index!$I$2,MATCH(K$195,index!$I$3:$I$50,0),MONTH(CF表!$B380)),K$21*K$13/K$196,0)),0)","v":0},{"$f":"IFERROR(IF($B380>L$15,0,IF(OFFSET(index!$I$2,MATCH(L$195,index!$I$3:$I$50,0),MONTH(CF表!$B380)),L$21*L$13/L$196,0)),0)","v":0}]
[null,{"$f":"EDATE(B380,1)","v":"2038-01-01"},{"$f":"IFERROR(IF($B381>C$15,0,IF(OFFSET(index!$I$2,MATCH(C$195,index!$I$3:$I$50,0),MONTH(CF表!$B381)),C$21*C$13/C$196,0)),0)","v":0},{"$f":"IFERROR(IF($B381>D$15,0,IF(OFFSET(index!$I$2,MATCH(D$195,index!$I$3:$I$50,0),MONTH(CF表!$B381)),D$21*D$13/D$196,0)),0)","v":0},{"$f":"IFERROR(IF($B381>E$15,0,IF(OFFSET(index!$I$2,MATCH(E$195,index!$I$3:$I$50,0),MONTH(CF表!$B381)),E$21*E$13/E$196,0)),0)","v":0},{"$f":"IFERROR(IF($B381>F$15,0,IF(OFFSET(index!$I$2,MATCH(F$195,index!$I$3:$I$50,0),MONTH(CF表!$B381)),F$21*F$13/F$196,0)),0)","v":0},{"$f":"IFERROR(IF($B381>G$15,0,IF(OFFSET(index!$I$2,MATCH(G$195,index!$I$3:$I$50,0),MONTH(CF表!$B381)),G$21*G$13/G$196,0)),0)","v":0},{"$f":"IFERROR(IF($B381>H$15,0,IF(OFFSET(index!$I$2,MATCH(H$195,index!$I$3:$I$50,0),MONTH(CF表!$B381)),H$21*H$13/H$196,0)),0)","v":0},{"$f":"IFERROR(IF($B381>I$15,0,IF(OFFSET(index!$I$2,MATCH(I$195,index!$I$3:$I$50,0),MONTH(CF表!$B381)),I$21*I$13/I$196,0)),0)","v":0},{"$f":"IFERROR(IF($B381>J$15,0,IF(OFFSET(index!$I$2,MATCH(J$195,index!$I$3:$I$50,0),MONTH(CF表!$B381)),J$21*J$13/J$196,0)),0)","v":0},{"$f":"IFERROR(IF($B381>K$15,0,IF(OFFSET(index!$I$2,MATCH(K$195,index!$I$3:$I$50,0),MONTH(CF表!$B381)),K$21*K$13/K$196,0)),0)","v":0},{"$f":"IFERROR(IF($B381>L$15,0,IF(OFFSET(index!$I$2,MATCH(L$195,index!$I$3:$I$50,0),MONTH(CF表!$B381)),L$21*L$13/L$196,0)),0)","v":0}]
[null,"2038-02-01",{"$f":"IFERROR(IF($B382>C$15,0,IF(OFFSET(index!$I$2,MATCH(C$195,index!$I$3:$I$50,0),MONTH(CF表!$B382)),C$21*C$13/C$196,0)),0)","v":0},{"$f":"IFERROR(IF($B382>D$15,0,IF(OFFSET(index!$I$2,MATCH(D$195,index!$I$3:$I$50,0),MONTH(CF表!$B382)),D$21*D$13/D$196,0)),0)","v":0},{"$f":"IFERROR(IF($B382>E$15,0,IF(OFFSET(index!$I$2,MATCH(E$195,index!$I$3:$I$50,0),MONTH(CF表!$B382)),E$21*E$13/E$196,0)),0)","v":0},{"$f":"IFERROR(IF($B382>F$15,0,IF(OFFSET(index!$I$2,MATCH(F$195,index!$I$3:$I$50,0),MONTH(CF表!$B382)),F$21*F$13/F$196,0)),0)","v":0},{"$f":"IFERROR(IF($B382>G$15,0,IF(OFFSET(index!$I$2,MATCH(G$195,index!$I$3:$I$50,0),MONTH(CF表!$B382)),G$21*G$13/G$196,0)),0)","v":0},{"$f":"IFERROR(IF($B382>H$15,0,IF(OFFSET(index!$I$2,MATCH(H$195,index!$I$3:$I$50,0),MONTH(CF表!$B382)),H$21*H$13/H$196,0)),0)","v":0},{"$f":"IFERROR(IF($B382>I$15,0,IF(OFFSET(index!$I$2,MATCH(I$195,index!$I$3:$I$50,0),MONTH(CF表!$B382)),I$21*I$13/I$196,0)),0)","v":0},{"$f":"IFERROR(IF($B382>J$15,0,IF(OFFSET(index!$I$2,MATCH(J$195,index!$I$3:$I$50,0),MONTH(CF表!$B382)),J$21*J$13/J$196,0)),0)","v":0},{"$f":"IFERROR(IF($B382>K$15,0,IF(OFFSET(index!$I$2,MATCH(K$195,index!$I$3:$I$50,0),MONTH(CF表!$B382)),K$21*K$13/K$196,0)),0)","v":0},{"$f":"IFERROR(IF($B382>L$15,0,IF(OFFSET(index!$I$2,MATCH(L$195,index!$I$3:$I$50,0),MONTH(CF表!$B382)),L$21*L$13/L$196,0)),0)","v":0}]
[null,"2038-03-01",{"$f":"IFERROR(IF($B383>C$15,0,IF(OFFSET(index!$I$2,MATCH(C$195,index!$I$3:$I$50,0),MONTH(CF表!$B383)),C$21*C$13/C$196,0)),0)","v":0},{"$f":"IFERROR(IF($B383>D$15,0,IF(OFFSET(index!$I$2,MATCH(D$195,index!$I$3:$I$50,0),MONTH(CF表!$B383)),D$21*D$13/D$196,0)),0)","v":0},{"$f":"IFERROR(IF($B383>E$15,0,IF(OFFSET(index!$I$2,MATCH(E$195,index!$I$3:$I$50,0),MONTH(CF表!$B383)),E$21*E$13/E$196,0)),0)","v":0},{"$f":"IFERROR(IF($B383>F$15,0,IF(OFFSET(index!$I$2,MATCH(F$195,index!$I$3:$I$50,0),MONTH(CF表!$B383)),F$21*F$13/F$196,0)),0)","v":0},{"$f":"IFERROR(IF($B383>G$15,0,IF(OFFSET(index!$I$2,MATCH(G$195,index!$I$3:$I$50,0),MONTH(CF表!$B383)),G$21*G$13/G$196,0)),0)","v":0},{"$f":"IFERROR(IF($B383>H$15,0,IF(OFFSET(index!$I$2,MATCH(H$195,index!$I$3:$I$50,0),MONTH(CF表!$B383)),H$21*H$13/H$196,0)),0)","v":0},{"$f":"IFERROR(IF($B383>I$15,0,IF(OFFSET(index!$I$2,MATCH(I$195,index!$I$3:$I$50,0),MONTH(CF表!$B383)),I$21*I$13/I$196,0)),0)","v":0},{"$f":"IFERROR(IF($B383>J$15,0,IF(OFFSET(index!$I$2,MATCH(J$195,index!$I$3:$I$50,0),MONTH(CF表!$B383)),J$21*J$13/J$196,0)),0)","v":0},{"$f":"IFERROR(IF($B383>K$15,0,IF(OFFSET(index!$I$2,MATCH(K$195,index!$I$3:$I$50,0),MONTH(CF表!$B383)),K$21*K$13/K$196,0)),0)","v":0},{"$f":"IFERROR(IF($B383>L$15,0,IF(OFFSET(index!$I$2,MATCH(L$195,index!$I$3:$I$50,0),MONTH(CF表!$B383)),L$21*L$13/L$196,0)),0)","v":0}]
[null,"2038-04-01",{"$f":"IFERROR(IF($B384>C$15,0,IF(OFFSET(index!$I$2,MATCH(C$195,index!$I$3:$I$50,0),MONTH(CF表!$B384)),C$21*C$13/C$196,0)),0)","v":0},{"$f":"IFERROR(IF($B384>D$15,0,IF(OFFSET(index!$I$2,MATCH(D$195,index!$I$3:$I$50,0),MONTH(CF表!$B384)),D$21*D$13/D$196,0)),0)","v":0},{"$f":"IFERROR(IF($B384>E$15,0,IF(OFFSET(index!$I$2,MATCH(E$195,index!$I$3:$I$50,0),MONTH(CF表!$B384)),E$21*E$13/E$196,0)),0)","v":0},{"$f":"IFERROR(IF($B384>F$15,0,IF(OFFSET(index!$I$2,MATCH(F$195,index!$I$3:$I$50,0),MONTH(CF表!$B384)),F$21*F$13/F$196,0)),0)","v":0},{"$f":"IFERROR(IF($B384>G$15,0,IF(OFFSET(index!$I$2,MATCH(G$195,index!$I$3:$I$50,0),MONTH(CF表!$B384)),G$21*G$13/G$196,0)),0)","v":0},{"$f":"IFERROR(IF($B384>H$15,0,IF(OFFSET(index!$I$2,MATCH(H$195,index!$I$3:$I$50,0),MONTH(CF表!$B384)),H$21*H$13/H$196,0)),0)","v":0},{"$f":"IFERROR(IF($B384>I$15,0,IF(OFFSET(index!$I$2,MATCH(I$195,index!$I$3:$I$50,0),MONTH(CF表!$B384)),I$21*I$13/I$196,0)),0)","v":0},{"$f":"IFERROR(IF($B384>J$15,0,IF(OFFSET(index!$I$2,MATCH(J$195,index!$I$3:$I$50,0),MONTH(CF表!$B384)),J$21*J$13/J$196,0)),0)","v":0},{"$f":"IFERROR(IF($B384>K$15,0,IF(OFFSET(index!$I$2,MATCH(K$195,index!$I$3:$I$50,0),MONTH(CF表!$B384)),K$21*K$13/K$196,0)),0)","v":0},{"$f":"IFERROR(IF($B384>L$15,0,IF(OFFSET(index!$I$2,MATCH(L$195,index!$I$3:$I$50,0),MONTH(CF表!$B384)),L$21*L$13/L$196,0)),0)","v":0}]
[null,"2038-05-01",{"$f":"IFERROR(IF($B385>C$15,0,IF(OFFSET(index!$I$2,MATCH(C$195,index!$I$3:$I$50,0),MONTH(CF表!$B385)),C$21*C$13/C$196,0)),0)","v":0},{"$f":"IFERROR(IF($B385>D$15,0,IF(OFFSET(index!$I$2,MATCH(D$195,index!$I$3:$I$50,0),MONTH(CF表!$B385)),D$21*D$13/D$196,0)),0)","v":0},{"$f":"IFERROR(IF($B385>E$15,0,IF(OFFSET(index!$I$2,MATCH(E$195,index!$I$3:$I$50,0),MONTH(CF表!$B385)),E$21*E$13/E$196,0)),0)","v":0},{"$f":"IFERROR(IF($B385>F$15,0,IF(OFFSET(index!$I$2,MATCH(F$195,index!$I$3:$I$50,0),MONTH(CF表!$B385)),F$21*F$13/F$196,0)),0)","v":0},{"$f":"IFERROR(IF($B385>G$15,0,IF(OFFSET(index!$I$2,MATCH(G$195,index!$I$3:$I$50,0),MONTH(CF表!$B385)),G$21*G$13/G$196,0)),0)","v":0},{"$f":"IFERROR(IF($B385>H$15,0,IF(OFFSET(index!$I$2,MATCH(H$195,index!$I$3:$I$50,0),MONTH(CF表!$B385)),H$21*H$13/H$196,0)),0)","v":0},{"$f":"IFERROR(IF($B385>I$15,0,IF(OFFSET(index!$I$2,MATCH(I$195,index!$I$3:$I$50,0),MONTH(CF表!$B385)),I$21*I$13/I$196,0)),0)","v":0},{"$f":"IFERROR(IF($B385>J$15,0,IF(OFFSET(index!$I$2,MATCH(J$195,index!$I$3:$I$50,0),MONTH(CF表!$B385)),J$21*J$13/J$196,0)),0)","v":0},{"$f":"IFERROR(IF($B385>K$15,0,IF(OFFSET(index!$I$2,MATCH(K$195,index!$I$3:$I$50,0),MONTH(CF表!$B385)),K$21*K$13/K$196,0)),0)","v":0},{"$f":"IFERROR(IF($B385>L$15,0,IF(OFFSET(index!$I$2,MATCH(L$195,index!$I$3:$I$50,0),MONTH(CF表!$B385)),L$21*L$13/L$196,0)),0)","v":0}]
[null,"2038-06-01",{"$f":"IFERROR(IF($B386>C$15,0,IF(OFFSET(index!$I$2,MATCH(C$195,index!$I$3:$I$50,0),MONTH(CF表!$B386)),C$21*C$13/C$196,0)),0)","v":0},{"$f":"IFERROR(IF($B386>D$15,0,IF(OFFSET(index!$I$2,MATCH(D$195,index!$I$3:$I$50,0),MONTH(CF表!$B386)),D$21*D$13/D$196,0)),0)","v":0},{"$f":"IFERROR(IF($B386>E$15,0,IF(OFFSET(index!$I$2,MATCH(E$195,index!$I$3:$I$50,0),MONTH(CF表!$B386)),E$21*E$13/E$196,0)),0)","v":0},{"$f":"IFERROR(IF($B386>F$15,0,IF(OFFSET(index!$I$2,MATCH(F$195,index!$I$3:$I$50,0),MONTH(CF表!$B386)),F$21*F$13/F$196,0)),0)","v":0},{"$f":"IFERROR(IF($B386>G$15,0,IF(OFFSET(index!$I$2,MATCH(G$195,index!$I$3:$I$50,0),MONTH(CF表!$B386)),G$21*G$13/G$196,0)),0)","v":0},{"$f":"IFERROR(IF($B386>H$15,0,IF(OFFSET(index!$I$2,MATCH(H$195,index!$I$3:$I$50,0),MONTH(CF表!$B386)),H$21*H$13/H$196,0)),0)","v":0},{"$f":"IFERROR(IF($B386>I$15,0,IF(OFFSET(index!$I$2,MATCH(I$195,index!$I$3:$I$50,0),MONTH(CF表!$B386)),I$21*I$13/I$196,0)),0)","v":0},{"$f":"IFERROR(IF($B386>J$15,0,IF(OFFSET(index!$I$2,MATCH(J$195,index!$I$3:$I$50,0),MONTH(CF表!$B386)),J$21*J$13/J$196,0)),0)","v":0},{"$f":"IFERROR(IF($B386>K$15,0,IF(OFFSET(index!$I$2,MATCH(K$195,index!$I$3:$I$50,0),MONTH(CF表!$B386)),K$21*K$13/K$196,0)),0)","v":0},{"$f":"IFERROR(IF($B386>L$15,0,IF(OFFSET(index!$I$2,MATCH(L$195,index!$I$3:$I$50,0),MONTH(CF表!$B386)),L$21*L$13/L$196,0)),0)","v":0}]
[null,"2038-07-01",{"$f":"IFERROR(IF($B387>C$15,0,IF(OFFSET(index!$I$2,MATCH(C$195,index!$I$3:$I$50,0),MONTH(CF表!$B387)),C$21*C$13/C$196,0)),0)","v":0},{"$f":"IFERROR(IF($B387>D$15,0,IF(OFFSET(index!$I$2,MATCH(D$195,index!$I$3:$I$50,0),MONTH(CF表!$B387)),D$21*D$13/D$196,0)),0)","v":0},{"$f":"IFERROR(IF($B387>E$15,0,IF(OFFSET(index!$I$2,MATCH(E$195,index!$I$3:$I$50,0),MONTH(CF表!$B387)),E$21*E$13/E$196,0)),0)","v":0},{"$f":"IFERROR(IF($B387>F$15,0,IF(OFFSET(index!$I$2,MATCH(F$195,index!$I$3:$I$50,0),MONTH(CF表!$B387)),F$21*F$13/F$196,0)),0)","v":0},{"$f":"IFERROR(IF($B387>G$15,0,IF(OFFSET(index!$I$2,MATCH(G$195,index!$I$3:$I$50,0),MONTH(CF表!$B387)),G$21*G$13/G$196,0)),0)","v":0},{"$f":"IFERROR(IF($B387>H$15,0,IF(OFFSET(index!$I$2,MATCH(H$195,index!$I$3:$I$50,0),MONTH(CF表!$B387)),H$21*H$13/H$196,0)),0)","v":0},{"$f":"IFERROR(IF($B387>I$15,0,IF(OFFSET(index!$I$2,MATCH(I$195,index!$I$3:$I$50,0),MONTH(CF表!$B387)),I$21*I$13/I$196,0)),0)","v":0},{"$f":"IFERROR(IF($B387>J$15,0,IF(OFFSET(index!$I$2,MATCH(J$195,index!$I$3:$I$50,0),MONTH(CF表!$B387)),J$21*J$13/J$196,0)),0)","v":0},{"$f":"IFERROR(IF($B387>K$15,0,IF(OFFSET(index!$I$2,MATCH(K$195,index!$I$3:$I$50,0),MONTH(CF表!$B387)),K$21*K$13/K$196,0)),0)","v":0},{"$f":"IFERROR(IF($B387>L$15,0,IF(OFFSET(index!$I$2,MATCH(L$195,index!$I$3:$I$50,0),MONTH(CF表!$B387)),L$21*L$13/L$196,0)),0)","v":0}]
[null,"2038-08-01",{"$f":"IFERROR(IF($B388>C$15,0,IF(OFFSET(index!$I$2,MATCH(C$195,index!$I$3:$I$50,0),MONTH(CF表!$B388)),C$21*C$13/C$196,0)),0)","v":0},{"$f":"IFERROR(IF($B388>D$15,0,IF(OFFSET(index!$I$2,MATCH(D$195,index!$I$3:$I$50,0),MONTH(CF表!$B388)),D$21*D$13/D$196,0)),0)","v":0},{"$f":"IFERROR(IF($B388>E$15,0,IF(OFFSET(index!$I$2,MATCH(E$195,index!$I$3:$I$50,0),MONTH(CF表!$B388)),E$21*E$13/E$196,0)),0)","v":0},{"$f":"IFERROR(IF($B388>F$15,0,IF(OFFSET(index!$I$2,MATCH(F$195,index!$I$3:$I$50,0),MONTH(CF表!$B388)),F$21*F$13/F$196,0)),0)","v":0},{"$f":"IFERROR(IF($B388>G$15,0,IF(OFFSET(index!$I$2,MATCH(G$195,index!$I$3:$I$50,0),MONTH(CF表!$B388)),G$21*G$13/G$196,0)),0)","v":0},{"$f":"IFERROR(IF($B388>H$15,0,IF(OFFSET(index!$I$2,MATCH(H$195,index!$I$3:$I$50,0),MONTH(CF表!$B388)),H$21*H$13/H$196,0)),0)","v":0},{"$f":"IFERROR(IF($B388>I$15,0,IF(OFFSET(index!$I$2,MATCH(I$195,index!$I$3:$I$50,0),MONTH(CF表!$B388)),I$21*I$13/I$196,0)),0)","v":0},{"$f":"IFERROR(IF($B388>J$15,0,IF(OFFSET(index!$I$2,MATCH(J$195,index!$I$3:$I$50,0),MONTH(CF表!$B388)),J$21*J$13/J$196,0)),0)","v":0},{"$f":"IFERROR(IF($B388>K$15,0,IF(OFFSET(index!$I$2,MATCH(K$195,index!$I$3:$I$50,0),MONTH(CF表!$B388)),K$21*K$13/K$196,0)),0)","v":0},{"$f":"IFERROR(IF($B388>L$15,0,IF(OFFSET(index!$I$2,MATCH(L$195,index!$I$3:$I$50,0),MONTH(CF表!$B388)),L$21*L$13/L$196,0)),0)","v":0}]
[null,"2038-09-01",{"$f":"IFERROR(IF($B389>C$15,0,IF(OFFSET(index!$I$2,MATCH(C$195,index!$I$3:$I$50,0),MONTH(CF表!$B389)),C$21*C$13/C$196,0)),0)","v":0},{"$f":"IFERROR(IF($B389>D$15,0,IF(OFFSET(index!$I$2,MATCH(D$195,index!$I$3:$I$50,0),MONTH(CF表!$B389)),D$21*D$13/D$196,0)),0)","v":0},{"$f":"IFERROR(IF($B389>E$15,0,IF(OFFSET(index!$I$2,MATCH(E$195,index!$I$3:$I$50,0),MONTH(CF表!$B389)),E$21*E$13/E$196,0)),0)","v":0},{"$f":"IFERROR(IF($B389>F$15,0,IF(OFFSET(index!$I$2,MATCH(F$195,index!$I$3:$I$50,0),MONTH(CF表!$B389)),F$21*F$13/F$196,0)),0)","v":0},{"$f":"IFERROR(IF($B389>G$15,0,IF(OFFSET(index!$I$2,MATCH(G$195,index!$I$3:$I$50,0),MONTH(CF表!$B389)),G$21*G$13/G$196,0)),0)","v":0},{"$f":"IFERROR(IF($B389>H$15,0,IF(OFFSET(index!$I$2,MATCH(H$195,index!$I$3:$I$50,0),MONTH(CF表!$B389)),H$21*H$13/H$196,0)),0)","v":0},{"$f":"IFERROR(IF($B389>I$15,0,IF(OFFSET(index!$I$2,MATCH(I$195,index!$I$3:$I$50,0),MONTH(CF表!$B389)),I$21*I$13/I$196,0)),0)","v":0},{"$f":"IFERROR(IF($B389>J$15,0,IF(OFFSET(index!$I$2,MATCH(J$195,index!$I$3:$I$50,0),MONTH(CF表!$B389)),J$21*J$13/J$196,0)),0)","v":0},{"$f":"IFERROR(IF($B389>K$15,0,IF(OFFSET(index!$I$2,MATCH(K$195,index!$I$3:$I$50,0),MONTH(CF表!$B389)),K$21*K$13/K$196,0)),0)","v":0},{"$f":"IFERROR(IF($B389>L$15,0,IF(OFFSET(index!$I$2,MATCH(L$195,index!$I$3:$I$50,0),MONTH(CF表!$B389)),L$21*L$13/L$196,0)),0)","v":0}]
[null,"2038-10-01",{"$f":"IFERROR(IF($B390>C$15,0,IF(OFFSET(index!$I$2,MATCH(C$195,index!$I$3:$I$50,0),MONTH(CF表!$B390)),C$21*C$13/C$196,0)),0)","v":0},{"$f":"IFERROR(IF($B390>D$15,0,IF(OFFSET(index!$I$2,MATCH(D$195,index!$I$3:$I$50,0),MONTH(CF表!$B390)),D$21*D$13/D$196,0)),0)","v":0},{"$f":"IFERROR(IF($B390>E$15,0,IF(OFFSET(index!$I$2,MATCH(E$195,index!$I$3:$I$50,0),MONTH(CF表!$B390)),E$21*E$13/E$196,0)),0)","v":0},{"$f":"IFERROR(IF($B390>F$15,0,IF(OFFSET(index!$I$2,MATCH(F$195,index!$I$3:$I$50,0),MONTH(CF表!$B390)),F$21*F$13/F$196,0)),0)","v":0},{"$f":"IFERROR(IF($B390>G$15,0,IF(OFFSET(index!$I$2,MATCH(G$195,index!$I$3:$I$50,0),MONTH(CF表!$B390)),G$21*G$13/G$196,0)),0)","v":0},{"$f":"IFERROR(IF($B390>H$15,0,IF(OFFSET(index!$I$2,MATCH(H$195,index!$I$3:$I$50,0),MONTH(CF表!$B390)),H$21*H$13/H$196,0)),0)","v":0},{"$f":"IFERROR(IF($B390>I$15,0,IF(OFFSET(index!$I$2,MATCH(I$195,index!$I$3:$I$50,0),MONTH(CF表!$B390)),I$21*I$13/I$196,0)),0)","v":0},{"$f":"IFERROR(IF($B390>J$15,0,IF(OFFSET(index!$I$2,MATCH(J$195,index!$I$3:$I$50,0),MONTH(CF表!$B390)),J$21*J$13/J$196,0)),0)","v":0},{"$f":"IFERROR(IF($B390>K$15,0,IF(OFFSET(index!$I$2,MATCH(K$195,index!$I$3:$I$50,0),MONTH(CF表!$B390)),K$21*K$13/K$196,0)),0)","v":0},{"$f":"IFERROR(IF($B390>L$15,0,IF(OFFSET(index!$I$2,MATCH(L$195,index!$I$3:$I$50,0),MONTH(CF表!$B390)),L$21*L$13/L$196,0)),0)","v":0}]
[null,"2038-11-01",{"$f":"IFERROR(IF($B391>C$15,0,IF(OFFSET(index!$I$2,MATCH(C$195,index!$I$3:$I$50,0),MONTH(CF表!$B391)),C$21*C$13/C$196,0)),0)","v":0},{"$f":"IFERROR(IF($B391>D$15,0,IF(OFFSET(index!$I$2,MATCH(D$195,index!$I$3:$I$50,0),MONTH(CF表!$B391)),D$21*D$13/D$196,0)),0)","v":0},{"$f":"IFERROR(IF($B391>E$15,0,IF(OFFSET(index!$I$2,MATCH(E$195,index!$I$3:$I$50,0),MONTH(CF表!$B391)),E$21*E$13/E$196,0)),0)","v":0},{"$f":"IFERROR(IF($B391>F$15,0,IF(OFFSET(index!$I$2,MATCH(F$195,index!$I$3:$I$50,0),MONTH(CF表!$B391)),F$21*F$13/F$196,0)),0)","v":0},{"$f":"IFERROR(IF($B391>G$15,0,IF(OFFSET(index!$I$2,MATCH(G$195,index!$I$3:$I$50,0),MONTH(CF表!$B391)),G$21*G$13/G$196,0)),0)","v":0},{"$f":"IFERROR(IF($B391>H$15,0,IF(OFFSET(index!$I$2,MATCH(H$195,index!$I$3:$I$50,0),MONTH(CF表!$B391)),H$21*H$13/H$196,0)),0)","v":0},{"$f":"IFERROR(IF($B391>I$15,0,IF(OFFSET(index!$I$2,MATCH(I$195,index!$I$3:$I$50,0),MONTH(CF表!$B391)),I$21*I$13/I$196,0)),0)","v":0},{"$f":"IFERROR(IF($B391>J$15,0,IF(OFFSET(index!$I$2,MATCH(J$195,index!$I$3:$I$50,0),MONTH(CF表!$B391)),J$21*J$13/J$196,0)),0)","v":0},{"$f":"IFERROR(IF($B391>K$15,0,IF(OFFSET(index!$I$2,MATCH(K$195,index!$I$3:$I$50,0),MONTH(CF表!$B391)),K$21*K$13/K$196,0)),0)","v":0},{"$f":"IFERROR(IF($B391>L$15,0,IF(OFFSET(index!$I$2,MATCH(L$195,index!$I$3:$I$50,0),MONTH(CF表!$B391)),L$21*L$13/L$196,0)),0)","v":0}]
[null,"2038-12-01",{"$f":"IFERROR(IF($B392>C$15,0,IF(OFFSET(index!$I$2,MATCH(C$195,index!$I$3:$I$50,0),MONTH(CF表!$B392)),C$21*C$13/C$196,0)),0)","v":0},{"$f":"IFERROR(IF($B392>D$15,0,IF(OFFSET(index!$I$2,MATCH(D$195,index!$I$3:$I$50,0),MONTH(CF表!$B392)),D$21*D$13/D$196,0)),0)","v":0},{"$f":"IFERROR(IF($B392>E$15,0,IF(OFFSET(index!$I$2,MATCH(E$195,index!$I$3:$I$50,0),MONTH(CF表!$B392)),E$21*E$13/E$196,0)),0)","v":0},{"$f":"IFERROR(IF($B392>F$15,0,IF(OFFSET(index!$I$2,MATCH(F$195,index!$I$3:$I$50,0),MONTH(CF表!$B392)),F$21*F$13/F$196,0)),0)","v":0},{"$f":"IFERROR(IF($B392>G$15,0,IF(OFFSET(index!$I$2,MATCH(G$195,index!$I$3:$I$50,0),MONTH(CF表!$B392)),G$21*G$13/G$196,0)),0)","v":0},{"$f":"IFERROR(IF($B392>H$15,0,IF(OFFSET(index!$I$2,MATCH(H$195,index!$I$3:$I$50,0),MONTH(CF表!$B392)),H$21*H$13/H$196,0)),0)","v":0},{"$f":"IFERROR(IF($B392>I$15,0,IF(OFFSET(index!$I$2,MATCH(I$195,index!$I$3:$I$50,0),MONTH(CF表!$B392)),I$21*I$13/I$196,0)),0)","v":0},{"$f":"IFERROR(IF($B392>J$15,0,IF(OFFSET(index!$I$2,MATCH(J$195,index!$I$3:$I$50,0),MONTH(CF表!$B392)),J$21*J$13/J$196,0)),0)","v":0},{"$f":"IFERROR(IF($B392>K$15,0,IF(OFFSET(index!$I$2,MATCH(K$195,index!$I$3:$I$50,0),MONTH(CF表!$B392)),K$21*K$13/K$196,0)),0)","v":0},{"$f":"IFERROR(IF($B392>L$15,0,IF(OFFSET(index!$I$2,MATCH(L$195,index!$I$3:$I$50,0),MONTH(CF表!$B392)),L$21*L$13/L$196,0)),0)","v":0}]
[null,"2039-01-01",{"$f":"IFERROR(IF($B393>C$15,0,IF(OFFSET(index!$I$2,MATCH(C$195,index!$I$3:$I$50,0),MONTH(CF表!$B393)),C$21*C$13/C$196,0)),0)","v":0},{"$f":"IFERROR(IF($B393>D$15,0,IF(OFFSET(index!$I$2,MATCH(D$195,index!$I$3:$I$50,0),MONTH(CF表!$B393)),D$21*D$13/D$196,0)),0)","v":0},{"$f":"IFERROR(IF($B393>E$15,0,IF(OFFSET(index!$I$2,MATCH(E$195,index!$I$3:$I$50,0),MONTH(CF表!$B393)),E$21*E$13/E$196,0)),0)","v":0},{"$f":"IFERROR(IF($B393>F$15,0,IF(OFFSET(index!$I$2,MATCH(F$195,index!$I$3:$I$50,0),MONTH(CF表!$B393)),F$21*F$13/F$196,0)),0)","v":0},{"$f":"IFERROR(IF($B393>G$15,0,IF(OFFSET(index!$I$2,MATCH(G$195,index!$I$3:$I$50,0),MONTH(CF表!$B393)),G$21*G$13/G$196,0)),0)","v":0},{"$f":"IFERROR(IF($B393>H$15,0,IF(OFFSET(index!$I$2,MATCH(H$195,index!$I$3:$I$50,0),MONTH(CF表!$B393)),H$21*H$13/H$196,0)),0)","v":0},{"$f":"IFERROR(IF($B393>I$15,0,IF(OFFSET(index!$I$2,MATCH(I$195,index!$I$3:$I$50,0),MONTH(CF表!$B393)),I$21*I$13/I$196,0)),0)","v":0},{"$f":"IFERROR(IF($B393>J$15,0,IF(OFFSET(index!$I$2,MATCH(J$195,index!$I$3:$I$50,0),MONTH(CF表!$B393)),J$21*J$13/J$196,0)),0)","v":0},{"$f":"IFERROR(IF($B393>K$15,0,IF(OFFSET(index!$I$2,MATCH(K$195,index!$I$3:$I$50,0),MONTH(CF表!$B393)),K$21*K$13/K$196,0)),0)","v":0},{"$f":"IFERROR(IF($B393>L$15,0,IF(OFFSET(index!$I$2,MATCH(L$195,index!$I$3:$I$50,0),MONTH(CF表!$B393)),L$21*L$13/L$196,0)),0)","v":0}]
[null,"2039-02-01",{"$f":"IFERROR(IF($B394>C$15,0,IF(OFFSET(index!$I$2,MATCH(C$195,index!$I$3:$I$50,0),MONTH(CF表!$B394)),C$21*C$13/C$196,0)),0)","v":0},{"$f":"IFERROR(IF($B394>D$15,0,IF(OFFSET(index!$I$2,MATCH(D$195,index!$I$3:$I$50,0),MONTH(CF表!$B394)),D$21*D$13/D$196,0)),0)","v":0},{"$f":"IFERROR(IF($B394>E$15,0,IF(OFFSET(index!$I$2,MATCH(E$195,index!$I$3:$I$50,0),MONTH(CF表!$B394)),E$21*E$13/E$196,0)),0)","v":0},{"$f":"IFERROR(IF($B394>F$15,0,IF(OFFSET(index!$I$2,MATCH(F$195,index!$I$3:$I$50,0),MONTH(CF表!$B394)),F$21*F$13/F$196,0)),0)","v":0},{"$f":"IFERROR(IF($B394>G$15,0,IF(OFFSET(index!$I$2,MATCH(G$195,index!$I$3:$I$50,0),MONTH(CF表!$B394)),G$21*G$13/G$196,0)),0)","v":0},{"$f":"IFERROR(IF($B394>H$15,0,IF(OFFSET(index!$I$2,MATCH(H$195,index!$I$3:$I$50,0),MONTH(CF表!$B394)),H$21*H$13/H$196,0)),0)","v":0},{"$f":"IFERROR(IF($B394>I$15,0,IF(OFFSET(index!$I$2,MATCH(I$195,index!$I$3:$I$50,0),MONTH(CF表!$B394)),I$21*I$13/I$196,0)),0)","v":0},{"$f":"IFERROR(IF($B394>J$15,0,IF(OFFSET(index!$I$2,MATCH(J$195,index!$I$3:$I$50,0),MONTH(CF表!$B394)),J$21*J$13/J$196,0)),0)","v":0},{"$f":"IFERROR(IF($B394>K$15,0,IF(OFFSET(index!$I$2,MATCH(K$195,index!$I$3:$I$50,0),MONTH(CF表!$B394)),K$21*K$13/K$196,0)),0)","v":0},{"$f":"IFERROR(IF($B394>L$15,0,IF(OFFSET(index!$I$2,MATCH(L$195,index!$I$3:$I$50,0),MONTH(CF表!$B394)),L$21*L$13/L$196,0)),0)","v":0}]
[null,"2039-03-01",{"$f":"IFERROR(IF($B395>C$15,0,IF(OFFSET(index!$I$2,MATCH(C$195,index!$I$3:$I$50,0),MONTH(CF表!$B395)),C$21*C$13/C$196,0)),0)","v":0},{"$f":"IFERROR(IF($B395>D$15,0,IF(OFFSET(index!$I$2,MATCH(D$195,index!$I$3:$I$50,0),MONTH(CF表!$B395)),D$21*D$13/D$196,0)),0)","v":0},{"$f":"IFERROR(IF($B395>E$15,0,IF(OFFSET(index!$I$2,MATCH(E$195,index!$I$3:$I$50,0),MONTH(CF表!$B395)),E$21*E$13/E$196,0)),0)","v":0},{"$f":"IFERROR(IF($B395>F$15,0,IF(OFFSET(index!$I$2,MATCH(F$195,index!$I$3:$I$50,0),MONTH(CF表!$B395)),F$21*F$13/F$196,0)),0)","v":0},{"$f":"IFERROR(IF($B395>G$15,0,IF(OFFSET(index!$I$2,MATCH(G$195,index!$I$3:$I$50,0),MONTH(CF表!$B395)),G$21*G$13/G$196,0)),0)","v":0},{"$f":"IFERROR(IF($B395>H$15,0,IF(OFFSET(index!$I$2,MATCH(H$195,index!$I$3:$I$50,0),MONTH(CF表!$B395)),H$21*H$13/H$196,0)),0)","v":0},{"$f":"IFERROR(IF($B395>I$15,0,IF(OFFSET(index!$I$2,MATCH(I$195,index!$I$3:$I$50,0),MONTH(CF表!$B395)),I$21*I$13/I$196,0)),0)","v":0},{"$f":"IFERROR(IF($B395>J$15,0,IF(OFFSET(index!$I$2,MATCH(J$195,index!$I$3:$I$50,0),MONTH(CF表!$B395)),J$21*J$13/J$196,0)),0)","v":0},{"$f":"IFERROR(IF($B395>K$15,0,IF(OFFSET(index!$I$2,MATCH(K$195,index!$I$3:$I$50,0),MONTH(CF表!$B395)),K$21*K$13/K$196,0)),0)","v":0},{"$f":"IFERROR(IF($B395>L$15,0,IF(OFFSET(index!$I$2,MATCH(L$195,index!$I$3:$I$50,0),MONTH(CF表!$B395)),L$21*L$13/L$196,0)),0)","v":0}]
[null,"2039-04-01",{"$f":"IFERROR(IF($B396>C$15,0,IF(OFFSET(index!$I$2,MATCH(C$195,index!$I$3:$I$50,0),MONTH(CF表!$B396)),C$21*C$13/C$196,0)),0)","v":0},{"$f":"IFERROR(IF($B396>D$15,0,IF(OFFSET(index!$I$2,MATCH(D$195,index!$I$3:$I$50,0),MONTH(CF表!$B396)),D$21*D$13/D$196,0)),0)","v":0},{"$f":"IFERROR(IF($B396>E$15,0,IF(OFFSET(index!$I$2,MATCH(E$195,index!$I$3:$I$50,0),MONTH(CF表!$B396)),E$21*E$13/E$196,0)),0)","v":0},{"$f":"IFERROR(IF($B396>F$15,0,IF(OFFSET(index!$I$2,MATCH(F$195,index!$I$3:$I$50,0),MONTH(CF表!$B396)),F$21*F$13/F$196,0)),0)","v":0},{"$f":"IFERROR(IF($B396>G$15,0,IF(OFFSET(index!$I$2,MATCH(G$195,index!$I$3:$I$50,0),MONTH(CF表!$B396)),G$21*G$13/G$196,0)),0)","v":0},{"$f":"IFERROR(IF($B396>H$15,0,IF(OFFSET(index!$I$2,MATCH(H$195,index!$I$3:$I$50,0),MONTH(CF表!$B396)),H$21*H$13/H$196,0)),0)","v":0},{"$f":"IFERROR(IF($B396>I$15,0,IF(OFFSET(index!$I$2,MATCH(I$195,index!$I$3:$I$50,0),MONTH(CF表!$B396)),I$21*I$13/I$196,0)),0)","v":0},{"$f":"IFERROR(IF($B396>J$15,0,IF(OFFSET(index!$I$2,MATCH(J$195,index!$I$3:$I$50,0),MONTH(CF表!$B396)),J$21*J$13/J$196,0)),0)","v":0},{"$f":"IFERROR(IF($B396>K$15,0,IF(OFFSET(index!$I$2,MATCH(K$195,index!$I$3:$I$50,0),MONTH(CF表!$B396)),K$21*K$13/K$196,0)),0)","v":0},{"$f":"IFERROR(IF($B396>L$15,0,IF(OFFSET(index!$I$2,MATCH(L$195,index!$I$3:$I$50,0),MONTH(CF表!$B396)),L$21*L$13/L$196,0)),0)","v":0}]
[null,"2039-05-01",{"$f":"IFERROR(IF($B397>C$15,0,IF(OFFSET(index!$I$2,MATCH(C$195,index!$I$3:$I$50,0),MONTH(CF表!$B397)),C$21*C$13/C$196,0)),0)","v":0},{"$f":"IFERROR(IF($B397>D$15,0,IF(OFFSET(index!$I$2,MATCH(D$195,index!$I$3:$I$50,0),MONTH(CF表!$B397)),D$21*D$13/D$196,0)),0)","v":0},{"$f":"IFERROR(IF($B397>E$15,0,IF(OFFSET(index!$I$2,MATCH(E$195,index!$I$3:$I$50,0),MONTH(CF表!$B397)),E$21*E$13/E$196,0)),0)","v":0},{"$f":"IFERROR(IF($B397>F$15,0,IF(OFFSET(index!$I$2,MATCH(F$195,index!$I$3:$I$50,0),MONTH(CF表!$B397)),F$21*F$13/F$196,0)),0)","v":0},{"$f":"IFERROR(IF($B397>G$15,0,IF(OFFSET(index!$I$2,MATCH(G$195,index!$I$3:$I$50,0),MONTH(CF表!$B397)),G$21*G$13/G$196,0)),0)","v":0},{"$f":"IFERROR(IF($B397>H$15,0,IF(OFFSET(index!$I$2,MATCH(H$195,index!$I$3:$I$50,0),MONTH(CF表!$B397)),H$21*H$13/H$196,0)),0)","v":0},{"$f":"IFERROR(IF($B397>I$15,0,IF(OFFSET(index!$I$2,MATCH(I$195,index!$I$3:$I$50,0),MONTH(CF表!$B397)),I$21*I$13/I$196,0)),0)","v":0},{"$f":"IFERROR(IF($B397>J$15,0,IF(OFFSET(index!$I$2,MATCH(J$195,index!$I$3:$I$50,0),MONTH(CF表!$B397)),J$21*J$13/J$196,0)),0)","v":0},{"$f":"IFERROR(IF($B397>K$15,0,IF(OFFSET(index!$I$2,MATCH(K$195,index!$I$3:$I$50,0),MONTH(CF表!$B397)),K$21*K$13/K$196,0)),0)","v":0},{"$f":"IFERROR(IF($B397>L$15,0,IF(OFFSET(index!$I$2,MATCH(L$195,index!$I$3:$I$50,0),MONTH(CF表!$B397)),L$21*L$13/L$196,0)),0)","v":0}]
[null,"2039-06-01",{"$f":"IFERROR(IF($B398>C$15,0,IF(OFFSET(index!$I$2,MATCH(C$195,index!$I$3:$I$50,0),MONTH(CF表!$B398)),C$21*C$13/C$196,0)),0)","v":0},{"$f":"IFERROR(IF($B398>D$15,0,IF(OFFSET(index!$I$2,MATCH(D$195,index!$I$3:$I$50,0),MONTH(CF表!$B398)),D$21*D$13/D$196,0)),0)","v":0},{"$f":"IFERROR(IF($B398>E$15,0,IF(OFFSET(index!$I$2,MATCH(E$195,index!$I$3:$I$50,0),MONTH(CF表!$B398)),E$21*E$13/E$196,0)),0)","v":0},{"$f":"IFERROR(IF($B398>F$15,0,IF(OFFSET(index!$I$2,MATCH(F$195,index!$I$3:$I$50,0),MONTH(CF表!$B398)),F$21*F$13/F$196,0)),0)","v":0},{"$f":"IFERROR(IF($B398>G$15,0,IF(OFFSET(index!$I$2,MATCH(G$195,index!$I$3:$I$50,0),MONTH(CF表!$B398)),G$21*G$13/G$196,0)),0)","v":0},{"$f":"IFERROR(IF($B398>H$15,0,IF(OFFSET(index!$I$2,MATCH(H$195,index!$I$3:$I$50,0),MONTH(CF表!$B398)),H$21*H$13/H$196,0)),0)","v":0},{"$f":"IFERROR(IF($B398>I$15,0,IF(OFFSET(index!$I$2,MATCH(I$195,index!$I$3:$I$50,0),MONTH(CF表!$B398)),I$21*I$13/I$196,0)),0)","v":0},{"$f":"IFERROR(IF($B398>J$15,0,IF(OFFSET(index!$I$2,MATCH(J$195,index!$I$3:$I$50,0),MONTH(CF表!$B398)),J$21*J$13/J$196,0)),0)","v":0},{"$f":"IFERROR(IF($B398>K$15,0,IF(OFFSET(index!$I$2,MATCH(K$195,index!$I$3:$I$50,0),MONTH(CF表!$B398)),K$21*K$13/K$196,0)),0)","v":0},{"$f":"IFERROR(IF($B398>L$15,0,IF(OFFSET(index!$I$2,MATCH(L$195,index!$I$3:$I$50,0),MONTH(CF表!$B398)),L$21*L$13/L$196,0)),0)","v":0}]
[null,"2039-07-01",{"$f":"IFERROR(IF($B399>C$15,0,IF(OFFSET(index!$I$2,MATCH(C$195,index!$I$3:$I$50,0),MONTH(CF表!$B399)),C$21*C$13/C$196,0)),0)","v":0},{"$f":"IFERROR(IF($B399>D$15,0,IF(OFFSET(index!$I$2,MATCH(D$195,index!$I$3:$I$50,0),MONTH(CF表!$B399)),D$21*D$13/D$196,0)),0)","v":0},{"$f":"IFERROR(IF($B399>E$15,0,IF(OFFSET(index!$I$2,MATCH(E$195,index!$I$3:$I$50,0),MONTH(CF表!$B399)),E$21*E$13/E$196,0)),0)","v":0},{"$f":"IFERROR(IF($B399>F$15,0,IF(OFFSET(index!$I$2,MATCH(F$195,index!$I$3:$I$50,0),MONTH(CF表!$B399)),F$21*F$13/F$196,0)),0)","v":0},{"$f":"IFERROR(IF($B399>G$15,0,IF(OFFSET(index!$I$2,MATCH(G$195,index!$I$3:$I$50,0),MONTH(CF表!$B399)),G$21*G$13/G$196,0)),0)","v":0},{"$f":"IFERROR(IF($B399>H$15,0,IF(OFFSET(index!$I$2,MATCH(H$195,index!$I$3:$I$50,0),MONTH(CF表!$B399)),H$21*H$13/H$196,0)),0)","v":0},{"$f":"IFERROR(IF($B399>I$15,0,IF(OFFSET(index!$I$2,MATCH(I$195,index!$I$3:$I$50,0),MONTH(CF表!$B399)),I$21*I$13/I$196,0)),0)","v":0},{"$f":"IFERROR(IF($B399>J$15,0,IF(OFFSET(index!$I$2,MATCH(J$195,index!$I$3:$I$50,0),MONTH(CF表!$B399)),J$21*J$13/J$196,0)),0)","v":0},{"$f":"IFERROR(IF($B399>K$15,0,IF(OFFSET(index!$I$2,MATCH(K$195,index!$I$3:$I$50,0),MONTH(CF表!$B399)),K$21*K$13/K$196,0)),0)","v":0},{"$f":"IFERROR(IF($B399>L$15,0,IF(OFFSET(index!$I$2,MATCH(L$195,index!$I$3:$I$50,0),MONTH(CF表!$B399)),L$21*L$13/L$196,0)),0)","v":0}]
[null,"2039-08-01",{"$f":"IFERROR(IF($B400>C$15,0,IF(OFFSET(index!$I$2,MATCH(C$195,index!$I$3:$I$50,0),MONTH(CF表!$B400)),C$21*C$13/C$196,0)),0)","v":0},{"$f":"IFERROR(IF($B400>D$15,0,IF(OFFSET(index!$I$2,MATCH(D$195,index!$I$3:$I$50,0),MONTH(CF表!$B400)),D$21*D$13/D$196,0)),0)","v":0},{"$f":"IFERROR(IF($B400>E$15,0,IF(OFFSET(index!$I$2,MATCH(E$195,index!$I$3:$I$50,0),MONTH(CF表!$B400)),E$21*E$13/E$196,0)),0)","v":0},{"$f":"IFERROR(IF($B400>F$15,0,IF(OFFSET(index!$I$2,MATCH(F$195,index!$I$3:$I$50,0),MONTH(CF表!$B400)),F$21*F$13/F$196,0)),0)","v":0},{"$f":"IFERROR(IF($B400>G$15,0,IF(OFFSET(index!$I$2,MATCH(G$195,index!$I$3:$I$50,0),MONTH(CF表!$B400)),G$21*G$13/G$196,0)),0)","v":0},{"$f":"IFERROR(IF($B400>H$15,0,IF(OFFSET(index!$I$2,MATCH(H$195,index!$I$3:$I$50,0),MONTH(CF表!$B400)),H$21*H$13/H$196,0)),0)","v":0},{"$f":"IFERROR(IF($B400>I$15,0,IF(OFFSET(index!$I$2,MATCH(I$195,index!$I$3:$I$50,0),MONTH(CF表!$B400)),I$21*I$13/I$196,0)),0)","v":0},{"$f":"IFERROR(IF($B400>J$15,0,IF(OFFSET(index!$I$2,MATCH(J$195,index!$I$3:$I$50,0),MONTH(CF表!$B400)),J$21*J$13/J$196,0)),0)","v":0},{"$f":"IFERROR(IF($B400>K$15,0,IF(OFFSET(index!$I$2,MATCH(K$195,index!$I$3:$I$50,0),MONTH(CF表!$B400)),K$21*K$13/K$196,0)),0)","v":0},{"$f":"IFERROR(IF($B400>L$15,0,IF(OFFSET(index!$I$2,MATCH(L$195,index!$I$3:$I$50,0),MONTH(CF表!$B400)),L$21*L$13/L$196,0)),0)","v":0}]
[null,"2039-09-01",{"$f":"IFERROR(IF($B401>C$15,0,IF(OFFSET(index!$I$2,MATCH(C$195,index!$I$3:$I$50,0),MONTH(CF表!$B401)),C$21*C$13/C$196,0)),0)","v":0},{"$f":"IFERROR(IF($B401>D$15,0,IF(OFFSET(index!$I$2,MATCH(D$195,index!$I$3:$I$50,0),MONTH(CF表!$B401)),D$21*D$13/D$196,0)),0)","v":0},{"$f":"IFERROR(IF($B401>E$15,0,IF(OFFSET(index!$I$2,MATCH(E$195,index!$I$3:$I$50,0),MONTH(CF表!$B401)),E$21*E$13/E$196,0)),0)","v":0},{"$f":"IFERROR(IF($B401>F$15,0,IF(OFFSET(index!$I$2,MATCH(F$195,index!$I$3:$I$50,0),MONTH(CF表!$B401)),F$21*F$13/F$196,0)),0)","v":0},{"$f":"IFERROR(IF($B401>G$15,0,IF(OFFSET(index!$I$2,MATCH(G$195,index!$I$3:$I$50,0),MONTH(CF表!$B401)),G$21*G$13/G$196,0)),0)","v":0},{"$f":"IFERROR(IF($B401>H$15,0,IF(OFFSET(index!$I$2,MATCH(H$195,index!$I$3:$I$50,0),MONTH(CF表!$B401)),H$21*H$13/H$196,0)),0)","v":0},{"$f":"IFERROR(IF($B401>I$15,0,IF(OFFSET(index!$I$2,MATCH(I$195,index!$I$3:$I$50,0),MONTH(CF表!$B401)),I$21*I$13/I$196,0)),0)","v":0},{"$f":"IFERROR(IF($B401>J$15,0,IF(OFFSET(index!$I$2,MATCH(J$195,index!$I$3:$I$50,0),MONTH(CF表!$B401)),J$21*J$13/J$196,0)),0)","v":0},{"$f":"IFERROR(IF($B401>K$15,0,IF(OFFSET(index!$I$2,MATCH(K$195,index!$I$3:$I$50,0),MONTH(CF表!$B401)),K$21*K$13/K$196,0)),0)","v":0},{"$f":"IFERROR(IF($B401>L$15,0,IF(OFFSET(index!$I$2,MATCH(L$195,index!$I$3:$I$50,0),MONTH(CF表!$B401)),L$21*L$13/L$196,0)),0)","v":0}]
[null,"2039-10-01",{"$f":"IFERROR(IF($B402>C$15,0,IF(OFFSET(index!$I$2,MATCH(C$195,index!$I$3:$I$50,0),MONTH(CF表!$B402)),C$21*C$13/C$196,0)),0)","v":0},{"$f":"IFERROR(IF($B402>D$15,0,IF(OFFSET(index!$I$2,MATCH(D$195,index!$I$3:$I$50,0),MONTH(CF表!$B402)),D$21*D$13/D$196,0)),0)","v":0},{"$f":"IFERROR(IF($B402>E$15,0,IF(OFFSET(index!$I$2,MATCH(E$195,index!$I$3:$I$50,0),MONTH(CF表!$B402)),E$21*E$13/E$196,0)),0)","v":0},{"$f":"IFERROR(IF($B402>F$15,0,IF(OFFSET(index!$I$2,MATCH(F$195,index!$I$3:$I$50,0),MONTH(CF表!$B402)),F$21*F$13/F$196,0)),0)","v":0},{"$f":"IFERROR(IF($B402>G$15,0,IF(OFFSET(index!$I$2,MATCH(G$195,index!$I$3:$I$50,0),MONTH(CF表!$B402)),G$21*G$13/G$196,0)),0)","v":0},{"$f":"IFERROR(IF($B402>H$15,0,IF(OFFSET(index!$I$2,MATCH(H$195,index!$I$3:$I$50,0),MONTH(CF表!$B402)),H$21*H$13/H$196,0)),0)","v":0},{"$f":"IFERROR(IF($B402>I$15,0,IF(OFFSET(index!$I$2,MATCH(I$195,index!$I$3:$I$50,0),MONTH(CF表!$B402)),I$21*I$13/I$196,0)),0)","v":0},{"$f":"IFERROR(IF($B402>J$15,0,IF(OFFSET(index!$I$2,MATCH(J$195,index!$I$3:$I$50,0),MONTH(CF表!$B402)),J$21*J$13/J$196,0)),0)","v":0},{"$f":"IFERROR(IF($B402>K$15,0,IF(OFFSET(index!$I$2,MATCH(K$195,index!$I$3:$I$50,0),MONTH(CF表!$B402)),K$21*K$13/K$196,0)),0)","v":0},{"$f":"IFERROR(IF($B402>L$15,0,IF(OFFSET(index!$I$2,MATCH(L$195,index!$I$3:$I$50,0),MONTH(CF表!$B402)),L$21*L$13/L$196,0)),0)","v":0}]
[null,"2039-11-01",{"$f":"IFERROR(IF($B403>C$15,0,IF(OFFSET(index!$I$2,MATCH(C$195,index!$I$3:$I$50,0),MONTH(CF表!$B403)),C$21*C$13/C$196,0)),0)","v":0},{"$f":"IFERROR(IF($B403>D$15,0,IF(OFFSET(index!$I$2,MATCH(D$195,index!$I$3:$I$50,0),MONTH(CF表!$B403)),D$21*D$13/D$196,0)),0)","v":0},{"$f":"IFERROR(IF($B403>E$15,0,IF(OFFSET(index!$I$2,MATCH(E$195,index!$I$3:$I$50,0),MONTH(CF表!$B403)),E$21*E$13/E$196,0)),0)","v":0},{"$f":"IFERROR(IF($B403>F$15,0,IF(OFFSET(index!$I$2,MATCH(F$195,index!$I$3:$I$50,0),MONTH(CF表!$B403)),F$21*F$13/F$196,0)),0)","v":0},{"$f":"IFERROR(IF($B403>G$15,0,IF(OFFSET(index!$I$2,MATCH(G$195,index!$I$3:$I$50,0),MONTH(CF表!$B403)),G$21*G$13/G$196,0)),0)","v":0},{"$f":"IFERROR(IF($B403>H$15,0,IF(OFFSET(index!$I$2,MATCH(H$195,index!$I$3:$I$50,0),MONTH(CF表!$B403)),H$21*H$13/H$196,0)),0)","v":0},{"$f":"IFERROR(IF($B403>I$15,0,IF(OFFSET(index!$I$2,MATCH(I$195,index!$I$3:$I$50,0),MONTH(CF表!$B403)),I$21*I$13/I$196,0)),0)","v":0},{"$f":"IFERROR(IF($B403>J$15,0,IF(OFFSET(index!$I$2,MATCH(J$195,index!$I$3:$I$50,0),MONTH(CF表!$B403)),J$21*J$13/J$196,0)),0)","v":0},{"$f":"IFERROR(IF($B403>K$15,0,IF(OFFSET(index!$I$2,MATCH(K$195,index!$I$3:$I$50,0),MONTH(CF表!$B403)),K$21*K$13/K$196,0)),0)","v":0},{"$f":"IFERROR(IF($B403>L$15,0,IF(OFFSET(index!$I$2,MATCH(L$195,index!$I$3:$I$50,0),MONTH(CF表!$B403)),L$21*L$13/L$196,0)),0)","v":0}]
[null,"2039-12-01",{"$f":"IFERROR(IF($B404>C$15,0,IF(OFFSET(index!$I$2,MATCH(C$195,index!$I$3:$I$50,0),MONTH(CF表!$B404)),C$21*C$13/C$196,0)),0)","v":0},{"$f":"IFERROR(IF($B404>D$15,0,IF(OFFSET(index!$I$2,MATCH(D$195,index!$I$3:$I$50,0),MONTH(CF表!$B404)),D$21*D$13/D$196,0)),0)","v":0},{"$f":"IFERROR(IF($B404>E$15,0,IF(OFFSET(index!$I$2,MATCH(E$195,index!$I$3:$I$50,0),MONTH(CF表!$B404)),E$21*E$13/E$196,0)),0)","v":0},{"$f":"IFERROR(IF($B404>F$15,0,IF(OFFSET(index!$I$2,MATCH(F$195,index!$I$3:$I$50,0),MONTH(CF表!$B404)),F$21*F$13/F$196,0)),0)","v":0},{"$f":"IFERROR(IF($B404>G$15,0,IF(OFFSET(index!$I$2,MATCH(G$195,index!$I$3:$I$50,0),MONTH(CF表!$B404)),G$21*G$13/G$196,0)),0)","v":0},{"$f":"IFERROR(IF($B404>H$15,0,IF(OFFSET(index!$I$2,MATCH(H$195,index!$I$3:$I$50,0),MONTH(CF表!$B404)),H$21*H$13/H$196,0)),0)","v":0},{"$f":"IFERROR(IF($B404>I$15,0,IF(OFFSET(index!$I$2,MATCH(I$195,index!$I$3:$I$50,0),MONTH(CF表!$B404)),I$21*I$13/I$196,0)),0)","v":0},{"$f":"IFERROR(IF($B404>J$15,0,IF(OFFSET(index!$I$2,MATCH(J$195,index!$I$3:$I$50,0),MONTH(CF表!$B404)),J$21*J$13/J$196,0)),0)","v":0},{"$f":"IFERROR(IF($B404>K$15,0,IF(OFFSET(index!$I$2,MATCH(K$195,index!$I$3:$I$50,0),MONTH(CF表!$B404)),K$21*K$13/K$196,0)),0)","v":0},{"$f":"IFERROR(IF($B404>L$15,0,IF(OFFSET(index!$I$2,MATCH(L$195,index!$I$3:$I$50,0),MONTH(CF表!$B404)),L$21*L$13/L$196,0)),0)","v":0}]
[null,"2040-01-01",{"$f":"IFERROR(IF($B405>C$15,0,IF(OFFSET(index!$I$2,MATCH(C$195,index!$I$3:$I$50,0),MONTH(CF表!$B405)),C$21*C$13/C$196,0)),0)","v":0},{"$f":"IFERROR(IF($B405>D$15,0,IF(OFFSET(index!$I$2,MATCH(D$195,index!$I$3:$I$50,0),MONTH(CF表!$B405)),D$21*D$13/D$196,0)),0)","v":0},{"$f":"IFERROR(IF($B405>E$15,0,IF(OFFSET(index!$I$2,MATCH(E$195,index!$I$3:$I$50,0),MONTH(CF表!$B405)),E$21*E$13/E$196,0)),0)","v":0},{"$f":"IFERROR(IF($B405>F$15,0,IF(OFFSET(index!$I$2,MATCH(F$195,index!$I$3:$I$50,0),MONTH(CF表!$B405)),F$21*F$13/F$196,0)),0)","v":0},{"$f":"IFERROR(IF($B405>G$15,0,IF(OFFSET(index!$I$2,MATCH(G$195,index!$I$3:$I$50,0),MONTH(CF表!$B405)),G$21*G$13/G$196,0)),0)","v":0},{"$f":"IFERROR(IF($B405>H$15,0,IF(OFFSET(index!$I$2,MATCH(H$195,index!$I$3:$I$50,0),MONTH(CF表!$B405)),H$21*H$13/H$196,0)),0)","v":0},{"$f":"IFERROR(IF($B405>I$15,0,IF(OFFSET(index!$I$2,MATCH(I$195,index!$I$3:$I$50,0),MONTH(CF表!$B405)),I$21*I$13/I$196,0)),0)","v":0},{"$f":"IFERROR(IF($B405>J$15,0,IF(OFFSET(index!$I$2,MATCH(J$195,index!$I$3:$I$50,0),MONTH(CF表!$B405)),J$21*J$13/J$196,0)),0)","v":0},{"$f":"IFERROR(IF($B405>K$15,0,IF(OFFSET(index!$I$2,MATCH(K$195,index!$I$3:$I$50,0),MONTH(CF表!$B405)),K$21*K$13/K$196,0)),0)","v":0},{"$f":"IFERROR(IF($B405>L$15,0,IF(OFFSET(index!$I$2,MATCH(L$195,index!$I$3:$I$50,0),MONTH(CF表!$B405)),L$21*L$13/L$196,0)),0)","v":0}]
[null,"2040-02-01",{"$f":"IFERROR(IF($B406>C$15,0,IF(OFFSET(index!$I$2,MATCH(C$195,index!$I$3:$I$50,0),MONTH(CF表!$B406)),C$21*C$13/C$196,0)),0)","v":0},{"$f":"IFERROR(IF($B406>D$15,0,IF(OFFSET(index!$I$2,MATCH(D$195,index!$I$3:$I$50,0),MONTH(CF表!$B406)),D$21*D$13/D$196,0)),0)","v":0},{"$f":"IFERROR(IF($B406>E$15,0,IF(OFFSET(index!$I$2,MATCH(E$195,index!$I$3:$I$50,0),MONTH(CF表!$B406)),E$21*E$13/E$196,0)),0)","v":0},{"$f":"IFERROR(IF($B406>F$15,0,IF(OFFSET(index!$I$2,MATCH(F$195,index!$I$3:$I$50,0),MONTH(CF表!$B406)),F$21*F$13/F$196,0)),0)","v":0},{"$f":"IFERROR(IF($B406>G$15,0,IF(OFFSET(index!$I$2,MATCH(G$195,index!$I$3:$I$50,0),MONTH(CF表!$B406)),G$21*G$13/G$196,0)),0)","v":0},{"$f":"IFERROR(IF($B406>H$15,0,IF(OFFSET(index!$I$2,MATCH(H$195,index!$I$3:$I$50,0),MONTH(CF表!$B406)),H$21*H$13/H$196,0)),0)","v":0},{"$f":"IFERROR(IF($B406>I$15,0,IF(OFFSET(index!$I$2,MATCH(I$195,index!$I$3:$I$50,0),MONTH(CF表!$B406)),I$21*I$13/I$196,0)),0)","v":0},{"$f":"IFERROR(IF($B406>J$15,0,IF(OFFSET(index!$I$2,MATCH(J$195,index!$I$3:$I$50,0),MONTH(CF表!$B406)),J$21*J$13/J$196,0)),0)","v":0},{"$f":"IFERROR(IF($B406>K$15,0,IF(OFFSET(index!$I$2,MATCH(K$195,index!$I$3:$I$50,0),MONTH(CF表!$B406)),K$21*K$13/K$196,0)),0)","v":0},{"$f":"IFERROR(IF($B406>L$15,0,IF(OFFSET(index!$I$2,MATCH(L$195,index!$I$3:$I$50,0),MONTH(CF表!$B406)),L$21*L$13/L$196,0)),0)","v":0}]
[null,"2040-03-01",{"$f":"IFERROR(IF($B407>C$15,0,IF(OFFSET(index!$I$2,MATCH(C$195,index!$I$3:$I$50,0),MONTH(CF表!$B407)),C$21*C$13/C$196,0)),0)","v":0},{"$f":"IFERROR(IF($B407>D$15,0,IF(OFFSET(index!$I$2,MATCH(D$195,index!$I$3:$I$50,0),MONTH(CF表!$B407)),D$21*D$13/D$196,0)),0)","v":0},{"$f":"IFERROR(IF($B407>E$15,0,IF(OFFSET(index!$I$2,MATCH(E$195,index!$I$3:$I$50,0),MONTH(CF表!$B407)),E$21*E$13/E$196,0)),0)","v":0},{"$f":"IFERROR(IF($B407>F$15,0,IF(OFFSET(index!$I$2,MATCH(F$195,index!$I$3:$I$50,0),MONTH(CF表!$B407)),F$21*F$13/F$196,0)),0)","v":0},{"$f":"IFERROR(IF($B407>G$15,0,IF(OFFSET(index!$I$2,MATCH(G$195,index!$I$3:$I$50,0),MONTH(CF表!$B407)),G$21*G$13/G$196,0)),0)","v":0},{"$f":"IFERROR(IF($B407>H$15,0,IF(OFFSET(index!$I$2,MATCH(H$195,index!$I$3:$I$50,0),MONTH(CF表!$B407)),H$21*H$13/H$196,0)),0)","v":0},{"$f":"IFERROR(IF($B407>I$15,0,IF(OFFSET(index!$I$2,MATCH(I$195,index!$I$3:$I$50,0),MONTH(CF表!$B407)),I$21*I$13/I$196,0)),0)","v":0},{"$f":"IFERROR(IF($B407>J$15,0,IF(OFFSET(index!$I$2,MATCH(J$195,index!$I$3:$I$50,0),MONTH(CF表!$B407)),J$21*J$13/J$196,0)),0)","v":0},{"$f":"IFERROR(IF($B407>K$15,0,IF(OFFSET(index!$I$2,MATCH(K$195,index!$I$3:$I$50,0),MONTH(CF表!$B407)),K$21*K$13/K$196,0)),0)","v":0},{"$f":"IFERROR(IF($B407>L$15,0,IF(OFFSET(index!$I$2,MATCH(L$195,index!$I$3:$I$50,0),MONTH(CF表!$B407)),L$21*L$13/L$196,0)),0)","v":0}]
[null,"2040-04-01",{"$f":"IFERROR(IF($B408>C$15,0,IF(OFFSET(index!$I$2,MATCH(C$195,index!$I$3:$I$50,0),MONTH(CF表!$B408)),C$21*C$13/C$196,0)),0)","v":0},{"$f":"IFERROR(IF($B408>D$15,0,IF(OFFSET(index!$I$2,MATCH(D$195,index!$I$3:$I$50,0),MONTH(CF表!$B408)),D$21*D$13/D$196,0)),0)","v":0},{"$f":"IFERROR(IF($B408>E$15,0,IF(OFFSET(index!$I$2,MATCH(E$195,index!$I$3:$I$50,0),MONTH(CF表!$B408)),E$21*E$13/E$196,0)),0)","v":0},{"$f":"IFERROR(IF($B408>F$15,0,IF(OFFSET(index!$I$2,MATCH(F$195,index!$I$3:$I$50,0),MONTH(CF表!$B408)),F$21*F$13/F$196,0)),0)","v":0},{"$f":"IFERROR(IF($B408>G$15,0,IF(OFFSET(index!$I$2,MATCH(G$195,index!$I$3:$I$50,0),MONTH(CF表!$B408)),G$21*G$13/G$196,0)),0)","v":0},{"$f":"IFERROR(IF($B408>H$15,0,IF(OFFSET(index!$I$2,MATCH(H$195,index!$I$3:$I$50,0),MONTH(CF表!$B408)),H$21*H$13/H$196,0)),0)","v":0},{"$f":"IFERROR(IF($B408>I$15,0,IF(OFFSET(index!$I$2,MATCH(I$195,index!$I$3:$I$50,0),MONTH(CF表!$B408)),I$21*I$13/I$196,0)),0)","v":0},{"$f":"IFERROR(IF($B408>J$15,0,IF(OFFSET(index!$I$2,MATCH(J$195,index!$I$3:$I$50,0),MONTH(CF表!$B408)),J$21*J$13/J$196,0)),0)","v":0},{"$f":"IFERROR(IF($B408>K$15,0,IF(OFFSET(index!$I$2,MATCH(K$195,index!$I$3:$I$50,0),MONTH(CF表!$B408)),K$21*K$13/K$196,0)),0)","v":0},{"$f":"IFERROR(IF($B408>L$15,0,IF(OFFSET(index!$I$2,MATCH(L$195,index!$I$3:$I$50,0),MONTH(CF表!$B408)),L$21*L$13/L$196,0)),0)","v":0}]
[null,"2040-05-01",{"$f":"IFERROR(IF($B409>C$15,0,IF(OFFSET(index!$I$2,MATCH(C$195,index!$I$3:$I$50,0),MONTH(CF表!$B409)),C$21*C$13/C$196,0)),0)","v":0},{"$f":"IFERROR(IF($B409>D$15,0,IF(OFFSET(index!$I$2,MATCH(D$195,index!$I$3:$I$50,0),MONTH(CF表!$B409)),D$21*D$13/D$196,0)),0)","v":0},{"$f":"IFERROR(IF($B409>E$15,0,IF(OFFSET(index!$I$2,MATCH(E$195,index!$I$3:$I$50,0),MONTH(CF表!$B409)),E$21*E$13/E$196,0)),0)","v":0},{"$f":"IFERROR(IF($B409>F$15,0,IF(OFFSET(index!$I$2,MATCH(F$195,index!$I$3:$I$50,0),MONTH(CF表!$B409)),F$21*F$13/F$196,0)),0)","v":0},{"$f":"IFERROR(IF($B409>G$15,0,IF(OFFSET(index!$I$2,MATCH(G$195,index!$I$3:$I$50,0),MONTH(CF表!$B409)),G$21*G$13/G$196,0)),0)","v":0},{"$f":"IFERROR(IF($B409>H$15,0,IF(OFFSET(index!$I$2,MATCH(H$195,index!$I$3:$I$50,0),MONTH(CF表!$B409)),H$21*H$13/H$196,0)),0)","v":0},{"$f":"IFERROR(IF($B409>I$15,0,IF(OFFSET(index!$I$2,MATCH(I$195,index!$I$3:$I$50,0),MONTH(CF表!$B409)),I$21*I$13/I$196,0)),0)","v":0},{"$f":"IFERROR(IF($B409>J$15,0,IF(OFFSET(index!$I$2,MATCH(J$195,index!$I$3:$I$50,0),MONTH(CF表!$B409)),J$21*J$13/J$196,0)),0)","v":0},{"$f":"IFERROR(IF($B409>K$15,0,IF(OFFSET(index!$I$2,MATCH(K$195,index!$I$3:$I$50,0),MONTH(CF表!$B409)),K$21*K$13/K$196,0)),0)","v":0},{"$f":"IFERROR(IF($B409>L$15,0,IF(OFFSET(index!$I$2,MATCH(L$195,index!$I$3:$I$50,0),MONTH(CF表!$B409)),L$21*L$13/L$196,0)),0)","v":0}]
[null,"2040-06-01",{"$f":"IFERROR(IF($B410>C$15,0,IF(OFFSET(index!$I$2,MATCH(C$195,index!$I$3:$I$50,0),MONTH(CF表!$B410)),C$21*C$13/C$196,0)),0)","v":0},{"$f":"IFERROR(IF($B410>D$15,0,IF(OFFSET(index!$I$2,MATCH(D$195,index!$I$3:$I$50,0),MONTH(CF表!$B410)),D$21*D$13/D$196,0)),0)","v":0},{"$f":"IFERROR(IF($B410>E$15,0,IF(OFFSET(index!$I$2,MATCH(E$195,index!$I$3:$I$50,0),MONTH(CF表!$B410)),E$21*E$13/E$196,0)),0)","v":0},{"$f":"IFERROR(IF($B410>F$15,0,IF(OFFSET(index!$I$2,MATCH(F$195,index!$I$3:$I$50,0),MONTH(CF表!$B410)),F$21*F$13/F$196,0)),0)","v":0},{"$f":"IFERROR(IF($B410>G$15,0,IF(OFFSET(index!$I$2,MATCH(G$195,index!$I$3:$I$50,0),MONTH(CF表!$B410)),G$21*G$13/G$196,0)),0)","v":0},{"$f":"IFERROR(IF($B410>H$15,0,IF(OFFSET(index!$I$2,MATCH(H$195,index!$I$3:$I$50,0),MONTH(CF表!$B410)),H$21*H$13/H$196,0)),0)","v":0},{"$f":"IFERROR(IF($B410>I$15,0,IF(OFFSET(index!$I$2,MATCH(I$195,index!$I$3:$I$50,0),MONTH(CF表!$B410)),I$21*I$13/I$196,0)),0)","v":0},{"$f":"IFERROR(IF($B410>J$15,0,IF(OFFSET(index!$I$2,MATCH(J$195,index!$I$3:$I$50,0),MONTH(CF表!$B410)),J$21*J$13/J$196,0)),0)","v":0},{"$f":"IFERROR(IF($B410>K$15,0,IF(OFFSET(index!$I$2,MATCH(K$195,index!$I$3:$I$50,0),MONTH(CF表!$B410)),K$21*K$13/K$196,0)),0)","v":0},{"$f":"IFERROR(IF($B410>L$15,0,IF(OFFSET(index!$I$2,MATCH(L$195,index!$I$3:$I$50,0),MONTH(CF表!$B410)),L$21*L$13/L$196,0)),0)","v":0}]
[null,"2040-07-01",{"$f":"IFERROR(IF($B411>C$15,0,IF(OFFSET(index!$I$2,MATCH(C$195,index!$I$3:$I$50,0),MONTH(CF表!$B411)),C$21*C$13/C$196,0)),0)","v":0},{"$f":"IFERROR(IF($B411>D$15,0,IF(OFFSET(index!$I$2,MATCH(D$195,index!$I$3:$I$50,0),MONTH(CF表!$B411)),D$21*D$13/D$196,0)),0)","v":0},{"$f":"IFERROR(IF($B411>E$15,0,IF(OFFSET(index!$I$2,MATCH(E$195,index!$I$3:$I$50,0),MONTH(CF表!$B411)),E$21*E$13/E$196,0)),0)","v":0},{"$f":"IFERROR(IF($B411>F$15,0,IF(OFFSET(index!$I$2,MATCH(F$195,index!$I$3:$I$50,0),MONTH(CF表!$B411)),F$21*F$13/F$196,0)),0)","v":0},{"$f":"IFERROR(IF($B411>G$15,0,IF(OFFSET(index!$I$2,MATCH(G$195,index!$I$3:$I$50,0),MONTH(CF表!$B411)),G$21*G$13/G$196,0)),0)","v":0},{"$f":"IFERROR(IF($B411>H$15,0,IF(OFFSET(index!$I$2,MATCH(H$195,index!$I$3:$I$50,0),MONTH(CF表!$B411)),H$21*H$13/H$196,0)),0)","v":0},{"$f":"IFERROR(IF($B411>I$15,0,IF(OFFSET(index!$I$2,MATCH(I$195,index!$I$3:$I$50,0),MONTH(CF表!$B411)),I$21*I$13/I$196,0)),0)","v":0},{"$f":"IFERROR(IF($B411>J$15,0,IF(OFFSET(index!$I$2,MATCH(J$195,index!$I$3:$I$50,0),MONTH(CF表!$B411)),J$21*J$13/J$196,0)),0)","v":0},{"$f":"IFERROR(IF($B411>K$15,0,IF(OFFSET(index!$I$2,MATCH(K$195,index!$I$3:$I$50,0),MONTH(CF表!$B411)),K$21*K$13/K$196,0)),0)","v":0},{"$f":"IFERROR(IF($B411>L$15,0,IF(OFFSET(index!$I$2,MATCH(L$195,index!$I$3:$I$50,0),MONTH(CF表!$B411)),L$21*L$13/L$196,0)),0)","v":0}]
[null,"2040-08-01",{"$f":"IFERROR(IF($B412>C$15,0,IF(OFFSET(index!$I$2,MATCH(C$195,index!$I$3:$I$50,0),MONTH(CF表!$B412)),C$21*C$13/C$196,0)),0)","v":0},{"$f":"IFERROR(IF($B412>D$15,0,IF(OFFSET(index!$I$2,MATCH(D$195,index!$I$3:$I$50,0),MONTH(CF表!$B412)),D$21*D$13/D$196,0)),0)","v":0},{"$f":"IFERROR(IF($B412>E$15,0,IF(OFFSET(index!$I$2,MATCH(E$195,index!$I$3:$I$50,0),MONTH(CF表!$B412)),E$21*E$13/E$196,0)),0)","v":0},{"$f":"IFERROR(IF($B412>F$15,0,IF(OFFSET(index!$I$2,MATCH(F$195,index!$I$3:$I$50,0),MONTH(CF表!$B412)),F$21*F$13/F$196,0)),0)","v":0},{"$f":"IFERROR(IF($B412>G$15,0,IF(OFFSET(index!$I$2,MATCH(G$195,index!$I$3:$I$50,0),MONTH(CF表!$B412)),G$21*G$13/G$196,0)),0)","v":0},{"$f":"IFERROR(IF($B412>H$15,0,IF(OFFSET(index!$I$2,MATCH(H$195,index!$I$3:$I$50,0),MONTH(CF表!$B412)),H$21*H$13/H$196,0)),0)","v":0},{"$f":"IFERROR(IF($B412>I$15,0,IF(OFFSET(index!$I$2,MATCH(I$195,index!$I$3:$I$50,0),MONTH(CF表!$B412)),I$21*I$13/I$196,0)),0)","v":0},{"$f":"IFERROR(IF($B412>J$15,0,IF(OFFSET(index!$I$2,MATCH(J$195,index!$I$3:$I$50,0),MONTH(CF表!$B412)),J$21*J$13/J$196,0)),0)","v":0},{"$f":"IFERROR(IF($B412>K$15,0,IF(OFFSET(index!$I$2,MATCH(K$195,index!$I$3:$I$50,0),MONTH(CF表!$B412)),K$21*K$13/K$196,0)),0)","v":0},{"$f":"IFERROR(IF($B412>L$15,0,IF(OFFSET(index!$I$2,MATCH(L$195,index!$I$3:$I$50,0),MONTH(CF表!$B412)),L$21*L$13/L$196,0)),0)","v":0}]
[null,"2040-09-01",{"$f":"IFERROR(IF($B413>C$15,0,IF(OFFSET(index!$I$2,MATCH(C$195,index!$I$3:$I$50,0),MONTH(CF表!$B413)),C$21*C$13/C$196,0)),0)","v":0},{"$f":"IFERROR(IF($B413>D$15,0,IF(OFFSET(index!$I$2,MATCH(D$195,index!$I$3:$I$50,0),MONTH(CF表!$B413)),D$21*D$13/D$196,0)),0)","v":0},{"$f":"IFERROR(IF($B413>E$15,0,IF(OFFSET(index!$I$2,MATCH(E$195,index!$I$3:$I$50,0),MONTH(CF表!$B413)),E$21*E$13/E$196,0)),0)","v":0},{"$f":"IFERROR(IF($B413>F$15,0,IF(OFFSET(index!$I$2,MATCH(F$195,index!$I$3:$I$50,0),MONTH(CF表!$B413)),F$21*F$13/F$196,0)),0)","v":0},{"$f":"IFERROR(IF($B413>G$15,0,IF(OFFSET(index!$I$2,MATCH(G$195,index!$I$3:$I$50,0),MONTH(CF表!$B413)),G$21*G$13/G$196,0)),0)","v":0},{"$f":"IFERROR(IF($B413>H$15,0,IF(OFFSET(index!$I$2,MATCH(H$195,index!$I$3:$I$50,0),MONTH(CF表!$B413)),H$21*H$13/H$196,0)),0)","v":0},{"$f":"IFERROR(IF($B413>I$15,0,IF(OFFSET(index!$I$2,MATCH(I$195,index!$I$3:$I$50,0),MONTH(CF表!$B413)),I$21*I$13/I$196,0)),0)","v":0},{"$f":"IFERROR(IF($B413>J$15,0,IF(OFFSET(index!$I$2,MATCH(J$195,index!$I$3:$I$50,0),MONTH(CF表!$B413)),J$21*J$13/J$196,0)),0)","v":0},{"$f":"IFERROR(IF($B413>K$15,0,IF(OFFSET(index!$I$2,MATCH(K$195,index!$I$3:$I$50,0),MONTH(CF表!$B413)),K$21*K$13/K$196,0)),0)","v":0},{"$f":"IFERROR(IF($B413>L$15,0,IF(OFFSET(index!$I$2,MATCH(L$195,index!$I$3:$I$50,0),MONTH(CF表!$B413)),L$21*L$13/L$196,0)),0)","v":0}]
[null,"2040-10-01",{"$f":"IFERROR(IF($B414>C$15,0,IF(OFFSET(index!$I$2,MATCH(C$195,index!$I$3:$I$50,0),MONTH(CF表!$B414)),C$21*C$13/C$196,0)),0)","v":0},{"$f":"IFERROR(IF($B414>D$15,0,IF(OFFSET(index!$I$2,MATCH(D$195,index!$I$3:$I$50,0),MONTH(CF表!$B414)),D$21*D$13/D$196,0)),0)","v":0},{"$f":"IFERROR(IF($B414>E$15,0,IF(OFFSET(index!$I$2,MATCH(E$195,index!$I$3:$I$50,0),MONTH(CF表!$B414)),E$21*E$13/E$196,0)),0)","v":0},{"$f":"IFERROR(IF($B414>F$15,0,IF(OFFSET(index!$I$2,MATCH(F$195,index!$I$3:$I$50,0),MONTH(CF表!$B414)),F$21*F$13/F$196,0)),0)","v":0},{"$f":"IFERROR(IF($B414>G$15,0,IF(OFFSET(index!$I$2,MATCH(G$195,index!$I$3:$I$50,0),MONTH(CF表!$B414)),G$21*G$13/G$196,0)),0)","v":0},{"$f":"IFERROR(IF($B414>H$15,0,IF(OFFSET(index!$I$2,MATCH(H$195,index!$I$3:$I$50,0),MONTH(CF表!$B414)),H$21*H$13/H$196,0)),0)","v":0},{"$f":"IFERROR(IF($B414>I$15,0,IF(OFFSET(index!$I$2,MATCH(I$195,index!$I$3:$I$50,0),MONTH(CF表!$B414)),I$21*I$13/I$196,0)),0)","v":0},{"$f":"IFERROR(IF($B414>J$15,0,IF(OFFSET(index!$I$2,MATCH(J$195,index!$I$3:$I$50,0),MONTH(CF表!$B414)),J$21*J$13/J$196,0)),0)","v":0},{"$f":"IFERROR(IF($B414>K$15,0,IF(OFFSET(index!$I$2,MATCH(K$195,index!$I$3:$I$50,0),MONTH(CF表!$B414)),K$21*K$13/K$196,0)),0)","v":0},{"$f":"IFERROR(IF($B414>L$15,0,IF(OFFSET(index!$I$2,MATCH(L$195,index!$I$3:$I$50,0),MONTH(CF表!$B414)),L$21*L$13/L$196,0)),0)","v":0}]
[null,"2040-11-01",{"$f":"IFERROR(IF($B415>C$15,0,IF(OFFSET(index!$I$2,MATCH(C$195,index!$I$3:$I$50,0),MONTH(CF表!$B415)),C$21*C$13/C$196,0)),0)","v":0},{"$f":"IFERROR(IF($B415>D$15,0,IF(OFFSET(index!$I$2,MATCH(D$195,index!$I$3:$I$50,0),MONTH(CF表!$B415)),D$21*D$13/D$196,0)),0)","v":0},{"$f":"IFERROR(IF($B415>E$15,0,IF(OFFSET(index!$I$2,MATCH(E$195,index!$I$3:$I$50,0),MONTH(CF表!$B415)),E$21*E$13/E$196,0)),0)","v":0},{"$f":"IFERROR(IF($B415>F$15,0,IF(OFFSET(index!$I$2,MATCH(F$195,index!$I$3:$I$50,0),MONTH(CF表!$B415)),F$21*F$13/F$196,0)),0)","v":0},{"$f":"IFERROR(IF($B415>G$15,0,IF(OFFSET(index!$I$2,MATCH(G$195,index!$I$3:$I$50,0),MONTH(CF表!$B415)),G$21*G$13/G$196,0)),0)","v":0},{"$f":"IFERROR(IF($B415>H$15,0,IF(OFFSET(index!$I$2,MATCH(H$195,index!$I$3:$I$50,0),MONTH(CF表!$B415)),H$21*H$13/H$196,0)),0)","v":0},{"$f":"IFERROR(IF($B415>I$15,0,IF(OFFSET(index!$I$2,MATCH(I$195,index!$I$3:$I$50,0),MONTH(CF表!$B415)),I$21*I$13/I$196,0)),0)","v":0},{"$f":"IFERROR(IF($B415>J$15,0,IF(OFFSET(index!$I$2,MATCH(J$195,index!$I$3:$I$50,0),MONTH(CF表!$B415)),J$21*J$13/J$196,0)),0)","v":0},{"$f":"IFERROR(IF($B415>K$15,0,IF(OFFSET(index!$I$2,MATCH(K$195,index!$I$3:$I$50,0),MONTH(CF表!$B415)),K$21*K$13/K$196,0)),0)","v":0},{"$f":"IFERROR(IF($B415>L$15,0,IF(OFFSET(index!$I$2,MATCH(L$195,index!$I$3:$I$50,0),MONTH(CF表!$B415)),L$21*L$13/L$196,0)),0)","v":0}]
[null,"2040-12-01",{"$f":"IFERROR(IF($B416>C$15,0,IF(OFFSET(index!$I$2,MATCH(C$195,index!$I$3:$I$50,0),MONTH(CF表!$B416)),C$21*C$13/C$196,0)),0)","v":0},{"$f":"IFERROR(IF($B416>D$15,0,IF(OFFSET(index!$I$2,MATCH(D$195,index!$I$3:$I$50,0),MONTH(CF表!$B416)),D$21*D$13/D$196,0)),0)","v":0},{"$f":"IFERROR(IF($B416>E$15,0,IF(OFFSET(index!$I$2,MATCH(E$195,index!$I$3:$I$50,0),MONTH(CF表!$B416)),E$21*E$13/E$196,0)),0)","v":0},{"$f":"IFERROR(IF($B416>F$15,0,IF(OFFSET(index!$I$2,MATCH(F$195,index!$I$3:$I$50,0),MONTH(CF表!$B416)),F$21*F$13/F$196,0)),0)","v":0},{"$f":"IFERROR(IF($B416>G$15,0,IF(OFFSET(index!$I$2,MATCH(G$195,index!$I$3:$I$50,0),MONTH(CF表!$B416)),G$21*G$13/G$196,0)),0)","v":0},{"$f":"IFERROR(IF($B416>H$15,0,IF(OFFSET(index!$I$2,MATCH(H$195,index!$I$3:$I$50,0),MONTH(CF表!$B416)),H$21*H$13/H$196,0)),0)","v":0},{"$f":"IFERROR(IF($B416>I$15,0,IF(OFFSET(index!$I$2,MATCH(I$195,index!$I$3:$I$50,0),MONTH(CF表!$B416)),I$21*I$13/I$196,0)),0)","v":0},{"$f":"IFERROR(IF($B416>J$15,0,IF(OFFSET(index!$I$2,MATCH(J$195,index!$I$3:$I$50,0),MONTH(CF表!$B416)),J$21*J$13/J$196,0)),0)","v":0},{"$f":"IFERROR(IF($B416>K$15,0,IF(OFFSET(index!$I$2,MATCH(K$195,index!$I$3:$I$50,0),MONTH(CF表!$B416)),K$21*K$13/K$196,0)),0)","v":0},{"$f":"IFERROR(IF($B416>L$15,0,IF(OFFSET(index!$I$2,MATCH(L$195,index!$I$3:$I$50,0),MONTH(CF表!$B416)),L$21*L$13/L$196,0)),0)","v":0}]
[null,"2041-01-01",{"$f":"IFERROR(IF($B417>C$15,0,IF(OFFSET(index!$I$2,MATCH(C$195,index!$I$3:$I$50,0),MONTH(CF表!$B417)),C$21*C$13/C$196,0)),0)","v":0},{"$f":"IFERROR(IF($B417>D$15,0,IF(OFFSET(index!$I$2,MATCH(D$195,index!$I$3:$I$50,0),MONTH(CF表!$B417)),D$21*D$13/D$196,0)),0)","v":0},{"$f":"IFERROR(IF($B417>E$15,0,IF(OFFSET(index!$I$2,MATCH(E$195,index!$I$3:$I$50,0),MONTH(CF表!$B417)),E$21*E$13/E$196,0)),0)","v":0},{"$f":"IFERROR(IF($B417>F$15,0,IF(OFFSET(index!$I$2,MATCH(F$195,index!$I$3:$I$50,0),MONTH(CF表!$B417)),F$21*F$13/F$196,0)),0)","v":0},{"$f":"IFERROR(IF($B417>G$15,0,IF(OFFSET(index!$I$2,MATCH(G$195,index!$I$3:$I$50,0),MONTH(CF表!$B417)),G$21*G$13/G$196,0)),0)","v":0},{"$f":"IFERROR(IF($B417>H$15,0,IF(OFFSET(index!$I$2,MATCH(H$195,index!$I$3:$I$50,0),MONTH(CF表!$B417)),H$21*H$13/H$196,0)),0)","v":0},{"$f":"IFERROR(IF($B417>I$15,0,IF(OFFSET(index!$I$2,MATCH(I$195,index!$I$3:$I$50,0),MONTH(CF表!$B417)),I$21*I$13/I$196,0)),0)","v":0},{"$f":"IFERROR(IF($B417>J$15,0,IF(OFFSET(index!$I$2,MATCH(J$195,index!$I$3:$I$50,0),MONTH(CF表!$B417)),J$21*J$13/J$196,0)),0)","v":0},{"$f":"IFERROR(IF($B417>K$15,0,IF(OFFSET(index!$I$2,MATCH(K$195,index!$I$3:$I$50,0),MONTH(CF表!$B417)),K$21*K$13/K$196,0)),0)","v":0},{"$f":"IFERROR(IF($B417>L$15,0,IF(OFFSET(index!$I$2,MATCH(L$195,index!$I$3:$I$50,0),MONTH(CF表!$B417)),L$21*L$13/L$196,0)),0)","v":0}]
[null,"2041-02-01",{"$f":"IFERROR(IF($B418>C$15,0,IF(OFFSET(index!$I$2,MATCH(C$195,index!$I$3:$I$50,0),MONTH(CF表!$B418)),C$21*C$13/C$196,0)),0)","v":0},{"$f":"IFERROR(IF($B418>D$15,0,IF(OFFSET(index!$I$2,MATCH(D$195,index!$I$3:$I$50,0),MONTH(CF表!$B418)),D$21*D$13/D$196,0)),0)","v":0},{"$f":"IFERROR(IF($B418>E$15,0,IF(OFFSET(index!$I$2,MATCH(E$195,index!$I$3:$I$50,0),MONTH(CF表!$B418)),E$21*E$13/E$196,0)),0)","v":0},{"$f":"IFERROR(IF($B418>F$15,0,IF(OFFSET(index!$I$2,MATCH(F$195,index!$I$3:$I$50,0),MONTH(CF表!$B418)),F$21*F$13/F$196,0)),0)","v":0},{"$f":"IFERROR(IF($B418>G$15,0,IF(OFFSET(index!$I$2,MATCH(G$195,index!$I$3:$I$50,0),MONTH(CF表!$B418)),G$21*G$13/G$196,0)),0)","v":0},{"$f":"IFERROR(IF($B418>H$15,0,IF(OFFSET(index!$I$2,MATCH(H$195,index!$I$3:$I$50,0),MONTH(CF表!$B418)),H$21*H$13/H$196,0)),0)","v":0},{"$f":"IFERROR(IF($B418>I$15,0,IF(OFFSET(index!$I$2,MATCH(I$195,index!$I$3:$I$50,0),MONTH(CF表!$B418)),I$21*I$13/I$196,0)),0)","v":0},{"$f":"IFERROR(IF($B418>J$15,0,IF(OFFSET(index!$I$2,MATCH(J$195,index!$I$3:$I$50,0),MONTH(CF表!$B418)),J$21*J$13/J$196,0)),0)","v":0},{"$f":"IFERROR(IF($B418>K$15,0,IF(OFFSET(index!$I$2,MATCH(K$195,index!$I$3:$I$50,0),MONTH(CF表!$B418)),K$21*K$13/K$196,0)),0)","v":0},{"$f":"IFERROR(IF($B418>L$15,0,IF(OFFSET(index!$I$2,MATCH(L$195,index!$I$3:$I$50,0),MONTH(CF表!$B418)),L$21*L$13/L$196,0)),0)","v":0}]
[null,"2041-03-01",{"$f":"IFERROR(IF($B419>C$15,0,IF(OFFSET(index!$I$2,MATCH(C$195,index!$I$3:$I$50,0),MONTH(CF表!$B419)),C$21*C$13/C$196,0)),0)","v":0},{"$f":"IFERROR(IF($B419>D$15,0,IF(OFFSET(index!$I$2,MATCH(D$195,index!$I$3:$I$50,0),MONTH(CF表!$B419)),D$21*D$13/D$196,0)),0)","v":0},{"$f":"IFERROR(IF($B419>E$15,0,IF(OFFSET(index!$I$2,MATCH(E$195,index!$I$3:$I$50,0),MONTH(CF表!$B419)),E$21*E$13/E$196,0)),0)","v":0},{"$f":"IFERROR(IF($B419>F$15,0,IF(OFFSET(index!$I$2,MATCH(F$195,index!$I$3:$I$50,0),MONTH(CF表!$B419)),F$21*F$13/F$196,0)),0)","v":0},{"$f":"IFERROR(IF($B419>G$15,0,IF(OFFSET(index!$I$2,MATCH(G$195,index!$I$3:$I$50,0),MONTH(CF表!$B419)),G$21*G$13/G$196,0)),0)","v":0},{"$f":"IFERROR(IF($B419>H$15,0,IF(OFFSET(index!$I$2,MATCH(H$195,index!$I$3:$I$50,0),MONTH(CF表!$B419)),H$21*H$13/H$196,0)),0)","v":0},{"$f":"IFERROR(IF($B419>I$15,0,IF(OFFSET(index!$I$2,MATCH(I$195,index!$I$3:$I$50,0),MONTH(CF表!$B419)),I$21*I$13/I$196,0)),0)","v":0},{"$f":"IFERROR(IF($B419>J$15,0,IF(OFFSET(index!$I$2,MATCH(J$195,index!$I$3:$I$50,0),MONTH(CF表!$B419)),J$21*J$13/J$196,0)),0)","v":0},{"$f":"IFERROR(IF($B419>K$15,0,IF(OFFSET(index!$I$2,MATCH(K$195,index!$I$3:$I$50,0),MONTH(CF表!$B419)),K$21*K$13/K$196,0)),0)","v":0},{"$f":"IFERROR(IF($B419>L$15,0,IF(OFFSET(index!$I$2,MATCH(L$195,index!$I$3:$I$50,0),MONTH(CF表!$B419)),L$21*L$13/L$196,0)),0)","v":0}]
[null,"2041-04-01",{"$f":"IFERROR(IF($B420>C$15,0,IF(OFFSET(index!$I$2,MATCH(C$195,index!$I$3:$I$50,0),MONTH(CF表!$B420)),C$21*C$13/C$196,0)),0)","v":0},{"$f":"IFERROR(IF($B420>D$15,0,IF(OFFSET(index!$I$2,MATCH(D$195,index!$I$3:$I$50,0),MONTH(CF表!$B420)),D$21*D$13/D$196,0)),0)","v":0},{"$f":"IFERROR(IF($B420>E$15,0,IF(OFFSET(index!$I$2,MATCH(E$195,index!$I$3:$I$50,0),MONTH(CF表!$B420)),E$21*E$13/E$196,0)),0)","v":0},{"$f":"IFERROR(IF($B420>F$15,0,IF(OFFSET(index!$I$2,MATCH(F$195,index!$I$3:$I$50,0),MONTH(CF表!$B420)),F$21*F$13/F$196,0)),0)","v":0},{"$f":"IFERROR(IF($B420>G$15,0,IF(OFFSET(index!$I$2,MATCH(G$195,index!$I$3:$I$50,0),MONTH(CF表!$B420)),G$21*G$13/G$196,0)),0)","v":0},{"$f":"IFERROR(IF($B420>H$15,0,IF(OFFSET(index!$I$2,MATCH(H$195,index!$I$3:$I$50,0),MONTH(CF表!$B420)),H$21*H$13/H$196,0)),0)","v":0},{"$f":"IFERROR(IF($B420>I$15,0,IF(OFFSET(index!$I$2,MATCH(I$195,index!$I$3:$I$50,0),MONTH(CF表!$B420)),I$21*I$13/I$196,0)),0)","v":0},{"$f":"IFERROR(IF($B420>J$15,0,IF(OFFSET(index!$I$2,MATCH(J$195,index!$I$3:$I$50,0),MONTH(CF表!$B420)),J$21*J$13/J$196,0)),0)","v":0},{"$f":"IFERROR(IF($B420>K$15,0,IF(OFFSET(index!$I$2,MATCH(K$195,index!$I$3:$I$50,0),MONTH(CF表!$B420)),K$21*K$13/K$196,0)),0)","v":0},{"$f":"IFERROR(IF($B420>L$15,0,IF(OFFSET(index!$I$2,MATCH(L$195,index!$I$3:$I$50,0),MONTH(CF表!$B420)),L$21*L$13/L$196,0)),0)","v":0}]
[null,"2041-05-01",{"$f":"IFERROR(IF($B421>C$15,0,IF(OFFSET(index!$I$2,MATCH(C$195,index!$I$3:$I$50,0),MONTH(CF表!$B421)),C$21*C$13/C$196,0)),0)","v":0},{"$f":"IFERROR(IF($B421>D$15,0,IF(OFFSET(index!$I$2,MATCH(D$195,index!$I$3:$I$50,0),MONTH(CF表!$B421)),D$21*D$13/D$196,0)),0)","v":0},{"$f":"IFERROR(IF($B421>E$15,0,IF(OFFSET(index!$I$2,MATCH(E$195,index!$I$3:$I$50,0),MONTH(CF表!$B421)),E$21*E$13/E$196,0)),0)","v":0},{"$f":"IFERROR(IF($B421>F$15,0,IF(OFFSET(index!$I$2,MATCH(F$195,index!$I$3:$I$50,0),MONTH(CF表!$B421)),F$21*F$13/F$196,0)),0)","v":0},{"$f":"IFERROR(IF($B421>G$15,0,IF(OFFSET(index!$I$2,MATCH(G$195,index!$I$3:$I$50,0),MONTH(CF表!$B421)),G$21*G$13/G$196,0)),0)","v":0},{"$f":"IFERROR(IF($B421>H$15,0,IF(OFFSET(index!$I$2,MATCH(H$195,index!$I$3:$I$50,0),MONTH(CF表!$B421)),H$21*H$13/H$196,0)),0)","v":0},{"$f":"IFERROR(IF($B421>I$15,0,IF(OFFSET(index!$I$2,MATCH(I$195,index!$I$3:$I$50,0),MONTH(CF表!$B421)),I$21*I$13/I$196,0)),0)","v":0},{"$f":"IFERROR(IF($B421>J$15,0,IF(OFFSET(index!$I$2,MATCH(J$195,index!$I$3:$I$50,0),MONTH(CF表!$B421)),J$21*J$13/J$196,0)),0)","v":0},{"$f":"IFERROR(IF($B421>K$15,0,IF(OFFSET(index!$I$2,MATCH(K$195,index!$I$3:$I$50,0),MONTH(CF表!$B421)),K$21*K$13/K$196,0)),0)","v":0},{"$f":"IFERROR(IF($B421>L$15,0,IF(OFFSET(index!$I$2,MATCH(L$195,index!$I$3:$I$50,0),MONTH(CF表!$B421)),L$21*L$13/L$196,0)),0)","v":0}]
[null,"2041-06-01",{"$f":"IFERROR(IF($B422>C$15,0,IF(OFFSET(index!$I$2,MATCH(C$195,index!$I$3:$I$50,0),MONTH(CF表!$B422)),C$21*C$13/C$196,0)),0)","v":0},{"$f":"IFERROR(IF($B422>D$15,0,IF(OFFSET(index!$I$2,MATCH(D$195,index!$I$3:$I$50,0),MONTH(CF表!$B422)),D$21*D$13/D$196,0)),0)","v":0},{"$f":"IFERROR(IF($B422>E$15,0,IF(OFFSET(index!$I$2,MATCH(E$195,index!$I$3:$I$50,0),MONTH(CF表!$B422)),E$21*E$13/E$196,0)),0)","v":0},{"$f":"IFERROR(IF($B422>F$15,0,IF(OFFSET(index!$I$2,MATCH(F$195,index!$I$3:$I$50,0),MONTH(CF表!$B422)),F$21*F$13/F$196,0)),0)","v":0},{"$f":"IFERROR(IF($B422>G$15,0,IF(OFFSET(index!$I$2,MATCH(G$195,index!$I$3:$I$50,0),MONTH(CF表!$B422)),G$21*G$13/G$196,0)),0)","v":0},{"$f":"IFERROR(IF($B422>H$15,0,IF(OFFSET(index!$I$2,MATCH(H$195,index!$I$3:$I$50,0),MONTH(CF表!$B422)),H$21*H$13/H$196,0)),0)","v":0},{"$f":"IFERROR(IF($B422>I$15,0,IF(OFFSET(index!$I$2,MATCH(I$195,index!$I$3:$I$50,0),MONTH(CF表!$B422)),I$21*I$13/I$196,0)),0)","v":0},{"$f":"IFERROR(IF($B422>J$15,0,IF(OFFSET(index!$I$2,MATCH(J$195,index!$I$3:$I$50,0),MONTH(CF表!$B422)),J$21*J$13/J$196,0)),0)","v":0},{"$f":"IFERROR(IF($B422>K$15,0,IF(OFFSET(index!$I$2,MATCH(K$195,index!$I$3:$I$50,0),MONTH(CF表!$B422)),K$21*K$13/K$196,0)),0)","v":0},{"$f":"IFERROR(IF($B422>L$15,0,IF(OFFSET(index!$I$2,MATCH(L$195,index!$I$3:$I$50,0),MONTH(CF表!$B422)),L$21*L$13/L$196,0)),0)","v":0}]
[null,"2041-07-01",{"$f":"IFERROR(IF($B423>C$15,0,IF(OFFSET(index!$I$2,MATCH(C$195,index!$I$3:$I$50,0),MONTH(CF表!$B423)),C$21*C$13/C$196,0)),0)","v":0},{"$f":"IFERROR(IF($B423>D$15,0,IF(OFFSET(index!$I$2,MATCH(D$195,index!$I$3:$I$50,0),MONTH(CF表!$B423)),D$21*D$13/D$196,0)),0)","v":0},{"$f":"IFERROR(IF($B423>E$15,0,IF(OFFSET(index!$I$2,MATCH(E$195,index!$I$3:$I$50,0),MONTH(CF表!$B423)),E$21*E$13/E$196,0)),0)","v":0},{"$f":"IFERROR(IF($B423>F$15,0,IF(OFFSET(index!$I$2,MATCH(F$195,index!$I$3:$I$50,0),MONTH(CF表!$B423)),F$21*F$13/F$196,0)),0)","v":0},{"$f":"IFERROR(IF($B423>G$15,0,IF(OFFSET(index!$I$2,MATCH(G$195,index!$I$3:$I$50,0),MONTH(CF表!$B423)),G$21*G$13/G$196,0)),0)","v":0},{"$f":"IFERROR(IF($B423>H$15,0,IF(OFFSET(index!$I$2,MATCH(H$195,index!$I$3:$I$50,0),MONTH(CF表!$B423)),H$21*H$13/H$196,0)),0)","v":0},{"$f":"IFERROR(IF($B423>I$15,0,IF(OFFSET(index!$I$2,MATCH(I$195,index!$I$3:$I$50,0),MONTH(CF表!$B423)),I$21*I$13/I$196,0)),0)","v":0},{"$f":"IFERROR(IF($B423>J$15,0,IF(OFFSET(index!$I$2,MATCH(J$195,index!$I$3:$I$50,0),MONTH(CF表!$B423)),J$21*J$13/J$196,0)),0)","v":0},{"$f":"IFERROR(IF($B423>K$15,0,IF(OFFSET(index!$I$2,MATCH(K$195,index!$I$3:$I$50,0),MONTH(CF表!$B423)),K$21*K$13/K$196,0)),0)","v":0},{"$f":"IFERROR(IF($B423>L$15,0,IF(OFFSET(index!$I$2,MATCH(L$195,index!$I$3:$I$50,0),MONTH(CF表!$B423)),L$21*L$13/L$196,0)),0)","v":0}]
[null,"2041-08-01",{"$f":"IFERROR(IF($B424>C$15,0,IF(OFFSET(index!$I$2,MATCH(C$195,index!$I$3:$I$50,0),MONTH(CF表!$B424)),C$21*C$13/C$196,0)),0)","v":0},{"$f":"IFERROR(IF($B424>D$15,0,IF(OFFSET(index!$I$2,MATCH(D$195,index!$I$3:$I$50,0),MONTH(CF表!$B424)),D$21*D$13/D$196,0)),0)","v":0},{"$f":"IFERROR(IF($B424>E$15,0,IF(OFFSET(index!$I$2,MATCH(E$195,index!$I$3:$I$50,0),MONTH(CF表!$B424)),E$21*E$13/E$196,0)),0)","v":0},{"$f":"IFERROR(IF($B424>F$15,0,IF(OFFSET(index!$I$2,MATCH(F$195,index!$I$3:$I$50,0),MONTH(CF表!$B424)),F$21*F$13/F$196,0)),0)","v":0},{"$f":"IFERROR(IF($B424>G$15,0,IF(OFFSET(index!$I$2,MATCH(G$195,index!$I$3:$I$50,0),MONTH(CF表!$B424)),G$21*G$13/G$196,0)),0)","v":0},{"$f":"IFERROR(IF($B424>H$15,0,IF(OFFSET(index!$I$2,MATCH(H$195,index!$I$3:$I$50,0),MONTH(CF表!$B424)),H$21*H$13/H$196,0)),0)","v":0},{"$f":"IFERROR(IF($B424>I$15,0,IF(OFFSET(index!$I$2,MATCH(I$195,index!$I$3:$I$50,0),MONTH(CF表!$B424)),I$21*I$13/I$196,0)),0)","v":0},{"$f":"IFERROR(IF($B424>J$15,0,IF(OFFSET(index!$I$2,MATCH(J$195,index!$I$3:$I$50,0),MONTH(CF表!$B424)),J$21*J$13/J$196,0)),0)","v":0},{"$f":"IFERROR(IF($B424>K$15,0,IF(OFFSET(index!$I$2,MATCH(K$195,index!$I$3:$I$50,0),MONTH(CF表!$B424)),K$21*K$13/K$196,0)),0)","v":0},{"$f":"IFERROR(IF($B424>L$15,0,IF(OFFSET(index!$I$2,MATCH(L$195,index!$I$3:$I$50,0),MONTH(CF表!$B424)),L$21*L$13/L$196,0)),0)","v":0}]
[null,"2041-09-01",{"$f":"IFERROR(IF($B425>C$15,0,IF(OFFSET(index!$I$2,MATCH(C$195,index!$I$3:$I$50,0),MONTH(CF表!$B425)),C$21*C$13/C$196,0)),0)","v":0},{"$f":"IFERROR(IF($B425>D$15,0,IF(OFFSET(index!$I$2,MATCH(D$195,index!$I$3:$I$50,0),MONTH(CF表!$B425)),D$21*D$13/D$196,0)),0)","v":0},{"$f":"IFERROR(IF($B425>E$15,0,IF(OFFSET(index!$I$2,MATCH(E$195,index!$I$3:$I$50,0),MONTH(CF表!$B425)),E$21*E$13/E$196,0)),0)","v":0},{"$f":"IFERROR(IF($B425>F$15,0,IF(OFFSET(index!$I$2,MATCH(F$195,index!$I$3:$I$50,0),MONTH(CF表!$B425)),F$21*F$13/F$196,0)),0)","v":0},{"$f":"IFERROR(IF($B425>G$15,0,IF(OFFSET(index!$I$2,MATCH(G$195,index!$I$3:$I$50,0),MONTH(CF表!$B425)),G$21*G$13/G$196,0)),0)","v":0},{"$f":"IFERROR(IF($B425>H$15,0,IF(OFFSET(index!$I$2,MATCH(H$195,index!$I$3:$I$50,0),MONTH(CF表!$B425)),H$21*H$13/H$196,0)),0)","v":0},{"$f":"IFERROR(IF($B425>I$15,0,IF(OFFSET(index!$I$2,MATCH(I$195,index!$I$3:$I$50,0),MONTH(CF表!$B425)),I$21*I$13/I$196,0)),0)","v":0},{"$f":"IFERROR(IF($B425>J$15,0,IF(OFFSET(index!$I$2,MATCH(J$195,index!$I$3:$I$50,0),MONTH(CF表!$B425)),J$21*J$13/J$196,0)),0)","v":0},{"$f":"IFERROR(IF($B425>K$15,0,IF(OFFSET(index!$I$2,MATCH(K$195,index!$I$3:$I$50,0),MONTH(CF表!$B425)),K$21*K$13/K$196,0)),0)","v":0},{"$f":"IFERROR(IF($B425>L$15,0,IF(OFFSET(index!$I$2,MATCH(L$195,index!$I$3:$I$50,0),MONTH(CF表!$B425)),L$21*L$13/L$196,0)),0)","v":0}]
[null,"2041-10-01",{"$f":"IFERROR(IF($B426>C$15,0,IF(OFFSET(index!$I$2,MATCH(C$195,index!$I$3:$I$50,0),MONTH(CF表!$B426)),C$21*C$13/C$196,0)),0)","v":0},{"$f":"IFERROR(IF($B426>D$15,0,IF(OFFSET(index!$I$2,MATCH(D$195,index!$I$3:$I$50,0),MONTH(CF表!$B426)),D$21*D$13/D$196,0)),0)","v":0},{"$f":"IFERROR(IF($B426>E$15,0,IF(OFFSET(index!$I$2,MATCH(E$195,index!$I$3:$I$50,0),MONTH(CF表!$B426)),E$21*E$13/E$196,0)),0)","v":0},{"$f":"IFERROR(IF($B426>F$15,0,IF(OFFSET(index!$I$2,MATCH(F$195,index!$I$3:$I$50,0),MONTH(CF表!$B426)),F$21*F$13/F$196,0)),0)","v":0},{"$f":"IFERROR(IF($B426>G$15,0,IF(OFFSET(index!$I$2,MATCH(G$195,index!$I$3:$I$50,0),MONTH(CF表!$B426)),G$21*G$13/G$196,0)),0)","v":0},{"$f":"IFERROR(IF($B426>H$15,0,IF(OFFSET(index!$I$2,MATCH(H$195,index!$I$3:$I$50,0),MONTH(CF表!$B426)),H$21*H$13/H$196,0)),0)","v":0},{"$f":"IFERROR(IF($B426>I$15,0,IF(OFFSET(index!$I$2,MATCH(I$195,index!$I$3:$I$50,0),MONTH(CF表!$B426)),I$21*I$13/I$196,0)),0)","v":0},{"$f":"IFERROR(IF($B426>J$15,0,IF(OFFSET(index!$I$2,MATCH(J$195,index!$I$3:$I$50,0),MONTH(CF表!$B426)),J$21*J$13/J$196,0)),0)","v":0},{"$f":"IFERROR(IF($B426>K$15,0,IF(OFFSET(index!$I$2,MATCH(K$195,index!$I$3:$I$50,0),MONTH(CF表!$B426)),K$21*K$13/K$196,0)),0)","v":0},{"$f":"IFERROR(IF($B426>L$15,0,IF(OFFSET(index!$I$2,MATCH(L$195,index!$I$3:$I$50,0),MONTH(CF表!$B426)),L$21*L$13/L$196,0)),0)","v":0}]
[null,"2041-11-01",{"$f":"IFERROR(IF($B427>C$15,0,IF(OFFSET(index!$I$2,MATCH(C$195,index!$I$3:$I$50,0),MONTH(CF表!$B427)),C$21*C$13/C$196,0)),0)","v":0},{"$f":"IFERROR(IF($B427>D$15,0,IF(OFFSET(index!$I$2,MATCH(D$195,index!$I$3:$I$50,0),MONTH(CF表!$B427)),D$21*D$13/D$196,0)),0)","v":0},{"$f":"IFERROR(IF($B427>E$15,0,IF(OFFSET(index!$I$2,MATCH(E$195,index!$I$3:$I$50,0),MONTH(CF表!$B427)),E$21*E$13/E$196,0)),0)","v":0},{"$f":"IFERROR(IF($B427>F$15,0,IF(OFFSET(index!$I$2,MATCH(F$195,index!$I$3:$I$50,0),MONTH(CF表!$B427)),F$21*F$13/F$196,0)),0)","v":0},{"$f":"IFERROR(IF($B427>G$15,0,IF(OFFSET(index!$I$2,MATCH(G$195,index!$I$3:$I$50,0),MONTH(CF表!$B427)),G$21*G$13/G$196,0)),0)","v":0},{"$f":"IFERROR(IF($B427>H$15,0,IF(OFFSET(index!$I$2,MATCH(H$195,index!$I$3:$I$50,0),MONTH(CF表!$B427)),H$21*H$13/H$196,0)),0)","v":0},{"$f":"IFERROR(IF($B427>I$15,0,IF(OFFSET(index!$I$2,MATCH(I$195,index!$I$3:$I$50,0),MONTH(CF表!$B427)),I$21*I$13/I$196,0)),0)","v":0},{"$f":"IFERROR(IF($B427>J$15,0,IF(OFFSET(index!$I$2,MATCH(J$195,index!$I$3:$I$50,0),MONTH(CF表!$B427)),J$21*J$13/J$196,0)),0)","v":0},{"$f":"IFERROR(IF($B427>K$15,0,IF(OFFSET(index!$I$2,MATCH(K$195,index!$I$3:$I$50,0),MONTH(CF表!$B427)),K$21*K$13/K$196,0)),0)","v":0},{"$f":"IFERROR(IF($B427>L$15,0,IF(OFFSET(index!$I$2,MATCH(L$195,index!$I$3:$I$50,0),MONTH(CF表!$B427)),L$21*L$13/L$196,0)),0)","v":0}]
[null,"2041-12-01",{"$f":"IFERROR(IF($B428>C$15,0,IF(OFFSET(index!$I$2,MATCH(C$195,index!$I$3:$I$50,0),MONTH(CF表!$B428)),C$21*C$13/C$196,0)),0)","v":0},{"$f":"IFERROR(IF($B428>D$15,0,IF(OFFSET(index!$I$2,MATCH(D$195,index!$I$3:$I$50,0),MONTH(CF表!$B428)),D$21*D$13/D$196,0)),0)","v":0},{"$f":"IFERROR(IF($B428>E$15,0,IF(OFFSET(index!$I$2,MATCH(E$195,index!$I$3:$I$50,0),MONTH(CF表!$B428)),E$21*E$13/E$196,0)),0)","v":0},{"$f":"IFERROR(IF($B428>F$15,0,IF(OFFSET(index!$I$2,MATCH(F$195,index!$I$3:$I$50,0),MONTH(CF表!$B428)),F$21*F$13/F$196,0)),0)","v":0},{"$f":"IFERROR(IF($B428>G$15,0,IF(OFFSET(index!$I$2,MATCH(G$195,index!$I$3:$I$50,0),MONTH(CF表!$B428)),G$21*G$13/G$196,0)),0)","v":0},{"$f":"IFERROR(IF($B428>H$15,0,IF(OFFSET(index!$I$2,MATCH(H$195,index!$I$3:$I$50,0),MONTH(CF表!$B428)),H$21*H$13/H$196,0)),0)","v":0},{"$f":"IFERROR(IF($B428>I$15,0,IF(OFFSET(index!$I$2,MATCH(I$195,index!$I$3:$I$50,0),MONTH(CF表!$B428)),I$21*I$13/I$196,0)),0)","v":0},{"$f":"IFERROR(IF($B428>J$15,0,IF(OFFSET(index!$I$2,MATCH(J$195,index!$I$3:$I$50,0),MONTH(CF表!$B428)),J$21*J$13/J$196,0)),0)","v":0},{"$f":"IFERROR(IF($B428>K$15,0,IF(OFFSET(index!$I$2,MATCH(K$195,index!$I$3:$I$50,0),MONTH(CF表!$B428)),K$21*K$13/K$196,0)),0)","v":0},{"$f":"IFERROR(IF($B428>L$15,0,IF(OFFSET(index!$I$2,MATCH(L$195,index!$I$3:$I$50,0),MONTH(CF表!$B428)),L$21*L$13/L$196,0)),0)","v":0}]
[null,"2042-01-01",{"$f":"IFERROR(IF($B429>C$15,0,IF(OFFSET(index!$I$2,MATCH(C$195,index!$I$3:$I$50,0),MONTH(CF表!$B429)),C$21*C$13/C$196,0)),0)","v":0},{"$f":"IFERROR(IF($B429>D$15,0,IF(OFFSET(index!$I$2,MATCH(D$195,index!$I$3:$I$50,0),MONTH(CF表!$B429)),D$21*D$13/D$196,0)),0)","v":0},{"$f":"IFERROR(IF($B429>E$15,0,IF(OFFSET(index!$I$2,MATCH(E$195,index!$I$3:$I$50,0),MONTH(CF表!$B429)),E$21*E$13/E$196,0)),0)","v":0},{"$f":"IFERROR(IF($B429>F$15,0,IF(OFFSET(index!$I$2,MATCH(F$195,index!$I$3:$I$50,0),MONTH(CF表!$B429)),F$21*F$13/F$196,0)),0)","v":0},{"$f":"IFERROR(IF($B429>G$15,0,IF(OFFSET(index!$I$2,MATCH(G$195,index!$I$3:$I$50,0),MONTH(CF表!$B429)),G$21*G$13/G$196,0)),0)","v":0},{"$f":"IFERROR(IF($B429>H$15,0,IF(OFFSET(index!$I$2,MATCH(H$195,index!$I$3:$I$50,0),MONTH(CF表!$B429)),H$21*H$13/H$196,0)),0)","v":0},{"$f":"IFERROR(IF($B429>I$15,0,IF(OFFSET(index!$I$2,MATCH(I$195,index!$I$3:$I$50,0),MONTH(CF表!$B429)),I$21*I$13/I$196,0)),0)","v":0},{"$f":"IFERROR(IF($B429>J$15,0,IF(OFFSET(index!$I$2,MATCH(J$195,index!$I$3:$I$50,0),MONTH(CF表!$B429)),J$21*J$13/J$196,0)),0)","v":0},{"$f":"IFERROR(IF($B429>K$15,0,IF(OFFSET(index!$I$2,MATCH(K$195,index!$I$3:$I$50,0),MONTH(CF表!$B429)),K$21*K$13/K$196,0)),0)","v":0},{"$f":"IFERROR(IF($B429>L$15,0,IF(OFFSET(index!$I$2,MATCH(L$195,index!$I$3:$I$50,0),MONTH(CF表!$B429)),L$21*L$13/L$196,0)),0)","v":0}]
[null,"2042-02-01",{"$f":"IFERROR(IF($B430>C$15,0,IF(OFFSET(index!$I$2,MATCH(C$195,index!$I$3:$I$50,0),MONTH(CF表!$B430)),C$21*C$13/C$196,0)),0)","v":0},{"$f":"IFERROR(IF($B430>D$15,0,IF(OFFSET(index!$I$2,MATCH(D$195,index!$I$3:$I$50,0),MONTH(CF表!$B430)),D$21*D$13/D$196,0)),0)","v":0},{"$f":"IFERROR(IF($B430>E$15,0,IF(OFFSET(index!$I$2,MATCH(E$195,index!$I$3:$I$50,0),MONTH(CF表!$B430)),E$21*E$13/E$196,0)),0)","v":0},{"$f":"IFERROR(IF($B430>F$15,0,IF(OFFSET(index!$I$2,MATCH(F$195,index!$I$3:$I$50,0),MONTH(CF表!$B430)),F$21*F$13/F$196,0)),0)","v":0},{"$f":"IFERROR(IF($B430>G$15,0,IF(OFFSET(index!$I$2,MATCH(G$195,index!$I$3:$I$50,0),MONTH(CF表!$B430)),G$21*G$13/G$196,0)),0)","v":0},{"$f":"IFERROR(IF($B430>H$15,0,IF(OFFSET(index!$I$2,MATCH(H$195,index!$I$3:$I$50,0),MONTH(CF表!$B430)),H$21*H$13/H$196,0)),0)","v":0},{"$f":"IFERROR(IF($B430>I$15,0,IF(OFFSET(index!$I$2,MATCH(I$195,index!$I$3:$I$50,0),MONTH(CF表!$B430)),I$21*I$13/I$196,0)),0)","v":0},{"$f":"IFERROR(IF($B430>J$15,0,IF(OFFSET(index!$I$2,MATCH(J$195,index!$I$3:$I$50,0),MONTH(CF表!$B430)),J$21*J$13/J$196,0)),0)","v":0},{"$f":"IFERROR(IF($B430>K$15,0,IF(OFFSET(index!$I$2,MATCH(K$195,index!$I$3:$I$50,0),MONTH(CF表!$B430)),K$21*K$13/K$196,0)),0)","v":0},{"$f":"IFERROR(IF($B430>L$15,0,IF(OFFSET(index!$I$2,MATCH(L$195,index!$I$3:$I$50,0),MONTH(CF表!$B430)),L$21*L$13/L$196,0)),0)","v":0}]
[null,"2042-03-01",{"$f":"IFERROR(IF($B431>C$15,0,IF(OFFSET(index!$I$2,MATCH(C$195,index!$I$3:$I$50,0),MONTH(CF表!$B431)),C$21*C$13/C$196,0)),0)","v":0},{"$f":"IFERROR(IF($B431>D$15,0,IF(OFFSET(index!$I$2,MATCH(D$195,index!$I$3:$I$50,0),MONTH(CF表!$B431)),D$21*D$13/D$196,0)),0)","v":0},{"$f":"IFERROR(IF($B431>E$15,0,IF(OFFSET(index!$I$2,MATCH(E$195,index!$I$3:$I$50,0),MONTH(CF表!$B431)),E$21*E$13/E$196,0)),0)","v":0},{"$f":"IFERROR(IF($B431>F$15,0,IF(OFFSET(index!$I$2,MATCH(F$195,index!$I$3:$I$50,0),MONTH(CF表!$B431)),F$21*F$13/F$196,0)),0)","v":0},{"$f":"IFERROR(IF($B431>G$15,0,IF(OFFSET(index!$I$2,MATCH(G$195,index!$I$3:$I$50,0),MONTH(CF表!$B431)),G$21*G$13/G$196,0)),0)","v":0},{"$f":"IFERROR(IF($B431>H$15,0,IF(OFFSET(index!$I$2,MATCH(H$195,index!$I$3:$I$50,0),MONTH(CF表!$B431)),H$21*H$13/H$196,0)),0)","v":0},{"$f":"IFERROR(IF($B431>I$15,0,IF(OFFSET(index!$I$2,MATCH(I$195,index!$I$3:$I$50,0),MONTH(CF表!$B431)),I$21*I$13/I$196,0)),0)","v":0},{"$f":"IFERROR(IF($B431>J$15,0,IF(OFFSET(index!$I$2,MATCH(J$195,index!$I$3:$I$50,0),MONTH(CF表!$B431)),J$21*J$13/J$196,0)),0)","v":0},{"$f":"IFERROR(IF($B431>K$15,0,IF(OFFSET(index!$I$2,MATCH(K$195,index!$I$3:$I$50,0),MONTH(CF表!$B431)),K$21*K$13/K$196,0)),0)","v":0},{"$f":"IFERROR(IF($B431>L$15,0,IF(OFFSET(index!$I$2,MATCH(L$195,index!$I$3:$I$50,0),MONTH(CF表!$B431)),L$21*L$13/L$196,0)),0)","v":0}]
[null,"2042-04-01",{"$f":"IFERROR(IF($B432>C$15,0,IF(OFFSET(index!$I$2,MATCH(C$195,index!$I$3:$I$50,0),MONTH(CF表!$B432)),C$21*C$13/C$196,0)),0)","v":0},{"$f":"IFERROR(IF($B432>D$15,0,IF(OFFSET(index!$I$2,MATCH(D$195,index!$I$3:$I$50,0),MONTH(CF表!$B432)),D$21*D$13/D$196,0)),0)","v":0},{"$f":"IFERROR(IF($B432>E$15,0,IF(OFFSET(index!$I$2,MATCH(E$195,index!$I$3:$I$50,0),MONTH(CF表!$B432)),E$21*E$13/E$196,0)),0)","v":0},{"$f":"IFERROR(IF($B432>F$15,0,IF(OFFSET(index!$I$2,MATCH(F$195,index!$I$3:$I$50,0),MONTH(CF表!$B432)),F$21*F$13/F$196,0)),0)","v":0},{"$f":"IFERROR(IF($B432>G$15,0,IF(OFFSET(index!$I$2,MATCH(G$195,index!$I$3:$I$50,0),MONTH(CF表!$B432)),G$21*G$13/G$196,0)),0)","v":0},{"$f":"IFERROR(IF($B432>H$15,0,IF(OFFSET(index!$I$2,MATCH(H$195,index!$I$3:$I$50,0),MONTH(CF表!$B432)),H$21*H$13/H$196,0)),0)","v":0},{"$f":"IFERROR(IF($B432>I$15,0,IF(OFFSET(index!$I$2,MATCH(I$195,index!$I$3:$I$50,0),MONTH(CF表!$B432)),I$21*I$13/I$196,0)),0)","v":0},{"$f":"IFERROR(IF($B432>J$15,0,IF(OFFSET(index!$I$2,MATCH(J$195,index!$I$3:$I$50,0),MONTH(CF表!$B432)),J$21*J$13/J$196,0)),0)","v":0},{"$f":"IFERROR(IF($B432>K$15,0,IF(OFFSET(index!$I$2,MATCH(K$195,index!$I$3:$I$50,0),MONTH(CF表!$B432)),K$21*K$13/K$196,0)),0)","v":0},{"$f":"IFERROR(IF($B432>L$15,0,IF(OFFSET(index!$I$2,MATCH(L$195,index!$I$3:$I$50,0),MONTH(CF表!$B432)),L$21*L$13/L$196,0)),0)","v":0}]
[null,"2042-05-01",{"$f":"IFERROR(IF($B433>C$15,0,IF(OFFSET(index!$I$2,MATCH(C$195,index!$I$3:$I$50,0),MONTH(CF表!$B433)),C$21*C$13/C$196,0)),0)","v":0},{"$f":"IFERROR(IF($B433>D$15,0,IF(OFFSET(index!$I$2,MATCH(D$195,index!$I$3:$I$50,0),MONTH(CF表!$B433)),D$21*D$13/D$196,0)),0)","v":0},{"$f":"IFERROR(IF($B433>E$15,0,IF(OFFSET(index!$I$2,MATCH(E$195,index!$I$3:$I$50,0),MONTH(CF表!$B433)),E$21*E$13/E$196,0)),0)","v":0},{"$f":"IFERROR(IF($B433>F$15,0,IF(OFFSET(index!$I$2,MATCH(F$195,index!$I$3:$I$50,0),MONTH(CF表!$B433)),F$21*F$13/F$196,0)),0)","v":0},{"$f":"IFERROR(IF($B433>G$15,0,IF(OFFSET(index!$I$2,MATCH(G$195,index!$I$3:$I$50,0),MONTH(CF表!$B433)),G$21*G$13/G$196,0)),0)","v":0},{"$f":"IFERROR(IF($B433>H$15,0,IF(OFFSET(index!$I$2,MATCH(H$195,index!$I$3:$I$50,0),MONTH(CF表!$B433)),H$21*H$13/H$196,0)),0)","v":0},{"$f":"IFERROR(IF($B433>I$15,0,IF(OFFSET(index!$I$2,MATCH(I$195,index!$I$3:$I$50,0),MONTH(CF表!$B433)),I$21*I$13/I$196,0)),0)","v":0},{"$f":"IFERROR(IF($B433>J$15,0,IF(OFFSET(index!$I$2,MATCH(J$195,index!$I$3:$I$50,0),MONTH(CF表!$B433)),J$21*J$13/J$196,0)),0)","v":0},{"$f":"IFERROR(IF($B433>K$15,0,IF(OFFSET(index!$I$2,MATCH(K$195,index!$I$3:$I$50,0),MONTH(CF表!$B433)),K$21*K$13/K$196,0)),0)","v":0},{"$f":"IFERROR(IF($B433>L$15,0,IF(OFFSET(index!$I$2,MATCH(L$195,index!$I$3:$I$50,0),MONTH(CF表!$B433)),L$21*L$13/L$196,0)),0)","v":0}]
[null,"2042-06-01",{"$f":"IFERROR(IF($B434>C$15,0,IF(OFFSET(index!$I$2,MATCH(C$195,index!$I$3:$I$50,0),MONTH(CF表!$B434)),C$21*C$13/C$196,0)),0)","v":0},{"$f":"IFERROR(IF($B434>D$15,0,IF(OFFSET(index!$I$2,MATCH(D$195,index!$I$3:$I$50,0),MONTH(CF表!$B434)),D$21*D$13/D$196,0)),0)","v":0},{"$f":"IFERROR(IF($B434>E$15,0,IF(OFFSET(index!$I$2,MATCH(E$195,index!$I$3:$I$50,0),MONTH(CF表!$B434)),E$21*E$13/E$196,0)),0)","v":0},{"$f":"IFERROR(IF($B434>F$15,0,IF(OFFSET(index!$I$2,MATCH(F$195,index!$I$3:$I$50,0),MONTH(CF表!$B434)),F$21*F$13/F$196,0)),0)","v":0},{"$f":"IFERROR(IF($B434>G$15,0,IF(OFFSET(index!$I$2,MATCH(G$195,index!$I$3:$I$50,0),MONTH(CF表!$B434)),G$21*G$13/G$196,0)),0)","v":0},{"$f":"IFERROR(IF($B434>H$15,0,IF(OFFSET(index!$I$2,MATCH(H$195,index!$I$3:$I$50,0),MONTH(CF表!$B434)),H$21*H$13/H$196,0)),0)","v":0},{"$f":"IFERROR(IF($B434>I$15,0,IF(OFFSET(index!$I$2,MATCH(I$195,index!$I$3:$I$50,0),MONTH(CF表!$B434)),I$21*I$13/I$196,0)),0)","v":0},{"$f":"IFERROR(IF($B434>J$15,0,IF(OFFSET(index!$I$2,MATCH(J$195,index!$I$3:$I$50,0),MONTH(CF表!$B434)),J$21*J$13/J$196,0)),0)","v":0},{"$f":"IFERROR(IF($B434>K$15,0,IF(OFFSET(index!$I$2,MATCH(K$195,index!$I$3:$I$50,0),MONTH(CF表!$B434)),K$21*K$13/K$196,0)),0)","v":0},{"$f":"IFERROR(IF($B434>L$15,0,IF(OFFSET(index!$I$2,MATCH(L$195,index!$I$3:$I$50,0),MONTH(CF表!$B434)),L$21*L$13/L$196,0)),0)","v":0}]
[null,"2042-07-01",{"$f":"IFERROR(IF($B435>C$15,0,IF(OFFSET(index!$I$2,MATCH(C$195,index!$I$3:$I$50,0),MONTH(CF表!$B435)),C$21*C$13/C$196,0)),0)","v":0},{"$f":"IFERROR(IF($B435>D$15,0,IF(OFFSET(index!$I$2,MATCH(D$195,index!$I$3:$I$50,0),MONTH(CF表!$B435)),D$21*D$13/D$196,0)),0)","v":0},{"$f":"IFERROR(IF($B435>E$15,0,IF(OFFSET(index!$I$2,MATCH(E$195,index!$I$3:$I$50,0),MONTH(CF表!$B435)),E$21*E$13/E$196,0)),0)","v":0},{"$f":"IFERROR(IF($B435>F$15,0,IF(OFFSET(index!$I$2,MATCH(F$195,index!$I$3:$I$50,0),MONTH(CF表!$B435)),F$21*F$13/F$196,0)),0)","v":0},{"$f":"IFERROR(IF($B435>G$15,0,IF(OFFSET(index!$I$2,MATCH(G$195,index!$I$3:$I$50,0),MONTH(CF表!$B435)),G$21*G$13/G$196,0)),0)","v":0},{"$f":"IFERROR(IF($B435>H$15,0,IF(OFFSET(index!$I$2,MATCH(H$195,index!$I$3:$I$50,0),MONTH(CF表!$B435)),H$21*H$13/H$196,0)),0)","v":0},{"$f":"IFERROR(IF($B435>I$15,0,IF(OFFSET(index!$I$2,MATCH(I$195,index!$I$3:$I$50,0),MONTH(CF表!$B435)),I$21*I$13/I$196,0)),0)","v":0},{"$f":"IFERROR(IF($B435>J$15,0,IF(OFFSET(index!$I$2,MATCH(J$195,index!$I$3:$I$50,0),MONTH(CF表!$B435)),J$21*J$13/J$196,0)),0)","v":0},{"$f":"IFERROR(IF($B435>K$15,0,IF(OFFSET(index!$I$2,MATCH(K$195,index!$I$3:$I$50,0),MONTH(CF表!$B435)),K$21*K$13/K$196,0)),0)","v":0},{"$f":"IFERROR(IF($B435>L$15,0,IF(OFFSET(index!$I$2,MATCH(L$195,index!$I$3:$I$50,0),MONTH(CF表!$B435)),L$21*L$13/L$196,0)),0)","v":0}]
[null,"2042-08-01",{"$f":"IFERROR(IF($B436>C$15,0,IF(OFFSET(index!$I$2,MATCH(C$195,index!$I$3:$I$50,0),MONTH(CF表!$B436)),C$21*C$13/C$196,0)),0)","v":0},{"$f":"IFERROR(IF($B436>D$15,0,IF(OFFSET(index!$I$2,MATCH(D$195,index!$I$3:$I$50,0),MONTH(CF表!$B436)),D$21*D$13/D$196,0)),0)","v":0},{"$f":"IFERROR(IF($B436>E$15,0,IF(OFFSET(index!$I$2,MATCH(E$195,index!$I$3:$I$50,0),MONTH(CF表!$B436)),E$21*E$13/E$196,0)),0)","v":0},{"$f":"IFERROR(IF($B436>F$15,0,IF(OFFSET(index!$I$2,MATCH(F$195,index!$I$3:$I$50,0),MONTH(CF表!$B436)),F$21*F$13/F$196,0)),0)","v":0},{"$f":"IFERROR(IF($B436>G$15,0,IF(OFFSET(index!$I$2,MATCH(G$195,index!$I$3:$I$50,0),MONTH(CF表!$B436)),G$21*G$13/G$196,0)),0)","v":0},{"$f":"IFERROR(IF($B436>H$15,0,IF(OFFSET(index!$I$2,MATCH(H$195,index!$I$3:$I$50,0),MONTH(CF表!$B436)),H$21*H$13/H$196,0)),0)","v":0},{"$f":"IFERROR(IF($B436>I$15,0,IF(OFFSET(index!$I$2,MATCH(I$195,index!$I$3:$I$50,0),MONTH(CF表!$B436)),I$21*I$13/I$196,0)),0)","v":0},{"$f":"IFERROR(IF($B436>J$15,0,IF(OFFSET(index!$I$2,MATCH(J$195,index!$I$3:$I$50,0),MONTH(CF表!$B436)),J$21*J$13/J$196,0)),0)","v":0},{"$f":"IFERROR(IF($B436>K$15,0,IF(OFFSET(index!$I$2,MATCH(K$195,index!$I$3:$I$50,0),MONTH(CF表!$B436)),K$21*K$13/K$196,0)),0)","v":0},{"$f":"IFERROR(IF($B436>L$15,0,IF(OFFSET(index!$I$2,MATCH(L$195,index!$I$3:$I$50,0),MONTH(CF表!$B436)),L$21*L$13/L$196,0)),0)","v":0}]
[null,"2042-09-01",{"$f":"IFERROR(IF($B437>C$15,0,IF(OFFSET(index!$I$2,MATCH(C$195,index!$I$3:$I$50,0),MONTH(CF表!$B437)),C$21*C$13/C$196,0)),0)","v":0},{"$f":"IFERROR(IF($B437>D$15,0,IF(OFFSET(index!$I$2,MATCH(D$195,index!$I$3:$I$50,0),MONTH(CF表!$B437)),D$21*D$13/D$196,0)),0)","v":0},{"$f":"IFERROR(IF($B437>E$15,0,IF(OFFSET(index!$I$2,MATCH(E$195,index!$I$3:$I$50,0),MONTH(CF表!$B437)),E$21*E$13/E$196,0)),0)","v":0},{"$f":"IFERROR(IF($B437>F$15,0,IF(OFFSET(index!$I$2,MATCH(F$195,index!$I$3:$I$50,0),MONTH(CF表!$B437)),F$21*F$13/F$196,0)),0)","v":0},{"$f":"IFERROR(IF($B437>G$15,0,IF(OFFSET(index!$I$2,MATCH(G$195,index!$I$3:$I$50,0),MONTH(CF表!$B437)),G$21*G$13/G$196,0)),0)","v":0},{"$f":"IFERROR(IF($B437>H$15,0,IF(OFFSET(index!$I$2,MATCH(H$195,index!$I$3:$I$50,0),MONTH(CF表!$B437)),H$21*H$13/H$196,0)),0)","v":0},{"$f":"IFERROR(IF($B437>I$15,0,IF(OFFSET(index!$I$2,MATCH(I$195,index!$I$3:$I$50,0),MONTH(CF表!$B437)),I$21*I$13/I$196,0)),0)","v":0},{"$f":"IFERROR(IF($B437>J$15,0,IF(OFFSET(index!$I$2,MATCH(J$195,index!$I$3:$I$50,0),MONTH(CF表!$B437)),J$21*J$13/J$196,0)),0)","v":0},{"$f":"IFERROR(IF($B437>K$15,0,IF(OFFSET(index!$I$2,MATCH(K$195,index!$I$3:$I$50,0),MONTH(CF表!$B437)),K$21*K$13/K$196,0)),0)","v":0},{"$f":"IFERROR(IF($B437>L$15,0,IF(OFFSET(index!$I$2,MATCH(L$195,index!$I$3:$I$50,0),MONTH(CF表!$B437)),L$21*L$13/L$196,0)),0)","v":0}]
[null,"2042-10-01",{"$f":"IFERROR(IF($B438>C$15,0,IF(OFFSET(index!$I$2,MATCH(C$195,index!$I$3:$I$50,0),MONTH(CF表!$B438)),C$21*C$13/C$196,0)),0)","v":0},{"$f":"IFERROR(IF($B438>D$15,0,IF(OFFSET(index!$I$2,MATCH(D$195,index!$I$3:$I$50,0),MONTH(CF表!$B438)),D$21*D$13/D$196,0)),0)","v":0},{"$f":"IFERROR(IF($B438>E$15,0,IF(OFFSET(index!$I$2,MATCH(E$195,index!$I$3:$I$50,0),MONTH(CF表!$B438)),E$21*E$13/E$196,0)),0)","v":0},{"$f":"IFERROR(IF($B438>F$15,0,IF(OFFSET(index!$I$2,MATCH(F$195,index!$I$3:$I$50,0),MONTH(CF表!$B438)),F$21*F$13/F$196,0)),0)","v":0},{"$f":"IFERROR(IF($B438>G$15,0,IF(OFFSET(index!$I$2,MATCH(G$195,index!$I$3:$I$50,0),MONTH(CF表!$B438)),G$21*G$13/G$196,0)),0)","v":0},{"$f":"IFERROR(IF($B438>H$15,0,IF(OFFSET(index!$I$2,MATCH(H$195,index!$I$3:$I$50,0),MONTH(CF表!$B438)),H$21*H$13/H$196,0)),0)","v":0},{"$f":"IFERROR(IF($B438>I$15,0,IF(OFFSET(index!$I$2,MATCH(I$195,index!$I$3:$I$50,0),MONTH(CF表!$B438)),I$21*I$13/I$196,0)),0)","v":0},{"$f":"IFERROR(IF($B438>J$15,0,IF(OFFSET(index!$I$2,MATCH(J$195,index!$I$3:$I$50,0),MONTH(CF表!$B438)),J$21*J$13/J$196,0)),0)","v":0},{"$f":"IFERROR(IF($B438>K$15,0,IF(OFFSET(index!$I$2,MATCH(K$195,index!$I$3:$I$50,0),MONTH(CF表!$B438)),K$21*K$13/K$196,0)),0)","v":0},{"$f":"IFERROR(IF($B438>L$15,0,IF(OFFSET(index!$I$2,MATCH(L$195,index!$I$3:$I$50,0),MONTH(CF表!$B438)),L$21*L$13/L$196,0)),0)","v":0}]
[null,"2042-11-01",{"$f":"IFERROR(IF($B439>C$15,0,IF(OFFSET(index!$I$2,MATCH(C$195,index!$I$3:$I$50,0),MONTH(CF表!$B439)),C$21*C$13/C$196,0)),0)","v":0},{"$f":"IFERROR(IF($B439>D$15,0,IF(OFFSET(index!$I$2,MATCH(D$195,index!$I$3:$I$50,0),MONTH(CF表!$B439)),D$21*D$13/D$196,0)),0)","v":0},{"$f":"IFERROR(IF($B439>E$15,0,IF(OFFSET(index!$I$2,MATCH(E$195,index!$I$3:$I$50,0),MONTH(CF表!$B439)),E$21*E$13/E$196,0)),0)","v":0},{"$f":"IFERROR(IF($B439>F$15,0,IF(OFFSET(index!$I$2,MATCH(F$195,index!$I$3:$I$50,0),MONTH(CF表!$B439)),F$21*F$13/F$196,0)),0)","v":0},{"$f":"IFERROR(IF($B439>G$15,0,IF(OFFSET(index!$I$2,MATCH(G$195,index!$I$3:$I$50,0),MONTH(CF表!$B439)),G$21*G$13/G$196,0)),0)","v":0},{"$f":"IFERROR(IF($B439>H$15,0,IF(OFFSET(index!$I$2,MATCH(H$195,index!$I$3:$I$50,0),MONTH(CF表!$B439)),H$21*H$13/H$196,0)),0)","v":0},{"$f":"IFERROR(IF($B439>I$15,0,IF(OFFSET(index!$I$2,MATCH(I$195,index!$I$3:$I$50,0),MONTH(CF表!$B439)),I$21*I$13/I$196,0)),0)","v":0},{"$f":"IFERROR(IF($B439>J$15,0,IF(OFFSET(index!$I$2,MATCH(J$195,index!$I$3:$I$50,0),MONTH(CF表!$B439)),J$21*J$13/J$196,0)),0)","v":0},{"$f":"IFERROR(IF($B439>K$15,0,IF(OFFSET(index!$I$2,MATCH(K$195,index!$I$3:$I$50,0),MONTH(CF表!$B439)),K$21*K$13/K$196,0)),0)","v":0},{"$f":"IFERROR(IF($B439>L$15,0,IF(OFFSET(index!$I$2,MATCH(L$195,index!$I$3:$I$50,0),MONTH(CF表!$B439)),L$21*L$13/L$196,0)),0)","v":0}]
[null,"2042-12-01",{"$f":"IFERROR(IF($B440>C$15,0,IF(OFFSET(index!$I$2,MATCH(C$195,index!$I$3:$I$50,0),MONTH(CF表!$B440)),C$21*C$13/C$196,0)),0)","v":0},{"$f":"IFERROR(IF($B440>D$15,0,IF(OFFSET(index!$I$2,MATCH(D$195,index!$I$3:$I$50,0),MONTH(CF表!$B440)),D$21*D$13/D$196,0)),0)","v":0},{"$f":"IFERROR(IF($B440>E$15,0,IF(OFFSET(index!$I$2,MATCH(E$195,index!$I$3:$I$50,0),MONTH(CF表!$B440)),E$21*E$13/E$196,0)),0)","v":0},{"$f":"IFERROR(IF($B440>F$15,0,IF(OFFSET(index!$I$2,MATCH(F$195,index!$I$3:$I$50,0),MONTH(CF表!$B440)),F$21*F$13/F$196,0)),0)","v":0},{"$f":"IFERROR(IF($B440>G$15,0,IF(OFFSET(index!$I$2,MATCH(G$195,index!$I$3:$I$50,0),MONTH(CF表!$B440)),G$21*G$13/G$196,0)),0)","v":0},{"$f":"IFERROR(IF($B440>H$15,0,IF(OFFSET(index!$I$2,MATCH(H$195,index!$I$3:$I$50,0),MONTH(CF表!$B440)),H$21*H$13/H$196,0)),0)","v":0},{"$f":"IFERROR(IF($B440>I$15,0,IF(OFFSET(index!$I$2,MATCH(I$195,index!$I$3:$I$50,0),MONTH(CF表!$B440)),I$21*I$13/I$196,0)),0)","v":0},{"$f":"IFERROR(IF($B440>J$15,0,IF(OFFSET(index!$I$2,MATCH(J$195,index!$I$3:$I$50,0),MONTH(CF表!$B440)),J$21*J$13/J$196,0)),0)","v":0},{"$f":"IFERROR(IF($B440>K$15,0,IF(OFFSET(index!$I$2,MATCH(K$195,index!$I$3:$I$50,0),MONTH(CF表!$B440)),K$21*K$13/K$196,0)),0)","v":0},{"$f":"IFERROR(IF($B440>L$15,0,IF(OFFSET(index!$I$2,MATCH(L$195,index!$I$3:$I$50,0),MONTH(CF表!$B440)),L$21*L$13/L$196,0)),0)","v":0}]
[null,"2043-01-01",{"$f":"IFERROR(IF($B441>C$15,0,IF(OFFSET(index!$I$2,MATCH(C$195,index!$I$3:$I$50,0),MONTH(CF表!$B441)),C$21*C$13/C$196,0)),0)","v":0},{"$f":"IFERROR(IF($B441>D$15,0,IF(OFFSET(index!$I$2,MATCH(D$195,index!$I$3:$I$50,0),MONTH(CF表!$B441)),D$21*D$13/D$196,0)),0)","v":0},{"$f":"IFERROR(IF($B441>E$15,0,IF(OFFSET(index!$I$2,MATCH(E$195,index!$I$3:$I$50,0),MONTH(CF表!$B441)),E$21*E$13/E$196,0)),0)","v":0},{"$f":"IFERROR(IF($B441>F$15,0,IF(OFFSET(index!$I$2,MATCH(F$195,index!$I$3:$I$50,0),MONTH(CF表!$B441)),F$21*F$13/F$196,0)),0)","v":0},{"$f":"IFERROR(IF($B441>G$15,0,IF(OFFSET(index!$I$2,MATCH(G$195,index!$I$3:$I$50,0),MONTH(CF表!$B441)),G$21*G$13/G$196,0)),0)","v":0},{"$f":"IFERROR(IF($B441>H$15,0,IF(OFFSET(index!$I$2,MATCH(H$195,index!$I$3:$I$50,0),MONTH(CF表!$B441)),H$21*H$13/H$196,0)),0)","v":0},{"$f":"IFERROR(IF($B441>I$15,0,IF(OFFSET(index!$I$2,MATCH(I$195,index!$I$3:$I$50,0),MONTH(CF表!$B441)),I$21*I$13/I$196,0)),0)","v":0},{"$f":"IFERROR(IF($B441>J$15,0,IF(OFFSET(index!$I$2,MATCH(J$195,index!$I$3:$I$50,0),MONTH(CF表!$B441)),J$21*J$13/J$196,0)),0)","v":0},{"$f":"IFERROR(IF($B441>K$15,0,IF(OFFSET(index!$I$2,MATCH(K$195,index!$I$3:$I$50,0),MONTH(CF表!$B441)),K$21*K$13/K$196,0)),0)","v":0},{"$f":"IFERROR(IF($B441>L$15,0,IF(OFFSET(index!$I$2,MATCH(L$195,index!$I$3:$I$50,0),MONTH(CF表!$B441)),L$21*L$13/L$196,0)),0)","v":0}]
[null,"2043-02-01",{"$f":"IFERROR(IF($B442>C$15,0,IF(OFFSET(index!$I$2,MATCH(C$195,index!$I$3:$I$50,0),MONTH(CF表!$B442)),C$21*C$13/C$196,0)),0)","v":0},{"$f":"IFERROR(IF($B442>D$15,0,IF(OFFSET(index!$I$2,MATCH(D$195,index!$I$3:$I$50,0),MONTH(CF表!$B442)),D$21*D$13/D$196,0)),0)","v":0},{"$f":"IFERROR(IF($B442>E$15,0,IF(OFFSET(index!$I$2,MATCH(E$195,index!$I$3:$I$50,0),MONTH(CF表!$B442)),E$21*E$13/E$196,0)),0)","v":0},{"$f":"IFERROR(IF($B442>F$15,0,IF(OFFSET(index!$I$2,MATCH(F$195,index!$I$3:$I$50,0),MONTH(CF表!$B442)),F$21*F$13/F$196,0)),0)","v":0},{"$f":"IFERROR(IF($B442>G$15,0,IF(OFFSET(index!$I$2,MATCH(G$195,index!$I$3:$I$50,0),MONTH(CF表!$B442)),G$21*G$13/G$196,0)),0)","v":0},{"$f":"IFERROR(IF($B442>H$15,0,IF(OFFSET(index!$I$2,MATCH(H$195,index!$I$3:$I$50,0),MONTH(CF表!$B442)),H$21*H$13/H$196,0)),0)","v":0},{"$f":"IFERROR(IF($B442>I$15,0,IF(OFFSET(index!$I$2,MATCH(I$195,index!$I$3:$I$50,0),MONTH(CF表!$B442)),I$21*I$13/I$196,0)),0)","v":0},{"$f":"IFERROR(IF($B442>J$15,0,IF(OFFSET(index!$I$2,MATCH(J$195,index!$I$3:$I$50,0),MONTH(CF表!$B442)),J$21*J$13/J$196,0)),0)","v":0},{"$f":"IFERROR(IF($B442>K$15,0,IF(OFFSET(index!$I$2,MATCH(K$195,index!$I$3:$I$50,0),MONTH(CF表!$B442)),K$21*K$13/K$196,0)),0)","v":0},{"$f":"IFERROR(IF($B442>L$15,0,IF(OFFSET(index!$I$2,MATCH(L$195,index!$I$3:$I$50,0),MONTH(CF表!$B442)),L$21*L$13/L$196,0)),0)","v":0}]
[null,"2043-03-01",{"$f":"IFERROR(IF($B443>C$15,0,IF(OFFSET(index!$I$2,MATCH(C$195,index!$I$3:$I$50,0),MONTH(CF表!$B443)),C$21*C$13/C$196,0)),0)","v":0},{"$f":"IFERROR(IF($B443>D$15,0,IF(OFFSET(index!$I$2,MATCH(D$195,index!$I$3:$I$50,0),MONTH(CF表!$B443)),D$21*D$13/D$196,0)),0)","v":0},{"$f":"IFERROR(IF($B443>E$15,0,IF(OFFSET(index!$I$2,MATCH(E$195,index!$I$3:$I$50,0),MONTH(CF表!$B443)),E$21*E$13/E$196,0)),0)","v":0},{"$f":"IFERROR(IF($B443>F$15,0,IF(OFFSET(index!$I$2,MATCH(F$195,index!$I$3:$I$50,0),MONTH(CF表!$B443)),F$21*F$13/F$196,0)),0)","v":0},{"$f":"IFERROR(IF($B443>G$15,0,IF(OFFSET(index!$I$2,MATCH(G$195,index!$I$3:$I$50,0),MONTH(CF表!$B443)),G$21*G$13/G$196,0)),0)","v":0},{"$f":"IFERROR(IF($B443>H$15,0,IF(OFFSET(index!$I$2,MATCH(H$195,index!$I$3:$I$50,0),MONTH(CF表!$B443)),H$21*H$13/H$196,0)),0)","v":0},{"$f":"IFERROR(IF($B443>I$15,0,IF(OFFSET(index!$I$2,MATCH(I$195,index!$I$3:$I$50,0),MONTH(CF表!$B443)),I$21*I$13/I$196,0)),0)","v":0},{"$f":"IFERROR(IF($B443>J$15,0,IF(OFFSET(index!$I$2,MATCH(J$195,index!$I$3:$I$50,0),MONTH(CF表!$B443)),J$21*J$13/J$196,0)),0)","v":0},{"$f":"IFERROR(IF($B443>K$15,0,IF(OFFSET(index!$I$2,MATCH(K$195,index!$I$3:$I$50,0),MONTH(CF表!$B443)),K$21*K$13/K$196,0)),0)","v":0},{"$f":"IFERROR(IF($B443>L$15,0,IF(OFFSET(index!$I$2,MATCH(L$195,index!$I$3:$I$50,0),MONTH(CF表!$B443)),L$21*L$13/L$196,0)),0)","v":0}]
[null,"2043-04-01",{"$f":"IFERROR(IF($B444>C$15,0,IF(OFFSET(index!$I$2,MATCH(C$195,index!$I$3:$I$50,0),MONTH(CF表!$B444)),C$21*C$13/C$196,0)),0)","v":0},{"$f":"IFERROR(IF($B444>D$15,0,IF(OFFSET(index!$I$2,MATCH(D$195,index!$I$3:$I$50,0),MONTH(CF表!$B444)),D$21*D$13/D$196,0)),0)","v":0},{"$f":"IFERROR(IF($B444>E$15,0,IF(OFFSET(index!$I$2,MATCH(E$195,index!$I$3:$I$50,0),MONTH(CF表!$B444)),E$21*E$13/E$196,0)),0)","v":0},{"$f":"IFERROR(IF($B444>F$15,0,IF(OFFSET(index!$I$2,MATCH(F$195,index!$I$3:$I$50,0),MONTH(CF表!$B444)),F$21*F$13/F$196,0)),0)","v":0},{"$f":"IFERROR(IF($B444>G$15,0,IF(OFFSET(index!$I$2,MATCH(G$195,index!$I$3:$I$50,0),MONTH(CF表!$B444)),G$21*G$13/G$196,0)),0)","v":0},{"$f":"IFERROR(IF($B444>H$15,0,IF(OFFSET(index!$I$2,MATCH(H$195,index!$I$3:$I$50,0),MONTH(CF表!$B444)),H$21*H$13/H$196,0)),0)","v":0},{"$f":"IFERROR(IF($B444>I$15,0,IF(OFFSET(index!$I$2,MATCH(I$195,index!$I$3:$I$50,0),MONTH(CF表!$B444)),I$21*I$13/I$196,0)),0)","v":0},{"$f":"IFERROR(IF($B444>J$15,0,IF(OFFSET(index!$I$2,MATCH(J$195,index!$I$3:$I$50,0),MONTH(CF表!$B444)),J$21*J$13/J$196,0)),0)","v":0},{"$f":"IFERROR(IF($B444>K$15,0,IF(OFFSET(index!$I$2,MATCH(K$195,index!$I$3:$I$50,0),MONTH(CF表!$B444)),K$21*K$13/K$196,0)),0)","v":0},{"$f":"IFERROR(IF($B444>L$15,0,IF(OFFSET(index!$I$2,MATCH(L$195,index!$I$3:$I$50,0),MONTH(CF表!$B444)),L$21*L$13/L$196,0)),0)","v":0}]
[null,{"$f":"EDATE(B444,1)","v":"2043-05-01"},{"$f":"IFERROR(IF($B445>C$15,0,IF(OFFSET(index!$I$2,MATCH(C$195,index!$I$3:$I$50,0),MONTH(CF表!$B445)),C$21*C$13/C$196,0)),0)","v":0},{"$f":"IFERROR(IF($B445>D$15,0,IF(OFFSET(index!$I$2,MATCH(D$195,index!$I$3:$I$50,0),MONTH(CF表!$B445)),D$21*D$13/D$196,0)),0)","v":0},{"$f":"IFERROR(IF($B445>E$15,0,IF(OFFSET(index!$I$2,MATCH(E$195,index!$I$3:$I$50,0),MONTH(CF表!$B445)),E$21*E$13/E$196,0)),0)","v":0},{"$f":"IFERROR(IF($B445>F$15,0,IF(OFFSET(index!$I$2,MATCH(F$195,index!$I$3:$I$50,0),MONTH(CF表!$B445)),F$21*F$13/F$196,0)),0)","v":0},{"$f":"IFERROR(IF($B445>G$15,0,IF(OFFSET(index!$I$2,MATCH(G$195,index!$I$3:$I$50,0),MONTH(CF表!$B445)),G$21*G$13/G$196,0)),0)","v":0},{"$f":"IFERROR(IF($B445>H$15,0,IF(OFFSET(index!$I$2,MATCH(H$195,index!$I$3:$I$50,0),MONTH(CF表!$B445)),H$21*H$13/H$196,0)),0)","v":0},{"$f":"IFERROR(IF($B445>I$15,0,IF(OFFSET(index!$I$2,MATCH(I$195,index!$I$3:$I$50,0),MONTH(CF表!$B445)),I$21*I$13/I$196,0)),0)","v":0},{"$f":"IFERROR(IF($B445>J$15,0,IF(OFFSET(index!$I$2,MATCH(J$195,index!$I$3:$I$50,0),MONTH(CF表!$B445)),J$21*J$13/J$196,0)),0)","v":0},{"$f":"IFERROR(IF($B445>K$15,0,IF(OFFSET(index!$I$2,MATCH(K$195,index!$I$3:$I$50,0),MONTH(CF表!$B445)),K$21*K$13/K$196,0)),0)","v":0},{"$f":"IFERROR(IF($B445>L$15,0,IF(OFFSET(index!$I$2,MATCH(L$195,index!$I$3:$I$50,0),MONTH(CF表!$B445)),L$21*L$13/L$196,0)),0)","v":0}]
[null,"2043-06-01",{"$f":"IFERROR(IF($B446>C$15,0,IF(OFFSET(index!$I$2,MATCH(C$195,index!$I$3:$I$50,0),MONTH(CF表!$B446)),C$21*C$13/C$196,0)),0)","v":0},{"$f":"IFERROR(IF($B446>D$15,0,IF(OFFSET(index!$I$2,MATCH(D$195,index!$I$3:$I$50,0),MONTH(CF表!$B446)),D$21*D$13/D$196,0)),0)","v":0},{"$f":"IFERROR(IF($B446>E$15,0,IF(OFFSET(index!$I$2,MATCH(E$195,index!$I$3:$I$50,0),MONTH(CF表!$B446)),E$21*E$13/E$196,0)),0)","v":0},{"$f":"IFERROR(IF($B446>F$15,0,IF(OFFSET(index!$I$2,MATCH(F$195,index!$I$3:$I$50,0),MONTH(CF表!$B446)),F$21*F$13/F$196,0)),0)","v":0},{"$f":"IFERROR(IF($B446>G$15,0,IF(OFFSET(index!$I$2,MATCH(G$195,index!$I$3:$I$50,0),MONTH(CF表!$B446)),G$21*G$13/G$196,0)),0)","v":0},{"$f":"IFERROR(IF($B446>H$15,0,IF(OFFSET(index!$I$2,MATCH(H$195,index!$I$3:$I$50,0),MONTH(CF表!$B446)),H$21*H$13/H$196,0)),0)","v":0},{"$f":"IFERROR(IF($B446>I$15,0,IF(OFFSET(index!$I$2,MATCH(I$195,index!$I$3:$I$50,0),MONTH(CF表!$B446)),I$21*I$13/I$196,0)),0)","v":0},{"$f":"IFERROR(IF($B446>J$15,0,IF(OFFSET(index!$I$2,MATCH(J$195,index!$I$3:$I$50,0),MONTH(CF表!$B446)),J$21*J$13/J$196,0)),0)","v":0},{"$f":"IFERROR(IF($B446>K$15,0,IF(OFFSET(index!$I$2,MATCH(K$195,index!$I$3:$I$50,0),MONTH(CF表!$B446)),K$21*K$13/K$196,0)),0)","v":0},{"$f":"IFERROR(IF($B446>L$15,0,IF(OFFSET(index!$I$2,MATCH(L$195,index!$I$3:$I$50,0),MONTH(CF表!$B446)),L$21*L$13/L$196,0)),0)","v":0}]
[null,"2043-07-01",{"$f":"IFERROR(IF($B447>C$15,0,IF(OFFSET(index!$I$2,MATCH(C$195,index!$I$3:$I$50,0),MONTH(CF表!$B447)),C$21*C$13/C$196,0)),0)","v":0},{"$f":"IFERROR(IF($B447>D$15,0,IF(OFFSET(index!$I$2,MATCH(D$195,index!$I$3:$I$50,0),MONTH(CF表!$B447)),D$21*D$13/D$196,0)),0)","v":0},{"$f":"IFERROR(IF($B447>E$15,0,IF(OFFSET(index!$I$2,MATCH(E$195,index!$I$3:$I$50,0),MONTH(CF表!$B447)),E$21*E$13/E$196,0)),0)","v":0},{"$f":"IFERROR(IF($B447>F$15,0,IF(OFFSET(index!$I$2,MATCH(F$195,index!$I$3:$I$50,0),MONTH(CF表!$B447)),F$21*F$13/F$196,0)),0)","v":0},{"$f":"IFERROR(IF($B447>G$15,0,IF(OFFSET(index!$I$2,MATCH(G$195,index!$I$3:$I$50,0),MONTH(CF表!$B447)),G$21*G$13/G$196,0)),0)","v":0},{"$f":"IFERROR(IF($B447>H$15,0,IF(OFFSET(index!$I$2,MATCH(H$195,index!$I$3:$I$50,0),MONTH(CF表!$B447)),H$21*H$13/H$196,0)),0)","v":0},{"$f":"IFERROR(IF($B447>I$15,0,IF(OFFSET(index!$I$2,MATCH(I$195,index!$I$3:$I$50,0),MONTH(CF表!$B447)),I$21*I$13/I$196,0)),0)","v":0},{"$f":"IFERROR(IF($B447>J$15,0,IF(OFFSET(index!$I$2,MATCH(J$195,index!$I$3:$I$50,0),MONTH(CF表!$B447)),J$21*J$13/J$196,0)),0)","v":0},{"$f":"IFERROR(IF($B447>K$15,0,IF(OFFSET(index!$I$2,MATCH(K$195,index!$I$3:$I$50,0),MONTH(CF表!$B447)),K$21*K$13/K$196,0)),0)","v":0},{"$f":"IFERROR(IF($B447>L$15,0,IF(OFFSET(index!$I$2,MATCH(L$195,index!$I$3:$I$50,0),MONTH(CF表!$B447)),L$21*L$13/L$196,0)),0)","v":0}]
[null,"2043-08-01",{"$f":"IFERROR(IF($B448>C$15,0,IF(OFFSET(index!$I$2,MATCH(C$195,index!$I$3:$I$50,0),MONTH(CF表!$B448)),C$21*C$13/C$196,0)),0)","v":0},{"$f":"IFERROR(IF($B448>D$15,0,IF(OFFSET(index!$I$2,MATCH(D$195,index!$I$3:$I$50,0),MONTH(CF表!$B448)),D$21*D$13/D$196,0)),0)","v":0},{"$f":"IFERROR(IF($B448>E$15,0,IF(OFFSET(index!$I$2,MATCH(E$195,index!$I$3:$I$50,0),MONTH(CF表!$B448)),E$21*E$13/E$196,0)),0)","v":0},{"$f":"IFERROR(IF($B448>F$15,0,IF(OFFSET(index!$I$2,MATCH(F$195,index!$I$3:$I$50,0),MONTH(CF表!$B448)),F$21*F$13/F$196,0)),0)","v":0},{"$f":"IFERROR(IF($B448>G$15,0,IF(OFFSET(index!$I$2,MATCH(G$195,index!$I$3:$I$50,0),MONTH(CF表!$B448)),G$21*G$13/G$196,0)),0)","v":0},{"$f":"IFERROR(IF($B448>H$15,0,IF(OFFSET(index!$I$2,MATCH(H$195,index!$I$3:$I$50,0),MONTH(CF表!$B448)),H$21*H$13/H$196,0)),0)","v":0},{"$f":"IFERROR(IF($B448>I$15,0,IF(OFFSET(index!$I$2,MATCH(I$195,index!$I$3:$I$50,0),MONTH(CF表!$B448)),I$21*I$13/I$196,0)),0)","v":0},{"$f":"IFERROR(IF($B448>J$15,0,IF(OFFSET(index!$I$2,MATCH(J$195,index!$I$3:$I$50,0),MONTH(CF表!$B448)),J$21*J$13/J$196,0)),0)","v":0},{"$f":"IFERROR(IF($B448>K$15,0,IF(OFFSET(index!$I$2,MATCH(K$195,index!$I$3:$I$50,0),MONTH(CF表!$B448)),K$21*K$13/K$196,0)),0)","v":0},{"$f":"IFERROR(IF($B448>L$15,0,IF(OFFSET(index!$I$2,MATCH(L$195,index!$I$3:$I$50,0),MONTH(CF表!$B448)),L$21*L$13/L$196,0)),0)","v":0}]
[null,"2043-09-01",{"$f":"IFERROR(IF($B449>C$15,0,IF(OFFSET(index!$I$2,MATCH(C$195,index!$I$3:$I$50,0),MONTH(CF表!$B449)),C$21*C$13/C$196,0)),0)","v":0},{"$f":"IFERROR(IF($B449>D$15,0,IF(OFFSET(index!$I$2,MATCH(D$195,index!$I$3:$I$50,0),MONTH(CF表!$B449)),D$21*D$13/D$196,0)),0)","v":0},{"$f":"IFERROR(IF($B449>E$15,0,IF(OFFSET(index!$I$2,MATCH(E$195,index!$I$3:$I$50,0),MONTH(CF表!$B449)),E$21*E$13/E$196,0)),0)","v":0},{"$f":"IFERROR(IF($B449>F$15,0,IF(OFFSET(index!$I$2,MATCH(F$195,index!$I$3:$I$50,0),MONTH(CF表!$B449)),F$21*F$13/F$196,0)),0)","v":0},{"$f":"IFERROR(IF($B449>G$15,0,IF(OFFSET(index!$I$2,MATCH(G$195,index!$I$3:$I$50,0),MONTH(CF表!$B449)),G$21*G$13/G$196,0)),0)","v":0},{"$f":"IFERROR(IF($B449>H$15,0,IF(OFFSET(index!$I$2,MATCH(H$195,index!$I$3:$I$50,0),MONTH(CF表!$B449)),H$21*H$13/H$196,0)),0)","v":0},{"$f":"IFERROR(IF($B449>I$15,0,IF(OFFSET(index!$I$2,MATCH(I$195,index!$I$3:$I$50,0),MONTH(CF表!$B449)),I$21*I$13/I$196,0)),0)","v":0},{"$f":"IFERROR(IF($B449>J$15,0,IF(OFFSET(index!$I$2,MATCH(J$195,index!$I$3:$I$50,0),MONTH(CF表!$B449)),J$21*J$13/J$196,0)),0)","v":0},{"$f":"IFERROR(IF($B449>K$15,0,IF(OFFSET(index!$I$2,MATCH(K$195,index!$I$3:$I$50,0),MONTH(CF表!$B449)),K$21*K$13/K$196,0)),0)","v":0},{"$f":"IFERROR(IF($B449>L$15,0,IF(OFFSET(index!$I$2,MATCH(L$195,index!$I$3:$I$50,0),MONTH(CF表!$B449)),L$21*L$13/L$196,0)),0)","v":0}]
[null,"2043-10-01",{"$f":"IFERROR(IF($B450>C$15,0,IF(OFFSET(index!$I$2,MATCH(C$195,index!$I$3:$I$50,0),MONTH(CF表!$B450)),C$21*C$13/C$196,0)),0)","v":0},{"$f":"IFERROR(IF($B450>D$15,0,IF(OFFSET(index!$I$2,MATCH(D$195,index!$I$3:$I$50,0),MONTH(CF表!$B450)),D$21*D$13/D$196,0)),0)","v":0},{"$f":"IFERROR(IF($B450>E$15,0,IF(OFFSET(index!$I$2,MATCH(E$195,index!$I$3:$I$50,0),MONTH(CF表!$B450)),E$21*E$13/E$196,0)),0)","v":0},{"$f":"IFERROR(IF($B450>F$15,0,IF(OFFSET(index!$I$2,MATCH(F$195,index!$I$3:$I$50,0),MONTH(CF表!$B450)),F$21*F$13/F$196,0)),0)","v":0},{"$f":"IFERROR(IF($B450>G$15,0,IF(OFFSET(index!$I$2,MATCH(G$195,index!$I$3:$I$50,0),MONTH(CF表!$B450)),G$21*G$13/G$196,0)),0)","v":0},{"$f":"IFERROR(IF($B450>H$15,0,IF(OFFSET(index!$I$2,MATCH(H$195,index!$I$3:$I$50,0),MONTH(CF表!$B450)),H$21*H$13/H$196,0)),0)","v":0},{"$f":"IFERROR(IF($B450>I$15,0,IF(OFFSET(index!$I$2,MATCH(I$195,index!$I$3:$I$50,0),MONTH(CF表!$B450)),I$21*I$13/I$196,0)),0)","v":0},{"$f":"IFERROR(IF($B450>J$15,0,IF(OFFSET(index!$I$2,MATCH(J$195,index!$I$3:$I$50,0),MONTH(CF表!$B450)),J$21*J$13/J$196,0)),0)","v":0},{"$f":"IFERROR(IF($B450>K$15,0,IF(OFFSET(index!$I$2,MATCH(K$195,index!$I$3:$I$50,0),MONTH(CF表!$B450)),K$21*K$13/K$196,0)),0)","v":0},{"$f":"IFERROR(IF($B450>L$15,0,IF(OFFSET(index!$I$2,MATCH(L$195,index!$I$3:$I$50,0),MONTH(CF表!$B450)),L$21*L$13/L$196,0)),0)","v":0}]
[null,"2043-11-01",{"$f":"IFERROR(IF($B451>C$15,0,IF(OFFSET(index!$I$2,MATCH(C$195,index!$I$3:$I$50,0),MONTH(CF表!$B451)),C$21*C$13/C$196,0)),0)","v":0},{"$f":"IFERROR(IF($B451>D$15,0,IF(OFFSET(index!$I$2,MATCH(D$195,index!$I$3:$I$50,0),MONTH(CF表!$B451)),D$21*D$13/D$196,0)),0)","v":0},{"$f":"IFERROR(IF($B451>E$15,0,IF(OFFSET(index!$I$2,MATCH(E$195,index!$I$3:$I$50,0),MONTH(CF表!$B451)),E$21*E$13/E$196,0)),0)","v":0},{"$f":"IFERROR(IF($B451>F$15,0,IF(OFFSET(index!$I$2,MATCH(F$195,index!$I$3:$I$50,0),MONTH(CF表!$B451)),F$21*F$13/F$196,0)),0)","v":0},{"$f":"IFERROR(IF($B451>G$15,0,IF(OFFSET(index!$I$2,MATCH(G$195,index!$I$3:$I$50,0),MONTH(CF表!$B451)),G$21*G$13/G$196,0)),0)","v":0},{"$f":"IFERROR(IF($B451>H$15,0,IF(OFFSET(index!$I$2,MATCH(H$195,index!$I$3:$I$50,0),MONTH(CF表!$B451)),H$21*H$13/H$196,0)),0)","v":0},{"$f":"IFERROR(IF($B451>I$15,0,IF(OFFSET(index!$I$2,MATCH(I$195,index!$I$3:$I$50,0),MONTH(CF表!$B451)),I$21*I$13/I$196,0)),0)","v":0},{"$f":"IFERROR(IF($B451>J$15,0,IF(OFFSET(index!$I$2,MATCH(J$195,index!$I$3:$I$50,0),MONTH(CF表!$B451)),J$21*J$13/J$196,0)),0)","v":0},{"$f":"IFERROR(IF($B451>K$15,0,IF(OFFSET(index!$I$2,MATCH(K$195,index!$I$3:$I$50,0),MONTH(CF表!$B451)),K$21*K$13/K$196,0)),0)","v":0},{"$f":"IFERROR(IF($B451>L$15,0,IF(OFFSET(index!$I$2,MATCH(L$195,index!$I$3:$I$50,0),MONTH(CF表!$B451)),L$21*L$13/L$196,0)),0)","v":0}]
[null,"2043-12-01",{"$f":"IFERROR(IF($B452>C$15,0,IF(OFFSET(index!$I$2,MATCH(C$195,index!$I$3:$I$50,0),MONTH(CF表!$B452)),C$21*C$13/C$196,0)),0)","v":0},{"$f":"IFERROR(IF($B452>D$15,0,IF(OFFSET(index!$I$2,MATCH(D$195,index!$I$3:$I$50,0),MONTH(CF表!$B452)),D$21*D$13/D$196,0)),0)","v":0},{"$f":"IFERROR(IF($B452>E$15,0,IF(OFFSET(index!$I$2,MATCH(E$195,index!$I$3:$I$50,0),MONTH(CF表!$B452)),E$21*E$13/E$196,0)),0)","v":0},{"$f":"IFERROR(IF($B452>F$15,0,IF(OFFSET(index!$I$2,MATCH(F$195,index!$I$3:$I$50,0),MONTH(CF表!$B452)),F$21*F$13/F$196,0)),0)","v":0},{"$f":"IFERROR(IF($B452>G$15,0,IF(OFFSET(index!$I$2,MATCH(G$195,index!$I$3:$I$50,0),MONTH(CF表!$B452)),G$21*G$13/G$196,0)),0)","v":0},{"$f":"IFERROR(IF($B452>H$15,0,IF(OFFSET(index!$I$2,MATCH(H$195,index!$I$3:$I$50,0),MONTH(CF表!$B452)),H$21*H$13/H$196,0)),0)","v":0},{"$f":"IFERROR(IF($B452>I$15,0,IF(OFFSET(index!$I$2,MATCH(I$195,index!$I$3:$I$50,0),MONTH(CF表!$B452)),I$21*I$13/I$196,0)),0)","v":0},{"$f":"IFERROR(IF($B452>J$15,0,IF(OFFSET(index!$I$2,MATCH(J$195,index!$I$3:$I$50,0),MONTH(CF表!$B452)),J$21*J$13/J$196,0)),0)","v":0},{"$f":"IFERROR(IF($B452>K$15,0,IF(OFFSET(index!$I$2,MATCH(K$195,index!$I$3:$I$50,0),MONTH(CF表!$B452)),K$21*K$13/K$196,0)),0)","v":0},{"$f":"IFERROR(IF($B452>L$15,0,IF(OFFSET(index!$I$2,MATCH(L$195,index!$I$3:$I$50,0),MONTH(CF表!$B452)),L$21*L$13/L$196,0)),0)","v":0}]
[null,"2044-01-01",{"$f":"IFERROR(IF($B453>C$15,0,IF(OFFSET(index!$I$2,MATCH(C$195,index!$I$3:$I$50,0),MONTH(CF表!$B453)),C$21*C$13/C$196,0)),0)","v":0},{"$f":"IFERROR(IF($B453>D$15,0,IF(OFFSET(index!$I$2,MATCH(D$195,index!$I$3:$I$50,0),MONTH(CF表!$B453)),D$21*D$13/D$196,0)),0)","v":0},{"$f":"IFERROR(IF($B453>E$15,0,IF(OFFSET(index!$I$2,MATCH(E$195,index!$I$3:$I$50,0),MONTH(CF表!$B453)),E$21*E$13/E$196,0)),0)","v":0},{"$f":"IFERROR(IF($B453>F$15,0,IF(OFFSET(index!$I$2,MATCH(F$195,index!$I$3:$I$50,0),MONTH(CF表!$B453)),F$21*F$13/F$196,0)),0)","v":0},{"$f":"IFERROR(IF($B453>G$15,0,IF(OFFSET(index!$I$2,MATCH(G$195,index!$I$3:$I$50,0),MONTH(CF表!$B453)),G$21*G$13/G$196,0)),0)","v":0},{"$f":"IFERROR(IF($B453>H$15,0,IF(OFFSET(index!$I$2,MATCH(H$195,index!$I$3:$I$50,0),MONTH(CF表!$B453)),H$21*H$13/H$196,0)),0)","v":0},{"$f":"IFERROR(IF($B453>I$15,0,IF(OFFSET(index!$I$2,MATCH(I$195,index!$I$3:$I$50,0),MONTH(CF表!$B453)),I$21*I$13/I$196,0)),0)","v":0},{"$f":"IFERROR(IF($B453>J$15,0,IF(OFFSET(index!$I$2,MATCH(J$195,index!$I$3:$I$50,0),MONTH(CF表!$B453)),J$21*J$13/J$196,0)),0)","v":0},{"$f":"IFERROR(IF($B453>K$15,0,IF(OFFSET(index!$I$2,MATCH(K$195,index!$I$3:$I$50,0),MONTH(CF表!$B453)),K$21*K$13/K$196,0)),0)","v":0},{"$f":"IFERROR(IF($B453>L$15,0,IF(OFFSET(index!$I$2,MATCH(L$195,index!$I$3:$I$50,0),MONTH(CF表!$B453)),L$21*L$13/L$196,0)),0)","v":0}]
[null,"2044-02-01",{"$f":"IFERROR(IF($B454>C$15,0,IF(OFFSET(index!$I$2,MATCH(C$195,index!$I$3:$I$50,0),MONTH(CF表!$B454)),C$21*C$13/C$196,0)),0)","v":0},{"$f":"IFERROR(IF($B454>D$15,0,IF(OFFSET(index!$I$2,MATCH(D$195,index!$I$3:$I$50,0),MONTH(CF表!$B454)),D$21*D$13/D$196,0)),0)","v":0},{"$f":"IFERROR(IF($B454>E$15,0,IF(OFFSET(index!$I$2,MATCH(E$195,index!$I$3:$I$50,0),MONTH(CF表!$B454)),E$21*E$13/E$196,0)),0)","v":0},{"$f":"IFERROR(IF($B454>F$15,0,IF(OFFSET(index!$I$2,MATCH(F$195,index!$I$3:$I$50,0),MONTH(CF表!$B454)),F$21*F$13/F$196,0)),0)","v":0},{"$f":"IFERROR(IF($B454>G$15,0,IF(OFFSET(index!$I$2,MATCH(G$195,index!$I$3:$I$50,0),MONTH(CF表!$B454)),G$21*G$13/G$196,0)),0)","v":0},{"$f":"IFERROR(IF($B454>H$15,0,IF(OFFSET(index!$I$2,MATCH(H$195,index!$I$3:$I$50,0),MONTH(CF表!$B454)),H$21*H$13/H$196,0)),0)","v":0},{"$f":"IFERROR(IF($B454>I$15,0,IF(OFFSET(index!$I$2,MATCH(I$195,index!$I$3:$I$50,0),MONTH(CF表!$B454)),I$21*I$13/I$196,0)),0)","v":0},{"$f":"IFERROR(IF($B454>J$15,0,IF(OFFSET(index!$I$2,MATCH(J$195,index!$I$3:$I$50,0),MONTH(CF表!$B454)),J$21*J$13/J$196,0)),0)","v":0},{"$f":"IFERROR(IF($B454>K$15,0,IF(OFFSET(index!$I$2,MATCH(K$195,index!$I$3:$I$50,0),MONTH(CF表!$B454)),K$21*K$13/K$196,0)),0)","v":0},{"$f":"IFERROR(IF($B454>L$15,0,IF(OFFSET(index!$I$2,MATCH(L$195,index!$I$3:$I$50,0),MONTH(CF表!$B454)),L$21*L$13/L$196,0)),0)","v":0}]
[null,"2044-03-01",{"$f":"IFERROR(IF($B455>C$15,0,IF(OFFSET(index!$I$2,MATCH(C$195,index!$I$3:$I$50,0),MONTH(CF表!$B455)),C$21*C$13/C$196,0)),0)","v":0},{"$f":"IFERROR(IF($B455>D$15,0,IF(OFFSET(index!$I$2,MATCH(D$195,index!$I$3:$I$50,0),MONTH(CF表!$B455)),D$21*D$13/D$196,0)),0)","v":0},{"$f":"IFERROR(IF($B455>E$15,0,IF(OFFSET(index!$I$2,MATCH(E$195,index!$I$3:$I$50,0),MONTH(CF表!$B455)),E$21*E$13/E$196,0)),0)","v":0},{"$f":"IFERROR(IF($B455>F$15,0,IF(OFFSET(index!$I$2,MATCH(F$195,index!$I$3:$I$50,0),MONTH(CF表!$B455)),F$21*F$13/F$196,0)),0)","v":0},{"$f":"IFERROR(IF($B455>G$15,0,IF(OFFSET(index!$I$2,MATCH(G$195,index!$I$3:$I$50,0),MONTH(CF表!$B455)),G$21*G$13/G$196,0)),0)","v":0},{"$f":"IFERROR(IF($B455>H$15,0,IF(OFFSET(index!$I$2,MATCH(H$195,index!$I$3:$I$50,0),MONTH(CF表!$B455)),H$21*H$13/H$196,0)),0)","v":0},{"$f":"IFERROR(IF($B455>I$15,0,IF(OFFSET(index!$I$2,MATCH(I$195,index!$I$3:$I$50,0),MONTH(CF表!$B455)),I$21*I$13/I$196,0)),0)","v":0},{"$f":"IFERROR(IF($B455>J$15,0,IF(OFFSET(index!$I$2,MATCH(J$195,index!$I$3:$I$50,0),MONTH(CF表!$B455)),J$21*J$13/J$196,0)),0)","v":0},{"$f":"IFERROR(IF($B455>K$15,0,IF(OFFSET(index!$I$2,MATCH(K$195,index!$I$3:$I$50,0),MONTH(CF表!$B455)),K$21*K$13/K$196,0)),0)","v":0},{"$f":"IFERROR(IF($B455>L$15,0,IF(OFFSET(index!$I$2,MATCH(L$195,index!$I$3:$I$50,0),MONTH(CF表!$B455)),L$21*L$13/L$196,0)),0)","v":0}]
[null,"2044-04-01",{"$f":"IFERROR(IF($B456>C$15,0,IF(OFFSET(index!$I$2,MATCH(C$195,index!$I$3:$I$50,0),MONTH(CF表!$B456)),C$21*C$13/C$196,0)),0)","v":0},{"$f":"IFERROR(IF($B456>D$15,0,IF(OFFSET(index!$I$2,MATCH(D$195,index!$I$3:$I$50,0),MONTH(CF表!$B456)),D$21*D$13/D$196,0)),0)","v":0},{"$f":"IFERROR(IF($B456>E$15,0,IF(OFFSET(index!$I$2,MATCH(E$195,index!$I$3:$I$50,0),MONTH(CF表!$B456)),E$21*E$13/E$196,0)),0)","v":0},{"$f":"IFERROR(IF($B456>F$15,0,IF(OFFSET(index!$I$2,MATCH(F$195,index!$I$3:$I$50,0),MONTH(CF表!$B456)),F$21*F$13/F$196,0)),0)","v":0},{"$f":"IFERROR(IF($B456>G$15,0,IF(OFFSET(index!$I$2,MATCH(G$195,index!$I$3:$I$50,0),MONTH(CF表!$B456)),G$21*G$13/G$196,0)),0)","v":0},{"$f":"IFERROR(IF($B456>H$15,0,IF(OFFSET(index!$I$2,MATCH(H$195,index!$I$3:$I$50,0),MONTH(CF表!$B456)),H$21*H$13/H$196,0)),0)","v":0},{"$f":"IFERROR(IF($B456>I$15,0,IF(OFFSET(index!$I$2,MATCH(I$195,index!$I$3:$I$50,0),MONTH(CF表!$B456)),I$21*I$13/I$196,0)),0)","v":0},{"$f":"IFERROR(IF($B456>J$15,0,IF(OFFSET(index!$I$2,MATCH(J$195,index!$I$3:$I$50,0),MONTH(CF表!$B456)),J$21*J$13/J$196,0)),0)","v":0},{"$f":"IFERROR(IF($B456>K$15,0,IF(OFFSET(index!$I$2,MATCH(K$195,index!$I$3:$I$50,0),MONTH(CF表!$B456)),K$21*K$13/K$196,0)),0)","v":0},{"$f":"IFERROR(IF($B456>L$15,0,IF(OFFSET(index!$I$2,MATCH(L$195,index!$I$3:$I$50,0),MONTH(CF表!$B456)),L$21*L$13/L$196,0)),0)","v":0}]
[null,"2044-05-01",{"$f":"IFERROR(IF($B457>C$15,0,IF(OFFSET(index!$I$2,MATCH(C$195,index!$I$3:$I$50,0),MONTH(CF表!$B457)),C$21*C$13/C$196,0)),0)","v":0},{"$f":"IFERROR(IF($B457>D$15,0,IF(OFFSET(index!$I$2,MATCH(D$195,index!$I$3:$I$50,0),MONTH(CF表!$B457)),D$21*D$13/D$196,0)),0)","v":0},{"$f":"IFERROR(IF($B457>E$15,0,IF(OFFSET(index!$I$2,MATCH(E$195,index!$I$3:$I$50,0),MONTH(CF表!$B457)),E$21*E$13/E$196,0)),0)","v":0},{"$f":"IFERROR(IF($B457>F$15,0,IF(OFFSET(index!$I$2,MATCH(F$195,index!$I$3:$I$50,0),MONTH(CF表!$B457)),F$21*F$13/F$196,0)),0)","v":0},{"$f":"IFERROR(IF($B457>G$15,0,IF(OFFSET(index!$I$2,MATCH(G$195,index!$I$3:$I$50,0),MONTH(CF表!$B457)),G$21*G$13/G$196,0)),0)","v":0},{"$f":"IFERROR(IF($B457>H$15,0,IF(OFFSET(index!$I$2,MATCH(H$195,index!$I$3:$I$50,0),MONTH(CF表!$B457)),H$21*H$13/H$196,0)),0)","v":0},{"$f":"IFERROR(IF($B457>I$15,0,IF(OFFSET(index!$I$2,MATCH(I$195,index!$I$3:$I$50,0),MONTH(CF表!$B457)),I$21*I$13/I$196,0)),0)","v":0},{"$f":"IFERROR(IF($B457>J$15,0,IF(OFFSET(index!$I$2,MATCH(J$195,index!$I$3:$I$50,0),MONTH(CF表!$B457)),J$21*J$13/J$196,0)),0)","v":0},{"$f":"IFERROR(IF($B457>K$15,0,IF(OFFSET(index!$I$2,MATCH(K$195,index!$I$3:$I$50,0),MONTH(CF表!$B457)),K$21*K$13/K$196,0)),0)","v":0},{"$f":"IFERROR(IF($B457>L$15,0,IF(OFFSET(index!$I$2,MATCH(L$195,index!$I$3:$I$50,0),MONTH(CF表!$B457)),L$21*L$13/L$196,0)),0)","v":0}]
[null,"2044-06-01",{"$f":"IFERROR(IF($B458>C$15,0,IF(OFFSET(index!$I$2,MATCH(C$195,index!$I$3:$I$50,0),MONTH(CF表!$B458)),C$21*C$13/C$196,0)),0)","v":0},{"$f":"IFERROR(IF($B458>D$15,0,IF(OFFSET(index!$I$2,MATCH(D$195,index!$I$3:$I$50,0),MONTH(CF表!$B458)),D$21*D$13/D$196,0)),0)","v":0},{"$f":"IFERROR(IF($B458>E$15,0,IF(OFFSET(index!$I$2,MATCH(E$195,index!$I$3:$I$50,0),MONTH(CF表!$B458)),E$21*E$13/E$196,0)),0)","v":0},{"$f":"IFERROR(IF($B458>F$15,0,IF(OFFSET(index!$I$2,MATCH(F$195,index!$I$3:$I$50,0),MONTH(CF表!$B458)),F$21*F$13/F$196,0)),0)","v":0},{"$f":"IFERROR(IF($B458>G$15,0,IF(OFFSET(index!$I$2,MATCH(G$195,index!$I$3:$I$50,0),MONTH(CF表!$B458)),G$21*G$13/G$196,0)),0)","v":0},{"$f":"IFERROR(IF($B458>H$15,0,IF(OFFSET(index!$I$2,MATCH(H$195,index!$I$3:$I$50,0),MONTH(CF表!$B458)),H$21*H$13/H$196,0)),0)","v":0},{"$f":"IFERROR(IF($B458>I$15,0,IF(OFFSET(index!$I$2,MATCH(I$195,index!$I$3:$I$50,0),MONTH(CF表!$B458)),I$21*I$13/I$196,0)),0)","v":0},{"$f":"IFERROR(IF($B458>J$15,0,IF(OFFSET(index!$I$2,MATCH(J$195,index!$I$3:$I$50,0),MONTH(CF表!$B458)),J$21*J$13/J$196,0)),0)","v":0},{"$f":"IFERROR(IF($B458>K$15,0,IF(OFFSET(index!$I$2,MATCH(K$195,index!$I$3:$I$50,0),MONTH(CF表!$B458)),K$21*K$13/K$196,0)),0)","v":0},{"$f":"IFERROR(IF($B458>L$15,0,IF(OFFSET(index!$I$2,MATCH(L$195,index!$I$3:$I$50,0),MONTH(CF表!$B458)),L$21*L$13/L$196,0)),0)","v":0}]
[null,"2044-07-01",{"$f":"IFERROR(IF($B459>C$15,0,IF(OFFSET(index!$I$2,MATCH(C$195,index!$I$3:$I$50,0),MONTH(CF表!$B459)),C$21*C$13/C$196,0)),0)","v":0},{"$f":"IFERROR(IF($B459>D$15,0,IF(OFFSET(index!$I$2,MATCH(D$195,index!$I$3:$I$50,0),MONTH(CF表!$B459)),D$21*D$13/D$196,0)),0)","v":0},{"$f":"IFERROR(IF($B459>E$15,0,IF(OFFSET(index!$I$2,MATCH(E$195,index!$I$3:$I$50,0),MONTH(CF表!$B459)),E$21*E$13/E$196,0)),0)","v":0},{"$f":"IFERROR(IF($B459>F$15,0,IF(OFFSET(index!$I$2,MATCH(F$195,index!$I$3:$I$50,0),MONTH(CF表!$B459)),F$21*F$13/F$196,0)),0)","v":0},{"$f":"IFERROR(IF($B459>G$15,0,IF(OFFSET(index!$I$2,MATCH(G$195,index!$I$3:$I$50,0),MONTH(CF表!$B459)),G$21*G$13/G$196,0)),0)","v":0},{"$f":"IFERROR(IF($B459>H$15,0,IF(OFFSET(index!$I$2,MATCH(H$195,index!$I$3:$I$50,0),MONTH(CF表!$B459)),H$21*H$13/H$196,0)),0)","v":0},{"$f":"IFERROR(IF($B459>I$15,0,IF(OFFSET(index!$I$2,MATCH(I$195,index!$I$3:$I$50,0),MONTH(CF表!$B459)),I$21*I$13/I$196,0)),0)","v":0},{"$f":"IFERROR(IF($B459>J$15,0,IF(OFFSET(index!$I$2,MATCH(J$195,index!$I$3:$I$50,0),MONTH(CF表!$B459)),J$21*J$13/J$196,0)),0)","v":0},{"$f":"IFERROR(IF($B459>K$15,0,IF(OFFSET(index!$I$2,MATCH(K$195,index!$I$3:$I$50,0),MONTH(CF表!$B459)),K$21*K$13/K$196,0)),0)","v":0},{"$f":"IFERROR(IF($B459>L$15,0,IF(OFFSET(index!$I$2,MATCH(L$195,index!$I$3:$I$50,0),MONTH(CF表!$B459)),L$21*L$13/L$196,0)),0)","v":0}]
[null,"2044-08-01",{"$f":"IFERROR(IF($B460>C$15,0,IF(OFFSET(index!$I$2,MATCH(C$195,index!$I$3:$I$50,0),MONTH(CF表!$B460)),C$21*C$13/C$196,0)),0)","v":0},{"$f":"IFERROR(IF($B460>D$15,0,IF(OFFSET(index!$I$2,MATCH(D$195,index!$I$3:$I$50,0),MONTH(CF表!$B460)),D$21*D$13/D$196,0)),0)","v":0},{"$f":"IFERROR(IF($B460>E$15,0,IF(OFFSET(index!$I$2,MATCH(E$195,index!$I$3:$I$50,0),MONTH(CF表!$B460)),E$21*E$13/E$196,0)),0)","v":0},{"$f":"IFERROR(IF($B460>F$15,0,IF(OFFSET(index!$I$2,MATCH(F$195,index!$I$3:$I$50,0),MONTH(CF表!$B460)),F$21*F$13/F$196,0)),0)","v":0},{"$f":"IFERROR(IF($B460>G$15,0,IF(OFFSET(index!$I$2,MATCH(G$195,index!$I$3:$I$50,0),MONTH(CF表!$B460)),G$21*G$13/G$196,0)),0)","v":0},{"$f":"IFERROR(IF($B460>H$15,0,IF(OFFSET(index!$I$2,MATCH(H$195,index!$I$3:$I$50,0),MONTH(CF表!$B460)),H$21*H$13/H$196,0)),0)","v":0},{"$f":"IFERROR(IF($B460>I$15,0,IF(OFFSET(index!$I$2,MATCH(I$195,index!$I$3:$I$50,0),MONTH(CF表!$B460)),I$21*I$13/I$196,0)),0)","v":0},{"$f":"IFERROR(IF($B460>J$15,0,IF(OFFSET(index!$I$2,MATCH(J$195,index!$I$3:$I$50,0),MONTH(CF表!$B460)),J$21*J$13/J$196,0)),0)","v":0},{"$f":"IFERROR(IF($B460>K$15,0,IF(OFFSET(index!$I$2,MATCH(K$195,index!$I$3:$I$50,0),MONTH(CF表!$B460)),K$21*K$13/K$196,0)),0)","v":0},{"$f":"IFERROR(IF($B460>L$15,0,IF(OFFSET(index!$I$2,MATCH(L$195,index!$I$3:$I$50,0),MONTH(CF表!$B460)),L$21*L$13/L$196,0)),0)","v":0}]
[null,"2044-09-01",{"$f":"IFERROR(IF($B461>C$15,0,IF(OFFSET(index!$I$2,MATCH(C$195,index!$I$3:$I$50,0),MONTH(CF表!$B461)),C$21*C$13/C$196,0)),0)","v":0},{"$f":"IFERROR(IF($B461>D$15,0,IF(OFFSET(index!$I$2,MATCH(D$195,index!$I$3:$I$50,0),MONTH(CF表!$B461)),D$21*D$13/D$196,0)),0)","v":0},{"$f":"IFERROR(IF($B461>E$15,0,IF(OFFSET(index!$I$2,MATCH(E$195,index!$I$3:$I$50,0),MONTH(CF表!$B461)),E$21*E$13/E$196,0)),0)","v":0},{"$f":"IFERROR(IF($B461>F$15,0,IF(OFFSET(index!$I$2,MATCH(F$195,index!$I$3:$I$50,0),MONTH(CF表!$B461)),F$21*F$13/F$196,0)),0)","v":0},{"$f":"IFERROR(IF($B461>G$15,0,IF(OFFSET(index!$I$2,MATCH(G$195,index!$I$3:$I$50,0),MONTH(CF表!$B461)),G$21*G$13/G$196,0)),0)","v":0},{"$f":"IFERROR(IF($B461>H$15,0,IF(OFFSET(index!$I$2,MATCH(H$195,index!$I$3:$I$50,0),MONTH(CF表!$B461)),H$21*H$13/H$196,0)),0)","v":0},{"$f":"IFERROR(IF($B461>I$15,0,IF(OFFSET(index!$I$2,MATCH(I$195,index!$I$3:$I$50,0),MONTH(CF表!$B461)),I$21*I$13/I$196,0)),0)","v":0},{"$f":"IFERROR(IF($B461>J$15,0,IF(OFFSET(index!$I$2,MATCH(J$195,index!$I$3:$I$50,0),MONTH(CF表!$B461)),J$21*J$13/J$196,0)),0)","v":0},{"$f":"IFERROR(IF($B461>K$15,0,IF(OFFSET(index!$I$2,MATCH(K$195,index!$I$3:$I$50,0),MONTH(CF表!$B461)),K$21*K$13/K$196,0)),0)","v":0},{"$f":"IFERROR(IF($B461>L$15,0,IF(OFFSET(index!$I$2,MATCH(L$195,index!$I$3:$I$50,0),MONTH(CF表!$B461)),L$21*L$13/L$196,0)),0)","v":0}]
[null,"2044-10-01",{"$f":"IFERROR(IF($B462>C$15,0,IF(OFFSET(index!$I$2,MATCH(C$195,index!$I$3:$I$50,0),MONTH(CF表!$B462)),C$21*C$13/C$196,0)),0)","v":0},{"$f":"IFERROR(IF($B462>D$15,0,IF(OFFSET(index!$I$2,MATCH(D$195,index!$I$3:$I$50,0),MONTH(CF表!$B462)),D$21*D$13/D$196,0)),0)","v":0},{"$f":"IFERROR(IF($B462>E$15,0,IF(OFFSET(index!$I$2,MATCH(E$195,index!$I$3:$I$50,0),MONTH(CF表!$B462)),E$21*E$13/E$196,0)),0)","v":0},{"$f":"IFERROR(IF($B462>F$15,0,IF(OFFSET(index!$I$2,MATCH(F$195,index!$I$3:$I$50,0),MONTH(CF表!$B462)),F$21*F$13/F$196,0)),0)","v":0},{"$f":"IFERROR(IF($B462>G$15,0,IF(OFFSET(index!$I$2,MATCH(G$195,index!$I$3:$I$50,0),MONTH(CF表!$B462)),G$21*G$13/G$196,0)),0)","v":0},{"$f":"IFERROR(IF($B462>H$15,0,IF(OFFSET(index!$I$2,MATCH(H$195,index!$I$3:$I$50,0),MONTH(CF表!$B462)),H$21*H$13/H$196,0)),0)","v":0},{"$f":"IFERROR(IF($B462>I$15,0,IF(OFFSET(index!$I$2,MATCH(I$195,index!$I$3:$I$50,0),MONTH(CF表!$B462)),I$21*I$13/I$196,0)),0)","v":0},{"$f":"IFERROR(IF($B462>J$15,0,IF(OFFSET(index!$I$2,MATCH(J$195,index!$I$3:$I$50,0),MONTH(CF表!$B462)),J$21*J$13/J$196,0)),0)","v":0},{"$f":"IFERROR(IF($B462>K$15,0,IF(OFFSET(index!$I$2,MATCH(K$195,index!$I$3:$I$50,0),MONTH(CF表!$B462)),K$21*K$13/K$196,0)),0)","v":0},{"$f":"IFERROR(IF($B462>L$15,0,IF(OFFSET(index!$I$2,MATCH(L$195,index!$I$3:$I$50,0),MONTH(CF表!$B462)),L$21*L$13/L$196,0)),0)","v":0}]
[null,"2044-11-01",{"$f":"IFERROR(IF($B463>C$15,0,IF(OFFSET(index!$I$2,MATCH(C$195,index!$I$3:$I$50,0),MONTH(CF表!$B463)),C$21*C$13/C$196,0)),0)","v":0},{"$f":"IFERROR(IF($B463>D$15,0,IF(OFFSET(index!$I$2,MATCH(D$195,index!$I$3:$I$50,0),MONTH(CF表!$B463)),D$21*D$13/D$196,0)),0)","v":0},{"$f":"IFERROR(IF($B463>E$15,0,IF(OFFSET(index!$I$2,MATCH(E$195,index!$I$3:$I$50,0),MONTH(CF表!$B463)),E$21*E$13/E$196,0)),0)","v":0},{"$f":"IFERROR(IF($B463>F$15,0,IF(OFFSET(index!$I$2,MATCH(F$195,index!$I$3:$I$50,0),MONTH(CF表!$B463)),F$21*F$13/F$196,0)),0)","v":0},{"$f":"IFERROR(IF($B463>G$15,0,IF(OFFSET(index!$I$2,MATCH(G$195,index!$I$3:$I$50,0),MONTH(CF表!$B463)),G$21*G$13/G$196,0)),0)","v":0},{"$f":"IFERROR(IF($B463>H$15,0,IF(OFFSET(index!$I$2,MATCH(H$195,index!$I$3:$I$50,0),MONTH(CF表!$B463)),H$21*H$13/H$196,0)),0)","v":0},{"$f":"IFERROR(IF($B463>I$15,0,IF(OFFSET(index!$I$2,MATCH(I$195,index!$I$3:$I$50,0),MONTH(CF表!$B463)),I$21*I$13/I$196,0)),0)","v":0},{"$f":"IFERROR(IF($B463>J$15,0,IF(OFFSET(index!$I$2,MATCH(J$195,index!$I$3:$I$50,0),MONTH(CF表!$B463)),J$21*J$13/J$196,0)),0)","v":0},{"$f":"IFERROR(IF($B463>K$15,0,IF(OFFSET(index!$I$2,MATCH(K$195,index!$I$3:$I$50,0),MONTH(CF表!$B463)),K$21*K$13/K$196,0)),0)","v":0},{"$f":"IFERROR(IF($B463>L$15,0,IF(OFFSET(index!$I$2,MATCH(L$195,index!$I$3:$I$50,0),MONTH(CF表!$B463)),L$21*L$13/L$196,0)),0)","v":0}]
[null,"2044-12-01",{"$f":"IFERROR(IF($B464>C$15,0,IF(OFFSET(index!$I$2,MATCH(C$195,index!$I$3:$I$50,0),MONTH(CF表!$B464)),C$21*C$13/C$196,0)),0)","v":0},{"$f":"IFERROR(IF($B464>D$15,0,IF(OFFSET(index!$I$2,MATCH(D$195,index!$I$3:$I$50,0),MONTH(CF表!$B464)),D$21*D$13/D$196,0)),0)","v":0},{"$f":"IFERROR(IF($B464>E$15,0,IF(OFFSET(index!$I$2,MATCH(E$195,index!$I$3:$I$50,0),MONTH(CF表!$B464)),E$21*E$13/E$196,0)),0)","v":0},{"$f":"IFERROR(IF($B464>F$15,0,IF(OFFSET(index!$I$2,MATCH(F$195,index!$I$3:$I$50,0),MONTH(CF表!$B464)),F$21*F$13/F$196,0)),0)","v":0},{"$f":"IFERROR(IF($B464>G$15,0,IF(OFFSET(index!$I$2,MATCH(G$195,index!$I$3:$I$50,0),MONTH(CF表!$B464)),G$21*G$13/G$196,0)),0)","v":0},{"$f":"IFERROR(IF($B464>H$15,0,IF(OFFSET(index!$I$2,MATCH(H$195,index!$I$3:$I$50,0),MONTH(CF表!$B464)),H$21*H$13/H$196,0)),0)","v":0},{"$f":"IFERROR(IF($B464>I$15,0,IF(OFFSET(index!$I$2,MATCH(I$195,index!$I$3:$I$50,0),MONTH(CF表!$B464)),I$21*I$13/I$196,0)),0)","v":0},{"$f":"IFERROR(IF($B464>J$15,0,IF(OFFSET(index!$I$2,MATCH(J$195,index!$I$3:$I$50,0),MONTH(CF表!$B464)),J$21*J$13/J$196,0)),0)","v":0},{"$f":"IFERROR(IF($B464>K$15,0,IF(OFFSET(index!$I$2,MATCH(K$195,index!$I$3:$I$50,0),MONTH(CF表!$B464)),K$21*K$13/K$196,0)),0)","v":0},{"$f":"IFERROR(IF($B464>L$15,0,IF(OFFSET(index!$I$2,MATCH(L$195,index!$I$3:$I$50,0),MONTH(CF表!$B464)),L$21*L$13/L$196,0)),0)","v":0}]
[null,"2045-01-01",{"$f":"IFERROR(IF($B465>C$15,0,IF(OFFSET(index!$I$2,MATCH(C$195,index!$I$3:$I$50,0),MONTH(CF表!$B465)),C$21*C$13/C$196,0)),0)","v":0},{"$f":"IFERROR(IF($B465>D$15,0,IF(OFFSET(index!$I$2,MATCH(D$195,index!$I$3:$I$50,0),MONTH(CF表!$B465)),D$21*D$13/D$196,0)),0)","v":0},{"$f":"IFERROR(IF($B465>E$15,0,IF(OFFSET(index!$I$2,MATCH(E$195,index!$I$3:$I$50,0),MONTH(CF表!$B465)),E$21*E$13/E$196,0)),0)","v":0},{"$f":"IFERROR(IF($B465>F$15,0,IF(OFFSET(index!$I$2,MATCH(F$195,index!$I$3:$I$50,0),MONTH(CF表!$B465)),F$21*F$13/F$196,0)),0)","v":0},{"$f":"IFERROR(IF($B465>G$15,0,IF(OFFSET(index!$I$2,MATCH(G$195,index!$I$3:$I$50,0),MONTH(CF表!$B465)),G$21*G$13/G$196,0)),0)","v":0},{"$f":"IFERROR(IF($B465>H$15,0,IF(OFFSET(index!$I$2,MATCH(H$195,index!$I$3:$I$50,0),MONTH(CF表!$B465)),H$21*H$13/H$196,0)),0)","v":0},{"$f":"IFERROR(IF($B465>I$15,0,IF(OFFSET(index!$I$2,MATCH(I$195,index!$I$3:$I$50,0),MONTH(CF表!$B465)),I$21*I$13/I$196,0)),0)","v":0},{"$f":"IFERROR(IF($B465>J$15,0,IF(OFFSET(index!$I$2,MATCH(J$195,index!$I$3:$I$50,0),MONTH(CF表!$B465)),J$21*J$13/J$196,0)),0)","v":0},{"$f":"IFERROR(IF($B465>K$15,0,IF(OFFSET(index!$I$2,MATCH(K$195,index!$I$3:$I$50,0),MONTH(CF表!$B465)),K$21*K$13/K$196,0)),0)","v":0},{"$f":"IFERROR(IF($B465>L$15,0,IF(OFFSET(index!$I$2,MATCH(L$195,index!$I$3:$I$50,0),MONTH(CF表!$B465)),L$21*L$13/L$196,0)),0)","v":0}]
[null,"2045-02-01",{"$f":"IFERROR(IF($B466>C$15,0,IF(OFFSET(index!$I$2,MATCH(C$195,index!$I$3:$I$50,0),MONTH(CF表!$B466)),C$21*C$13/C$196,0)),0)","v":0},{"$f":"IFERROR(IF($B466>D$15,0,IF(OFFSET(index!$I$2,MATCH(D$195,index!$I$3:$I$50,0),MONTH(CF表!$B466)),D$21*D$13/D$196,0)),0)","v":0},{"$f":"IFERROR(IF($B466>E$15,0,IF(OFFSET(index!$I$2,MATCH(E$195,index!$I$3:$I$50,0),MONTH(CF表!$B466)),E$21*E$13/E$196,0)),0)","v":0},{"$f":"IFERROR(IF($B466>F$15,0,IF(OFFSET(index!$I$2,MATCH(F$195,index!$I$3:$I$50,0),MONTH(CF表!$B466)),F$21*F$13/F$196,0)),0)","v":0},{"$f":"IFERROR(IF($B466>G$15,0,IF(OFFSET(index!$I$2,MATCH(G$195,index!$I$3:$I$50,0),MONTH(CF表!$B466)),G$21*G$13/G$196,0)),0)","v":0},{"$f":"IFERROR(IF($B466>H$15,0,IF(OFFSET(index!$I$2,MATCH(H$195,index!$I$3:$I$50,0),MONTH(CF表!$B466)),H$21*H$13/H$196,0)),0)","v":0},{"$f":"IFERROR(IF($B466>I$15,0,IF(OFFSET(index!$I$2,MATCH(I$195,index!$I$3:$I$50,0),MONTH(CF表!$B466)),I$21*I$13/I$196,0)),0)","v":0},{"$f":"IFERROR(IF($B466>J$15,0,IF(OFFSET(index!$I$2,MATCH(J$195,index!$I$3:$I$50,0),MONTH(CF表!$B466)),J$21*J$13/J$196,0)),0)","v":0},{"$f":"IFERROR(IF($B466>K$15,0,IF(OFFSET(index!$I$2,MATCH(K$195,index!$I$3:$I$50,0),MONTH(CF表!$B466)),K$21*K$13/K$196,0)),0)","v":0},{"$f":"IFERROR(IF($B466>L$15,0,IF(OFFSET(index!$I$2,MATCH(L$195,index!$I$3:$I$50,0),MONTH(CF表!$B466)),L$21*L$13/L$196,0)),0)","v":0}]
[null,"2045-03-01",{"$f":"IFERROR(IF($B467>C$15,0,IF(OFFSET(index!$I$2,MATCH(C$195,index!$I$3:$I$50,0),MONTH(CF表!$B467)),C$21*C$13/C$196,0)),0)","v":0},{"$f":"IFERROR(IF($B467>D$15,0,IF(OFFSET(index!$I$2,MATCH(D$195,index!$I$3:$I$50,0),MONTH(CF表!$B467)),D$21*D$13/D$196,0)),0)","v":0},{"$f":"IFERROR(IF($B467>E$15,0,IF(OFFSET(index!$I$2,MATCH(E$195,index!$I$3:$I$50,0),MONTH(CF表!$B467)),E$21*E$13/E$196,0)),0)","v":0},{"$f":"IFERROR(IF($B467>F$15,0,IF(OFFSET(index!$I$2,MATCH(F$195,index!$I$3:$I$50,0),MONTH(CF表!$B467)),F$21*F$13/F$196,0)),0)","v":0},{"$f":"IFERROR(IF($B467>G$15,0,IF(OFFSET(index!$I$2,MATCH(G$195,index!$I$3:$I$50,0),MONTH(CF表!$B467)),G$21*G$13/G$196,0)),0)","v":0},{"$f":"IFERROR(IF($B467>H$15,0,IF(OFFSET(index!$I$2,MATCH(H$195,index!$I$3:$I$50,0),MONTH(CF表!$B467)),H$21*H$13/H$196,0)),0)","v":0},{"$f":"IFERROR(IF($B467>I$15,0,IF(OFFSET(index!$I$2,MATCH(I$195,index!$I$3:$I$50,0),MONTH(CF表!$B467)),I$21*I$13/I$196,0)),0)","v":0},{"$f":"IFERROR(IF($B467>J$15,0,IF(OFFSET(index!$I$2,MATCH(J$195,index!$I$3:$I$50,0),MONTH(CF表!$B467)),J$21*J$13/J$196,0)),0)","v":0},{"$f":"IFERROR(IF($B467>K$15,0,IF(OFFSET(index!$I$2,MATCH(K$195,index!$I$3:$I$50,0),MONTH(CF表!$B467)),K$21*K$13/K$196,0)),0)","v":0},{"$f":"IFERROR(IF($B467>L$15,0,IF(OFFSET(index!$I$2,MATCH(L$195,index!$I$3:$I$50,0),MONTH(CF表!$B467)),L$21*L$13/L$196,0)),0)","v":0}]
[null,"2045-04-01",{"$f":"IFERROR(IF($B468>C$15,0,IF(OFFSET(index!$I$2,MATCH(C$195,index!$I$3:$I$50,0),MONTH(CF表!$B468)),C$21*C$13/C$196,0)),0)","v":0},{"$f":"IFERROR(IF($B468>D$15,0,IF(OFFSET(index!$I$2,MATCH(D$195,index!$I$3:$I$50,0),MONTH(CF表!$B468)),D$21*D$13/D$196,0)),0)","v":0},{"$f":"IFERROR(IF($B468>E$15,0,IF(OFFSET(index!$I$2,MATCH(E$195,index!$I$3:$I$50,0),MONTH(CF表!$B468)),E$21*E$13/E$196,0)),0)","v":0},{"$f":"IFERROR(IF($B468>F$15,0,IF(OFFSET(index!$I$2,MATCH(F$195,index!$I$3:$I$50,0),MONTH(CF表!$B468)),F$21*F$13/F$196,0)),0)","v":0},{"$f":"IFERROR(IF($B468>G$15,0,IF(OFFSET(index!$I$2,MATCH(G$195,index!$I$3:$I$50,0),MONTH(CF表!$B468)),G$21*G$13/G$196,0)),0)","v":0},{"$f":"IFERROR(IF($B468>H$15,0,IF(OFFSET(index!$I$2,MATCH(H$195,index!$I$3:$I$50,0),MONTH(CF表!$B468)),H$21*H$13/H$196,0)),0)","v":0},{"$f":"IFERROR(IF($B468>I$15,0,IF(OFFSET(index!$I$2,MATCH(I$195,index!$I$3:$I$50,0),MONTH(CF表!$B468)),I$21*I$13/I$196,0)),0)","v":0},{"$f":"IFERROR(IF($B468>J$15,0,IF(OFFSET(index!$I$2,MATCH(J$195,index!$I$3:$I$50,0),MONTH(CF表!$B468)),J$21*J$13/J$196,0)),0)","v":0},{"$f":"IFERROR(IF($B468>K$15,0,IF(OFFSET(index!$I$2,MATCH(K$195,index!$I$3:$I$50,0),MONTH(CF表!$B468)),K$21*K$13/K$196,0)),0)","v":0},{"$f":"IFERROR(IF($B468>L$15,0,IF(OFFSET(index!$I$2,MATCH(L$195,index!$I$3:$I$50,0),MONTH(CF表!$B468)),L$21*L$13/L$196,0)),0)","v":0}]
[null,"2045-05-01",{"$f":"IFERROR(IF($B469>C$15,0,IF(OFFSET(index!$I$2,MATCH(C$195,index!$I$3:$I$50,0),MONTH(CF表!$B469)),C$21*C$13/C$196,0)),0)","v":0},{"$f":"IFERROR(IF($B469>D$15,0,IF(OFFSET(index!$I$2,MATCH(D$195,index!$I$3:$I$50,0),MONTH(CF表!$B469)),D$21*D$13/D$196,0)),0)","v":0},{"$f":"IFERROR(IF($B469>E$15,0,IF(OFFSET(index!$I$2,MATCH(E$195,index!$I$3:$I$50,0),MONTH(CF表!$B469)),E$21*E$13/E$196,0)),0)","v":0},{"$f":"IFERROR(IF($B469>F$15,0,IF(OFFSET(index!$I$2,MATCH(F$195,index!$I$3:$I$50,0),MONTH(CF表!$B469)),F$21*F$13/F$196,0)),0)","v":0},{"$f":"IFERROR(IF($B469>G$15,0,IF(OFFSET(index!$I$2,MATCH(G$195,index!$I$3:$I$50,0),MONTH(CF表!$B469)),G$21*G$13/G$196,0)),0)","v":0},{"$f":"IFERROR(IF($B469>H$15,0,IF(OFFSET(index!$I$2,MATCH(H$195,index!$I$3:$I$50,0),MONTH(CF表!$B469)),H$21*H$13/H$196,0)),0)","v":0},{"$f":"IFERROR(IF($B469>I$15,0,IF(OFFSET(index!$I$2,MATCH(I$195,index!$I$3:$I$50,0),MONTH(CF表!$B469)),I$21*I$13/I$196,0)),0)","v":0},{"$f":"IFERROR(IF($B469>J$15,0,IF(OFFSET(index!$I$2,MATCH(J$195,index!$I$3:$I$50,0),MONTH(CF表!$B469)),J$21*J$13/J$196,0)),0)","v":0},{"$f":"IFERROR(IF($B469>K$15,0,IF(OFFSET(index!$I$2,MATCH(K$195,index!$I$3:$I$50,0),MONTH(CF表!$B469)),K$21*K$13/K$196,0)),0)","v":0},{"$f":"IFERROR(IF($B469>L$15,0,IF(OFFSET(index!$I$2,MATCH(L$195,index!$I$3:$I$50,0),MONTH(CF表!$B469)),L$21*L$13/L$196,0)),0)","v":0}]
[null,"2045-06-01",{"$f":"IFERROR(IF($B470>C$15,0,IF(OFFSET(index!$I$2,MATCH(C$195,index!$I$3:$I$50,0),MONTH(CF表!$B470)),C$21*C$13/C$196,0)),0)","v":0},{"$f":"IFERROR(IF($B470>D$15,0,IF(OFFSET(index!$I$2,MATCH(D$195,index!$I$3:$I$50,0),MONTH(CF表!$B470)),D$21*D$13/D$196,0)),0)","v":0},{"$f":"IFERROR(IF($B470>E$15,0,IF(OFFSET(index!$I$2,MATCH(E$195,index!$I$3:$I$50,0),MONTH(CF表!$B470)),E$21*E$13/E$196,0)),0)","v":0},{"$f":"IFERROR(IF($B470>F$15,0,IF(OFFSET(index!$I$2,MATCH(F$195,index!$I$3:$I$50,0),MONTH(CF表!$B470)),F$21*F$13/F$196,0)),0)","v":0},{"$f":"IFERROR(IF($B470>G$15,0,IF(OFFSET(index!$I$2,MATCH(G$195,index!$I$3:$I$50,0),MONTH(CF表!$B470)),G$21*G$13/G$196,0)),0)","v":0},{"$f":"IFERROR(IF($B470>H$15,0,IF(OFFSET(index!$I$2,MATCH(H$195,index!$I$3:$I$50,0),MONTH(CF表!$B470)),H$21*H$13/H$196,0)),0)","v":0},{"$f":"IFERROR(IF($B470>I$15,0,IF(OFFSET(index!$I$2,MATCH(I$195,index!$I$3:$I$50,0),MONTH(CF表!$B470)),I$21*I$13/I$196,0)),0)","v":0},{"$f":"IFERROR(IF($B470>J$15,0,IF(OFFSET(index!$I$2,MATCH(J$195,index!$I$3:$I$50,0),MONTH(CF表!$B470)),J$21*J$13/J$196,0)),0)","v":0},{"$f":"IFERROR(IF($B470>K$15,0,IF(OFFSET(index!$I$2,MATCH(K$195,index!$I$3:$I$50,0),MONTH(CF表!$B470)),K$21*K$13/K$196,0)),0)","v":0},{"$f":"IFERROR(IF($B470>L$15,0,IF(OFFSET(index!$I$2,MATCH(L$195,index!$I$3:$I$50,0),MONTH(CF表!$B470)),L$21*L$13/L$196,0)),0)","v":0}]
[null,"2045-07-01",{"$f":"IFERROR(IF($B471>C$15,0,IF(OFFSET(index!$I$2,MATCH(C$195,index!$I$3:$I$50,0),MONTH(CF表!$B471)),C$21*C$13/C$196,0)),0)","v":0},{"$f":"IFERROR(IF($B471>D$15,0,IF(OFFSET(index!$I$2,MATCH(D$195,index!$I$3:$I$50,0),MONTH(CF表!$B471)),D$21*D$13/D$196,0)),0)","v":0},{"$f":"IFERROR(IF($B471>E$15,0,IF(OFFSET(index!$I$2,MATCH(E$195,index!$I$3:$I$50,0),MONTH(CF表!$B471)),E$21*E$13/E$196,0)),0)","v":0},{"$f":"IFERROR(IF($B471>F$15,0,IF(OFFSET(index!$I$2,MATCH(F$195,index!$I$3:$I$50,0),MONTH(CF表!$B471)),F$21*F$13/F$196,0)),0)","v":0},{"$f":"IFERROR(IF($B471>G$15,0,IF(OFFSET(index!$I$2,MATCH(G$195,index!$I$3:$I$50,0),MONTH(CF表!$B471)),G$21*G$13/G$196,0)),0)","v":0},{"$f":"IFERROR(IF($B471>H$15,0,IF(OFFSET(index!$I$2,MATCH(H$195,index!$I$3:$I$50,0),MONTH(CF表!$B471)),H$21*H$13/H$196,0)),0)","v":0},{"$f":"IFERROR(IF($B471>I$15,0,IF(OFFSET(index!$I$2,MATCH(I$195,index!$I$3:$I$50,0),MONTH(CF表!$B471)),I$21*I$13/I$196,0)),0)","v":0},{"$f":"IFERROR(IF($B471>J$15,0,IF(OFFSET(index!$I$2,MATCH(J$195,index!$I$3:$I$50,0),MONTH(CF表!$B471)),J$21*J$13/J$196,0)),0)","v":0},{"$f":"IFERROR(IF($B471>K$15,0,IF(OFFSET(index!$I$2,MATCH(K$195,index!$I$3:$I$50,0),MONTH(CF表!$B471)),K$21*K$13/K$196,0)),0)","v":0},{"$f":"IFERROR(IF($B471>L$15,0,IF(OFFSET(index!$I$2,MATCH(L$195,index!$I$3:$I$50,0),MONTH(CF表!$B471)),L$21*L$13/L$196,0)),0)","v":0}]
[null,"2045-08-01",{"$f":"IFERROR(IF($B472>C$15,0,IF(OFFSET(index!$I$2,MATCH(C$195,index!$I$3:$I$50,0),MONTH(CF表!$B472)),C$21*C$13/C$196,0)),0)","v":0},{"$f":"IFERROR(IF($B472>D$15,0,IF(OFFSET(index!$I$2,MATCH(D$195,index!$I$3:$I$50,0),MONTH(CF表!$B472)),D$21*D$13/D$196,0)),0)","v":0},{"$f":"IFERROR(IF($B472>E$15,0,IF(OFFSET(index!$I$2,MATCH(E$195,index!$I$3:$I$50,0),MONTH(CF表!$B472)),E$21*E$13/E$196,0)),0)","v":0},{"$f":"IFERROR(IF($B472>F$15,0,IF(OFFSET(index!$I$2,MATCH(F$195,index!$I$3:$I$50,0),MONTH(CF表!$B472)),F$21*F$13/F$196,0)),0)","v":0},{"$f":"IFERROR(IF($B472>G$15,0,IF(OFFSET(index!$I$2,MATCH(G$195,index!$I$3:$I$50,0),MONTH(CF表!$B472)),G$21*G$13/G$196,0)),0)","v":0},{"$f":"IFERROR(IF($B472>H$15,0,IF(OFFSET(index!$I$2,MATCH(H$195,index!$I$3:$I$50,0),MONTH(CF表!$B472)),H$21*H$13/H$196,0)),0)","v":0},{"$f":"IFERROR(IF($B472>I$15,0,IF(OFFSET(index!$I$2,MATCH(I$195,index!$I$3:$I$50,0),MONTH(CF表!$B472)),I$21*I$13/I$196,0)),0)","v":0},{"$f":"IFERROR(IF($B472>J$15,0,IF(OFFSET(index!$I$2,MATCH(J$195,index!$I$3:$I$50,0),MONTH(CF表!$B472)),J$21*J$13/J$196,0)),0)","v":0},{"$f":"IFERROR(IF($B472>K$15,0,IF(OFFSET(index!$I$2,MATCH(K$195,index!$I$3:$I$50,0),MONTH(CF表!$B472)),K$21*K$13/K$196,0)),0)","v":0},{"$f":"IFERROR(IF($B472>L$15,0,IF(OFFSET(index!$I$2,MATCH(L$195,index!$I$3:$I$50,0),MONTH(CF表!$B472)),L$21*L$13/L$196,0)),0)","v":0}]
[null,"2045-09-01",{"$f":"IFERROR(IF($B473>C$15,0,IF(OFFSET(index!$I$2,MATCH(C$195,index!$I$3:$I$50,0),MONTH(CF表!$B473)),C$21*C$13/C$196,0)),0)","v":0},{"$f":"IFERROR(IF($B473>D$15,0,IF(OFFSET(index!$I$2,MATCH(D$195,index!$I$3:$I$50,0),MONTH(CF表!$B473)),D$21*D$13/D$196,0)),0)","v":0},{"$f":"IFERROR(IF($B473>E$15,0,IF(OFFSET(index!$I$2,MATCH(E$195,index!$I$3:$I$50,0),MONTH(CF表!$B473)),E$21*E$13/E$196,0)),0)","v":0},{"$f":"IFERROR(IF($B473>F$15,0,IF(OFFSET(index!$I$2,MATCH(F$195,index!$I$3:$I$50,0),MONTH(CF表!$B473)),F$21*F$13/F$196,0)),0)","v":0},{"$f":"IFERROR(IF($B473>G$15,0,IF(OFFSET(index!$I$2,MATCH(G$195,index!$I$3:$I$50,0),MONTH(CF表!$B473)),G$21*G$13/G$196,0)),0)","v":0},{"$f":"IFERROR(IF($B473>H$15,0,IF(OFFSET(index!$I$2,MATCH(H$195,index!$I$3:$I$50,0),MONTH(CF表!$B473)),H$21*H$13/H$196,0)),0)","v":0},{"$f":"IFERROR(IF($B473>I$15,0,IF(OFFSET(index!$I$2,MATCH(I$195,index!$I$3:$I$50,0),MONTH(CF表!$B473)),I$21*I$13/I$196,0)),0)","v":0},{"$f":"IFERROR(IF($B473>J$15,0,IF(OFFSET(index!$I$2,MATCH(J$195,index!$I$3:$I$50,0),MONTH(CF表!$B473)),J$21*J$13/J$196,0)),0)","v":0},{"$f":"IFERROR(IF($B473>K$15,0,IF(OFFSET(index!$I$2,MATCH(K$195,index!$I$3:$I$50,0),MONTH(CF表!$B473)),K$21*K$13/K$196,0)),0)","v":0},{"$f":"IFERROR(IF($B473>L$15,0,IF(OFFSET(index!$I$2,MATCH(L$195,index!$I$3:$I$50,0),MONTH(CF表!$B473)),L$21*L$13/L$196,0)),0)","v":0}]
[null,"2045-10-01",{"$f":"IFERROR(IF($B474>C$15,0,IF(OFFSET(index!$I$2,MATCH(C$195,index!$I$3:$I$50,0),MONTH(CF表!$B474)),C$21*C$13/C$196,0)),0)","v":0},{"$f":"IFERROR(IF($B474>D$15,0,IF(OFFSET(index!$I$2,MATCH(D$195,index!$I$3:$I$50,0),MONTH(CF表!$B474)),D$21*D$13/D$196,0)),0)","v":0},{"$f":"IFERROR(IF($B474>E$15,0,IF(OFFSET(index!$I$2,MATCH(E$195,index!$I$3:$I$50,0),MONTH(CF表!$B474)),E$21*E$13/E$196,0)),0)","v":0},{"$f":"IFERROR(IF($B474>F$15,0,IF(OFFSET(index!$I$2,MATCH(F$195,index!$I$3:$I$50,0),MONTH(CF表!$B474)),F$21*F$13/F$196,0)),0)","v":0},{"$f":"IFERROR(IF($B474>G$15,0,IF(OFFSET(index!$I$2,MATCH(G$195,index!$I$3:$I$50,0),MONTH(CF表!$B474)),G$21*G$13/G$196,0)),0)","v":0},{"$f":"IFERROR(IF($B474>H$15,0,IF(OFFSET(index!$I$2,MATCH(H$195,index!$I$3:$I$50,0),MONTH(CF表!$B474)),H$21*H$13/H$196,0)),0)","v":0},{"$f":"IFERROR(IF($B474>I$15,0,IF(OFFSET(index!$I$2,MATCH(I$195,index!$I$3:$I$50,0),MONTH(CF表!$B474)),I$21*I$13/I$196,0)),0)","v":0},{"$f":"IFERROR(IF($B474>J$15,0,IF(OFFSET(index!$I$2,MATCH(J$195,index!$I$3:$I$50,0),MONTH(CF表!$B474)),J$21*J$13/J$196,0)),0)","v":0},{"$f":"IFERROR(IF($B474>K$15,0,IF(OFFSET(index!$I$2,MATCH(K$195,index!$I$3:$I$50,0),MONTH(CF表!$B474)),K$21*K$13/K$196,0)),0)","v":0},{"$f":"IFERROR(IF($B474>L$15,0,IF(OFFSET(index!$I$2,MATCH(L$195,index!$I$3:$I$50,0),MONTH(CF表!$B474)),L$21*L$13/L$196,0)),0)","v":0}]
[null,"2045-11-01",{"$f":"IFERROR(IF($B475>C$15,0,IF(OFFSET(index!$I$2,MATCH(C$195,index!$I$3:$I$50,0),MONTH(CF表!$B475)),C$21*C$13/C$196,0)),0)","v":0},{"$f":"IFERROR(IF($B475>D$15,0,IF(OFFSET(index!$I$2,MATCH(D$195,index!$I$3:$I$50,0),MONTH(CF表!$B475)),D$21*D$13/D$196,0)),0)","v":0},{"$f":"IFERROR(IF($B475>E$15,0,IF(OFFSET(index!$I$2,MATCH(E$195,index!$I$3:$I$50,0),MONTH(CF表!$B475)),E$21*E$13/E$196,0)),0)","v":0},{"$f":"IFERROR(IF($B475>F$15,0,IF(OFFSET(index!$I$2,MATCH(F$195,index!$I$3:$I$50,0),MONTH(CF表!$B475)),F$21*F$13/F$196,0)),0)","v":0},{"$f":"IFERROR(IF($B475>G$15,0,IF(OFFSET(index!$I$2,MATCH(G$195,index!$I$3:$I$50,0),MONTH(CF表!$B475)),G$21*G$13/G$196,0)),0)","v":0},{"$f":"IFERROR(IF($B475>H$15,0,IF(OFFSET(index!$I$2,MATCH(H$195,index!$I$3:$I$50,0),MONTH(CF表!$B475)),H$21*H$13/H$196,0)),0)","v":0},{"$f":"IFERROR(IF($B475>I$15,0,IF(OFFSET(index!$I$2,MATCH(I$195,index!$I$3:$I$50,0),MONTH(CF表!$B475)),I$21*I$13/I$196,0)),0)","v":0},{"$f":"IFERROR(IF($B475>J$15,0,IF(OFFSET(index!$I$2,MATCH(J$195,index!$I$3:$I$50,0),MONTH(CF表!$B475)),J$21*J$13/J$196,0)),0)","v":0},{"$f":"IFERROR(IF($B475>K$15,0,IF(OFFSET(index!$I$2,MATCH(K$195,index!$I$3:$I$50,0),MONTH(CF表!$B475)),K$21*K$13/K$196,0)),0)","v":0},{"$f":"IFERROR(IF($B475>L$15,0,IF(OFFSET(index!$I$2,MATCH(L$195,index!$I$3:$I$50,0),MONTH(CF表!$B475)),L$21*L$13/L$196,0)),0)","v":0}]
[null,"2045-12-01",{"$f":"IFERROR(IF($B476>C$15,0,IF(OFFSET(index!$I$2,MATCH(C$195,index!$I$3:$I$50,0),MONTH(CF表!$B476)),C$21*C$13/C$196,0)),0)","v":0},{"$f":"IFERROR(IF($B476>D$15,0,IF(OFFSET(index!$I$2,MATCH(D$195,index!$I$3:$I$50,0),MONTH(CF表!$B476)),D$21*D$13/D$196,0)),0)","v":0},{"$f":"IFERROR(IF($B476>E$15,0,IF(OFFSET(index!$I$2,MATCH(E$195,index!$I$3:$I$50,0),MONTH(CF表!$B476)),E$21*E$13/E$196,0)),0)","v":0},{"$f":"IFERROR(IF($B476>F$15,0,IF(OFFSET(index!$I$2,MATCH(F$195,index!$I$3:$I$50,0),MONTH(CF表!$B476)),F$21*F$13/F$196,0)),0)","v":0},{"$f":"IFERROR(IF($B476>G$15,0,IF(OFFSET(index!$I$2,MATCH(G$195,index!$I$3:$I$50,0),MONTH(CF表!$B476)),G$21*G$13/G$196,0)),0)","v":0},{"$f":"IFERROR(IF($B476>H$15,0,IF(OFFSET(index!$I$2,MATCH(H$195,index!$I$3:$I$50,0),MONTH(CF表!$B476)),H$21*H$13/H$196,0)),0)","v":0},{"$f":"IFERROR(IF($B476>I$15,0,IF(OFFSET(index!$I$2,MATCH(I$195,index!$I$3:$I$50,0),MONTH(CF表!$B476)),I$21*I$13/I$196,0)),0)","v":0},{"$f":"IFERROR(IF($B476>J$15,0,IF(OFFSET(index!$I$2,MATCH(J$195,index!$I$3:$I$50,0),MONTH(CF表!$B476)),J$21*J$13/J$196,0)),0)","v":0},{"$f":"IFERROR(IF($B476>K$15,0,IF(OFFSET(index!$I$2,MATCH(K$195,index!$I$3:$I$50,0),MONTH(CF表!$B476)),K$21*K$13/K$196,0)),0)","v":0},{"$f":"IFERROR(IF($B476>L$15,0,IF(OFFSET(index!$I$2,MATCH(L$195,index!$I$3:$I$50,0),MONTH(CF表!$B476)),L$21*L$13/L$196,0)),0)","v":0}]
[null,"2046-01-01",{"$f":"IFERROR(IF($B477>C$15,0,IF(OFFSET(index!$I$2,MATCH(C$195,index!$I$3:$I$50,0),MONTH(CF表!$B477)),C$21*C$13/C$196,0)),0)","v":0},{"$f":"IFERROR(IF($B477>D$15,0,IF(OFFSET(index!$I$2,MATCH(D$195,index!$I$3:$I$50,0),MONTH(CF表!$B477)),D$21*D$13/D$196,0)),0)","v":0},{"$f":"IFERROR(IF($B477>E$15,0,IF(OFFSET(index!$I$2,MATCH(E$195,index!$I$3:$I$50,0),MONTH(CF表!$B477)),E$21*E$13/E$196,0)),0)","v":0},{"$f":"IFERROR(IF($B477>F$15,0,IF(OFFSET(index!$I$2,MATCH(F$195,index!$I$3:$I$50,0),MONTH(CF表!$B477)),F$21*F$13/F$196,0)),0)","v":0},{"$f":"IFERROR(IF($B477>G$15,0,IF(OFFSET(index!$I$2,MATCH(G$195,index!$I$3:$I$50,0),MONTH(CF表!$B477)),G$21*G$13/G$196,0)),0)","v":0},{"$f":"IFERROR(IF($B477>H$15,0,IF(OFFSET(index!$I$2,MATCH(H$195,index!$I$3:$I$50,0),MONTH(CF表!$B477)),H$21*H$13/H$196,0)),0)","v":0},{"$f":"IFERROR(IF($B477>I$15,0,IF(OFFSET(index!$I$2,MATCH(I$195,index!$I$3:$I$50,0),MONTH(CF表!$B477)),I$21*I$13/I$196,0)),0)","v":0},{"$f":"IFERROR(IF($B477>J$15,0,IF(OFFSET(index!$I$2,MATCH(J$195,index!$I$3:$I$50,0),MONTH(CF表!$B477)),J$21*J$13/J$196,0)),0)","v":0},{"$f":"IFERROR(IF($B477>K$15,0,IF(OFFSET(index!$I$2,MATCH(K$195,index!$I$3:$I$50,0),MONTH(CF表!$B477)),K$21*K$13/K$196,0)),0)","v":0},{"$f":"IFERROR(IF($B477>L$15,0,IF(OFFSET(index!$I$2,MATCH(L$195,index!$I$3:$I$50,0),MONTH(CF表!$B477)),L$21*L$13/L$196,0)),0)","v":0}]
[null,"2046-02-01",{"$f":"IFERROR(IF($B478>C$15,0,IF(OFFSET(index!$I$2,MATCH(C$195,index!$I$3:$I$50,0),MONTH(CF表!$B478)),C$21*C$13/C$196,0)),0)","v":0},{"$f":"IFERROR(IF($B478>D$15,0,IF(OFFSET(index!$I$2,MATCH(D$195,index!$I$3:$I$50,0),MONTH(CF表!$B478)),D$21*D$13/D$196,0)),0)","v":0},{"$f":"IFERROR(IF($B478>E$15,0,IF(OFFSET(index!$I$2,MATCH(E$195,index!$I$3:$I$50,0),MONTH(CF表!$B478)),E$21*E$13/E$196,0)),0)","v":0},{"$f":"IFERROR(IF($B478>F$15,0,IF(OFFSET(index!$I$2,MATCH(F$195,index!$I$3:$I$50,0),MONTH(CF表!$B478)),F$21*F$13/F$196,0)),0)","v":0},{"$f":"IFERROR(IF($B478>G$15,0,IF(OFFSET(index!$I$2,MATCH(G$195,index!$I$3:$I$50,0),MONTH(CF表!$B478)),G$21*G$13/G$196,0)),0)","v":0},{"$f":"IFERROR(IF($B478>H$15,0,IF(OFFSET(index!$I$2,MATCH(H$195,index!$I$3:$I$50,0),MONTH(CF表!$B478)),H$21*H$13/H$196,0)),0)","v":0},{"$f":"IFERROR(IF($B478>I$15,0,IF(OFFSET(index!$I$2,MATCH(I$195,index!$I$3:$I$50,0),MONTH(CF表!$B478)),I$21*I$13/I$196,0)),0)","v":0},{"$f":"IFERROR(IF($B478>J$15,0,IF(OFFSET(index!$I$2,MATCH(J$195,index!$I$3:$I$50,0),MONTH(CF表!$B478)),J$21*J$13/J$196,0)),0)","v":0},{"$f":"IFERROR(IF($B478>K$15,0,IF(OFFSET(index!$I$2,MATCH(K$195,index!$I$3:$I$50,0),MONTH(CF表!$B478)),K$21*K$13/K$196,0)),0)","v":0},{"$f":"IFERROR(IF($B478>L$15,0,IF(OFFSET(index!$I$2,MATCH(L$195,index!$I$3:$I$50,0),MONTH(CF表!$B478)),L$21*L$13/L$196,0)),0)","v":0}]
[null,"2046-03-01",{"$f":"IFERROR(IF($B479>C$15,0,IF(OFFSET(index!$I$2,MATCH(C$195,index!$I$3:$I$50,0),MONTH(CF表!$B479)),C$21*C$13/C$196,0)),0)","v":0},{"$f":"IFERROR(IF($B479>D$15,0,IF(OFFSET(index!$I$2,MATCH(D$195,index!$I$3:$I$50,0),MONTH(CF表!$B479)),D$21*D$13/D$196,0)),0)","v":0},{"$f":"IFERROR(IF($B479>E$15,0,IF(OFFSET(index!$I$2,MATCH(E$195,index!$I$3:$I$50,0),MONTH(CF表!$B479)),E$21*E$13/E$196,0)),0)","v":0},{"$f":"IFERROR(IF($B479>F$15,0,IF(OFFSET(index!$I$2,MATCH(F$195,index!$I$3:$I$50,0),MONTH(CF表!$B479)),F$21*F$13/F$196,0)),0)","v":0},{"$f":"IFERROR(IF($B479>G$15,0,IF(OFFSET(index!$I$2,MATCH(G$195,index!$I$3:$I$50,0),MONTH(CF表!$B479)),G$21*G$13/G$196,0)),0)","v":0},{"$f":"IFERROR(IF($B479>H$15,0,IF(OFFSET(index!$I$2,MATCH(H$195,index!$I$3:$I$50,0),MONTH(CF表!$B479)),H$21*H$13/H$196,0)),0)","v":0},{"$f":"IFERROR(IF($B479>I$15,0,IF(OFFSET(index!$I$2,MATCH(I$195,index!$I$3:$I$50,0),MONTH(CF表!$B479)),I$21*I$13/I$196,0)),0)","v":0},{"$f":"IFERROR(IF($B479>J$15,0,IF(OFFSET(index!$I$2,MATCH(J$195,index!$I$3:$I$50,0),MONTH(CF表!$B479)),J$21*J$13/J$196,0)),0)","v":0},{"$f":"IFERROR(IF($B479>K$15,0,IF(OFFSET(index!$I$2,MATCH(K$195,index!$I$3:$I$50,0),MONTH(CF表!$B479)),K$21*K$13/K$196,0)),0)","v":0},{"$f":"IFERROR(IF($B479>L$15,0,IF(OFFSET(index!$I$2,MATCH(L$195,index!$I$3:$I$50,0),MONTH(CF表!$B479)),L$21*L$13/L$196,0)),0)","v":0}]
[null,"2046-04-01",{"$f":"IFERROR(IF($B480>C$15,0,IF(OFFSET(index!$I$2,MATCH(C$195,index!$I$3:$I$50,0),MONTH(CF表!$B480)),C$21*C$13/C$196,0)),0)","v":0},{"$f":"IFERROR(IF($B480>D$15,0,IF(OFFSET(index!$I$2,MATCH(D$195,index!$I$3:$I$50,0),MONTH(CF表!$B480)),D$21*D$13/D$196,0)),0)","v":0},{"$f":"IFERROR(IF($B480>E$15,0,IF(OFFSET(index!$I$2,MATCH(E$195,index!$I$3:$I$50,0),MONTH(CF表!$B480)),E$21*E$13/E$196,0)),0)","v":0},{"$f":"IFERROR(IF($B480>F$15,0,IF(OFFSET(index!$I$2,MATCH(F$195,index!$I$3:$I$50,0),MONTH(CF表!$B480)),F$21*F$13/F$196,0)),0)","v":0},{"$f":"IFERROR(IF($B480>G$15,0,IF(OFFSET(index!$I$2,MATCH(G$195,index!$I$3:$I$50,0),MONTH(CF表!$B480)),G$21*G$13/G$196,0)),0)","v":0},{"$f":"IFERROR(IF($B480>H$15,0,IF(OFFSET(index!$I$2,MATCH(H$195,index!$I$3:$I$50,0),MONTH(CF表!$B480)),H$21*H$13/H$196,0)),0)","v":0},{"$f":"IFERROR(IF($B480>I$15,0,IF(OFFSET(index!$I$2,MATCH(I$195,index!$I$3:$I$50,0),MONTH(CF表!$B480)),I$21*I$13/I$196,0)),0)","v":0},{"$f":"IFERROR(IF($B480>J$15,0,IF(OFFSET(index!$I$2,MATCH(J$195,index!$I$3:$I$50,0),MONTH(CF表!$B480)),J$21*J$13/J$196,0)),0)","v":0},{"$f":"IFERROR(IF($B480>K$15,0,IF(OFFSET(index!$I$2,MATCH(K$195,index!$I$3:$I$50,0),MONTH(CF表!$B480)),K$21*K$13/K$196,0)),0)","v":0},{"$f":"IFERROR(IF($B480>L$15,0,IF(OFFSET(index!$I$2,MATCH(L$195,index!$I$3:$I$50,0),MONTH(CF表!$B480)),L$21*L$13/L$196,0)),0)","v":0}]
[null,"2046-05-01",{"$f":"IFERROR(IF($B481>C$15,0,IF(OFFSET(index!$I$2,MATCH(C$195,index!$I$3:$I$50,0),MONTH(CF表!$B481)),C$21*C$13/C$196,0)),0)","v":0},{"$f":"IFERROR(IF($B481>D$15,0,IF(OFFSET(index!$I$2,MATCH(D$195,index!$I$3:$I$50,0),MONTH(CF表!$B481)),D$21*D$13/D$196,0)),0)","v":0},{"$f":"IFERROR(IF($B481>E$15,0,IF(OFFSET(index!$I$2,MATCH(E$195,index!$I$3:$I$50,0),MONTH(CF表!$B481)),E$21*E$13/E$196,0)),0)","v":0},{"$f":"IFERROR(IF($B481>F$15,0,IF(OFFSET(index!$I$2,MATCH(F$195,index!$I$3:$I$50,0),MONTH(CF表!$B481)),F$21*F$13/F$196,0)),0)","v":0},{"$f":"IFERROR(IF($B481>G$15,0,IF(OFFSET(index!$I$2,MATCH(G$195,index!$I$3:$I$50,0),MONTH(CF表!$B481)),G$21*G$13/G$196,0)),0)","v":0},{"$f":"IFERROR(IF($B481>H$15,0,IF(OFFSET(index!$I$2,MATCH(H$195,index!$I$3:$I$50,0),MONTH(CF表!$B481)),H$21*H$13/H$196,0)),0)","v":0},{"$f":"IFERROR(IF($B481>I$15,0,IF(OFFSET(index!$I$2,MATCH(I$195,index!$I$3:$I$50,0),MONTH(CF表!$B481)),I$21*I$13/I$196,0)),0)","v":0},{"$f":"IFERROR(IF($B481>J$15,0,IF(OFFSET(index!$I$2,MATCH(J$195,index!$I$3:$I$50,0),MONTH(CF表!$B481)),J$21*J$13/J$196,0)),0)","v":0},{"$f":"IFERROR(IF($B481>K$15,0,IF(OFFSET(index!$I$2,MATCH(K$195,index!$I$3:$I$50,0),MONTH(CF表!$B481)),K$21*K$13/K$196,0)),0)","v":0},{"$f":"IFERROR(IF($B481>L$15,0,IF(OFFSET(index!$I$2,MATCH(L$195,index!$I$3:$I$50,0),MONTH(CF表!$B481)),L$21*L$13/L$196,0)),0)","v":0}]
[null,"2046-06-01",{"$f":"IFERROR(IF($B482>C$15,0,IF(OFFSET(index!$I$2,MATCH(C$195,index!$I$3:$I$50,0),MONTH(CF表!$B482)),C$21*C$13/C$196,0)),0)","v":0},{"$f":"IFERROR(IF($B482>D$15,0,IF(OFFSET(index!$I$2,MATCH(D$195,index!$I$3:$I$50,0),MONTH(CF表!$B482)),D$21*D$13/D$196,0)),0)","v":0},{"$f":"IFERROR(IF($B482>E$15,0,IF(OFFSET(index!$I$2,MATCH(E$195,index!$I$3:$I$50,0),MONTH(CF表!$B482)),E$21*E$13/E$196,0)),0)","v":0},{"$f":"IFERROR(IF($B482>F$15,0,IF(OFFSET(index!$I$2,MATCH(F$195,index!$I$3:$I$50,0),MONTH(CF表!$B482)),F$21*F$13/F$196,0)),0)","v":0},{"$f":"IFERROR(IF($B482>G$15,0,IF(OFFSET(index!$I$2,MATCH(G$195,index!$I$3:$I$50,0),MONTH(CF表!$B482)),G$21*G$13/G$196,0)),0)","v":0},{"$f":"IFERROR(IF($B482>H$15,0,IF(OFFSET(index!$I$2,MATCH(H$195,index!$I$3:$I$50,0),MONTH(CF表!$B482)),H$21*H$13/H$196,0)),0)","v":0},{"$f":"IFERROR(IF($B482>I$15,0,IF(OFFSET(index!$I$2,MATCH(I$195,index!$I$3:$I$50,0),MONTH(CF表!$B482)),I$21*I$13/I$196,0)),0)","v":0},{"$f":"IFERROR(IF($B482>J$15,0,IF(OFFSET(index!$I$2,MATCH(J$195,index!$I$3:$I$50,0),MONTH(CF表!$B482)),J$21*J$13/J$196,0)),0)","v":0},{"$f":"IFERROR(IF($B482>K$15,0,IF(OFFSET(index!$I$2,MATCH(K$195,index!$I$3:$I$50,0),MONTH(CF表!$B482)),K$21*K$13/K$196,0)),0)","v":0},{"$f":"IFERROR(IF($B482>L$15,0,IF(OFFSET(index!$I$2,MATCH(L$195,index!$I$3:$I$50,0),MONTH(CF表!$B482)),L$21*L$13/L$196,0)),0)","v":0}]
[null,"2046-07-01",{"$f":"IFERROR(IF($B483>C$15,0,IF(OFFSET(index!$I$2,MATCH(C$195,index!$I$3:$I$50,0),MONTH(CF表!$B483)),C$21*C$13/C$196,0)),0)","v":0},{"$f":"IFERROR(IF($B483>D$15,0,IF(OFFSET(index!$I$2,MATCH(D$195,index!$I$3:$I$50,0),MONTH(CF表!$B483)),D$21*D$13/D$196,0)),0)","v":0},{"$f":"IFERROR(IF($B483>E$15,0,IF(OFFSET(index!$I$2,MATCH(E$195,index!$I$3:$I$50,0),MONTH(CF表!$B483)),E$21*E$13/E$196,0)),0)","v":0},{"$f":"IFERROR(IF($B483>F$15,0,IF(OFFSET(index!$I$2,MATCH(F$195,index!$I$3:$I$50,0),MONTH(CF表!$B483)),F$21*F$13/F$196,0)),0)","v":0},{"$f":"IFERROR(IF($B483>G$15,0,IF(OFFSET(index!$I$2,MATCH(G$195,index!$I$3:$I$50,0),MONTH(CF表!$B483)),G$21*G$13/G$196,0)),0)","v":0},{"$f":"IFERROR(IF($B483>H$15,0,IF(OFFSET(index!$I$2,MATCH(H$195,index!$I$3:$I$50,0),MONTH(CF表!$B483)),H$21*H$13/H$196,0)),0)","v":0},{"$f":"IFERROR(IF($B483>I$15,0,IF(OFFSET(index!$I$2,MATCH(I$195,index!$I$3:$I$50,0),MONTH(CF表!$B483)),I$21*I$13/I$196,0)),0)","v":0},{"$f":"IFERROR(IF($B483>J$15,0,IF(OFFSET(index!$I$2,MATCH(J$195,index!$I$3:$I$50,0),MONTH(CF表!$B483)),J$21*J$13/J$196,0)),0)","v":0},{"$f":"IFERROR(IF($B483>K$15,0,IF(OFFSET(index!$I$2,MATCH(K$195,index!$I$3:$I$50,0),MONTH(CF表!$B483)),K$21*K$13/K$196,0)),0)","v":0},{"$f":"IFERROR(IF($B483>L$15,0,IF(OFFSET(index!$I$2,MATCH(L$195,index!$I$3:$I$50,0),MONTH(CF表!$B483)),L$21*L$13/L$196,0)),0)","v":0}]
[null,"2046-08-01",{"$f":"IFERROR(IF($B484>C$15,0,IF(OFFSET(index!$I$2,MATCH(C$195,index!$I$3:$I$50,0),MONTH(CF表!$B484)),C$21*C$13/C$196,0)),0)","v":0},{"$f":"IFERROR(IF($B484>D$15,0,IF(OFFSET(index!$I$2,MATCH(D$195,index!$I$3:$I$50,0),MONTH(CF表!$B484)),D$21*D$13/D$196,0)),0)","v":0},{"$f":"IFERROR(IF($B484>E$15,0,IF(OFFSET(index!$I$2,MATCH(E$195,index!$I$3:$I$50,0),MONTH(CF表!$B484)),E$21*E$13/E$196,0)),0)","v":0},{"$f":"IFERROR(IF($B484>F$15,0,IF(OFFSET(index!$I$2,MATCH(F$195,index!$I$3:$I$50,0),MONTH(CF表!$B484)),F$21*F$13/F$196,0)),0)","v":0},{"$f":"IFERROR(IF($B484>G$15,0,IF(OFFSET(index!$I$2,MATCH(G$195,index!$I$3:$I$50,0),MONTH(CF表!$B484)),G$21*G$13/G$196,0)),0)","v":0},{"$f":"IFERROR(IF($B484>H$15,0,IF(OFFSET(index!$I$2,MATCH(H$195,index!$I$3:$I$50,0),MONTH(CF表!$B484)),H$21*H$13/H$196,0)),0)","v":0},{"$f":"IFERROR(IF($B484>I$15,0,IF(OFFSET(index!$I$2,MATCH(I$195,index!$I$3:$I$50,0),MONTH(CF表!$B484)),I$21*I$13/I$196,0)),0)","v":0},{"$f":"IFERROR(IF($B484>J$15,0,IF(OFFSET(index!$I$2,MATCH(J$195,index!$I$3:$I$50,0),MONTH(CF表!$B484)),J$21*J$13/J$196,0)),0)","v":0},{"$f":"IFERROR(IF($B484>K$15,0,IF(OFFSET(index!$I$2,MATCH(K$195,index!$I$3:$I$50,0),MONTH(CF表!$B484)),K$21*K$13/K$196,0)),0)","v":0},{"$f":"IFERROR(IF($B484>L$15,0,IF(OFFSET(index!$I$2,MATCH(L$195,index!$I$3:$I$50,0),MONTH(CF表!$B484)),L$21*L$13/L$196,0)),0)","v":0}]
[null,"2046-09-01",{"$f":"IFERROR(IF($B485>C$15,0,IF(OFFSET(index!$I$2,MATCH(C$195,index!$I$3:$I$50,0),MONTH(CF表!$B485)),C$21*C$13/C$196,0)),0)","v":0},{"$f":"IFERROR(IF($B485>D$15,0,IF(OFFSET(index!$I$2,MATCH(D$195,index!$I$3:$I$50,0),MONTH(CF表!$B485)),D$21*D$13/D$196,0)),0)","v":0},{"$f":"IFERROR(IF($B485>E$15,0,IF(OFFSET(index!$I$2,MATCH(E$195,index!$I$3:$I$50,0),MONTH(CF表!$B485)),E$21*E$13/E$196,0)),0)","v":0},{"$f":"IFERROR(IF($B485>F$15,0,IF(OFFSET(index!$I$2,MATCH(F$195,index!$I$3:$I$50,0),MONTH(CF表!$B485)),F$21*F$13/F$196,0)),0)","v":0},{"$f":"IFERROR(IF($B485>G$15,0,IF(OFFSET(index!$I$2,MATCH(G$195,index!$I$3:$I$50,0),MONTH(CF表!$B485)),G$21*G$13/G$196,0)),0)","v":0},{"$f":"IFERROR(IF($B485>H$15,0,IF(OFFSET(index!$I$2,MATCH(H$195,index!$I$3:$I$50,0),MONTH(CF表!$B485)),H$21*H$13/H$196,0)),0)","v":0},{"$f":"IFERROR(IF($B485>I$15,0,IF(OFFSET(index!$I$2,MATCH(I$195,index!$I$3:$I$50,0),MONTH(CF表!$B485)),I$21*I$13/I$196,0)),0)","v":0},{"$f":"IFERROR(IF($B485>J$15,0,IF(OFFSET(index!$I$2,MATCH(J$195,index!$I$3:$I$50,0),MONTH(CF表!$B485)),J$21*J$13/J$196,0)),0)","v":0},{"$f":"IFERROR(IF($B485>K$15,0,IF(OFFSET(index!$I$2,MATCH(K$195,index!$I$3:$I$50,0),MONTH(CF表!$B485)),K$21*K$13/K$196,0)),0)","v":0},{"$f":"IFERROR(IF($B485>L$15,0,IF(OFFSET(index!$I$2,MATCH(L$195,index!$I$3:$I$50,0),MONTH(CF表!$B485)),L$21*L$13/L$196,0)),0)","v":0}]
[null,"2046-10-01",{"$f":"IFERROR(IF($B486>C$15,0,IF(OFFSET(index!$I$2,MATCH(C$195,index!$I$3:$I$50,0),MONTH(CF表!$B486)),C$21*C$13/C$196,0)),0)","v":0},{"$f":"IFERROR(IF($B486>D$15,0,IF(OFFSET(index!$I$2,MATCH(D$195,index!$I$3:$I$50,0),MONTH(CF表!$B486)),D$21*D$13/D$196,0)),0)","v":0},{"$f":"IFERROR(IF($B486>E$15,0,IF(OFFSET(index!$I$2,MATCH(E$195,index!$I$3:$I$50,0),MONTH(CF表!$B486)),E$21*E$13/E$196,0)),0)","v":0},{"$f":"IFERROR(IF($B486>F$15,0,IF(OFFSET(index!$I$2,MATCH(F$195,index!$I$3:$I$50,0),MONTH(CF表!$B486)),F$21*F$13/F$196,0)),0)","v":0},{"$f":"IFERROR(IF($B486>G$15,0,IF(OFFSET(index!$I$2,MATCH(G$195,index!$I$3:$I$50,0),MONTH(CF表!$B486)),G$21*G$13/G$196,0)),0)","v":0},{"$f":"IFERROR(IF($B486>H$15,0,IF(OFFSET(index!$I$2,MATCH(H$195,index!$I$3:$I$50,0),MONTH(CF表!$B486)),H$21*H$13/H$196,0)),0)","v":0},{"$f":"IFERROR(IF($B486>I$15,0,IF(OFFSET(index!$I$2,MATCH(I$195,index!$I$3:$I$50,0),MONTH(CF表!$B486)),I$21*I$13/I$196,0)),0)","v":0},{"$f":"IFERROR(IF($B486>J$15,0,IF(OFFSET(index!$I$2,MATCH(J$195,index!$I$3:$I$50,0),MONTH(CF表!$B486)),J$21*J$13/J$196,0)),0)","v":0},{"$f":"IFERROR(IF($B486>K$15,0,IF(OFFSET(index!$I$2,MATCH(K$195,index!$I$3:$I$50,0),MONTH(CF表!$B486)),K$21*K$13/K$196,0)),0)","v":0},{"$f":"IFERROR(IF($B486>L$15,0,IF(OFFSET(index!$I$2,MATCH(L$195,index!$I$3:$I$50,0),MONTH(CF表!$B486)),L$21*L$13/L$196,0)),0)","v":0}]
[null,"2046-11-01",{"$f":"IFERROR(IF($B487>C$15,0,IF(OFFSET(index!$I$2,MATCH(C$195,index!$I$3:$I$50,0),MONTH(CF表!$B487)),C$21*C$13/C$196,0)),0)","v":0},{"$f":"IFERROR(IF($B487>D$15,0,IF(OFFSET(index!$I$2,MATCH(D$195,index!$I$3:$I$50,0),MONTH(CF表!$B487)),D$21*D$13/D$196,0)),0)","v":0},{"$f":"IFERROR(IF($B487>E$15,0,IF(OFFSET(index!$I$2,MATCH(E$195,index!$I$3:$I$50,0),MONTH(CF表!$B487)),E$21*E$13/E$196,0)),0)","v":0},{"$f":"IFERROR(IF($B487>F$15,0,IF(OFFSET(index!$I$2,MATCH(F$195,index!$I$3:$I$50,0),MONTH(CF表!$B487)),F$21*F$13/F$196,0)),0)","v":0},{"$f":"IFERROR(IF($B487>G$15,0,IF(OFFSET(index!$I$2,MATCH(G$195,index!$I$3:$I$50,0),MONTH(CF表!$B487)),G$21*G$13/G$196,0)),0)","v":0},{"$f":"IFERROR(IF($B487>H$15,0,IF(OFFSET(index!$I$2,MATCH(H$195,index!$I$3:$I$50,0),MONTH(CF表!$B487)),H$21*H$13/H$196,0)),0)","v":0},{"$f":"IFERROR(IF($B487>I$15,0,IF(OFFSET(index!$I$2,MATCH(I$195,index!$I$3:$I$50,0),MONTH(CF表!$B487)),I$21*I$13/I$196,0)),0)","v":0},{"$f":"IFERROR(IF($B487>J$15,0,IF(OFFSET(index!$I$2,MATCH(J$195,index!$I$3:$I$50,0),MONTH(CF表!$B487)),J$21*J$13/J$196,0)),0)","v":0},{"$f":"IFERROR(IF($B487>K$15,0,IF(OFFSET(index!$I$2,MATCH(K$195,index!$I$3:$I$50,0),MONTH(CF表!$B487)),K$21*K$13/K$196,0)),0)","v":0},{"$f":"IFERROR(IF($B487>L$15,0,IF(OFFSET(index!$I$2,MATCH(L$195,index!$I$3:$I$50,0),MONTH(CF表!$B487)),L$21*L$13/L$196,0)),0)","v":0}]
[null,"2046-12-01",{"$f":"IFERROR(IF($B488>C$15,0,IF(OFFSET(index!$I$2,MATCH(C$195,index!$I$3:$I$50,0),MONTH(CF表!$B488)),C$21*C$13/C$196,0)),0)","v":0},{"$f":"IFERROR(IF($B488>D$15,0,IF(OFFSET(index!$I$2,MATCH(D$195,index!$I$3:$I$50,0),MONTH(CF表!$B488)),D$21*D$13/D$196,0)),0)","v":0},{"$f":"IFERROR(IF($B488>E$15,0,IF(OFFSET(index!$I$2,MATCH(E$195,index!$I$3:$I$50,0),MONTH(CF表!$B488)),E$21*E$13/E$196,0)),0)","v":0},{"$f":"IFERROR(IF($B488>F$15,0,IF(OFFSET(index!$I$2,MATCH(F$195,index!$I$3:$I$50,0),MONTH(CF表!$B488)),F$21*F$13/F$196,0)),0)","v":0},{"$f":"IFERROR(IF($B488>G$15,0,IF(OFFSET(index!$I$2,MATCH(G$195,index!$I$3:$I$50,0),MONTH(CF表!$B488)),G$21*G$13/G$196,0)),0)","v":0},{"$f":"IFERROR(IF($B488>H$15,0,IF(OFFSET(index!$I$2,MATCH(H$195,index!$I$3:$I$50,0),MONTH(CF表!$B488)),H$21*H$13/H$196,0)),0)","v":0},{"$f":"IFERROR(IF($B488>I$15,0,IF(OFFSET(index!$I$2,MATCH(I$195,index!$I$3:$I$50,0),MONTH(CF表!$B488)),I$21*I$13/I$196,0)),0)","v":0},{"$f":"IFERROR(IF($B488>J$15,0,IF(OFFSET(index!$I$2,MATCH(J$195,index!$I$3:$I$50,0),MONTH(CF表!$B488)),J$21*J$13/J$196,0)),0)","v":0},{"$f":"IFERROR(IF($B488>K$15,0,IF(OFFSET(index!$I$2,MATCH(K$195,index!$I$3:$I$50,0),MONTH(CF表!$B488)),K$21*K$13/K$196,0)),0)","v":0},{"$f":"IFERROR(IF($B488>L$15,0,IF(OFFSET(index!$I$2,MATCH(L$195,index!$I$3:$I$50,0),MONTH(CF表!$B488)),L$21*L$13/L$196,0)),0)","v":0}]
[null,"2047-01-01",{"$f":"IFERROR(IF($B489>C$15,0,IF(OFFSET(index!$I$2,MATCH(C$195,index!$I$3:$I$50,0),MONTH(CF表!$B489)),C$21*C$13/C$196,0)),0)","v":0},{"$f":"IFERROR(IF($B489>D$15,0,IF(OFFSET(index!$I$2,MATCH(D$195,index!$I$3:$I$50,0),MONTH(CF表!$B489)),D$21*D$13/D$196,0)),0)","v":0},{"$f":"IFERROR(IF($B489>E$15,0,IF(OFFSET(index!$I$2,MATCH(E$195,index!$I$3:$I$50,0),MONTH(CF表!$B489)),E$21*E$13/E$196,0)),0)","v":0},{"$f":"IFERROR(IF($B489>F$15,0,IF(OFFSET(index!$I$2,MATCH(F$195,index!$I$3:$I$50,0),MONTH(CF表!$B489)),F$21*F$13/F$196,0)),0)","v":0},{"$f":"IFERROR(IF($B489>G$15,0,IF(OFFSET(index!$I$2,MATCH(G$195,index!$I$3:$I$50,0),MONTH(CF表!$B489)),G$21*G$13/G$196,0)),0)","v":0},{"$f":"IFERROR(IF($B489>H$15,0,IF(OFFSET(index!$I$2,MATCH(H$195,index!$I$3:$I$50,0),MONTH(CF表!$B489)),H$21*H$13/H$196,0)),0)","v":0},{"$f":"IFERROR(IF($B489>I$15,0,IF(OFFSET(index!$I$2,MATCH(I$195,index!$I$3:$I$50,0),MONTH(CF表!$B489)),I$21*I$13/I$196,0)),0)","v":0},{"$f":"IFERROR(IF($B489>J$15,0,IF(OFFSET(index!$I$2,MATCH(J$195,index!$I$3:$I$50,0),MONTH(CF表!$B489)),J$21*J$13/J$196,0)),0)","v":0},{"$f":"IFERROR(IF($B489>K$15,0,IF(OFFSET(index!$I$2,MATCH(K$195,index!$I$3:$I$50,0),MONTH(CF表!$B489)),K$21*K$13/K$196,0)),0)","v":0},{"$f":"IFERROR(IF($B489>L$15,0,IF(OFFSET(index!$I$2,MATCH(L$195,index!$I$3:$I$50,0),MONTH(CF表!$B489)),L$21*L$13/L$196,0)),0)","v":0}]
[null,"2047-02-01",{"$f":"IFERROR(IF($B490>C$15,0,IF(OFFSET(index!$I$2,MATCH(C$195,index!$I$3:$I$50,0),MONTH(CF表!$B490)),C$21*C$13/C$196,0)),0)","v":0},{"$f":"IFERROR(IF($B490>D$15,0,IF(OFFSET(index!$I$2,MATCH(D$195,index!$I$3:$I$50,0),MONTH(CF表!$B490)),D$21*D$13/D$196,0)),0)","v":0},{"$f":"IFERROR(IF($B490>E$15,0,IF(OFFSET(index!$I$2,MATCH(E$195,index!$I$3:$I$50,0),MONTH(CF表!$B490)),E$21*E$13/E$196,0)),0)","v":0},{"$f":"IFERROR(IF($B490>F$15,0,IF(OFFSET(index!$I$2,MATCH(F$195,index!$I$3:$I$50,0),MONTH(CF表!$B490)),F$21*F$13/F$196,0)),0)","v":0},{"$f":"IFERROR(IF($B490>G$15,0,IF(OFFSET(index!$I$2,MATCH(G$195,index!$I$3:$I$50,0),MONTH(CF表!$B490)),G$21*G$13/G$196,0)),0)","v":0},{"$f":"IFERROR(IF($B490>H$15,0,IF(OFFSET(index!$I$2,MATCH(H$195,index!$I$3:$I$50,0),MONTH(CF表!$B490)),H$21*H$13/H$196,0)),0)","v":0},{"$f":"IFERROR(IF($B490>I$15,0,IF(OFFSET(index!$I$2,MATCH(I$195,index!$I$3:$I$50,0),MONTH(CF表!$B490)),I$21*I$13/I$196,0)),0)","v":0},{"$f":"IFERROR(IF($B490>J$15,0,IF(OFFSET(index!$I$2,MATCH(J$195,index!$I$3:$I$50,0),MONTH(CF表!$B490)),J$21*J$13/J$196,0)),0)","v":0},{"$f":"IFERROR(IF($B490>K$15,0,IF(OFFSET(index!$I$2,MATCH(K$195,index!$I$3:$I$50,0),MONTH(CF表!$B490)),K$21*K$13/K$196,0)),0)","v":0},{"$f":"IFERROR(IF($B490>L$15,0,IF(OFFSET(index!$I$2,MATCH(L$195,index!$I$3:$I$50,0),MONTH(CF表!$B490)),L$21*L$13/L$196,0)),0)","v":0}]
[null,"2047-03-01",{"$f":"IFERROR(IF($B491>C$15,0,IF(OFFSET(index!$I$2,MATCH(C$195,index!$I$3:$I$50,0),MONTH(CF表!$B491)),C$21*C$13/C$196,0)),0)","v":0},{"$f":"IFERROR(IF($B491>D$15,0,IF(OFFSET(index!$I$2,MATCH(D$195,index!$I$3:$I$50,0),MONTH(CF表!$B491)),D$21*D$13/D$196,0)),0)","v":0},{"$f":"IFERROR(IF($B491>E$15,0,IF(OFFSET(index!$I$2,MATCH(E$195,index!$I$3:$I$50,0),MONTH(CF表!$B491)),E$21*E$13/E$196,0)),0)","v":0},{"$f":"IFERROR(IF($B491>F$15,0,IF(OFFSET(index!$I$2,MATCH(F$195,index!$I$3:$I$50,0),MONTH(CF表!$B491)),F$21*F$13/F$196,0)),0)","v":0},{"$f":"IFERROR(IF($B491>G$15,0,IF(OFFSET(index!$I$2,MATCH(G$195,index!$I$3:$I$50,0),MONTH(CF表!$B491)),G$21*G$13/G$196,0)),0)","v":0},{"$f":"IFERROR(IF($B491>H$15,0,IF(OFFSET(index!$I$2,MATCH(H$195,index!$I$3:$I$50,0),MONTH(CF表!$B491)),H$21*H$13/H$196,0)),0)","v":0},{"$f":"IFERROR(IF($B491>I$15,0,IF(OFFSET(index!$I$2,MATCH(I$195,index!$I$3:$I$50,0),MONTH(CF表!$B491)),I$21*I$13/I$196,0)),0)","v":0},{"$f":"IFERROR(IF($B491>J$15,0,IF(OFFSET(index!$I$2,MATCH(J$195,index!$I$3:$I$50,0),MONTH(CF表!$B491)),J$21*J$13/J$196,0)),0)","v":0},{"$f":"IFERROR(IF($B491>K$15,0,IF(OFFSET(index!$I$2,MATCH(K$195,index!$I$3:$I$50,0),MONTH(CF表!$B491)),K$21*K$13/K$196,0)),0)","v":0},{"$f":"IFERROR(IF($B491>L$15,0,IF(OFFSET(index!$I$2,MATCH(L$195,index!$I$3:$I$50,0),MONTH(CF表!$B491)),L$21*L$13/L$196,0)),0)","v":0}]
[null,"2047-04-01",{"$f":"IFERROR(IF($B492>C$15,0,IF(OFFSET(index!$I$2,MATCH(C$195,index!$I$3:$I$50,0),MONTH(CF表!$B492)),C$21*C$13/C$196,0)),0)","v":0},{"$f":"IFERROR(IF($B492>D$15,0,IF(OFFSET(index!$I$2,MATCH(D$195,index!$I$3:$I$50,0),MONTH(CF表!$B492)),D$21*D$13/D$196,0)),0)","v":0},{"$f":"IFERROR(IF($B492>E$15,0,IF(OFFSET(index!$I$2,MATCH(E$195,index!$I$3:$I$50,0),MONTH(CF表!$B492)),E$21*E$13/E$196,0)),0)","v":0},{"$f":"IFERROR(IF($B492>F$15,0,IF(OFFSET(index!$I$2,MATCH(F$195,index!$I$3:$I$50,0),MONTH(CF表!$B492)),F$21*F$13/F$196,0)),0)","v":0},{"$f":"IFERROR(IF($B492>G$15,0,IF(OFFSET(index!$I$2,MATCH(G$195,index!$I$3:$I$50,0),MONTH(CF表!$B492)),G$21*G$13/G$196,0)),0)","v":0},{"$f":"IFERROR(IF($B492>H$15,0,IF(OFFSET(index!$I$2,MATCH(H$195,index!$I$3:$I$50,0),MONTH(CF表!$B492)),H$21*H$13/H$196,0)),0)","v":0},{"$f":"IFERROR(IF($B492>I$15,0,IF(OFFSET(index!$I$2,MATCH(I$195,index!$I$3:$I$50,0),MONTH(CF表!$B492)),I$21*I$13/I$196,0)),0)","v":0},{"$f":"IFERROR(IF($B492>J$15,0,IF(OFFSET(index!$I$2,MATCH(J$195,index!$I$3:$I$50,0),MONTH(CF表!$B492)),J$21*J$13/J$196,0)),0)","v":0},{"$f":"IFERROR(IF($B492>K$15,0,IF(OFFSET(index!$I$2,MATCH(K$195,index!$I$3:$I$50,0),MONTH(CF表!$B492)),K$21*K$13/K$196,0)),0)","v":0},{"$f":"IFERROR(IF($B492>L$15,0,IF(OFFSET(index!$I$2,MATCH(L$195,index!$I$3:$I$50,0),MONTH(CF表!$B492)),L$21*L$13/L$196,0)),0)","v":0}]
[null,"2047-05-01",{"$f":"IFERROR(IF($B493>C$15,0,IF(OFFSET(index!$I$2,MATCH(C$195,index!$I$3:$I$50,0),MONTH(CF表!$B493)),C$21*C$13/C$196,0)),0)","v":0},{"$f":"IFERROR(IF($B493>D$15,0,IF(OFFSET(index!$I$2,MATCH(D$195,index!$I$3:$I$50,0),MONTH(CF表!$B493)),D$21*D$13/D$196,0)),0)","v":0},{"$f":"IFERROR(IF($B493>E$15,0,IF(OFFSET(index!$I$2,MATCH(E$195,index!$I$3:$I$50,0),MONTH(CF表!$B493)),E$21*E$13/E$196,0)),0)","v":0},{"$f":"IFERROR(IF($B493>F$15,0,IF(OFFSET(index!$I$2,MATCH(F$195,index!$I$3:$I$50,0),MONTH(CF表!$B493)),F$21*F$13/F$196,0)),0)","v":0},{"$f":"IFERROR(IF($B493>G$15,0,IF(OFFSET(index!$I$2,MATCH(G$195,index!$I$3:$I$50,0),MONTH(CF表!$B493)),G$21*G$13/G$196,0)),0)","v":0},{"$f":"IFERROR(IF($B493>H$15,0,IF(OFFSET(index!$I$2,MATCH(H$195,index!$I$3:$I$50,0),MONTH(CF表!$B493)),H$21*H$13/H$196,0)),0)","v":0},{"$f":"IFERROR(IF($B493>I$15,0,IF(OFFSET(index!$I$2,MATCH(I$195,index!$I$3:$I$50,0),MONTH(CF表!$B493)),I$21*I$13/I$196,0)),0)","v":0},{"$f":"IFERROR(IF($B493>J$15,0,IF(OFFSET(index!$I$2,MATCH(J$195,index!$I$3:$I$50,0),MONTH(CF表!$B493)),J$21*J$13/J$196,0)),0)","v":0},{"$f":"IFERROR(IF($B493>K$15,0,IF(OFFSET(index!$I$2,MATCH(K$195,index!$I$3:$I$50,0),MONTH(CF表!$B493)),K$21*K$13/K$196,0)),0)","v":0},{"$f":"IFERROR(IF($B493>L$15,0,IF(OFFSET(index!$I$2,MATCH(L$195,index!$I$3:$I$50,0),MONTH(CF表!$B493)),L$21*L$13/L$196,0)),0)","v":0}]
[null,"2047-06-01",{"$f":"IFERROR(IF($B494>C$15,0,IF(OFFSET(index!$I$2,MATCH(C$195,index!$I$3:$I$50,0),MONTH(CF表!$B494)),C$21*C$13/C$196,0)),0)","v":0},{"$f":"IFERROR(IF($B494>D$15,0,IF(OFFSET(index!$I$2,MATCH(D$195,index!$I$3:$I$50,0),MONTH(CF表!$B494)),D$21*D$13/D$196,0)),0)","v":0},{"$f":"IFERROR(IF($B494>E$15,0,IF(OFFSET(index!$I$2,MATCH(E$195,index!$I$3:$I$50,0),MONTH(CF表!$B494)),E$21*E$13/E$196,0)),0)","v":0},{"$f":"IFERROR(IF($B494>F$15,0,IF(OFFSET(index!$I$2,MATCH(F$195,index!$I$3:$I$50,0),MONTH(CF表!$B494)),F$21*F$13/F$196,0)),0)","v":0},{"$f":"IFERROR(IF($B494>G$15,0,IF(OFFSET(index!$I$2,MATCH(G$195,index!$I$3:$I$50,0),MONTH(CF表!$B494)),G$21*G$13/G$196,0)),0)","v":0},{"$f":"IFERROR(IF($B494>H$15,0,IF(OFFSET(index!$I$2,MATCH(H$195,index!$I$3:$I$50,0),MONTH(CF表!$B494)),H$21*H$13/H$196,0)),0)","v":0},{"$f":"IFERROR(IF($B494>I$15,0,IF(OFFSET(index!$I$2,MATCH(I$195,index!$I$3:$I$50,0),MONTH(CF表!$B494)),I$21*I$13/I$196,0)),0)","v":0},{"$f":"IFERROR(IF($B494>J$15,0,IF(OFFSET(index!$I$2,MATCH(J$195,index!$I$3:$I$50,0),MONTH(CF表!$B494)),J$21*J$13/J$196,0)),0)","v":0},{"$f":"IFERROR(IF($B494>K$15,0,IF(OFFSET(index!$I$2,MATCH(K$195,index!$I$3:$I$50,0),MONTH(CF表!$B494)),K$21*K$13/K$196,0)),0)","v":0},{"$f":"IFERROR(IF($B494>L$15,0,IF(OFFSET(index!$I$2,MATCH(L$195,index!$I$3:$I$50,0),MONTH(CF表!$B494)),L$21*L$13/L$196,0)),0)","v":0}]
[null,"2047-07-01",{"$f":"IFERROR(IF($B495>C$15,0,IF(OFFSET(index!$I$2,MATCH(C$195,index!$I$3:$I$50,0),MONTH(CF表!$B495)),C$21*C$13/C$196,0)),0)","v":0},{"$f":"IFERROR(IF($B495>D$15,0,IF(OFFSET(index!$I$2,MATCH(D$195,index!$I$3:$I$50,0),MONTH(CF表!$B495)),D$21*D$13/D$196,0)),0)","v":0},{"$f":"IFERROR(IF($B495>E$15,0,IF(OFFSET(index!$I$2,MATCH(E$195,index!$I$3:$I$50,0),MONTH(CF表!$B495)),E$21*E$13/E$196,0)),0)","v":0},{"$f":"IFERROR(IF($B495>F$15,0,IF(OFFSET(index!$I$2,MATCH(F$195,index!$I$3:$I$50,0),MONTH(CF表!$B495)),F$21*F$13/F$196,0)),0)","v":0},{"$f":"IFERROR(IF($B495>G$15,0,IF(OFFSET(index!$I$2,MATCH(G$195,index!$I$3:$I$50,0),MONTH(CF表!$B495)),G$21*G$13/G$196,0)),0)","v":0},{"$f":"IFERROR(IF($B495>H$15,0,IF(OFFSET(index!$I$2,MATCH(H$195,index!$I$3:$I$50,0),MONTH(CF表!$B495)),H$21*H$13/H$196,0)),0)","v":0},{"$f":"IFERROR(IF($B495>I$15,0,IF(OFFSET(index!$I$2,MATCH(I$195,index!$I$3:$I$50,0),MONTH(CF表!$B495)),I$21*I$13/I$196,0)),0)","v":0},{"$f":"IFERROR(IF($B495>J$15,0,IF(OFFSET(index!$I$2,MATCH(J$195,index!$I$3:$I$50,0),MONTH(CF表!$B495)),J$21*J$13/J$196,0)),0)","v":0},{"$f":"IFERROR(IF($B495>K$15,0,IF(OFFSET(index!$I$2,MATCH(K$195,index!$I$3:$I$50,0),MONTH(CF表!$B495)),K$21*K$13/K$196,0)),0)","v":0},{"$f":"IFERROR(IF($B495>L$15,0,IF(OFFSET(index!$I$2,MATCH(L$195,index!$I$3:$I$50,0),MONTH(CF表!$B495)),L$21*L$13/L$196,0)),0)","v":0}]
[null,"2047-08-01",{"$f":"IFERROR(IF($B496>C$15,0,IF(OFFSET(index!$I$2,MATCH(C$195,index!$I$3:$I$50,0),MONTH(CF表!$B496)),C$21*C$13/C$196,0)),0)","v":0},{"$f":"IFERROR(IF($B496>D$15,0,IF(OFFSET(index!$I$2,MATCH(D$195,index!$I$3:$I$50,0),MONTH(CF表!$B496)),D$21*D$13/D$196,0)),0)","v":0},{"$f":"IFERROR(IF($B496>E$15,0,IF(OFFSET(index!$I$2,MATCH(E$195,index!$I$3:$I$50,0),MONTH(CF表!$B496)),E$21*E$13/E$196,0)),0)","v":0},{"$f":"IFERROR(IF($B496>F$15,0,IF(OFFSET(index!$I$2,MATCH(F$195,index!$I$3:$I$50,0),MONTH(CF表!$B496)),F$21*F$13/F$196,0)),0)","v":0},{"$f":"IFERROR(IF($B496>G$15,0,IF(OFFSET(index!$I$2,MATCH(G$195,index!$I$3:$I$50,0),MONTH(CF表!$B496)),G$21*G$13/G$196,0)),0)","v":0},{"$f":"IFERROR(IF($B496>H$15,0,IF(OFFSET(index!$I$2,MATCH(H$195,index!$I$3:$I$50,0),MONTH(CF表!$B496)),H$21*H$13/H$196,0)),0)","v":0},{"$f":"IFERROR(IF($B496>I$15,0,IF(OFFSET(index!$I$2,MATCH(I$195,index!$I$3:$I$50,0),MONTH(CF表!$B496)),I$21*I$13/I$196,0)),0)","v":0},{"$f":"IFERROR(IF($B496>J$15,0,IF(OFFSET(index!$I$2,MATCH(J$195,index!$I$3:$I$50,0),MONTH(CF表!$B496)),J$21*J$13/J$196,0)),0)","v":0},{"$f":"IFERROR(IF($B496>K$15,0,IF(OFFSET(index!$I$2,MATCH(K$195,index!$I$3:$I$50,0),MONTH(CF表!$B496)),K$21*K$13/K$196,0)),0)","v":0},{"$f":"IFERROR(IF($B496>L$15,0,IF(OFFSET(index!$I$2,MATCH(L$195,index!$I$3:$I$50,0),MONTH(CF表!$B496)),L$21*L$13/L$196,0)),0)","v":0}]
[null,"2047-09-01",{"$f":"IFERROR(IF($B497>C$15,0,IF(OFFSET(index!$I$2,MATCH(C$195,index!$I$3:$I$50,0),MONTH(CF表!$B497)),C$21*C$13/C$196,0)),0)","v":0},{"$f":"IFERROR(IF($B497>D$15,0,IF(OFFSET(index!$I$2,MATCH(D$195,index!$I$3:$I$50,0),MONTH(CF表!$B497)),D$21*D$13/D$196,0)),0)","v":0},{"$f":"IFERROR(IF($B497>E$15,0,IF(OFFSET(index!$I$2,MATCH(E$195,index!$I$3:$I$50,0),MONTH(CF表!$B497)),E$21*E$13/E$196,0)),0)","v":0},{"$f":"IFERROR(IF($B497>F$15,0,IF(OFFSET(index!$I$2,MATCH(F$195,index!$I$3:$I$50,0),MONTH(CF表!$B497)),F$21*F$13/F$196,0)),0)","v":0},{"$f":"IFERROR(IF($B497>G$15,0,IF(OFFSET(index!$I$2,MATCH(G$195,index!$I$3:$I$50,0),MONTH(CF表!$B497)),G$21*G$13/G$196,0)),0)","v":0},{"$f":"IFERROR(IF($B497>H$15,0,IF(OFFSET(index!$I$2,MATCH(H$195,index!$I$3:$I$50,0),MONTH(CF表!$B497)),H$21*H$13/H$196,0)),0)","v":0},{"$f":"IFERROR(IF($B497>I$15,0,IF(OFFSET(index!$I$2,MATCH(I$195,index!$I$3:$I$50,0),MONTH(CF表!$B497)),I$21*I$13/I$196,0)),0)","v":0},{"$f":"IFERROR(IF($B497>J$15,0,IF(OFFSET(index!$I$2,MATCH(J$195,index!$I$3:$I$50,0),MONTH(CF表!$B497)),J$21*J$13/J$196,0)),0)","v":0},{"$f":"IFERROR(IF($B497>K$15,0,IF(OFFSET(index!$I$2,MATCH(K$195,index!$I$3:$I$50,0),MONTH(CF表!$B497)),K$21*K$13/K$196,0)),0)","v":0},{"$f":"IFERROR(IF($B497>L$15,0,IF(OFFSET(index!$I$2,MATCH(L$195,index!$I$3:$I$50,0),MONTH(CF表!$B497)),L$21*L$13/L$196,0)),0)","v":0}]
[null,"2047-10-01",{"$f":"IFERROR(IF($B498>C$15,0,IF(OFFSET(index!$I$2,MATCH(C$195,index!$I$3:$I$50,0),MONTH(CF表!$B498)),C$21*C$13/C$196,0)),0)","v":0},{"$f":"IFERROR(IF($B498>D$15,0,IF(OFFSET(index!$I$2,MATCH(D$195,index!$I$3:$I$50,0),MONTH(CF表!$B498)),D$21*D$13/D$196,0)),0)","v":0},{"$f":"IFERROR(IF($B498>E$15,0,IF(OFFSET(index!$I$2,MATCH(E$195,index!$I$3:$I$50,0),MONTH(CF表!$B498)),E$21*E$13/E$196,0)),0)","v":0},{"$f":"IFERROR(IF($B498>F$15,0,IF(OFFSET(index!$I$2,MATCH(F$195,index!$I$3:$I$50,0),MONTH(CF表!$B498)),F$21*F$13/F$196,0)),0)","v":0},{"$f":"IFERROR(IF($B498>G$15,0,IF(OFFSET(index!$I$2,MATCH(G$195,index!$I$3:$I$50,0),MONTH(CF表!$B498)),G$21*G$13/G$196,0)),0)","v":0},{"$f":"IFERROR(IF($B498>H$15,0,IF(OFFSET(index!$I$2,MATCH(H$195,index!$I$3:$I$50,0),MONTH(CF表!$B498)),H$21*H$13/H$196,0)),0)","v":0},{"$f":"IFERROR(IF($B498>I$15,0,IF(OFFSET(index!$I$2,MATCH(I$195,index!$I$3:$I$50,0),MONTH(CF表!$B498)),I$21*I$13/I$196,0)),0)","v":0},{"$f":"IFERROR(IF($B498>J$15,0,IF(OFFSET(index!$I$2,MATCH(J$195,index!$I$3:$I$50,0),MONTH(CF表!$B498)),J$21*J$13/J$196,0)),0)","v":0},{"$f":"IFERROR(IF($B498>K$15,0,IF(OFFSET(index!$I$2,MATCH(K$195,index!$I$3:$I$50,0),MONTH(CF表!$B498)),K$21*K$13/K$196,0)),0)","v":0},{"$f":"IFERROR(IF($B498>L$15,0,IF(OFFSET(index!$I$2,MATCH(L$195,index!$I$3:$I$50,0),MONTH(CF表!$B498)),L$21*L$13/L$196,0)),0)","v":0}]
[null,"2047-11-01",{"$f":"IFERROR(IF($B499>C$15,0,IF(OFFSET(index!$I$2,MATCH(C$195,index!$I$3:$I$50,0),MONTH(CF表!$B499)),C$21*C$13/C$196,0)),0)","v":0},{"$f":"IFERROR(IF($B499>D$15,0,IF(OFFSET(index!$I$2,MATCH(D$195,index!$I$3:$I$50,0),MONTH(CF表!$B499)),D$21*D$13/D$196,0)),0)","v":0},{"$f":"IFERROR(IF($B499>E$15,0,IF(OFFSET(index!$I$2,MATCH(E$195,index!$I$3:$I$50,0),MONTH(CF表!$B499)),E$21*E$13/E$196,0)),0)","v":0},{"$f":"IFERROR(IF($B499>F$15,0,IF(OFFSET(index!$I$2,MATCH(F$195,index!$I$3:$I$50,0),MONTH(CF表!$B499)),F$21*F$13/F$196,0)),0)","v":0},{"$f":"IFERROR(IF($B499>G$15,0,IF(OFFSET(index!$I$2,MATCH(G$195,index!$I$3:$I$50,0),MONTH(CF表!$B499)),G$21*G$13/G$196,0)),0)","v":0},{"$f":"IFERROR(IF($B499>H$15,0,IF(OFFSET(index!$I$2,MATCH(H$195,index!$I$3:$I$50,0),MONTH(CF表!$B499)),H$21*H$13/H$196,0)),0)","v":0},{"$f":"IFERROR(IF($B499>I$15,0,IF(OFFSET(index!$I$2,MATCH(I$195,index!$I$3:$I$50,0),MONTH(CF表!$B499)),I$21*I$13/I$196,0)),0)","v":0},{"$f":"IFERROR(IF($B499>J$15,0,IF(OFFSET(index!$I$2,MATCH(J$195,index!$I$3:$I$50,0),MONTH(CF表!$B499)),J$21*J$13/J$196,0)),0)","v":0},{"$f":"IFERROR(IF($B499>K$15,0,IF(OFFSET(index!$I$2,MATCH(K$195,index!$I$3:$I$50,0),MONTH(CF表!$B499)),K$21*K$13/K$196,0)),0)","v":0},{"$f":"IFERROR(IF($B499>L$15,0,IF(OFFSET(index!$I$2,MATCH(L$195,index!$I$3:$I$50,0),MONTH(CF表!$B499)),L$21*L$13/L$196,0)),0)","v":0}]
[null,"2047-12-01",{"$f":"IFERROR(IF($B500>C$15,0,IF(OFFSET(index!$I$2,MATCH(C$195,index!$I$3:$I$50,0),MONTH(CF表!$B500)),C$21*C$13/C$196,0)),0)","v":0},{"$f":"IFERROR(IF($B500>D$15,0,IF(OFFSET(index!$I$2,MATCH(D$195,index!$I$3:$I$50,0),MONTH(CF表!$B500)),D$21*D$13/D$196,0)),0)","v":0},{"$f":"IFERROR(IF($B500>E$15,0,IF(OFFSET(index!$I$2,MATCH(E$195,index!$I$3:$I$50,0),MONTH(CF表!$B500)),E$21*E$13/E$196,0)),0)","v":0},{"$f":"IFERROR(IF($B500>F$15,0,IF(OFFSET(index!$I$2,MATCH(F$195,index!$I$3:$I$50,0),MONTH(CF表!$B500)),F$21*F$13/F$196,0)),0)","v":0},{"$f":"IFERROR(IF($B500>G$15,0,IF(OFFSET(index!$I$2,MATCH(G$195,index!$I$3:$I$50,0),MONTH(CF表!$B500)),G$21*G$13/G$196,0)),0)","v":0},{"$f":"IFERROR(IF($B500>H$15,0,IF(OFFSET(index!$I$2,MATCH(H$195,index!$I$3:$I$50,0),MONTH(CF表!$B500)),H$21*H$13/H$196,0)),0)","v":0},{"$f":"IFERROR(IF($B500>I$15,0,IF(OFFSET(index!$I$2,MATCH(I$195,index!$I$3:$I$50,0),MONTH(CF表!$B500)),I$21*I$13/I$196,0)),0)","v":0},{"$f":"IFERROR(IF($B500>J$15,0,IF(OFFSET(index!$I$2,MATCH(J$195,index!$I$3:$I$50,0),MONTH(CF表!$B500)),J$21*J$13/J$196,0)),0)","v":0},{"$f":"IFERROR(IF($B500>K$15,0,IF(OFFSET(index!$I$2,MATCH(K$195,index!$I$3:$I$50,0),MONTH(CF表!$B500)),K$21*K$13/K$196,0)),0)","v":0},{"$f":"IFERROR(IF($B500>L$15,0,IF(OFFSET(index!$I$2,MATCH(L$195,index!$I$3:$I$50,0),MONTH(CF表!$B500)),L$21*L$13/L$196,0)),0)","v":0}]
[null,"2048-01-01",{"$f":"IFERROR(IF($B501>C$15,0,IF(OFFSET(index!$I$2,MATCH(C$195,index!$I$3:$I$50,0),MONTH(CF表!$B501)),C$21*C$13/C$196,0)),0)","v":0},{"$f":"IFERROR(IF($B501>D$15,0,IF(OFFSET(index!$I$2,MATCH(D$195,index!$I$3:$I$50,0),MONTH(CF表!$B501)),D$21*D$13/D$196,0)),0)","v":0},{"$f":"IFERROR(IF($B501>E$15,0,IF(OFFSET(index!$I$2,MATCH(E$195,index!$I$3:$I$50,0),MONTH(CF表!$B501)),E$21*E$13/E$196,0)),0)","v":0},{"$f":"IFERROR(IF($B501>F$15,0,IF(OFFSET(index!$I$2,MATCH(F$195,index!$I$3:$I$50,0),MONTH(CF表!$B501)),F$21*F$13/F$196,0)),0)","v":0},{"$f":"IFERROR(IF($B501>G$15,0,IF(OFFSET(index!$I$2,MATCH(G$195,index!$I$3:$I$50,0),MONTH(CF表!$B501)),G$21*G$13/G$196,0)),0)","v":0},{"$f":"IFERROR(IF($B501>H$15,0,IF(OFFSET(index!$I$2,MATCH(H$195,index!$I$3:$I$50,0),MONTH(CF表!$B501)),H$21*H$13/H$196,0)),0)","v":0},{"$f":"IFERROR(IF($B501>I$15,0,IF(OFFSET(index!$I$2,MATCH(I$195,index!$I$3:$I$50,0),MONTH(CF表!$B501)),I$21*I$13/I$196,0)),0)","v":0},{"$f":"IFERROR(IF($B501>J$15,0,IF(OFFSET(index!$I$2,MATCH(J$195,index!$I$3:$I$50,0),MONTH(CF表!$B501)),J$21*J$13/J$196,0)),0)","v":0},{"$f":"IFERROR(IF($B501>K$15,0,IF(OFFSET(index!$I$2,MATCH(K$195,index!$I$3:$I$50,0),MONTH(CF表!$B501)),K$21*K$13/K$196,0)),0)","v":0},{"$f":"IFERROR(IF($B501>L$15,0,IF(OFFSET(index!$I$2,MATCH(L$195,index!$I$3:$I$50,0),MONTH(CF表!$B501)),L$21*L$13/L$196,0)),0)","v":0}]
[null,"2048-02-01",{"$f":"IFERROR(IF($B502>C$15,0,IF(OFFSET(index!$I$2,MATCH(C$195,index!$I$3:$I$50,0),MONTH(CF表!$B502)),C$21*C$13/C$196,0)),0)","v":0},{"$f":"IFERROR(IF($B502>D$15,0,IF(OFFSET(index!$I$2,MATCH(D$195,index!$I$3:$I$50,0),MONTH(CF表!$B502)),D$21*D$13/D$196,0)),0)","v":0},{"$f":"IFERROR(IF($B502>E$15,0,IF(OFFSET(index!$I$2,MATCH(E$195,index!$I$3:$I$50,0),MONTH(CF表!$B502)),E$21*E$13/E$196,0)),0)","v":0},{"$f":"IFERROR(IF($B502>F$15,0,IF(OFFSET(index!$I$2,MATCH(F$195,index!$I$3:$I$50,0),MONTH(CF表!$B502)),F$21*F$13/F$196,0)),0)","v":0},{"$f":"IFERROR(IF($B502>G$15,0,IF(OFFSET(index!$I$2,MATCH(G$195,index!$I$3:$I$50,0),MONTH(CF表!$B502)),G$21*G$13/G$196,0)),0)","v":0},{"$f":"IFERROR(IF($B502>H$15,0,IF(OFFSET(index!$I$2,MATCH(H$195,index!$I$3:$I$50,0),MONTH(CF表!$B502)),H$21*H$13/H$196,0)),0)","v":0},{"$f":"IFERROR(IF($B502>I$15,0,IF(OFFSET(index!$I$2,MATCH(I$195,index!$I$3:$I$50,0),MONTH(CF表!$B502)),I$21*I$13/I$196,0)),0)","v":0},{"$f":"IFERROR(IF($B502>J$15,0,IF(OFFSET(index!$I$2,MATCH(J$195,index!$I$3:$I$50,0),MONTH(CF表!$B502)),J$21*J$13/J$196,0)),0)","v":0},{"$f":"IFERROR(IF($B502>K$15,0,IF(OFFSET(index!$I$2,MATCH(K$195,index!$I$3:$I$50,0),MONTH(CF表!$B502)),K$21*K$13/K$196,0)),0)","v":0},{"$f":"IFERROR(IF($B502>L$15,0,IF(OFFSET(index!$I$2,MATCH(L$195,index!$I$3:$I$50,0),MONTH(CF表!$B502)),L$21*L$13/L$196,0)),0)","v":0}]
[null,"2048-03-01",{"$f":"IFERROR(IF($B503>C$15,0,IF(OFFSET(index!$I$2,MATCH(C$195,index!$I$3:$I$50,0),MONTH(CF表!$B503)),C$21*C$13/C$196,0)),0)","v":0},{"$f":"IFERROR(IF($B503>D$15,0,IF(OFFSET(index!$I$2,MATCH(D$195,index!$I$3:$I$50,0),MONTH(CF表!$B503)),D$21*D$13/D$196,0)),0)","v":0},{"$f":"IFERROR(IF($B503>E$15,0,IF(OFFSET(index!$I$2,MATCH(E$195,index!$I$3:$I$50,0),MONTH(CF表!$B503)),E$21*E$13/E$196,0)),0)","v":0},{"$f":"IFERROR(IF($B503>F$15,0,IF(OFFSET(index!$I$2,MATCH(F$195,index!$I$3:$I$50,0),MONTH(CF表!$B503)),F$21*F$13/F$196,0)),0)","v":0},{"$f":"IFERROR(IF($B503>G$15,0,IF(OFFSET(index!$I$2,MATCH(G$195,index!$I$3:$I$50,0),MONTH(CF表!$B503)),G$21*G$13/G$196,0)),0)","v":0},{"$f":"IFERROR(IF($B503>H$15,0,IF(OFFSET(index!$I$2,MATCH(H$195,index!$I$3:$I$50,0),MONTH(CF表!$B503)),H$21*H$13/H$196,0)),0)","v":0},{"$f":"IFERROR(IF($B503>I$15,0,IF(OFFSET(index!$I$2,MATCH(I$195,index!$I$3:$I$50,0),MONTH(CF表!$B503)),I$21*I$13/I$196,0)),0)","v":0},{"$f":"IFERROR(IF($B503>J$15,0,IF(OFFSET(index!$I$2,MATCH(J$195,index!$I$3:$I$50,0),MONTH(CF表!$B503)),J$21*J$13/J$196,0)),0)","v":0},{"$f":"IFERROR(IF($B503>K$15,0,IF(OFFSET(index!$I$2,MATCH(K$195,index!$I$3:$I$50,0),MONTH(CF表!$B503)),K$21*K$13/K$196,0)),0)","v":0},{"$f":"IFERROR(IF($B503>L$15,0,IF(OFFSET(index!$I$2,MATCH(L$195,index!$I$3:$I$50,0),MONTH(CF表!$B503)),L$21*L$13/L$196,0)),0)","v":0}]
[null,"2048-04-01",{"$f":"IFERROR(IF($B504>C$15,0,IF(OFFSET(index!$I$2,MATCH(C$195,index!$I$3:$I$50,0),MONTH(CF表!$B504)),C$21*C$13/C$196,0)),0)","v":0},{"$f":"IFERROR(IF($B504>D$15,0,IF(OFFSET(index!$I$2,MATCH(D$195,index!$I$3:$I$50,0),MONTH(CF表!$B504)),D$21*D$13/D$196,0)),0)","v":0},{"$f":"IFERROR(IF($B504>E$15,0,IF(OFFSET(index!$I$2,MATCH(E$195,index!$I$3:$I$50,0),MONTH(CF表!$B504)),E$21*E$13/E$196,0)),0)","v":0},{"$f":"IFERROR(IF($B504>F$15,0,IF(OFFSET(index!$I$2,MATCH(F$195,index!$I$3:$I$50,0),MONTH(CF表!$B504)),F$21*F$13/F$196,0)),0)","v":0},{"$f":"IFERROR(IF($B504>G$15,0,IF(OFFSET(index!$I$2,MATCH(G$195,index!$I$3:$I$50,0),MONTH(CF表!$B504)),G$21*G$13/G$196,0)),0)","v":0},{"$f":"IFERROR(IF($B504>H$15,0,IF(OFFSET(index!$I$2,MATCH(H$195,index!$I$3:$I$50,0),MONTH(CF表!$B504)),H$21*H$13/H$196,0)),0)","v":0},{"$f":"IFERROR(IF($B504>I$15,0,IF(OFFSET(index!$I$2,MATCH(I$195,index!$I$3:$I$50,0),MONTH(CF表!$B504)),I$21*I$13/I$196,0)),0)","v":0},{"$f":"IFERROR(IF($B504>J$15,0,IF(OFFSET(index!$I$2,MATCH(J$195,index!$I$3:$I$50,0),MONTH(CF表!$B504)),J$21*J$13/J$196,0)),0)","v":0},{"$f":"IFERROR(IF($B504>K$15,0,IF(OFFSET(index!$I$2,MATCH(K$195,index!$I$3:$I$50,0),MONTH(CF表!$B504)),K$21*K$13/K$196,0)),0)","v":0},{"$f":"IFERROR(IF($B504>L$15,0,IF(OFFSET(index!$I$2,MATCH(L$195,index!$I$3:$I$50,0),MONTH(CF表!$B504)),L$21*L$13/L$196,0)),0)","v":0}]
[null,"2048-05-01",{"$f":"IFERROR(IF($B505>C$15,0,IF(OFFSET(index!$I$2,MATCH(C$195,index!$I$3:$I$50,0),MONTH(CF表!$B505)),C$21*C$13/C$196,0)),0)","v":0},{"$f":"IFERROR(IF($B505>D$15,0,IF(OFFSET(index!$I$2,MATCH(D$195,index!$I$3:$I$50,0),MONTH(CF表!$B505)),D$21*D$13/D$196,0)),0)","v":0},{"$f":"IFERROR(IF($B505>E$15,0,IF(OFFSET(index!$I$2,MATCH(E$195,index!$I$3:$I$50,0),MONTH(CF表!$B505)),E$21*E$13/E$196,0)),0)","v":0},{"$f":"IFERROR(IF($B505>F$15,0,IF(OFFSET(index!$I$2,MATCH(F$195,index!$I$3:$I$50,0),MONTH(CF表!$B505)),F$21*F$13/F$196,0)),0)","v":0},{"$f":"IFERROR(IF($B505>G$15,0,IF(OFFSET(index!$I$2,MATCH(G$195,index!$I$3:$I$50,0),MONTH(CF表!$B505)),G$21*G$13/G$196,0)),0)","v":0},{"$f":"IFERROR(IF($B505>H$15,0,IF(OFFSET(index!$I$2,MATCH(H$195,index!$I$3:$I$50,0),MONTH(CF表!$B505)),H$21*H$13/H$196,0)),0)","v":0},{"$f":"IFERROR(IF($B505>I$15,0,IF(OFFSET(index!$I$2,MATCH(I$195,index!$I$3:$I$50,0),MONTH(CF表!$B505)),I$21*I$13/I$196,0)),0)","v":0},{"$f":"IFERROR(IF($B505>J$15,0,IF(OFFSET(index!$I$2,MATCH(J$195,index!$I$3:$I$50,0),MONTH(CF表!$B505)),J$21*J$13/J$196,0)),0)","v":0},{"$f":"IFERROR(IF($B505>K$15,0,IF(OFFSET(index!$I$2,MATCH(K$195,index!$I$3:$I$50,0),MONTH(CF表!$B505)),K$21*K$13/K$196,0)),0)","v":0},{"$f":"IFERROR(IF($B505>L$15,0,IF(OFFSET(index!$I$2,MATCH(L$195,index!$I$3:$I$50,0),MONTH(CF表!$B505)),L$21*L$13/L$196,0)),0)","v":0}]
[null,"2048-06-01",{"$f":"IFERROR(IF($B506>C$15,0,IF(OFFSET(index!$I$2,MATCH(C$195,index!$I$3:$I$50,0),MONTH(CF表!$B506)),C$21*C$13/C$196,0)),0)","v":0},{"$f":"IFERROR(IF($B506>D$15,0,IF(OFFSET(index!$I$2,MATCH(D$195,index!$I$3:$I$50,0),MONTH(CF表!$B506)),D$21*D$13/D$196,0)),0)","v":0},{"$f":"IFERROR(IF($B506>E$15,0,IF(OFFSET(index!$I$2,MATCH(E$195,index!$I$3:$I$50,0),MONTH(CF表!$B506)),E$21*E$13/E$196,0)),0)","v":0},{"$f":"IFERROR(IF($B506>F$15,0,IF(OFFSET(index!$I$2,MATCH(F$195,index!$I$3:$I$50,0),MONTH(CF表!$B506)),F$21*F$13/F$196,0)),0)","v":0},{"$f":"IFERROR(IF($B506>G$15,0,IF(OFFSET(index!$I$2,MATCH(G$195,index!$I$3:$I$50,0),MONTH(CF表!$B506)),G$21*G$13/G$196,0)),0)","v":0},{"$f":"IFERROR(IF($B506>H$15,0,IF(OFFSET(index!$I$2,MATCH(H$195,index!$I$3:$I$50,0),MONTH(CF表!$B506)),H$21*H$13/H$196,0)),0)","v":0},{"$f":"IFERROR(IF($B506>I$15,0,IF(OFFSET(index!$I$2,MATCH(I$195,index!$I$3:$I$50,0),MONTH(CF表!$B506)),I$21*I$13/I$196,0)),0)","v":0},{"$f":"IFERROR(IF($B506>J$15,0,IF(OFFSET(index!$I$2,MATCH(J$195,index!$I$3:$I$50,0),MONTH(CF表!$B506)),J$21*J$13/J$196,0)),0)","v":0},{"$f":"IFERROR(IF($B506>K$15,0,IF(OFFSET(index!$I$2,MATCH(K$195,index!$I$3:$I$50,0),MONTH(CF表!$B506)),K$21*K$13/K$196,0)),0)","v":0},{"$f":"IFERROR(IF($B506>L$15,0,IF(OFFSET(index!$I$2,MATCH(L$195,index!$I$3:$I$50,0),MONTH(CF表!$B506)),L$21*L$13/L$196,0)),0)","v":0}]
[null,"2048-07-01",{"$f":"IFERROR(IF($B507>C$15,0,IF(OFFSET(index!$I$2,MATCH(C$195,index!$I$3:$I$50,0),MONTH(CF表!$B507)),C$21*C$13/C$196,0)),0)","v":0},{"$f":"IFERROR(IF($B507>D$15,0,IF(OFFSET(index!$I$2,MATCH(D$195,index!$I$3:$I$50,0),MONTH(CF表!$B507)),D$21*D$13/D$196,0)),0)","v":0},{"$f":"IFERROR(IF($B507>E$15,0,IF(OFFSET(index!$I$2,MATCH(E$195,index!$I$3:$I$50,0),MONTH(CF表!$B507)),E$21*E$13/E$196,0)),0)","v":0},{"$f":"IFERROR(IF($B507>F$15,0,IF(OFFSET(index!$I$2,MATCH(F$195,index!$I$3:$I$50,0),MONTH(CF表!$B507)),F$21*F$13/F$196,0)),0)","v":0},{"$f":"IFERROR(IF($B507>G$15,0,IF(OFFSET(index!$I$2,MATCH(G$195,index!$I$3:$I$50,0),MONTH(CF表!$B507)),G$21*G$13/G$196,0)),0)","v":0},{"$f":"IFERROR(IF($B507>H$15,0,IF(OFFSET(index!$I$2,MATCH(H$195,index!$I$3:$I$50,0),MONTH(CF表!$B507)),H$21*H$13/H$196,0)),0)","v":0},{"$f":"IFERROR(IF($B507>I$15,0,IF(OFFSET(index!$I$2,MATCH(I$195,index!$I$3:$I$50,0),MONTH(CF表!$B507)),I$21*I$13/I$196,0)),0)","v":0},{"$f":"IFERROR(IF($B507>J$15,0,IF(OFFSET(index!$I$2,MATCH(J$195,index!$I$3:$I$50,0),MONTH(CF表!$B507)),J$21*J$13/J$196,0)),0)","v":0},{"$f":"IFERROR(IF($B507>K$15,0,IF(OFFSET(index!$I$2,MATCH(K$195,index!$I$3:$I$50,0),MONTH(CF表!$B507)),K$21*K$13/K$196,0)),0)","v":0},{"$f":"IFERROR(IF($B507>L$15,0,IF(OFFSET(index!$I$2,MATCH(L$195,index!$I$3:$I$50,0),MONTH(CF表!$B507)),L$21*L$13/L$196,0)),0)","v":0}]
[null,"2048-08-01",{"$f":"IFERROR(IF($B508>C$15,0,IF(OFFSET(index!$I$2,MATCH(C$195,index!$I$3:$I$50,0),MONTH(CF表!$B508)),C$21*C$13/C$196,0)),0)","v":0},{"$f":"IFERROR(IF($B508>D$15,0,IF(OFFSET(index!$I$2,MATCH(D$195,index!$I$3:$I$50,0),MONTH(CF表!$B508)),D$21*D$13/D$196,0)),0)","v":0},{"$f":"IFERROR(IF($B508>E$15,0,IF(OFFSET(index!$I$2,MATCH(E$195,index!$I$3:$I$50,0),MONTH(CF表!$B508)),E$21*E$13/E$196,0)),0)","v":0},{"$f":"IFERROR(IF($B508>F$15,0,IF(OFFSET(index!$I$2,MATCH(F$195,index!$I$3:$I$50,0),MONTH(CF表!$B508)),F$21*F$13/F$196,0)),0)","v":0},{"$f":"IFERROR(IF($B508>G$15,0,IF(OFFSET(index!$I$2,MATCH(G$195,index!$I$3:$I$50,0),MONTH(CF表!$B508)),G$21*G$13/G$196,0)),0)","v":0},{"$f":"IFERROR(IF($B508>H$15,0,IF(OFFSET(index!$I$2,MATCH(H$195,index!$I$3:$I$50,0),MONTH(CF表!$B508)),H$21*H$13/H$196,0)),0)","v":0},{"$f":"IFERROR(IF($B508>I$15,0,IF(OFFSET(index!$I$2,MATCH(I$195,index!$I$3:$I$50,0),MONTH(CF表!$B508)),I$21*I$13/I$196,0)),0)","v":0},{"$f":"IFERROR(IF($B508>J$15,0,IF(OFFSET(index!$I$2,MATCH(J$195,index!$I$3:$I$50,0),MONTH(CF表!$B508)),J$21*J$13/J$196,0)),0)","v":0},{"$f":"IFERROR(IF($B508>K$15,0,IF(OFFSET(index!$I$2,MATCH(K$195,index!$I$3:$I$50,0),MONTH(CF表!$B508)),K$21*K$13/K$196,0)),0)","v":0},{"$f":"IFERROR(IF($B508>L$15,0,IF(OFFSET(index!$I$2,MATCH(L$195,index!$I$3:$I$50,0),MONTH(CF表!$B508)),L$21*L$13/L$196,0)),0)","v":0}]
[null,{"$f":"EDATE(B508,1)","v":"2048-09-01"},{"$f":"IFERROR(IF($B509>C$15,0,IF(OFFSET(index!$I$2,MATCH(C$195,index!$I$3:$I$50,0),MONTH(CF表!$B509)),C$21*C$13/C$196,0)),0)","v":0},{"$f":"IFERROR(IF($B509>D$15,0,IF(OFFSET(index!$I$2,MATCH(D$195,index!$I$3:$I$50,0),MONTH(CF表!$B509)),D$21*D$13/D$196,0)),0)","v":0},{"$f":"IFERROR(IF($B509>E$15,0,IF(OFFSET(index!$I$2,MATCH(E$195,index!$I$3:$I$50,0),MONTH(CF表!$B509)),E$21*E$13/E$196,0)),0)","v":0},{"$f":"IFERROR(IF($B509>F$15,0,IF(OFFSET(index!$I$2,MATCH(F$195,index!$I$3:$I$50,0),MONTH(CF表!$B509)),F$21*F$13/F$196,0)),0)","v":0},{"$f":"IFERROR(IF($B509>G$15,0,IF(OFFSET(index!$I$2,MATCH(G$195,index!$I$3:$I$50,0),MONTH(CF表!$B509)),G$21*G$13/G$196,0)),0)","v":0},{"$f":"IFERROR(IF($B509>H$15,0,IF(OFFSET(index!$I$2,MATCH(H$195,index!$I$3:$I$50,0),MONTH(CF表!$B509)),H$21*H$13/H$196,0)),0)","v":0},{"$f":"IFERROR(IF($B509>I$15,0,IF(OFFSET(index!$I$2,MATCH(I$195,index!$I$3:$I$50,0),MONTH(CF表!$B509)),I$21*I$13/I$196,0)),0)","v":0},{"$f":"IFERROR(IF($B509>J$15,0,IF(OFFSET(index!$I$2,MATCH(J$195,index!$I$3:$I$50,0),MONTH(CF表!$B509)),J$21*J$13/J$196,0)),0)","v":0},{"$f":"IFERROR(IF($B509>K$15,0,IF(OFFSET(index!$I$2,MATCH(K$195,index!$I$3:$I$50,0),MONTH(CF表!$B509)),K$21*K$13/K$196,0)),0)","v":0},{"$f":"IFERROR(IF($B509>L$15,0,IF(OFFSET(index!$I$2,MATCH(L$195,index!$I$3:$I$50,0),MONTH(CF表!$B509)),L$21*L$13/L$196,0)),0)","v":0}]
[null,"2048-10-01",{"$f":"IFERROR(IF($B510>C$15,0,IF(OFFSET(index!$I$2,MATCH(C$195,index!$I$3:$I$50,0),MONTH(CF表!$B510)),C$21*C$13/C$196,0)),0)","v":0},{"$f":"IFERROR(IF($B510>D$15,0,IF(OFFSET(index!$I$2,MATCH(D$195,index!$I$3:$I$50,0),MONTH(CF表!$B510)),D$21*D$13/D$196,0)),0)","v":0},{"$f":"IFERROR(IF($B510>E$15,0,IF(OFFSET(index!$I$2,MATCH(E$195,index!$I$3:$I$50,0),MONTH(CF表!$B510)),E$21*E$13/E$196,0)),0)","v":0},{"$f":"IFERROR(IF($B510>F$15,0,IF(OFFSET(index!$I$2,MATCH(F$195,index!$I$3:$I$50,0),MONTH(CF表!$B510)),F$21*F$13/F$196,0)),0)","v":0},{"$f":"IFERROR(IF($B510>G$15,0,IF(OFFSET(index!$I$2,MATCH(G$195,index!$I$3:$I$50,0),MONTH(CF表!$B510)),G$21*G$13/G$196,0)),0)","v":0},{"$f":"IFERROR(IF($B510>H$15,0,IF(OFFSET(index!$I$2,MATCH(H$195,index!$I$3:$I$50,0),MONTH(CF表!$B510)),H$21*H$13/H$196,0)),0)","v":0},{"$f":"IFERROR(IF($B510>I$15,0,IF(OFFSET(index!$I$2,MATCH(I$195,index!$I$3:$I$50,0),MONTH(CF表!$B510)),I$21*I$13/I$196,0)),0)","v":0},{"$f":"IFERROR(IF($B510>J$15,0,IF(OFFSET(index!$I$2,MATCH(J$195,index!$I$3:$I$50,0),MONTH(CF表!$B510)),J$21*J$13/J$196,0)),0)","v":0},{"$f":"IFERROR(IF($B510>K$15,0,IF(OFFSET(index!$I$2,MATCH(K$195,index!$I$3:$I$50,0),MONTH(CF表!$B510)),K$21*K$13/K$196,0)),0)","v":0},{"$f":"IFERROR(IF($B510>L$15,0,IF(OFFSET(index!$I$2,MATCH(L$195,index!$I$3:$I$50,0),MONTH(CF表!$B510)),L$21*L$13/L$196,0)),0)","v":0}]
[null,"2048-11-01",{"$f":"IFERROR(IF($B511>C$15,0,IF(OFFSET(index!$I$2,MATCH(C$195,index!$I$3:$I$50,0),MONTH(CF表!$B511)),C$21*C$13/C$196,0)),0)","v":0},{"$f":"IFERROR(IF($B511>D$15,0,IF(OFFSET(index!$I$2,MATCH(D$195,index!$I$3:$I$50,0),MONTH(CF表!$B511)),D$21*D$13/D$196,0)),0)","v":0},{"$f":"IFERROR(IF($B511>E$15,0,IF(OFFSET(index!$I$2,MATCH(E$195,index!$I$3:$I$50,0),MONTH(CF表!$B511)),E$21*E$13/E$196,0)),0)","v":0},{"$f":"IFERROR(IF($B511>F$15,0,IF(OFFSET(index!$I$2,MATCH(F$195,index!$I$3:$I$50,0),MONTH(CF表!$B511)),F$21*F$13/F$196,0)),0)","v":0},{"$f":"IFERROR(IF($B511>G$15,0,IF(OFFSET(index!$I$2,MATCH(G$195,index!$I$3:$I$50,0),MONTH(CF表!$B511)),G$21*G$13/G$196,0)),0)","v":0},{"$f":"IFERROR(IF($B511>H$15,0,IF(OFFSET(index!$I$2,MATCH(H$195,index!$I$3:$I$50,0),MONTH(CF表!$B511)),H$21*H$13/H$196,0)),0)","v":0},{"$f":"IFERROR(IF($B511>I$15,0,IF(OFFSET(index!$I$2,MATCH(I$195,index!$I$3:$I$50,0),MONTH(CF表!$B511)),I$21*I$13/I$196,0)),0)","v":0},{"$f":"IFERROR(IF($B511>J$15,0,IF(OFFSET(index!$I$2,MATCH(J$195,index!$I$3:$I$50,0),MONTH(CF表!$B511)),J$21*J$13/J$196,0)),0)","v":0},{"$f":"IFERROR(IF($B511>K$15,0,IF(OFFSET(index!$I$2,MATCH(K$195,index!$I$3:$I$50,0),MONTH(CF表!$B511)),K$21*K$13/K$196,0)),0)","v":0},{"$f":"IFERROR(IF($B511>L$15,0,IF(OFFSET(index!$I$2,MATCH(L$195,index!$I$3:$I$50,0),MONTH(CF表!$B511)),L$21*L$13/L$196,0)),0)","v":0}]
[null,"2048-12-01",{"$f":"IFERROR(IF($B512>C$15,0,IF(OFFSET(index!$I$2,MATCH(C$195,index!$I$3:$I$50,0),MONTH(CF表!$B512)),C$21*C$13/C$196,0)),0)","v":0},{"$f":"IFERROR(IF($B512>D$15,0,IF(OFFSET(index!$I$2,MATCH(D$195,index!$I$3:$I$50,0),MONTH(CF表!$B512)),D$21*D$13/D$196,0)),0)","v":0},{"$f":"IFERROR(IF($B512>E$15,0,IF(OFFSET(index!$I$2,MATCH(E$195,index!$I$3:$I$50,0),MONTH(CF表!$B512)),E$21*E$13/E$196,0)),0)","v":0},{"$f":"IFERROR(IF($B512>F$15,0,IF(OFFSET(index!$I$2,MATCH(F$195,index!$I$3:$I$50,0),MONTH(CF表!$B512)),F$21*F$13/F$196,0)),0)","v":0},{"$f":"IFERROR(IF($B512>G$15,0,IF(OFFSET(index!$I$2,MATCH(G$195,index!$I$3:$I$50,0),MONTH(CF表!$B512)),G$21*G$13/G$196,0)),0)","v":0},{"$f":"IFERROR(IF($B512>H$15,0,IF(OFFSET(index!$I$2,MATCH(H$195,index!$I$3:$I$50,0),MONTH(CF表!$B512)),H$21*H$13/H$196,0)),0)","v":0},{"$f":"IFERROR(IF($B512>I$15,0,IF(OFFSET(index!$I$2,MATCH(I$195,index!$I$3:$I$50,0),MONTH(CF表!$B512)),I$21*I$13/I$196,0)),0)","v":0},{"$f":"IFERROR(IF($B512>J$15,0,IF(OFFSET(index!$I$2,MATCH(J$195,index!$I$3:$I$50,0),MONTH(CF表!$B512)),J$21*J$13/J$196,0)),0)","v":0},{"$f":"IFERROR(IF($B512>K$15,0,IF(OFFSET(index!$I$2,MATCH(K$195,index!$I$3:$I$50,0),MONTH(CF表!$B512)),K$21*K$13/K$196,0)),0)","v":0},{"$f":"IFERROR(IF($B512>L$15,0,IF(OFFSET(index!$I$2,MATCH(L$195,index!$I$3:$I$50,0),MONTH(CF表!$B512)),L$21*L$13/L$196,0)),0)","v":0}]
[null,"2049-01-01",{"$f":"IFERROR(IF($B513>C$15,0,IF(OFFSET(index!$I$2,MATCH(C$195,index!$I$3:$I$50,0),MONTH(CF表!$B513)),C$21*C$13/C$196,0)),0)","v":0},{"$f":"IFERROR(IF($B513>D$15,0,IF(OFFSET(index!$I$2,MATCH(D$195,index!$I$3:$I$50,0),MONTH(CF表!$B513)),D$21*D$13/D$196,0)),0)","v":0},{"$f":"IFERROR(IF($B513>E$15,0,IF(OFFSET(index!$I$2,MATCH(E$195,index!$I$3:$I$50,0),MONTH(CF表!$B513)),E$21*E$13/E$196,0)),0)","v":0},{"$f":"IFERROR(IF($B513>F$15,0,IF(OFFSET(index!$I$2,MATCH(F$195,index!$I$3:$I$50,0),MONTH(CF表!$B513)),F$21*F$13/F$196,0)),0)","v":0},{"$f":"IFERROR(IF($B513>G$15,0,IF(OFFSET(index!$I$2,MATCH(G$195,index!$I$3:$I$50,0),MONTH(CF表!$B513)),G$21*G$13/G$196,0)),0)","v":0},{"$f":"IFERROR(IF($B513>H$15,0,IF(OFFSET(index!$I$2,MATCH(H$195,index!$I$3:$I$50,0),MONTH(CF表!$B513)),H$21*H$13/H$196,0)),0)","v":0},{"$f":"IFERROR(IF($B513>I$15,0,IF(OFFSET(index!$I$2,MATCH(I$195,index!$I$3:$I$50,0),MONTH(CF表!$B513)),I$21*I$13/I$196,0)),0)","v":0},{"$f":"IFERROR(IF($B513>J$15,0,IF(OFFSET(index!$I$2,MATCH(J$195,index!$I$3:$I$50,0),MONTH(CF表!$B513)),J$21*J$13/J$196,0)),0)","v":0},{"$f":"IFERROR(IF($B513>K$15,0,IF(OFFSET(index!$I$2,MATCH(K$195,index!$I$3:$I$50,0),MONTH(CF表!$B513)),K$21*K$13/K$196,0)),0)","v":0},{"$f":"IFERROR(IF($B513>L$15,0,IF(OFFSET(index!$I$2,MATCH(L$195,index!$I$3:$I$50,0),MONTH(CF表!$B513)),L$21*L$13/L$196,0)),0)","v":0}]
[null,"2049-02-01",{"$f":"IFERROR(IF($B514>C$15,0,IF(OFFSET(index!$I$2,MATCH(C$195,index!$I$3:$I$50,0),MONTH(CF表!$B514)),C$21*C$13/C$196,0)),0)","v":0},{"$f":"IFERROR(IF($B514>D$15,0,IF(OFFSET(index!$I$2,MATCH(D$195,index!$I$3:$I$50,0),MONTH(CF表!$B514)),D$21*D$13/D$196,0)),0)","v":0},{"$f":"IFERROR(IF($B514>E$15,0,IF(OFFSET(index!$I$2,MATCH(E$195,index!$I$3:$I$50,0),MONTH(CF表!$B514)),E$21*E$13/E$196,0)),0)","v":0},{"$f":"IFERROR(IF($B514>F$15,0,IF(OFFSET(index!$I$2,MATCH(F$195,index!$I$3:$I$50,0),MONTH(CF表!$B514)),F$21*F$13/F$196,0)),0)","v":0},{"$f":"IFERROR(IF($B514>G$15,0,IF(OFFSET(index!$I$2,MATCH(G$195,index!$I$3:$I$50,0),MONTH(CF表!$B514)),G$21*G$13/G$196,0)),0)","v":0},{"$f":"IFERROR(IF($B514>H$15,0,IF(OFFSET(index!$I$2,MATCH(H$195,index!$I$3:$I$50,0),MONTH(CF表!$B514)),H$21*H$13/H$196,0)),0)","v":0},{"$f":"IFERROR(IF($B514>I$15,0,IF(OFFSET(index!$I$2,MATCH(I$195,index!$I$3:$I$50,0),MONTH(CF表!$B514)),I$21*I$13/I$196,0)),0)","v":0},{"$f":"IFERROR(IF($B514>J$15,0,IF(OFFSET(index!$I$2,MATCH(J$195,index!$I$3:$I$50,0),MONTH(CF表!$B514)),J$21*J$13/J$196,0)),0)","v":0},{"$f":"IFERROR(IF($B514>K$15,0,IF(OFFSET(index!$I$2,MATCH(K$195,index!$I$3:$I$50,0),MONTH(CF表!$B514)),K$21*K$13/K$196,0)),0)","v":0},{"$f":"IFERROR(IF($B514>L$15,0,IF(OFFSET(index!$I$2,MATCH(L$195,index!$I$3:$I$50,0),MONTH(CF表!$B514)),L$21*L$13/L$196,0)),0)","v":0}]
[null,"2049-03-01",{"$f":"IFERROR(IF($B515>C$15,0,IF(OFFSET(index!$I$2,MATCH(C$195,index!$I$3:$I$50,0),MONTH(CF表!$B515)),C$21*C$13/C$196,0)),0)","v":0},{"$f":"IFERROR(IF($B515>D$15,0,IF(OFFSET(index!$I$2,MATCH(D$195,index!$I$3:$I$50,0),MONTH(CF表!$B515)),D$21*D$13/D$196,0)),0)","v":0},{"$f":"IFERROR(IF($B515>E$15,0,IF(OFFSET(index!$I$2,MATCH(E$195,index!$I$3:$I$50,0),MONTH(CF表!$B515)),E$21*E$13/E$196,0)),0)","v":0},{"$f":"IFERROR(IF($B515>F$15,0,IF(OFFSET(index!$I$2,MATCH(F$195,index!$I$3:$I$50,0),MONTH(CF表!$B515)),F$21*F$13/F$196,0)),0)","v":0},{"$f":"IFERROR(IF($B515>G$15,0,IF(OFFSET(index!$I$2,MATCH(G$195,index!$I$3:$I$50,0),MONTH(CF表!$B515)),G$21*G$13/G$196,0)),0)","v":0},{"$f":"IFERROR(IF($B515>H$15,0,IF(OFFSET(index!$I$2,MATCH(H$195,index!$I$3:$I$50,0),MONTH(CF表!$B515)),H$21*H$13/H$196,0)),0)","v":0},{"$f":"IFERROR(IF($B515>I$15,0,IF(OFFSET(index!$I$2,MATCH(I$195,index!$I$3:$I$50,0),MONTH(CF表!$B515)),I$21*I$13/I$196,0)),0)","v":0},{"$f":"IFERROR(IF($B515>J$15,0,IF(OFFSET(index!$I$2,MATCH(J$195,index!$I$3:$I$50,0),MONTH(CF表!$B515)),J$21*J$13/J$196,0)),0)","v":0},{"$f":"IFERROR(IF($B515>K$15,0,IF(OFFSET(index!$I$2,MATCH(K$195,index!$I$3:$I$50,0),MONTH(CF表!$B515)),K$21*K$13/K$196,0)),0)","v":0},{"$f":"IFERROR(IF($B515>L$15,0,IF(OFFSET(index!$I$2,MATCH(L$195,index!$I$3:$I$50,0),MONTH(CF表!$B515)),L$21*L$13/L$196,0)),0)","v":0}]
[null,"2049-04-01",{"$f":"IFERROR(IF($B516>C$15,0,IF(OFFSET(index!$I$2,MATCH(C$195,index!$I$3:$I$50,0),MONTH(CF表!$B516)),C$21*C$13/C$196,0)),0)","v":0},{"$f":"IFERROR(IF($B516>D$15,0,IF(OFFSET(index!$I$2,MATCH(D$195,index!$I$3:$I$50,0),MONTH(CF表!$B516)),D$21*D$13/D$196,0)),0)","v":0},{"$f":"IFERROR(IF($B516>E$15,0,IF(OFFSET(index!$I$2,MATCH(E$195,index!$I$3:$I$50,0),MONTH(CF表!$B516)),E$21*E$13/E$196,0)),0)","v":0},{"$f":"IFERROR(IF($B516>F$15,0,IF(OFFSET(index!$I$2,MATCH(F$195,index!$I$3:$I$50,0),MONTH(CF表!$B516)),F$21*F$13/F$196,0)),0)","v":0},{"$f":"IFERROR(IF($B516>G$15,0,IF(OFFSET(index!$I$2,MATCH(G$195,index!$I$3:$I$50,0),MONTH(CF表!$B516)),G$21*G$13/G$196,0)),0)","v":0},{"$f":"IFERROR(IF($B516>H$15,0,IF(OFFSET(index!$I$2,MATCH(H$195,index!$I$3:$I$50,0),MONTH(CF表!$B516)),H$21*H$13/H$196,0)),0)","v":0},{"$f":"IFERROR(IF($B516>I$15,0,IF(OFFSET(index!$I$2,MATCH(I$195,index!$I$3:$I$50,0),MONTH(CF表!$B516)),I$21*I$13/I$196,0)),0)","v":0},{"$f":"IFERROR(IF($B516>J$15,0,IF(OFFSET(index!$I$2,MATCH(J$195,index!$I$3:$I$50,0),MONTH(CF表!$B516)),J$21*J$13/J$196,0)),0)","v":0},{"$f":"IFERROR(IF($B516>K$15,0,IF(OFFSET(index!$I$2,MATCH(K$195,index!$I$3:$I$50,0),MONTH(CF表!$B516)),K$21*K$13/K$196,0)),0)","v":0},{"$f":"IFERROR(IF($B516>L$15,0,IF(OFFSET(index!$I$2,MATCH(L$195,index!$I$3:$I$50,0),MONTH(CF表!$B516)),L$21*L$13/L$196,0)),0)","v":0}]
[null,"2049-05-01",{"$f":"IFERROR(IF($B517>C$15,0,IF(OFFSET(index!$I$2,MATCH(C$195,index!$I$3:$I$50,0),MONTH(CF表!$B517)),C$21*C$13/C$196,0)),0)","v":0},{"$f":"IFERROR(IF($B517>D$15,0,IF(OFFSET(index!$I$2,MATCH(D$195,index!$I$3:$I$50,0),MONTH(CF表!$B517)),D$21*D$13/D$196,0)),0)","v":0},{"$f":"IFERROR(IF($B517>E$15,0,IF(OFFSET(index!$I$2,MATCH(E$195,index!$I$3:$I$50,0),MONTH(CF表!$B517)),E$21*E$13/E$196,0)),0)","v":0},{"$f":"IFERROR(IF($B517>F$15,0,IF(OFFSET(index!$I$2,MATCH(F$195,index!$I$3:$I$50,0),MONTH(CF表!$B517)),F$21*F$13/F$196,0)),0)","v":0},{"$f":"IFERROR(IF($B517>G$15,0,IF(OFFSET(index!$I$2,MATCH(G$195,index!$I$3:$I$50,0),MONTH(CF表!$B517)),G$21*G$13/G$196,0)),0)","v":0},{"$f":"IFERROR(IF($B517>H$15,0,IF(OFFSET(index!$I$2,MATCH(H$195,index!$I$3:$I$50,0),MONTH(CF表!$B517)),H$21*H$13/H$196,0)),0)","v":0},{"$f":"IFERROR(IF($B517>I$15,0,IF(OFFSET(index!$I$2,MATCH(I$195,index!$I$3:$I$50,0),MONTH(CF表!$B517)),I$21*I$13/I$196,0)),0)","v":0},{"$f":"IFERROR(IF($B517>J$15,0,IF(OFFSET(index!$I$2,MATCH(J$195,index!$I$3:$I$50,0),MONTH(CF表!$B517)),J$21*J$13/J$196,0)),0)","v":0},{"$f":"IFERROR(IF($B517>K$15,0,IF(OFFSET(index!$I$2,MATCH(K$195,index!$I$3:$I$50,0),MONTH(CF表!$B517)),K$21*K$13/K$196,0)),0)","v":0},{"$f":"IFERROR(IF($B517>L$15,0,IF(OFFSET(index!$I$2,MATCH(L$195,index!$I$3:$I$50,0),MONTH(CF表!$B517)),L$21*L$13/L$196,0)),0)","v":0}]
[null,"2049-06-01",{"$f":"IFERROR(IF($B518>C$15,0,IF(OFFSET(index!$I$2,MATCH(C$195,index!$I$3:$I$50,0),MONTH(CF表!$B518)),C$21*C$13/C$196,0)),0)","v":0},{"$f":"IFERROR(IF($B518>D$15,0,IF(OFFSET(index!$I$2,MATCH(D$195,index!$I$3:$I$50,0),MONTH(CF表!$B518)),D$21*D$13/D$196,0)),0)","v":0},{"$f":"IFERROR(IF($B518>E$15,0,IF(OFFSET(index!$I$2,MATCH(E$195,index!$I$3:$I$50,0),MONTH(CF表!$B518)),E$21*E$13/E$196,0)),0)","v":0},{"$f":"IFERROR(IF($B518>F$15,0,IF(OFFSET(index!$I$2,MATCH(F$195,index!$I$3:$I$50,0),MONTH(CF表!$B518)),F$21*F$13/F$196,0)),0)","v":0},{"$f":"IFERROR(IF($B518>G$15,0,IF(OFFSET(index!$I$2,MATCH(G$195,index!$I$3:$I$50,0),MONTH(CF表!$B518)),G$21*G$13/G$196,0)),0)","v":0},{"$f":"IFERROR(IF($B518>H$15,0,IF(OFFSET(index!$I$2,MATCH(H$195,index!$I$3:$I$50,0),MONTH(CF表!$B518)),H$21*H$13/H$196,0)),0)","v":0},{"$f":"IFERROR(IF($B518>I$15,0,IF(OFFSET(index!$I$2,MATCH(I$195,index!$I$3:$I$50,0),MONTH(CF表!$B518)),I$21*I$13/I$196,0)),0)","v":0},{"$f":"IFERROR(IF($B518>J$15,0,IF(OFFSET(index!$I$2,MATCH(J$195,index!$I$3:$I$50,0),MONTH(CF表!$B518)),J$21*J$13/J$196,0)),0)","v":0},{"$f":"IFERROR(IF($B518>K$15,0,IF(OFFSET(index!$I$2,MATCH(K$195,index!$I$3:$I$50,0),MONTH(CF表!$B518)),K$21*K$13/K$196,0)),0)","v":0},{"$f":"IFERROR(IF($B518>L$15,0,IF(OFFSET(index!$I$2,MATCH(L$195,index!$I$3:$I$50,0),MONTH(CF表!$B518)),L$21*L$13/L$196,0)),0)","v":0}]
[null,"2049-07-01",{"$f":"IFERROR(IF($B519>C$15,0,IF(OFFSET(index!$I$2,MATCH(C$195,index!$I$3:$I$50,0),MONTH(CF表!$B519)),C$21*C$13/C$196,0)),0)","v":0},{"$f":"IFERROR(IF($B519>D$15,0,IF(OFFSET(index!$I$2,MATCH(D$195,index!$I$3:$I$50,0),MONTH(CF表!$B519)),D$21*D$13/D$196,0)),0)","v":0},{"$f":"IFERROR(IF($B519>E$15,0,IF(OFFSET(index!$I$2,MATCH(E$195,index!$I$3:$I$50,0),MONTH(CF表!$B519)),E$21*E$13/E$196,0)),0)","v":0},{"$f":"IFERROR(IF($B519>F$15,0,IF(OFFSET(index!$I$2,MATCH(F$195,index!$I$3:$I$50,0),MONTH(CF表!$B519)),F$21*F$13/F$196,0)),0)","v":0},{"$f":"IFERROR(IF($B519>G$15,0,IF(OFFSET(index!$I$2,MATCH(G$195,index!$I$3:$I$50,0),MONTH(CF表!$B519)),G$21*G$13/G$196,0)),0)","v":0},{"$f":"IFERROR(IF($B519>H$15,0,IF(OFFSET(index!$I$2,MATCH(H$195,index!$I$3:$I$50,0),MONTH(CF表!$B519)),H$21*H$13/H$196,0)),0)","v":0},{"$f":"IFERROR(IF($B519>I$15,0,IF(OFFSET(index!$I$2,MATCH(I$195,index!$I$3:$I$50,0),MONTH(CF表!$B519)),I$21*I$13/I$196,0)),0)","v":0},{"$f":"IFERROR(IF($B519>J$15,0,IF(OFFSET(index!$I$2,MATCH(J$195,index!$I$3:$I$50,0),MONTH(CF表!$B519)),J$21*J$13/J$196,0)),0)","v":0},{"$f":"IFERROR(IF($B519>K$15,0,IF(OFFSET(index!$I$2,MATCH(K$195,index!$I$3:$I$50,0),MONTH(CF表!$B519)),K$21*K$13/K$196,0)),0)","v":0},{"$f":"IFERROR(IF($B519>L$15,0,IF(OFFSET(index!$I$2,MATCH(L$195,index!$I$3:$I$50,0),MONTH(CF表!$B519)),L$21*L$13/L$196,0)),0)","v":0}]
[null,"2049-08-01",{"$f":"IFERROR(IF($B520>C$15,0,IF(OFFSET(index!$I$2,MATCH(C$195,index!$I$3:$I$50,0),MONTH(CF表!$B520)),C$21*C$13/C$196,0)),0)","v":0},{"$f":"IFERROR(IF($B520>D$15,0,IF(OFFSET(index!$I$2,MATCH(D$195,index!$I$3:$I$50,0),MONTH(CF表!$B520)),D$21*D$13/D$196,0)),0)","v":0},{"$f":"IFERROR(IF($B520>E$15,0,IF(OFFSET(index!$I$2,MATCH(E$195,index!$I$3:$I$50,0),MONTH(CF表!$B520)),E$21*E$13/E$196,0)),0)","v":0},{"$f":"IFERROR(IF($B520>F$15,0,IF(OFFSET(index!$I$2,MATCH(F$195,index!$I$3:$I$50,0),MONTH(CF表!$B520)),F$21*F$13/F$196,0)),0)","v":0},{"$f":"IFERROR(IF($B520>G$15,0,IF(OFFSET(index!$I$2,MATCH(G$195,index!$I$3:$I$50,0),MONTH(CF表!$B520)),G$21*G$13/G$196,0)),0)","v":0},{"$f":"IFERROR(IF($B520>H$15,0,IF(OFFSET(index!$I$2,MATCH(H$195,index!$I$3:$I$50,0),MONTH(CF表!$B520)),H$21*H$13/H$196,0)),0)","v":0},{"$f":"IFERROR(IF($B520>I$15,0,IF(OFFSET(index!$I$2,MATCH(I$195,index!$I$3:$I$50,0),MONTH(CF表!$B520)),I$21*I$13/I$196,0)),0)","v":0},{"$f":"IFERROR(IF($B520>J$15,0,IF(OFFSET(index!$I$2,MATCH(J$195,index!$I$3:$I$50,0),MONTH(CF表!$B520)),J$21*J$13/J$196,0)),0)","v":0},{"$f":"IFERROR(IF($B520>K$15,0,IF(OFFSET(index!$I$2,MATCH(K$195,index!$I$3:$I$50,0),MONTH(CF表!$B520)),K$21*K$13/K$196,0)),0)","v":0},{"$f":"IFERROR(IF($B520>L$15,0,IF(OFFSET(index!$I$2,MATCH(L$195,index!$I$3:$I$50,0),MONTH(CF表!$B520)),L$21*L$13/L$196,0)),0)","v":0}]
[null,"2049-09-01",{"$f":"IFERROR(IF($B521>C$15,0,IF(OFFSET(index!$I$2,MATCH(C$195,index!$I$3:$I$50,0),MONTH(CF表!$B521)),C$21*C$13/C$196,0)),0)","v":0},{"$f":"IFERROR(IF($B521>D$15,0,IF(OFFSET(index!$I$2,MATCH(D$195,index!$I$3:$I$50,0),MONTH(CF表!$B521)),D$21*D$13/D$196,0)),0)","v":0},{"$f":"IFERROR(IF($B521>E$15,0,IF(OFFSET(index!$I$2,MATCH(E$195,index!$I$3:$I$50,0),MONTH(CF表!$B521)),E$21*E$13/E$196,0)),0)","v":0},{"$f":"IFERROR(IF($B521>F$15,0,IF(OFFSET(index!$I$2,MATCH(F$195,index!$I$3:$I$50,0),MONTH(CF表!$B521)),F$21*F$13/F$196,0)),0)","v":0},{"$f":"IFERROR(IF($B521>G$15,0,IF(OFFSET(index!$I$2,MATCH(G$195,index!$I$3:$I$50,0),MONTH(CF表!$B521)),G$21*G$13/G$196,0)),0)","v":0},{"$f":"IFERROR(IF($B521>H$15,0,IF(OFFSET(index!$I$2,MATCH(H$195,index!$I$3:$I$50,0),MONTH(CF表!$B521)),H$21*H$13/H$196,0)),0)","v":0},{"$f":"IFERROR(IF($B521>I$15,0,IF(OFFSET(index!$I$2,MATCH(I$195,index!$I$3:$I$50,0),MONTH(CF表!$B521)),I$21*I$13/I$196,0)),0)","v":0},{"$f":"IFERROR(IF($B521>J$15,0,IF(OFFSET(index!$I$2,MATCH(J$195,index!$I$3:$I$50,0),MONTH(CF表!$B521)),J$21*J$13/J$196,0)),0)","v":0},{"$f":"IFERROR(IF($B521>K$15,0,IF(OFFSET(index!$I$2,MATCH(K$195,index!$I$3:$I$50,0),MONTH(CF表!$B521)),K$21*K$13/K$196,0)),0)","v":0},{"$f":"IFERROR(IF($B521>L$15,0,IF(OFFSET(index!$I$2,MATCH(L$195,index!$I$3:$I$50,0),MONTH(CF表!$B521)),L$21*L$13/L$196,0)),0)","v":0}]
[null,"2049-10-01",{"$f":"IFERROR(IF($B522>C$15,0,IF(OFFSET(index!$I$2,MATCH(C$195,index!$I$3:$I$50,0),MONTH(CF表!$B522)),C$21*C$13/C$196,0)),0)","v":0},{"$f":"IFERROR(IF($B522>D$15,0,IF(OFFSET(index!$I$2,MATCH(D$195,index!$I$3:$I$50,0),MONTH(CF表!$B522)),D$21*D$13/D$196,0)),0)","v":0},{"$f":"IFERROR(IF($B522>E$15,0,IF(OFFSET(index!$I$2,MATCH(E$195,index!$I$3:$I$50,0),MONTH(CF表!$B522)),E$21*E$13/E$196,0)),0)","v":0},{"$f":"IFERROR(IF($B522>F$15,0,IF(OFFSET(index!$I$2,MATCH(F$195,index!$I$3:$I$50,0),MONTH(CF表!$B522)),F$21*F$13/F$196,0)),0)","v":0},{"$f":"IFERROR(IF($B522>G$15,0,IF(OFFSET(index!$I$2,MATCH(G$195,index!$I$3:$I$50,0),MONTH(CF表!$B522)),G$21*G$13/G$196,0)),0)","v":0},{"$f":"IFERROR(IF($B522>H$15,0,IF(OFFSET(index!$I$2,MATCH(H$195,index!$I$3:$I$50,0),MONTH(CF表!$B522)),H$21*H$13/H$196,0)),0)","v":0},{"$f":"IFERROR(IF($B522>I$15,0,IF(OFFSET(index!$I$2,MATCH(I$195,index!$I$3:$I$50,0),MONTH(CF表!$B522)),I$21*I$13/I$196,0)),0)","v":0},{"$f":"IFERROR(IF($B522>J$15,0,IF(OFFSET(index!$I$2,MATCH(J$195,index!$I$3:$I$50,0),MONTH(CF表!$B522)),J$21*J$13/J$196,0)),0)","v":0},{"$f":"IFERROR(IF($B522>K$15,0,IF(OFFSET(index!$I$2,MATCH(K$195,index!$I$3:$I$50,0),MONTH(CF表!$B522)),K$21*K$13/K$196,0)),0)","v":0},{"$f":"IFERROR(IF($B522>L$15,0,IF(OFFSET(index!$I$2,MATCH(L$195,index!$I$3:$I$50,0),MONTH(CF表!$B522)),L$21*L$13/L$196,0)),0)","v":0}]
[null,"2049-11-01",{"$f":"IFERROR(IF($B523>C$15,0,IF(OFFSET(index!$I$2,MATCH(C$195,index!$I$3:$I$50,0),MONTH(CF表!$B523)),C$21*C$13/C$196,0)),0)","v":0},{"$f":"IFERROR(IF($B523>D$15,0,IF(OFFSET(index!$I$2,MATCH(D$195,index!$I$3:$I$50,0),MONTH(CF表!$B523)),D$21*D$13/D$196,0)),0)","v":0},{"$f":"IFERROR(IF($B523>E$15,0,IF(OFFSET(index!$I$2,MATCH(E$195,index!$I$3:$I$50,0),MONTH(CF表!$B523)),E$21*E$13/E$196,0)),0)","v":0},{"$f":"IFERROR(IF($B523>F$15,0,IF(OFFSET(index!$I$2,MATCH(F$195,index!$I$3:$I$50,0),MONTH(CF表!$B523)),F$21*F$13/F$196,0)),0)","v":0},{"$f":"IFERROR(IF($B523>G$15,0,IF(OFFSET(index!$I$2,MATCH(G$195,index!$I$3:$I$50,0),MONTH(CF表!$B523)),G$21*G$13/G$196,0)),0)","v":0},{"$f":"IFERROR(IF($B523>H$15,0,IF(OFFSET(index!$I$2,MATCH(H$195,index!$I$3:$I$50,0),MONTH(CF表!$B523)),H$21*H$13/H$196,0)),0)","v":0},{"$f":"IFERROR(IF($B523>I$15,0,IF(OFFSET(index!$I$2,MATCH(I$195,index!$I$3:$I$50,0),MONTH(CF表!$B523)),I$21*I$13/I$196,0)),0)","v":0},{"$f":"IFERROR(IF($B523>J$15,0,IF(OFFSET(index!$I$2,MATCH(J$195,index!$I$3:$I$50,0),MONTH(CF表!$B523)),J$21*J$13/J$196,0)),0)","v":0},{"$f":"IFERROR(IF($B523>K$15,0,IF(OFFSET(index!$I$2,MATCH(K$195,index!$I$3:$I$50,0),MONTH(CF表!$B523)),K$21*K$13/K$196,0)),0)","v":0},{"$f":"IFERROR(IF($B523>L$15,0,IF(OFFSET(index!$I$2,MATCH(L$195,index!$I$3:$I$50,0),MONTH(CF表!$B523)),L$21*L$13/L$196,0)),0)","v":0}]
[null,"2049-12-01",{"$f":"IFERROR(IF($B524>C$15,0,IF(OFFSET(index!$I$2,MATCH(C$195,index!$I$3:$I$50,0),MONTH(CF表!$B524)),C$21*C$13/C$196,0)),0)","v":0},{"$f":"IFERROR(IF($B524>D$15,0,IF(OFFSET(index!$I$2,MATCH(D$195,index!$I$3:$I$50,0),MONTH(CF表!$B524)),D$21*D$13/D$196,0)),0)","v":0},{"$f":"IFERROR(IF($B524>E$15,0,IF(OFFSET(index!$I$2,MATCH(E$195,index!$I$3:$I$50,0),MONTH(CF表!$B524)),E$21*E$13/E$196,0)),0)","v":0},{"$f":"IFERROR(IF($B524>F$15,0,IF(OFFSET(index!$I$2,MATCH(F$195,index!$I$3:$I$50,0),MONTH(CF表!$B524)),F$21*F$13/F$196,0)),0)","v":0},{"$f":"IFERROR(IF($B524>G$15,0,IF(OFFSET(index!$I$2,MATCH(G$195,index!$I$3:$I$50,0),MONTH(CF表!$B524)),G$21*G$13/G$196,0)),0)","v":0},{"$f":"IFERROR(IF($B524>H$15,0,IF(OFFSET(index!$I$2,MATCH(H$195,index!$I$3:$I$50,0),MONTH(CF表!$B524)),H$21*H$13/H$196,0)),0)","v":0},{"$f":"IFERROR(IF($B524>I$15,0,IF(OFFSET(index!$I$2,MATCH(I$195,index!$I$3:$I$50,0),MONTH(CF表!$B524)),I$21*I$13/I$196,0)),0)","v":0},{"$f":"IFERROR(IF($B524>J$15,0,IF(OFFSET(index!$I$2,MATCH(J$195,index!$I$3:$I$50,0),MONTH(CF表!$B524)),J$21*J$13/J$196,0)),0)","v":0},{"$f":"IFERROR(IF($B524>K$15,0,IF(OFFSET(index!$I$2,MATCH(K$195,index!$I$3:$I$50,0),MONTH(CF表!$B524)),K$21*K$13/K$196,0)),0)","v":0},{"$f":"IFERROR(IF($B524>L$15,0,IF(OFFSET(index!$I$2,MATCH(L$195,index!$I$3:$I$50,0),MONTH(CF表!$B524)),L$21*L$13/L$196,0)),0)","v":0}]
[null,"2050-01-01",{"$f":"IFERROR(IF($B525>C$15,0,IF(OFFSET(index!$I$2,MATCH(C$195,index!$I$3:$I$50,0),MONTH(CF表!$B525)),C$21*C$13/C$196,0)),0)","v":0},{"$f":"IFERROR(IF($B525>D$15,0,IF(OFFSET(index!$I$2,MATCH(D$195,index!$I$3:$I$50,0),MONTH(CF表!$B525)),D$21*D$13/D$196,0)),0)","v":0},{"$f":"IFERROR(IF($B525>E$15,0,IF(OFFSET(index!$I$2,MATCH(E$195,index!$I$3:$I$50,0),MONTH(CF表!$B525)),E$21*E$13/E$196,0)),0)","v":0},{"$f":"IFERROR(IF($B525>F$15,0,IF(OFFSET(index!$I$2,MATCH(F$195,index!$I$3:$I$50,0),MONTH(CF表!$B525)),F$21*F$13/F$196,0)),0)","v":0},{"$f":"IFERROR(IF($B525>G$15,0,IF(OFFSET(index!$I$2,MATCH(G$195,index!$I$3:$I$50,0),MONTH(CF表!$B525)),G$21*G$13/G$196,0)),0)","v":0},{"$f":"IFERROR(IF($B525>H$15,0,IF(OFFSET(index!$I$2,MATCH(H$195,index!$I$3:$I$50,0),MONTH(CF表!$B525)),H$21*H$13/H$196,0)),0)","v":0},{"$f":"IFERROR(IF($B525>I$15,0,IF(OFFSET(index!$I$2,MATCH(I$195,index!$I$3:$I$50,0),MONTH(CF表!$B525)),I$21*I$13/I$196,0)),0)","v":0},{"$f":"IFERROR(IF($B525>J$15,0,IF(OFFSET(index!$I$2,MATCH(J$195,index!$I$3:$I$50,0),MONTH(CF表!$B525)),J$21*J$13/J$196,0)),0)","v":0},{"$f":"IFERROR(IF($B525>K$15,0,IF(OFFSET(index!$I$2,MATCH(K$195,index!$I$3:$I$50,0),MONTH(CF表!$B525)),K$21*K$13/K$196,0)),0)","v":0},{"$f":"IFERROR(IF($B525>L$15,0,IF(OFFSET(index!$I$2,MATCH(L$195,index!$I$3:$I$50,0),MONTH(CF表!$B525)),L$21*L$13/L$196,0)),0)","v":0}]
[null,"2050-02-01",{"$f":"IFERROR(IF($B526>C$15,0,IF(OFFSET(index!$I$2,MATCH(C$195,index!$I$3:$I$50,0),MONTH(CF表!$B526)),C$21*C$13/C$196,0)),0)","v":0},{"$f":"IFERROR(IF($B526>D$15,0,IF(OFFSET(index!$I$2,MATCH(D$195,index!$I$3:$I$50,0),MONTH(CF表!$B526)),D$21*D$13/D$196,0)),0)","v":0},{"$f":"IFERROR(IF($B526>E$15,0,IF(OFFSET(index!$I$2,MATCH(E$195,index!$I$3:$I$50,0),MONTH(CF表!$B526)),E$21*E$13/E$196,0)),0)","v":0},{"$f":"IFERROR(IF($B526>F$15,0,IF(OFFSET(index!$I$2,MATCH(F$195,index!$I$3:$I$50,0),MONTH(CF表!$B526)),F$21*F$13/F$196,0)),0)","v":0},{"$f":"IFERROR(IF($B526>G$15,0,IF(OFFSET(index!$I$2,MATCH(G$195,index!$I$3:$I$50,0),MONTH(CF表!$B526)),G$21*G$13/G$196,0)),0)","v":0},{"$f":"IFERROR(IF($B526>H$15,0,IF(OFFSET(index!$I$2,MATCH(H$195,index!$I$3:$I$50,0),MONTH(CF表!$B526)),H$21*H$13/H$196,0)),0)","v":0},{"$f":"IFERROR(IF($B526>I$15,0,IF(OFFSET(index!$I$2,MATCH(I$195,index!$I$3:$I$50,0),MONTH(CF表!$B526)),I$21*I$13/I$196,0)),0)","v":0},{"$f":"IFERROR(IF($B526>J$15,0,IF(OFFSET(index!$I$2,MATCH(J$195,index!$I$3:$I$50,0),MONTH(CF表!$B526)),J$21*J$13/J$196,0)),0)","v":0},{"$f":"IFERROR(IF($B526>K$15,0,IF(OFFSET(index!$I$2,MATCH(K$195,index!$I$3:$I$50,0),MONTH(CF表!$B526)),K$21*K$13/K$196,0)),0)","v":0},{"$f":"IFERROR(IF($B526>L$15,0,IF(OFFSET(index!$I$2,MATCH(L$195,index!$I$3:$I$50,0),MONTH(CF表!$B526)),L$21*L$13/L$196,0)),0)","v":0}]
[null,"2050-03-01",{"$f":"IFERROR(IF($B527>C$15,0,IF(OFFSET(index!$I$2,MATCH(C$195,index!$I$3:$I$50,0),MONTH(CF表!$B527)),C$21*C$13/C$196,0)),0)","v":0},{"$f":"IFERROR(IF($B527>D$15,0,IF(OFFSET(index!$I$2,MATCH(D$195,index!$I$3:$I$50,0),MONTH(CF表!$B527)),D$21*D$13/D$196,0)),0)","v":0},{"$f":"IFERROR(IF($B527>E$15,0,IF(OFFSET(index!$I$2,MATCH(E$195,index!$I$3:$I$50,0),MONTH(CF表!$B527)),E$21*E$13/E$196,0)),0)","v":0},{"$f":"IFERROR(IF($B527>F$15,0,IF(OFFSET(index!$I$2,MATCH(F$195,index!$I$3:$I$50,0),MONTH(CF表!$B527)),F$21*F$13/F$196,0)),0)","v":0},{"$f":"IFERROR(IF($B527>G$15,0,IF(OFFSET(index!$I$2,MATCH(G$195,index!$I$3:$I$50,0),MONTH(CF表!$B527)),G$21*G$13/G$196,0)),0)","v":0},{"$f":"IFERROR(IF($B527>H$15,0,IF(OFFSET(index!$I$2,MATCH(H$195,index!$I$3:$I$50,0),MONTH(CF表!$B527)),H$21*H$13/H$196,0)),0)","v":0},{"$f":"IFERROR(IF($B527>I$15,0,IF(OFFSET(index!$I$2,MATCH(I$195,index!$I$3:$I$50,0),MONTH(CF表!$B527)),I$21*I$13/I$196,0)),0)","v":0},{"$f":"IFERROR(IF($B527>J$15,0,IF(OFFSET(index!$I$2,MATCH(J$195,index!$I$3:$I$50,0),MONTH(CF表!$B527)),J$21*J$13/J$196,0)),0)","v":0},{"$f":"IFERROR(IF($B527>K$15,0,IF(OFFSET(index!$I$2,MATCH(K$195,index!$I$3:$I$50,0),MONTH(CF表!$B527)),K$21*K$13/K$196,0)),0)","v":0},{"$f":"IFERROR(IF($B527>L$15,0,IF(OFFSET(index!$I$2,MATCH(L$195,index!$I$3:$I$50,0),MONTH(CF表!$B527)),L$21*L$13/L$196,0)),0)","v":0}]
[null,"2050-04-01",{"$f":"IFERROR(IF($B528>C$15,0,IF(OFFSET(index!$I$2,MATCH(C$195,index!$I$3:$I$50,0),MONTH(CF表!$B528)),C$21*C$13/C$196,0)),0)","v":0},{"$f":"IFERROR(IF($B528>D$15,0,IF(OFFSET(index!$I$2,MATCH(D$195,index!$I$3:$I$50,0),MONTH(CF表!$B528)),D$21*D$13/D$196,0)),0)","v":0},{"$f":"IFERROR(IF($B528>E$15,0,IF(OFFSET(index!$I$2,MATCH(E$195,index!$I$3:$I$50,0),MONTH(CF表!$B528)),E$21*E$13/E$196,0)),0)","v":0},{"$f":"IFERROR(IF($B528>F$15,0,IF(OFFSET(index!$I$2,MATCH(F$195,index!$I$3:$I$50,0),MONTH(CF表!$B528)),F$21*F$13/F$196,0)),0)","v":0},{"$f":"IFERROR(IF($B528>G$15,0,IF(OFFSET(index!$I$2,MATCH(G$195,index!$I$3:$I$50,0),MONTH(CF表!$B528)),G$21*G$13/G$196,0)),0)","v":0},{"$f":"IFERROR(IF($B528>H$15,0,IF(OFFSET(index!$I$2,MATCH(H$195,index!$I$3:$I$50,0),MONTH(CF表!$B528)),H$21*H$13/H$196,0)),0)","v":0},{"$f":"IFERROR(IF($B528>I$15,0,IF(OFFSET(index!$I$2,MATCH(I$195,index!$I$3:$I$50,0),MONTH(CF表!$B528)),I$21*I$13/I$196,0)),0)","v":0},{"$f":"IFERROR(IF($B528>J$15,0,IF(OFFSET(index!$I$2,MATCH(J$195,index!$I$3:$I$50,0),MONTH(CF表!$B528)),J$21*J$13/J$196,0)),0)","v":0},{"$f":"IFERROR(IF($B528>K$15,0,IF(OFFSET(index!$I$2,MATCH(K$195,index!$I$3:$I$50,0),MONTH(CF表!$B528)),K$21*K$13/K$196,0)),0)","v":0},{"$f":"IFERROR(IF($B528>L$15,0,IF(OFFSET(index!$I$2,MATCH(L$195,index!$I$3:$I$50,0),MONTH(CF表!$B528)),L$21*L$13/L$196,0)),0)","v":0}]
[null,"2050-05-01",{"$f":"IFERROR(IF($B529>C$15,0,IF(OFFSET(index!$I$2,MATCH(C$195,index!$I$3:$I$50,0),MONTH(CF表!$B529)),C$21*C$13/C$196,0)),0)","v":0},{"$f":"IFERROR(IF($B529>D$15,0,IF(OFFSET(index!$I$2,MATCH(D$195,index!$I$3:$I$50,0),MONTH(CF表!$B529)),D$21*D$13/D$196,0)),0)","v":0},{"$f":"IFERROR(IF($B529>E$15,0,IF(OFFSET(index!$I$2,MATCH(E$195,index!$I$3:$I$50,0),MONTH(CF表!$B529)),E$21*E$13/E$196,0)),0)","v":0},{"$f":"IFERROR(IF($B529>F$15,0,IF(OFFSET(index!$I$2,MATCH(F$195,index!$I$3:$I$50,0),MONTH(CF表!$B529)),F$21*F$13/F$196,0)),0)","v":0},{"$f":"IFERROR(IF($B529>G$15,0,IF(OFFSET(index!$I$2,MATCH(G$195,index!$I$3:$I$50,0),MONTH(CF表!$B529)),G$21*G$13/G$196,0)),0)","v":0},{"$f":"IFERROR(IF($B529>H$15,0,IF(OFFSET(index!$I$2,MATCH(H$195,index!$I$3:$I$50,0),MONTH(CF表!$B529)),H$21*H$13/H$196,0)),0)","v":0},{"$f":"IFERROR(IF($B529>I$15,0,IF(OFFSET(index!$I$2,MATCH(I$195,index!$I$3:$I$50,0),MONTH(CF表!$B529)),I$21*I$13/I$196,0)),0)","v":0},{"$f":"IFERROR(IF($B529>J$15,0,IF(OFFSET(index!$I$2,MATCH(J$195,index!$I$3:$I$50,0),MONTH(CF表!$B529)),J$21*J$13/J$196,0)),0)","v":0},{"$f":"IFERROR(IF($B529>K$15,0,IF(OFFSET(index!$I$2,MATCH(K$195,index!$I$3:$I$50,0),MONTH(CF表!$B529)),K$21*K$13/K$196,0)),0)","v":0},{"$f":"IFERROR(IF($B529>L$15,0,IF(OFFSET(index!$I$2,MATCH(L$195,index!$I$3:$I$50,0),MONTH(CF表!$B529)),L$21*L$13/L$196,0)),0)","v":0}]
[null,"2050-06-01",{"$f":"IFERROR(IF($B530>C$15,0,IF(OFFSET(index!$I$2,MATCH(C$195,index!$I$3:$I$50,0),MONTH(CF表!$B530)),C$21*C$13/C$196,0)),0)","v":0},{"$f":"IFERROR(IF($B530>D$15,0,IF(OFFSET(index!$I$2,MATCH(D$195,index!$I$3:$I$50,0),MONTH(CF表!$B530)),D$21*D$13/D$196,0)),0)","v":0},{"$f":"IFERROR(IF($B530>E$15,0,IF(OFFSET(index!$I$2,MATCH(E$195,index!$I$3:$I$50,0),MONTH(CF表!$B530)),E$21*E$13/E$196,0)),0)","v":0},{"$f":"IFERROR(IF($B530>F$15,0,IF(OFFSET(index!$I$2,MATCH(F$195,index!$I$3:$I$50,0),MONTH(CF表!$B530)),F$21*F$13/F$196,0)),0)","v":0},{"$f":"IFERROR(IF($B530>G$15,0,IF(OFFSET(index!$I$2,MATCH(G$195,index!$I$3:$I$50,0),MONTH(CF表!$B530)),G$21*G$13/G$196,0)),0)","v":0},{"$f":"IFERROR(IF($B530>H$15,0,IF(OFFSET(index!$I$2,MATCH(H$195,index!$I$3:$I$50,0),MONTH(CF表!$B530)),H$21*H$13/H$196,0)),0)","v":0},{"$f":"IFERROR(IF($B530>I$15,0,IF(OFFSET(index!$I$2,MATCH(I$195,index!$I$3:$I$50,0),MONTH(CF表!$B530)),I$21*I$13/I$196,0)),0)","v":0},{"$f":"IFERROR(IF($B530>J$15,0,IF(OFFSET(index!$I$2,MATCH(J$195,index!$I$3:$I$50,0),MONTH(CF表!$B530)),J$21*J$13/J$196,0)),0)","v":0},{"$f":"IFERROR(IF($B530>K$15,0,IF(OFFSET(index!$I$2,MATCH(K$195,index!$I$3:$I$50,0),MONTH(CF表!$B530)),K$21*K$13/K$196,0)),0)","v":0},{"$f":"IFERROR(IF($B530>L$15,0,IF(OFFSET(index!$I$2,MATCH(L$195,index!$I$3:$I$50,0),MONTH(CF表!$B530)),L$21*L$13/L$196,0)),0)","v":0}]
[null,"2050-07-01",{"$f":"IFERROR(IF($B531>C$15,0,IF(OFFSET(index!$I$2,MATCH(C$195,index!$I$3:$I$50,0),MONTH(CF表!$B531)),C$21*C$13/C$196,0)),0)","v":0},{"$f":"IFERROR(IF($B531>D$15,0,IF(OFFSET(index!$I$2,MATCH(D$195,index!$I$3:$I$50,0),MONTH(CF表!$B531)),D$21*D$13/D$196,0)),0)","v":0},{"$f":"IFERROR(IF($B531>E$15,0,IF(OFFSET(index!$I$2,MATCH(E$195,index!$I$3:$I$50,0),MONTH(CF表!$B531)),E$21*E$13/E$196,0)),0)","v":0},{"$f":"IFERROR(IF($B531>F$15,0,IF(OFFSET(index!$I$2,MATCH(F$195,index!$I$3:$I$50,0),MONTH(CF表!$B531)),F$21*F$13/F$196,0)),0)","v":0},{"$f":"IFERROR(IF($B531>G$15,0,IF(OFFSET(index!$I$2,MATCH(G$195,index!$I$3:$I$50,0),MONTH(CF表!$B531)),G$21*G$13/G$196,0)),0)","v":0},{"$f":"IFERROR(IF($B531>H$15,0,IF(OFFSET(index!$I$2,MATCH(H$195,index!$I$3:$I$50,0),MONTH(CF表!$B531)),H$21*H$13/H$196,0)),0)","v":0},{"$f":"IFERROR(IF($B531>I$15,0,IF(OFFSET(index!$I$2,MATCH(I$195,index!$I$3:$I$50,0),MONTH(CF表!$B531)),I$21*I$13/I$196,0)),0)","v":0},{"$f":"IFERROR(IF($B531>J$15,0,IF(OFFSET(index!$I$2,MATCH(J$195,index!$I$3:$I$50,0),MONTH(CF表!$B531)),J$21*J$13/J$196,0)),0)","v":0},{"$f":"IFERROR(IF($B531>K$15,0,IF(OFFSET(index!$I$2,MATCH(K$195,index!$I$3:$I$50,0),MONTH(CF表!$B531)),K$21*K$13/K$196,0)),0)","v":0},{"$f":"IFERROR(IF($B531>L$15,0,IF(OFFSET(index!$I$2,MATCH(L$195,index!$I$3:$I$50,0),MONTH(CF表!$B531)),L$21*L$13/L$196,0)),0)","v":0}]
[null,"2050-08-01",{"$f":"IFERROR(IF($B532>C$15,0,IF(OFFSET(index!$I$2,MATCH(C$195,index!$I$3:$I$50,0),MONTH(CF表!$B532)),C$21*C$13/C$196,0)),0)","v":0},{"$f":"IFERROR(IF($B532>D$15,0,IF(OFFSET(index!$I$2,MATCH(D$195,index!$I$3:$I$50,0),MONTH(CF表!$B532)),D$21*D$13/D$196,0)),0)","v":0},{"$f":"IFERROR(IF($B532>E$15,0,IF(OFFSET(index!$I$2,MATCH(E$195,index!$I$3:$I$50,0),MONTH(CF表!$B532)),E$21*E$13/E$196,0)),0)","v":0},{"$f":"IFERROR(IF($B532>F$15,0,IF(OFFSET(index!$I$2,MATCH(F$195,index!$I$3:$I$50,0),MONTH(CF表!$B532)),F$21*F$13/F$196,0)),0)","v":0},{"$f":"IFERROR(IF($B532>G$15,0,IF(OFFSET(index!$I$2,MATCH(G$195,index!$I$3:$I$50,0),MONTH(CF表!$B532)),G$21*G$13/G$196,0)),0)","v":0},{"$f":"IFERROR(IF($B532>H$15,0,IF(OFFSET(index!$I$2,MATCH(H$195,index!$I$3:$I$50,0),MONTH(CF表!$B532)),H$21*H$13/H$196,0)),0)","v":0},{"$f":"IFERROR(IF($B532>I$15,0,IF(OFFSET(index!$I$2,MATCH(I$195,index!$I$3:$I$50,0),MONTH(CF表!$B532)),I$21*I$13/I$196,0)),0)","v":0},{"$f":"IFERROR(IF($B532>J$15,0,IF(OFFSET(index!$I$2,MATCH(J$195,index!$I$3:$I$50,0),MONTH(CF表!$B532)),J$21*J$13/J$196,0)),0)","v":0},{"$f":"IFERROR(IF($B532>K$15,0,IF(OFFSET(index!$I$2,MATCH(K$195,index!$I$3:$I$50,0),MONTH(CF表!$B532)),K$21*K$13/K$196,0)),0)","v":0},{"$f":"IFERROR(IF($B532>L$15,0,IF(OFFSET(index!$I$2,MATCH(L$195,index!$I$3:$I$50,0),MONTH(CF表!$B532)),L$21*L$13/L$196,0)),0)","v":0}]
[null,"2050-09-01",{"$f":"IFERROR(IF($B533>C$15,0,IF(OFFSET(index!$I$2,MATCH(C$195,index!$I$3:$I$50,0),MONTH(CF表!$B533)),C$21*C$13/C$196,0)),0)","v":0},{"$f":"IFERROR(IF($B533>D$15,0,IF(OFFSET(index!$I$2,MATCH(D$195,index!$I$3:$I$50,0),MONTH(CF表!$B533)),D$21*D$13/D$196,0)),0)","v":0},{"$f":"IFERROR(IF($B533>E$15,0,IF(OFFSET(index!$I$2,MATCH(E$195,index!$I$3:$I$50,0),MONTH(CF表!$B533)),E$21*E$13/E$196,0)),0)","v":0},{"$f":"IFERROR(IF($B533>F$15,0,IF(OFFSET(index!$I$2,MATCH(F$195,index!$I$3:$I$50,0),MONTH(CF表!$B533)),F$21*F$13/F$196,0)),0)","v":0},{"$f":"IFERROR(IF($B533>G$15,0,IF(OFFSET(index!$I$2,MATCH(G$195,index!$I$3:$I$50,0),MONTH(CF表!$B533)),G$21*G$13/G$196,0)),0)","v":0},{"$f":"IFERROR(IF($B533>H$15,0,IF(OFFSET(index!$I$2,MATCH(H$195,index!$I$3:$I$50,0),MONTH(CF表!$B533)),H$21*H$13/H$196,0)),0)","v":0},{"$f":"IFERROR(IF($B533>I$15,0,IF(OFFSET(index!$I$2,MATCH(I$195,index!$I$3:$I$50,0),MONTH(CF表!$B533)),I$21*I$13/I$196,0)),0)","v":0},{"$f":"IFERROR(IF($B533>J$15,0,IF(OFFSET(index!$I$2,MATCH(J$195,index!$I$3:$I$50,0),MONTH(CF表!$B533)),J$21*J$13/J$196,0)),0)","v":0},{"$f":"IFERROR(IF($B533>K$15,0,IF(OFFSET(index!$I$2,MATCH(K$195,index!$I$3:$I$50,0),MONTH(CF表!$B533)),K$21*K$13/K$196,0)),0)","v":0},{"$f":"IFERROR(IF($B533>L$15,0,IF(OFFSET(index!$I$2,MATCH(L$195,index!$I$3:$I$50,0),MONTH(CF表!$B533)),L$21*L$13/L$196,0)),0)","v":0}]
[null,"2050-10-01",{"$f":"IFERROR(IF($B534>C$15,0,IF(OFFSET(index!$I$2,MATCH(C$195,index!$I$3:$I$50,0),MONTH(CF表!$B534)),C$21*C$13/C$196,0)),0)","v":0},{"$f":"IFERROR(IF($B534>D$15,0,IF(OFFSET(index!$I$2,MATCH(D$195,index!$I$3:$I$50,0),MONTH(CF表!$B534)),D$21*D$13/D$196,0)),0)","v":0},{"$f":"IFERROR(IF($B534>E$15,0,IF(OFFSET(index!$I$2,MATCH(E$195,index!$I$3:$I$50,0),MONTH(CF表!$B534)),E$21*E$13/E$196,0)),0)","v":0},{"$f":"IFERROR(IF($B534>F$15,0,IF(OFFSET(index!$I$2,MATCH(F$195,index!$I$3:$I$50,0),MONTH(CF表!$B534)),F$21*F$13/F$196,0)),0)","v":0},{"$f":"IFERROR(IF($B534>G$15,0,IF(OFFSET(index!$I$2,MATCH(G$195,index!$I$3:$I$50,0),MONTH(CF表!$B534)),G$21*G$13/G$196,0)),0)","v":0},{"$f":"IFERROR(IF($B534>H$15,0,IF(OFFSET(index!$I$2,MATCH(H$195,index!$I$3:$I$50,0),MONTH(CF表!$B534)),H$21*H$13/H$196,0)),0)","v":0},{"$f":"IFERROR(IF($B534>I$15,0,IF(OFFSET(index!$I$2,MATCH(I$195,index!$I$3:$I$50,0),MONTH(CF表!$B534)),I$21*I$13/I$196,0)),0)","v":0},{"$f":"IFERROR(IF($B534>J$15,0,IF(OFFSET(index!$I$2,MATCH(J$195,index!$I$3:$I$50,0),MONTH(CF表!$B534)),J$21*J$13/J$196,0)),0)","v":0},{"$f":"IFERROR(IF($B534>K$15,0,IF(OFFSET(index!$I$2,MATCH(K$195,index!$I$3:$I$50,0),MONTH(CF表!$B534)),K$21*K$13/K$196,0)),0)","v":0},{"$f":"IFERROR(IF($B534>L$15,0,IF(OFFSET(index!$I$2,MATCH(L$195,index!$I$3:$I$50,0),MONTH(CF表!$B534)),L$21*L$13/L$196,0)),0)","v":0}]
[null,"2050-11-01",{"$f":"IFERROR(IF($B535>C$15,0,IF(OFFSET(index!$I$2,MATCH(C$195,index!$I$3:$I$50,0),MONTH(CF表!$B535)),C$21*C$13/C$196,0)),0)","v":0},{"$f":"IFERROR(IF($B535>D$15,0,IF(OFFSET(index!$I$2,MATCH(D$195,index!$I$3:$I$50,0),MONTH(CF表!$B535)),D$21*D$13/D$196,0)),0)","v":0},{"$f":"IFERROR(IF($B535>E$15,0,IF(OFFSET(index!$I$2,MATCH(E$195,index!$I$3:$I$50,0),MONTH(CF表!$B535)),E$21*E$13/E$196,0)),0)","v":0},{"$f":"IFERROR(IF($B535>F$15,0,IF(OFFSET(index!$I$2,MATCH(F$195,index!$I$3:$I$50,0),MONTH(CF表!$B535)),F$21*F$13/F$196,0)),0)","v":0},{"$f":"IFERROR(IF($B535>G$15,0,IF(OFFSET(index!$I$2,MATCH(G$195,index!$I$3:$I$50,0),MONTH(CF表!$B535)),G$21*G$13/G$196,0)),0)","v":0},{"$f":"IFERROR(IF($B535>H$15,0,IF(OFFSET(index!$I$2,MATCH(H$195,index!$I$3:$I$50,0),MONTH(CF表!$B535)),H$21*H$13/H$196,0)),0)","v":0},{"$f":"IFERROR(IF($B535>I$15,0,IF(OFFSET(index!$I$2,MATCH(I$195,index!$I$3:$I$50,0),MONTH(CF表!$B535)),I$21*I$13/I$196,0)),0)","v":0},{"$f":"IFERROR(IF($B535>J$15,0,IF(OFFSET(index!$I$2,MATCH(J$195,index!$I$3:$I$50,0),MONTH(CF表!$B535)),J$21*J$13/J$196,0)),0)","v":0},{"$f":"IFERROR(IF($B535>K$15,0,IF(OFFSET(index!$I$2,MATCH(K$195,index!$I$3:$I$50,0),MONTH(CF表!$B535)),K$21*K$13/K$196,0)),0)","v":0},{"$f":"IFERROR(IF($B535>L$15,0,IF(OFFSET(index!$I$2,MATCH(L$195,index!$I$3:$I$50,0),MONTH(CF表!$B535)),L$21*L$13/L$196,0)),0)","v":0}]
[null,"2050-12-01",{"$f":"IFERROR(IF($B536>C$15,0,IF(OFFSET(index!$I$2,MATCH(C$195,index!$I$3:$I$50,0),MONTH(CF表!$B536)),C$21*C$13/C$196,0)),0)","v":0},{"$f":"IFERROR(IF($B536>D$15,0,IF(OFFSET(index!$I$2,MATCH(D$195,index!$I$3:$I$50,0),MONTH(CF表!$B536)),D$21*D$13/D$196,0)),0)","v":0},{"$f":"IFERROR(IF($B536>E$15,0,IF(OFFSET(index!$I$2,MATCH(E$195,index!$I$3:$I$50,0),MONTH(CF表!$B536)),E$21*E$13/E$196,0)),0)","v":0},{"$f":"IFERROR(IF($B536>F$15,0,IF(OFFSET(index!$I$2,MATCH(F$195,index!$I$3:$I$50,0),MONTH(CF表!$B536)),F$21*F$13/F$196,0)),0)","v":0},{"$f":"IFERROR(IF($B536>G$15,0,IF(OFFSET(index!$I$2,MATCH(G$195,index!$I$3:$I$50,0),MONTH(CF表!$B536)),G$21*G$13/G$196,0)),0)","v":0},{"$f":"IFERROR(IF($B536>H$15,0,IF(OFFSET(index!$I$2,MATCH(H$195,index!$I$3:$I$50,0),MONTH(CF表!$B536)),H$21*H$13/H$196,0)),0)","v":0},{"$f":"IFERROR(IF($B536>I$15,0,IF(OFFSET(index!$I$2,MATCH(I$195,index!$I$3:$I$50,0),MONTH(CF表!$B536)),I$21*I$13/I$196,0)),0)","v":0},{"$f":"IFERROR(IF($B536>J$15,0,IF(OFFSET(index!$I$2,MATCH(J$195,index!$I$3:$I$50,0),MONTH(CF表!$B536)),J$21*J$13/J$196,0)),0)","v":0},{"$f":"IFERROR(IF($B536>K$15,0,IF(OFFSET(index!$I$2,MATCH(K$195,index!$I$3:$I$50,0),MONTH(CF表!$B536)),K$21*K$13/K$196,0)),0)","v":0},{"$f":"IFERROR(IF($B536>L$15,0,IF(OFFSET(index!$I$2,MATCH(L$195,index!$I$3:$I$50,0),MONTH(CF表!$B536)),L$21*L$13/L$196,0)),0)","v":0}]
[null,"2051-01-01",{"$f":"IFERROR(IF($B537>C$15,0,IF(OFFSET(index!$I$2,MATCH(C$195,index!$I$3:$I$50,0),MONTH(CF表!$B537)),C$21*C$13/C$196,0)),0)","v":0},{"$f":"IFERROR(IF($B537>D$15,0,IF(OFFSET(index!$I$2,MATCH(D$195,index!$I$3:$I$50,0),MONTH(CF表!$B537)),D$21*D$13/D$196,0)),0)","v":0},{"$f":"IFERROR(IF($B537>E$15,0,IF(OFFSET(index!$I$2,MATCH(E$195,index!$I$3:$I$50,0),MONTH(CF表!$B537)),E$21*E$13/E$196,0)),0)","v":0},{"$f":"IFERROR(IF($B537>F$15,0,IF(OFFSET(index!$I$2,MATCH(F$195,index!$I$3:$I$50,0),MONTH(CF表!$B537)),F$21*F$13/F$196,0)),0)","v":0},{"$f":"IFERROR(IF($B537>G$15,0,IF(OFFSET(index!$I$2,MATCH(G$195,index!$I$3:$I$50,0),MONTH(CF表!$B537)),G$21*G$13/G$196,0)),0)","v":0},{"$f":"IFERROR(IF($B537>H$15,0,IF(OFFSET(index!$I$2,MATCH(H$195,index!$I$3:$I$50,0),MONTH(CF表!$B537)),H$21*H$13/H$196,0)),0)","v":0},{"$f":"IFERROR(IF($B537>I$15,0,IF(OFFSET(index!$I$2,MATCH(I$195,index!$I$3:$I$50,0),MONTH(CF表!$B537)),I$21*I$13/I$196,0)),0)","v":0},{"$f":"IFERROR(IF($B537>J$15,0,IF(OFFSET(index!$I$2,MATCH(J$195,index!$I$3:$I$50,0),MONTH(CF表!$B537)),J$21*J$13/J$196,0)),0)","v":0},{"$f":"IFERROR(IF($B537>K$15,0,IF(OFFSET(index!$I$2,MATCH(K$195,index!$I$3:$I$50,0),MONTH(CF表!$B537)),K$21*K$13/K$196,0)),0)","v":0},{"$f":"IFERROR(IF($B537>L$15,0,IF(OFFSET(index!$I$2,MATCH(L$195,index!$I$3:$I$50,0),MONTH(CF表!$B537)),L$21*L$13/L$196,0)),0)","v":0}]
[null,"2051-02-01",{"$f":"IFERROR(IF($B538>C$15,0,IF(OFFSET(index!$I$2,MATCH(C$195,index!$I$3:$I$50,0),MONTH(CF表!$B538)),C$21*C$13/C$196,0)),0)","v":0},{"$f":"IFERROR(IF($B538>D$15,0,IF(OFFSET(index!$I$2,MATCH(D$195,index!$I$3:$I$50,0),MONTH(CF表!$B538)),D$21*D$13/D$196,0)),0)","v":0},{"$f":"IFERROR(IF($B538>E$15,0,IF(OFFSET(index!$I$2,MATCH(E$195,index!$I$3:$I$50,0),MONTH(CF表!$B538)),E$21*E$13/E$196,0)),0)","v":0},{"$f":"IFERROR(IF($B538>F$15,0,IF(OFFSET(index!$I$2,MATCH(F$195,index!$I$3:$I$50,0),MONTH(CF表!$B538)),F$21*F$13/F$196,0)),0)","v":0},{"$f":"IFERROR(IF($B538>G$15,0,IF(OFFSET(index!$I$2,MATCH(G$195,index!$I$3:$I$50,0),MONTH(CF表!$B538)),G$21*G$13/G$196,0)),0)","v":0},{"$f":"IFERROR(IF($B538>H$15,0,IF(OFFSET(index!$I$2,MATCH(H$195,index!$I$3:$I$50,0),MONTH(CF表!$B538)),H$21*H$13/H$196,0)),0)","v":0},{"$f":"IFERROR(IF($B538>I$15,0,IF(OFFSET(index!$I$2,MATCH(I$195,index!$I$3:$I$50,0),MONTH(CF表!$B538)),I$21*I$13/I$196,0)),0)","v":0},{"$f":"IFERROR(IF($B538>J$15,0,IF(OFFSET(index!$I$2,MATCH(J$195,index!$I$3:$I$50,0),MONTH(CF表!$B538)),J$21*J$13/J$196,0)),0)","v":0},{"$f":"IFERROR(IF($B538>K$15,0,IF(OFFSET(index!$I$2,MATCH(K$195,index!$I$3:$I$50,0),MONTH(CF表!$B538)),K$21*K$13/K$196,0)),0)","v":0},{"$f":"IFERROR(IF($B538>L$15,0,IF(OFFSET(index!$I$2,MATCH(L$195,index!$I$3:$I$50,0),MONTH(CF表!$B538)),L$21*L$13/L$196,0)),0)","v":0}]
[null,"2051-03-01",{"$f":"IFERROR(IF($B539>C$15,0,IF(OFFSET(index!$I$2,MATCH(C$195,index!$I$3:$I$50,0),MONTH(CF表!$B539)),C$21*C$13/C$196,0)),0)","v":0},{"$f":"IFERROR(IF($B539>D$15,0,IF(OFFSET(index!$I$2,MATCH(D$195,index!$I$3:$I$50,0),MONTH(CF表!$B539)),D$21*D$13/D$196,0)),0)","v":0},{"$f":"IFERROR(IF($B539>E$15,0,IF(OFFSET(index!$I$2,MATCH(E$195,index!$I$3:$I$50,0),MONTH(CF表!$B539)),E$21*E$13/E$196,0)),0)","v":0},{"$f":"IFERROR(IF($B539>F$15,0,IF(OFFSET(index!$I$2,MATCH(F$195,index!$I$3:$I$50,0),MONTH(CF表!$B539)),F$21*F$13/F$196,0)),0)","v":0},{"$f":"IFERROR(IF($B539>G$15,0,IF(OFFSET(index!$I$2,MATCH(G$195,index!$I$3:$I$50,0),MONTH(CF表!$B539)),G$21*G$13/G$196,0)),0)","v":0},{"$f":"IFERROR(IF($B539>H$15,0,IF(OFFSET(index!$I$2,MATCH(H$195,index!$I$3:$I$50,0),MONTH(CF表!$B539)),H$21*H$13/H$196,0)),0)","v":0},{"$f":"IFERROR(IF($B539>I$15,0,IF(OFFSET(index!$I$2,MATCH(I$195,index!$I$3:$I$50,0),MONTH(CF表!$B539)),I$21*I$13/I$196,0)),0)","v":0},{"$f":"IFERROR(IF($B539>J$15,0,IF(OFFSET(index!$I$2,MATCH(J$195,index!$I$3:$I$50,0),MONTH(CF表!$B539)),J$21*J$13/J$196,0)),0)","v":0},{"$f":"IFERROR(IF($B539>K$15,0,IF(OFFSET(index!$I$2,MATCH(K$195,index!$I$3:$I$50,0),MONTH(CF表!$B539)),K$21*K$13/K$196,0)),0)","v":0},{"$f":"IFERROR(IF($B539>L$15,0,IF(OFFSET(index!$I$2,MATCH(L$195,index!$I$3:$I$50,0),MONTH(CF表!$B539)),L$21*L$13/L$196,0)),0)","v":0}]
[null,"2051-04-01",{"$f":"IFERROR(IF($B540>C$15,0,IF(OFFSET(index!$I$2,MATCH(C$195,index!$I$3:$I$50,0),MONTH(CF表!$B540)),C$21*C$13/C$196,0)),0)","v":0},{"$f":"IFERROR(IF($B540>D$15,0,IF(OFFSET(index!$I$2,MATCH(D$195,index!$I$3:$I$50,0),MONTH(CF表!$B540)),D$21*D$13/D$196,0)),0)","v":0},{"$f":"IFERROR(IF($B540>E$15,0,IF(OFFSET(index!$I$2,MATCH(E$195,index!$I$3:$I$50,0),MONTH(CF表!$B540)),E$21*E$13/E$196,0)),0)","v":0},{"$f":"IFERROR(IF($B540>F$15,0,IF(OFFSET(index!$I$2,MATCH(F$195,index!$I$3:$I$50,0),MONTH(CF表!$B540)),F$21*F$13/F$196,0)),0)","v":0},{"$f":"IFERROR(IF($B540>G$15,0,IF(OFFSET(index!$I$2,MATCH(G$195,index!$I$3:$I$50,0),MONTH(CF表!$B540)),G$21*G$13/G$196,0)),0)","v":0},{"$f":"IFERROR(IF($B540>H$15,0,IF(OFFSET(index!$I$2,MATCH(H$195,index!$I$3:$I$50,0),MONTH(CF表!$B540)),H$21*H$13/H$196,0)),0)","v":0},{"$f":"IFERROR(IF($B540>I$15,0,IF(OFFSET(index!$I$2,MATCH(I$195,index!$I$3:$I$50,0),MONTH(CF表!$B540)),I$21*I$13/I$196,0)),0)","v":0},{"$f":"IFERROR(IF($B540>J$15,0,IF(OFFSET(index!$I$2,MATCH(J$195,index!$I$3:$I$50,0),MONTH(CF表!$B540)),J$21*J$13/J$196,0)),0)","v":0},{"$f":"IFERROR(IF($B540>K$15,0,IF(OFFSET(index!$I$2,MATCH(K$195,index!$I$3:$I$50,0),MONTH(CF表!$B540)),K$21*K$13/K$196,0)),0)","v":0},{"$f":"IFERROR(IF($B540>L$15,0,IF(OFFSET(index!$I$2,MATCH(L$195,index!$I$3:$I$50,0),MONTH(CF表!$B540)),L$21*L$13/L$196,0)),0)","v":0}]
[null,"2051-05-01",{"$f":"IFERROR(IF($B541>C$15,0,IF(OFFSET(index!$I$2,MATCH(C$195,index!$I$3:$I$50,0),MONTH(CF表!$B541)),C$21*C$13/C$196,0)),0)","v":0},{"$f":"IFERROR(IF($B541>D$15,0,IF(OFFSET(index!$I$2,MATCH(D$195,index!$I$3:$I$50,0),MONTH(CF表!$B541)),D$21*D$13/D$196,0)),0)","v":0},{"$f":"IFERROR(IF($B541>E$15,0,IF(OFFSET(index!$I$2,MATCH(E$195,index!$I$3:$I$50,0),MONTH(CF表!$B541)),E$21*E$13/E$196,0)),0)","v":0},{"$f":"IFERROR(IF($B541>F$15,0,IF(OFFSET(index!$I$2,MATCH(F$195,index!$I$3:$I$50,0),MONTH(CF表!$B541)),F$21*F$13/F$196,0)),0)","v":0},{"$f":"IFERROR(IF($B541>G$15,0,IF(OFFSET(index!$I$2,MATCH(G$195,index!$I$3:$I$50,0),MONTH(CF表!$B541)),G$21*G$13/G$196,0)),0)","v":0},{"$f":"IFERROR(IF($B541>H$15,0,IF(OFFSET(index!$I$2,MATCH(H$195,index!$I$3:$I$50,0),MONTH(CF表!$B541)),H$21*H$13/H$196,0)),0)","v":0},{"$f":"IFERROR(IF($B541>I$15,0,IF(OFFSET(index!$I$2,MATCH(I$195,index!$I$3:$I$50,0),MONTH(CF表!$B541)),I$21*I$13/I$196,0)),0)","v":0},{"$f":"IFERROR(IF($B541>J$15,0,IF(OFFSET(index!$I$2,MATCH(J$195,index!$I$3:$I$50,0),MONTH(CF表!$B541)),J$21*J$13/J$196,0)),0)","v":0},{"$f":"IFERROR(IF($B541>K$15,0,IF(OFFSET(index!$I$2,MATCH(K$195,index!$I$3:$I$50,0),MONTH(CF表!$B541)),K$21*K$13/K$196,0)),0)","v":0},{"$f":"IFERROR(IF($B541>L$15,0,IF(OFFSET(index!$I$2,MATCH(L$195,index!$I$3:$I$50,0),MONTH(CF表!$B541)),L$21*L$13/L$196,0)),0)","v":0}]
[null,"2051-06-01",{"$f":"IFERROR(IF($B542>C$15,0,IF(OFFSET(index!$I$2,MATCH(C$195,index!$I$3:$I$50,0),MONTH(CF表!$B542)),C$21*C$13/C$196,0)),0)","v":0},{"$f":"IFERROR(IF($B542>D$15,0,IF(OFFSET(index!$I$2,MATCH(D$195,index!$I$3:$I$50,0),MONTH(CF表!$B542)),D$21*D$13/D$196,0)),0)","v":0},{"$f":"IFERROR(IF($B542>E$15,0,IF(OFFSET(index!$I$2,MATCH(E$195,index!$I$3:$I$50,0),MONTH(CF表!$B542)),E$21*E$13/E$196,0)),0)","v":0},{"$f":"IFERROR(IF($B542>F$15,0,IF(OFFSET(index!$I$2,MATCH(F$195,index!$I$3:$I$50,0),MONTH(CF表!$B542)),F$21*F$13/F$196,0)),0)","v":0},{"$f":"IFERROR(IF($B542>G$15,0,IF(OFFSET(index!$I$2,MATCH(G$195,index!$I$3:$I$50,0),MONTH(CF表!$B542)),G$21*G$13/G$196,0)),0)","v":0},{"$f":"IFERROR(IF($B542>H$15,0,IF(OFFSET(index!$I$2,MATCH(H$195,index!$I$3:$I$50,0),MONTH(CF表!$B542)),H$21*H$13/H$196,0)),0)","v":0},{"$f":"IFERROR(IF($B542>I$15,0,IF(OFFSET(index!$I$2,MATCH(I$195,index!$I$3:$I$50,0),MONTH(CF表!$B542)),I$21*I$13/I$196,0)),0)","v":0},{"$f":"IFERROR(IF($B542>J$15,0,IF(OFFSET(index!$I$2,MATCH(J$195,index!$I$3:$I$50,0),MONTH(CF表!$B542)),J$21*J$13/J$196,0)),0)","v":0},{"$f":"IFERROR(IF($B542>K$15,0,IF(OFFSET(index!$I$2,MATCH(K$195,index!$I$3:$I$50,0),MONTH(CF表!$B542)),K$21*K$13/K$196,0)),0)","v":0},{"$f":"IFERROR(IF($B542>L$15,0,IF(OFFSET(index!$I$2,MATCH(L$195,index!$I$3:$I$50,0),MONTH(CF表!$B542)),L$21*L$13/L$196,0)),0)","v":0}]
[null,"2051-07-01",{"$f":"IFERROR(IF($B543>C$15,0,IF(OFFSET(index!$I$2,MATCH(C$195,index!$I$3:$I$50,0),MONTH(CF表!$B543)),C$21*C$13/C$196,0)),0)","v":0},{"$f":"IFERROR(IF($B543>D$15,0,IF(OFFSET(index!$I$2,MATCH(D$195,index!$I$3:$I$50,0),MONTH(CF表!$B543)),D$21*D$13/D$196,0)),0)","v":0},{"$f":"IFERROR(IF($B543>E$15,0,IF(OFFSET(index!$I$2,MATCH(E$195,index!$I$3:$I$50,0),MONTH(CF表!$B543)),E$21*E$13/E$196,0)),0)","v":0},{"$f":"IFERROR(IF($B543>F$15,0,IF(OFFSET(index!$I$2,MATCH(F$195,index!$I$3:$I$50,0),MONTH(CF表!$B543)),F$21*F$13/F$196,0)),0)","v":0},{"$f":"IFERROR(IF($B543>G$15,0,IF(OFFSET(index!$I$2,MATCH(G$195,index!$I$3:$I$50,0),MONTH(CF表!$B543)),G$21*G$13/G$196,0)),0)","v":0},{"$f":"IFERROR(IF($B543>H$15,0,IF(OFFSET(index!$I$2,MATCH(H$195,index!$I$3:$I$50,0),MONTH(CF表!$B543)),H$21*H$13/H$196,0)),0)","v":0},{"$f":"IFERROR(IF($B543>I$15,0,IF(OFFSET(index!$I$2,MATCH(I$195,index!$I$3:$I$50,0),MONTH(CF表!$B543)),I$21*I$13/I$196,0)),0)","v":0},{"$f":"IFERROR(IF($B543>J$15,0,IF(OFFSET(index!$I$2,MATCH(J$195,index!$I$3:$I$50,0),MONTH(CF表!$B543)),J$21*J$13/J$196,0)),0)","v":0},{"$f":"IFERROR(IF($B543>K$15,0,IF(OFFSET(index!$I$2,MATCH(K$195,index!$I$3:$I$50,0),MONTH(CF表!$B543)),K$21*K$13/K$196,0)),0)","v":0},{"$f":"IFERROR(IF($B543>L$15,0,IF(OFFSET(index!$I$2,MATCH(L$195,index!$I$3:$I$50,0),MONTH(CF表!$B543)),L$21*L$13/L$196,0)),0)","v":0}]
[null,"2051-08-01",{"$f":"IFERROR(IF($B544>C$15,0,IF(OFFSET(index!$I$2,MATCH(C$195,index!$I$3:$I$50,0),MONTH(CF表!$B544)),C$21*C$13/C$196,0)),0)","v":0},{"$f":"IFERROR(IF($B544>D$15,0,IF(OFFSET(index!$I$2,MATCH(D$195,index!$I$3:$I$50,0),MONTH(CF表!$B544)),D$21*D$13/D$196,0)),0)","v":0},{"$f":"IFERROR(IF($B544>E$15,0,IF(OFFSET(index!$I$2,MATCH(E$195,index!$I$3:$I$50,0),MONTH(CF表!$B544)),E$21*E$13/E$196,0)),0)","v":0},{"$f":"IFERROR(IF($B544>F$15,0,IF(OFFSET(index!$I$2,MATCH(F$195,index!$I$3:$I$50,0),MONTH(CF表!$B544)),F$21*F$13/F$196,0)),0)","v":0},{"$f":"IFERROR(IF($B544>G$15,0,IF(OFFSET(index!$I$2,MATCH(G$195,index!$I$3:$I$50,0),MONTH(CF表!$B544)),G$21*G$13/G$196,0)),0)","v":0},{"$f":"IFERROR(IF($B544>H$15,0,IF(OFFSET(index!$I$2,MATCH(H$195,index!$I$3:$I$50,0),MONTH(CF表!$B544)),H$21*H$13/H$196,0)),0)","v":0},{"$f":"IFERROR(IF($B544>I$15,0,IF(OFFSET(index!$I$2,MATCH(I$195,index!$I$3:$I$50,0),MONTH(CF表!$B544)),I$21*I$13/I$196,0)),0)","v":0},{"$f":"IFERROR(IF($B544>J$15,0,IF(OFFSET(index!$I$2,MATCH(J$195,index!$I$3:$I$50,0),MONTH(CF表!$B544)),J$21*J$13/J$196,0)),0)","v":0},{"$f":"IFERROR(IF($B544>K$15,0,IF(OFFSET(index!$I$2,MATCH(K$195,index!$I$3:$I$50,0),MONTH(CF表!$B544)),K$21*K$13/K$196,0)),0)","v":0},{"$f":"IFERROR(IF($B544>L$15,0,IF(OFFSET(index!$I$2,MATCH(L$195,index!$I$3:$I$50,0),MONTH(CF表!$B544)),L$21*L$13/L$196,0)),0)","v":0}]
[null,"2051-09-01",{"$f":"IFERROR(IF($B545>C$15,0,IF(OFFSET(index!$I$2,MATCH(C$195,index!$I$3:$I$50,0),MONTH(CF表!$B545)),C$21*C$13/C$196,0)),0)","v":0},{"$f":"IFERROR(IF($B545>D$15,0,IF(OFFSET(index!$I$2,MATCH(D$195,index!$I$3:$I$50,0),MONTH(CF表!$B545)),D$21*D$13/D$196,0)),0)","v":0},{"$f":"IFERROR(IF($B545>E$15,0,IF(OFFSET(index!$I$2,MATCH(E$195,index!$I$3:$I$50,0),MONTH(CF表!$B545)),E$21*E$13/E$196,0)),0)","v":0},{"$f":"IFERROR(IF($B545>F$15,0,IF(OFFSET(index!$I$2,MATCH(F$195,index!$I$3:$I$50,0),MONTH(CF表!$B545)),F$21*F$13/F$196,0)),0)","v":0},{"$f":"IFERROR(IF($B545>G$15,0,IF(OFFSET(index!$I$2,MATCH(G$195,index!$I$3:$I$50,0),MONTH(CF表!$B545)),G$21*G$13/G$196,0)),0)","v":0},{"$f":"IFERROR(IF($B545>H$15,0,IF(OFFSET(index!$I$2,MATCH(H$195,index!$I$3:$I$50,0),MONTH(CF表!$B545)),H$21*H$13/H$196,0)),0)","v":0},{"$f":"IFERROR(IF($B545>I$15,0,IF(OFFSET(index!$I$2,MATCH(I$195,index!$I$3:$I$50,0),MONTH(CF表!$B545)),I$21*I$13/I$196,0)),0)","v":0},{"$f":"IFERROR(IF($B545>J$15,0,IF(OFFSET(index!$I$2,MATCH(J$195,index!$I$3:$I$50,0),MONTH(CF表!$B545)),J$21*J$13/J$196,0)),0)","v":0},{"$f":"IFERROR(IF($B545>K$15,0,IF(OFFSET(index!$I$2,MATCH(K$195,index!$I$3:$I$50,0),MONTH(CF表!$B545)),K$21*K$13/K$196,0)),0)","v":0},{"$f":"IFERROR(IF($B545>L$15,0,IF(OFFSET(index!$I$2,MATCH(L$195,index!$I$3:$I$50,0),MONTH(CF表!$B545)),L$21*L$13/L$196,0)),0)","v":0}]
[null,"2051-10-01",{"$f":"IFERROR(IF($B546>C$15,0,IF(OFFSET(index!$I$2,MATCH(C$195,index!$I$3:$I$50,0),MONTH(CF表!$B546)),C$21*C$13/C$196,0)),0)","v":0},{"$f":"IFERROR(IF($B546>D$15,0,IF(OFFSET(index!$I$2,MATCH(D$195,index!$I$3:$I$50,0),MONTH(CF表!$B546)),D$21*D$13/D$196,0)),0)","v":0},{"$f":"IFERROR(IF($B546>E$15,0,IF(OFFSET(index!$I$2,MATCH(E$195,index!$I$3:$I$50,0),MONTH(CF表!$B546)),E$21*E$13/E$196,0)),0)","v":0},{"$f":"IFERROR(IF($B546>F$15,0,IF(OFFSET(index!$I$2,MATCH(F$195,index!$I$3:$I$50,0),MONTH(CF表!$B546)),F$21*F$13/F$196,0)),0)","v":0},{"$f":"IFERROR(IF($B546>G$15,0,IF(OFFSET(index!$I$2,MATCH(G$195,index!$I$3:$I$50,0),MONTH(CF表!$B546)),G$21*G$13/G$196,0)),0)","v":0},{"$f":"IFERROR(IF($B546>H$15,0,IF(OFFSET(index!$I$2,MATCH(H$195,index!$I$3:$I$50,0),MONTH(CF表!$B546)),H$21*H$13/H$196,0)),0)","v":0},{"$f":"IFERROR(IF($B546>I$15,0,IF(OFFSET(index!$I$2,MATCH(I$195,index!$I$3:$I$50,0),MONTH(CF表!$B546)),I$21*I$13/I$196,0)),0)","v":0},{"$f":"IFERROR(IF($B546>J$15,0,IF(OFFSET(index!$I$2,MATCH(J$195,index!$I$3:$I$50,0),MONTH(CF表!$B546)),J$21*J$13/J$196,0)),0)","v":0},{"$f":"IFERROR(IF($B546>K$15,0,IF(OFFSET(index!$I$2,MATCH(K$195,index!$I$3:$I$50,0),MONTH(CF表!$B546)),K$21*K$13/K$196,0)),0)","v":0},{"$f":"IFERROR(IF($B546>L$15,0,IF(OFFSET(index!$I$2,MATCH(L$195,index!$I$3:$I$50,0),MONTH(CF表!$B546)),L$21*L$13/L$196,0)),0)","v":0}]
[null,"2051-11-01",{"$f":"IFERROR(IF($B547>C$15,0,IF(OFFSET(index!$I$2,MATCH(C$195,index!$I$3:$I$50,0),MONTH(CF表!$B547)),C$21*C$13/C$196,0)),0)","v":0},{"$f":"IFERROR(IF($B547>D$15,0,IF(OFFSET(index!$I$2,MATCH(D$195,index!$I$3:$I$50,0),MONTH(CF表!$B547)),D$21*D$13/D$196,0)),0)","v":0},{"$f":"IFERROR(IF($B547>E$15,0,IF(OFFSET(index!$I$2,MATCH(E$195,index!$I$3:$I$50,0),MONTH(CF表!$B547)),E$21*E$13/E$196,0)),0)","v":0},{"$f":"IFERROR(IF($B547>F$15,0,IF(OFFSET(index!$I$2,MATCH(F$195,index!$I$3:$I$50,0),MONTH(CF表!$B547)),F$21*F$13/F$196,0)),0)","v":0},{"$f":"IFERROR(IF($B547>G$15,0,IF(OFFSET(index!$I$2,MATCH(G$195,index!$I$3:$I$50,0),MONTH(CF表!$B547)),G$21*G$13/G$196,0)),0)","v":0},{"$f":"IFERROR(IF($B547>H$15,0,IF(OFFSET(index!$I$2,MATCH(H$195,index!$I$3:$I$50,0),MONTH(CF表!$B547)),H$21*H$13/H$196,0)),0)","v":0},{"$f":"IFERROR(IF($B547>I$15,0,IF(OFFSET(index!$I$2,MATCH(I$195,index!$I$3:$I$50,0),MONTH(CF表!$B547)),I$21*I$13/I$196,0)),0)","v":0},{"$f":"IFERROR(IF($B547>J$15,0,IF(OFFSET(index!$I$2,MATCH(J$195,index!$I$3:$I$50,0),MONTH(CF表!$B547)),J$21*J$13/J$196,0)),0)","v":0},{"$f":"IFERROR(IF($B547>K$15,0,IF(OFFSET(index!$I$2,MATCH(K$195,index!$I$3:$I$50,0),MONTH(CF表!$B547)),K$21*K$13/K$196,0)),0)","v":0},{"$f":"IFERROR(IF($B547>L$15,0,IF(OFFSET(index!$I$2,MATCH(L$195,index!$I$3:$I$50,0),MONTH(CF表!$B547)),L$21*L$13/L$196,0)),0)","v":0}]
[null,"2051-12-01",{"$f":"IFERROR(IF($B548>C$15,0,IF(OFFSET(index!$I$2,MATCH(C$195,index!$I$3:$I$50,0),MONTH(CF表!$B548)),C$21*C$13/C$196,0)),0)","v":0},{"$f":"IFERROR(IF($B548>D$15,0,IF(OFFSET(index!$I$2,MATCH(D$195,index!$I$3:$I$50,0),MONTH(CF表!$B548)),D$21*D$13/D$196,0)),0)","v":0},{"$f":"IFERROR(IF($B548>E$15,0,IF(OFFSET(index!$I$2,MATCH(E$195,index!$I$3:$I$50,0),MONTH(CF表!$B548)),E$21*E$13/E$196,0)),0)","v":0},{"$f":"IFERROR(IF($B548>F$15,0,IF(OFFSET(index!$I$2,MATCH(F$195,index!$I$3:$I$50,0),MONTH(CF表!$B548)),F$21*F$13/F$196,0)),0)","v":0},{"$f":"IFERROR(IF($B548>G$15,0,IF(OFFSET(index!$I$2,MATCH(G$195,index!$I$3:$I$50,0),MONTH(CF表!$B548)),G$21*G$13/G$196,0)),0)","v":0},{"$f":"IFERROR(IF($B548>H$15,0,IF(OFFSET(index!$I$2,MATCH(H$195,index!$I$3:$I$50,0),MONTH(CF表!$B548)),H$21*H$13/H$196,0)),0)","v":0},{"$f":"IFERROR(IF($B548>I$15,0,IF(OFFSET(index!$I$2,MATCH(I$195,index!$I$3:$I$50,0),MONTH(CF表!$B548)),I$21*I$13/I$196,0)),0)","v":0},{"$f":"IFERROR(IF($B548>J$15,0,IF(OFFSET(index!$I$2,MATCH(J$195,index!$I$3:$I$50,0),MONTH(CF表!$B548)),J$21*J$13/J$196,0)),0)","v":0},{"$f":"IFERROR(IF($B548>K$15,0,IF(OFFSET(index!$I$2,MATCH(K$195,index!$I$3:$I$50,0),MONTH(CF表!$B548)),K$21*K$13/K$196,0)),0)","v":0},{"$f":"IFERROR(IF($B548>L$15,0,IF(OFFSET(index!$I$2,MATCH(L$195,index!$I$3:$I$50,0),MONTH(CF表!$B548)),L$21*L$13/L$196,0)),0)","v":0}]
[null,"2052-01-01",{"$f":"IFERROR(IF($B549>C$15,0,IF(OFFSET(index!$I$2,MATCH(C$195,index!$I$3:$I$50,0),MONTH(CF表!$B549)),C$21*C$13/C$196,0)),0)","v":0},{"$f":"IFERROR(IF($B549>D$15,0,IF(OFFSET(index!$I$2,MATCH(D$195,index!$I$3:$I$50,0),MONTH(CF表!$B549)),D$21*D$13/D$196,0)),0)","v":0},{"$f":"IFERROR(IF($B549>E$15,0,IF(OFFSET(index!$I$2,MATCH(E$195,index!$I$3:$I$50,0),MONTH(CF表!$B549)),E$21*E$13/E$196,0)),0)","v":0},{"$f":"IFERROR(IF($B549>F$15,0,IF(OFFSET(index!$I$2,MATCH(F$195,index!$I$3:$I$50,0),MONTH(CF表!$B549)),F$21*F$13/F$196,0)),0)","v":0},{"$f":"IFERROR(IF($B549>G$15,0,IF(OFFSET(index!$I$2,MATCH(G$195,index!$I$3:$I$50,0),MONTH(CF表!$B549)),G$21*G$13/G$196,0)),0)","v":0},{"$f":"IFERROR(IF($B549>H$15,0,IF(OFFSET(index!$I$2,MATCH(H$195,index!$I$3:$I$50,0),MONTH(CF表!$B549)),H$21*H$13/H$196,0)),0)","v":0},{"$f":"IFERROR(IF($B549>I$15,0,IF(OFFSET(index!$I$2,MATCH(I$195,index!$I$3:$I$50,0),MONTH(CF表!$B549)),I$21*I$13/I$196,0)),0)","v":0},{"$f":"IFERROR(IF($B549>J$15,0,IF(OFFSET(index!$I$2,MATCH(J$195,index!$I$3:$I$50,0),MONTH(CF表!$B549)),J$21*J$13/J$196,0)),0)","v":0},{"$f":"IFERROR(IF($B549>K$15,0,IF(OFFSET(index!$I$2,MATCH(K$195,index!$I$3:$I$50,0),MONTH(CF表!$B549)),K$21*K$13/K$196,0)),0)","v":0},{"$f":"IFERROR(IF($B549>L$15,0,IF(OFFSET(index!$I$2,MATCH(L$195,index!$I$3:$I$50,0),MONTH(CF表!$B549)),L$21*L$13/L$196,0)),0)","v":0}]
[null,"2052-02-01",{"$f":"IFERROR(IF($B550>C$15,0,IF(OFFSET(index!$I$2,MATCH(C$195,index!$I$3:$I$50,0),MONTH(CF表!$B550)),C$21*C$13/C$196,0)),0)","v":0},{"$f":"IFERROR(IF($B550>D$15,0,IF(OFFSET(index!$I$2,MATCH(D$195,index!$I$3:$I$50,0),MONTH(CF表!$B550)),D$21*D$13/D$196,0)),0)","v":0},{"$f":"IFERROR(IF($B550>E$15,0,IF(OFFSET(index!$I$2,MATCH(E$195,index!$I$3:$I$50,0),MONTH(CF表!$B550)),E$21*E$13/E$196,0)),0)","v":0},{"$f":"IFERROR(IF($B550>F$15,0,IF(OFFSET(index!$I$2,MATCH(F$195,index!$I$3:$I$50,0),MONTH(CF表!$B550)),F$21*F$13/F$196,0)),0)","v":0},{"$f":"IFERROR(IF($B550>G$15,0,IF(OFFSET(index!$I$2,MATCH(G$195,index!$I$3:$I$50,0),MONTH(CF表!$B550)),G$21*G$13/G$196,0)),0)","v":0},{"$f":"IFERROR(IF($B550>H$15,0,IF(OFFSET(index!$I$2,MATCH(H$195,index!$I$3:$I$50,0),MONTH(CF表!$B550)),H$21*H$13/H$196,0)),0)","v":0},{"$f":"IFERROR(IF($B550>I$15,0,IF(OFFSET(index!$I$2,MATCH(I$195,index!$I$3:$I$50,0),MONTH(CF表!$B550)),I$21*I$13/I$196,0)),0)","v":0},{"$f":"IFERROR(IF($B550>J$15,0,IF(OFFSET(index!$I$2,MATCH(J$195,index!$I$3:$I$50,0),MONTH(CF表!$B550)),J$21*J$13/J$196,0)),0)","v":0},{"$f":"IFERROR(IF($B550>K$15,0,IF(OFFSET(index!$I$2,MATCH(K$195,index!$I$3:$I$50,0),MONTH(CF表!$B550)),K$21*K$13/K$196,0)),0)","v":0},{"$f":"IFERROR(IF($B550>L$15,0,IF(OFFSET(index!$I$2,MATCH(L$195,index!$I$3:$I$50,0),MONTH(CF表!$B550)),L$21*L$13/L$196,0)),0)","v":0}]
[null,"2052-03-01",{"$f":"IFERROR(IF($B551>C$15,0,IF(OFFSET(index!$I$2,MATCH(C$195,index!$I$3:$I$50,0),MONTH(CF表!$B551)),C$21*C$13/C$196,0)),0)","v":0},{"$f":"IFERROR(IF($B551>D$15,0,IF(OFFSET(index!$I$2,MATCH(D$195,index!$I$3:$I$50,0),MONTH(CF表!$B551)),D$21*D$13/D$196,0)),0)","v":0},{"$f":"IFERROR(IF($B551>E$15,0,IF(OFFSET(index!$I$2,MATCH(E$195,index!$I$3:$I$50,0),MONTH(CF表!$B551)),E$21*E$13/E$196,0)),0)","v":0},{"$f":"IFERROR(IF($B551>F$15,0,IF(OFFSET(index!$I$2,MATCH(F$195,index!$I$3:$I$50,0),MONTH(CF表!$B551)),F$21*F$13/F$196,0)),0)","v":0},{"$f":"IFERROR(IF($B551>G$15,0,IF(OFFSET(index!$I$2,MATCH(G$195,index!$I$3:$I$50,0),MONTH(CF表!$B551)),G$21*G$13/G$196,0)),0)","v":0},{"$f":"IFERROR(IF($B551>H$15,0,IF(OFFSET(index!$I$2,MATCH(H$195,index!$I$3:$I$50,0),MONTH(CF表!$B551)),H$21*H$13/H$196,0)),0)","v":0},{"$f":"IFERROR(IF($B551>I$15,0,IF(OFFSET(index!$I$2,MATCH(I$195,index!$I$3:$I$50,0),MONTH(CF表!$B551)),I$21*I$13/I$196,0)),0)","v":0},{"$f":"IFERROR(IF($B551>J$15,0,IF(OFFSET(index!$I$2,MATCH(J$195,index!$I$3:$I$50,0),MONTH(CF表!$B551)),J$21*J$13/J$196,0)),0)","v":0},{"$f":"IFERROR(IF($B551>K$15,0,IF(OFFSET(index!$I$2,MATCH(K$195,index!$I$3:$I$50,0),MONTH(CF表!$B551)),K$21*K$13/K$196,0)),0)","v":0},{"$f":"IFERROR(IF($B551>L$15,0,IF(OFFSET(index!$I$2,MATCH(L$195,index!$I$3:$I$50,0),MONTH(CF表!$B551)),L$21*L$13/L$196,0)),0)","v":0}]
[null,"2052-04-01",{"$f":"IFERROR(IF($B552>C$15,0,IF(OFFSET(index!$I$2,MATCH(C$195,index!$I$3:$I$50,0),MONTH(CF表!$B552)),C$21*C$13/C$196,0)),0)","v":0},{"$f":"IFERROR(IF($B552>D$15,0,IF(OFFSET(index!$I$2,MATCH(D$195,index!$I$3:$I$50,0),MONTH(CF表!$B552)),D$21*D$13/D$196,0)),0)","v":0},{"$f":"IFERROR(IF($B552>E$15,0,IF(OFFSET(index!$I$2,MATCH(E$195,index!$I$3:$I$50,0),MONTH(CF表!$B552)),E$21*E$13/E$196,0)),0)","v":0},{"$f":"IFERROR(IF($B552>F$15,0,IF(OFFSET(index!$I$2,MATCH(F$195,index!$I$3:$I$50,0),MONTH(CF表!$B552)),F$21*F$13/F$196,0)),0)","v":0},{"$f":"IFERROR(IF($B552>G$15,0,IF(OFFSET(index!$I$2,MATCH(G$195,index!$I$3:$I$50,0),MONTH(CF表!$B552)),G$21*G$13/G$196,0)),0)","v":0},{"$f":"IFERROR(IF($B552>H$15,0,IF(OFFSET(index!$I$2,MATCH(H$195,index!$I$3:$I$50,0),MONTH(CF表!$B552)),H$21*H$13/H$196,0)),0)","v":0},{"$f":"IFERROR(IF($B552>I$15,0,IF(OFFSET(index!$I$2,MATCH(I$195,index!$I$3:$I$50,0),MONTH(CF表!$B552)),I$21*I$13/I$196,0)),0)","v":0},{"$f":"IFERROR(IF($B552>J$15,0,IF(OFFSET(index!$I$2,MATCH(J$195,index!$I$3:$I$50,0),MONTH(CF表!$B552)),J$21*J$13/J$196,0)),0)","v":0},{"$f":"IFERROR(IF($B552>K$15,0,IF(OFFSET(index!$I$2,MATCH(K$195,index!$I$3:$I$50,0),MONTH(CF表!$B552)),K$21*K$13/K$196,0)),0)","v":0},{"$f":"IFERROR(IF($B552>L$15,0,IF(OFFSET(index!$I$2,MATCH(L$195,index!$I$3:$I$50,0),MONTH(CF表!$B552)),L$21*L$13/L$196,0)),0)","v":0}]
[null,"2052-05-01",{"$f":"IFERROR(IF($B553>C$15,0,IF(OFFSET(index!$I$2,MATCH(C$195,index!$I$3:$I$50,0),MONTH(CF表!$B553)),C$21*C$13/C$196,0)),0)","v":0},{"$f":"IFERROR(IF($B553>D$15,0,IF(OFFSET(index!$I$2,MATCH(D$195,index!$I$3:$I$50,0),MONTH(CF表!$B553)),D$21*D$13/D$196,0)),0)","v":0},{"$f":"IFERROR(IF($B553>E$15,0,IF(OFFSET(index!$I$2,MATCH(E$195,index!$I$3:$I$50,0),MONTH(CF表!$B553)),E$21*E$13/E$196,0)),0)","v":0},{"$f":"IFERROR(IF($B553>F$15,0,IF(OFFSET(index!$I$2,MATCH(F$195,index!$I$3:$I$50,0),MONTH(CF表!$B553)),F$21*F$13/F$196,0)),0)","v":0},{"$f":"IFERROR(IF($B553>G$15,0,IF(OFFSET(index!$I$2,MATCH(G$195,index!$I$3:$I$50,0),MONTH(CF表!$B553)),G$21*G$13/G$196,0)),0)","v":0},{"$f":"IFERROR(IF($B553>H$15,0,IF(OFFSET(index!$I$2,MATCH(H$195,index!$I$3:$I$50,0),MONTH(CF表!$B553)),H$21*H$13/H$196,0)),0)","v":0},{"$f":"IFERROR(IF($B553>I$15,0,IF(OFFSET(index!$I$2,MATCH(I$195,index!$I$3:$I$50,0),MONTH(CF表!$B553)),I$21*I$13/I$196,0)),0)","v":0},{"$f":"IFERROR(IF($B553>J$15,0,IF(OFFSET(index!$I$2,MATCH(J$195,index!$I$3:$I$50,0),MONTH(CF表!$B553)),J$21*J$13/J$196,0)),0)","v":0},{"$f":"IFERROR(IF($B553>K$15,0,IF(OFFSET(index!$I$2,MATCH(K$195,index!$I$3:$I$50,0),MONTH(CF表!$B553)),K$21*K$13/K$196,0)),0)","v":0},{"$f":"IFERROR(IF($B553>L$15,0,IF(OFFSET(index!$I$2,MATCH(L$195,index!$I$3:$I$50,0),MONTH(CF表!$B553)),L$21*L$13/L$196,0)),0)","v":0}]
[null,"2052-06-01",{"$f":"IFERROR(IF($B554>C$15,0,IF(OFFSET(index!$I$2,MATCH(C$195,index!$I$3:$I$50,0),MONTH(CF表!$B554)),C$21*C$13/C$196,0)),0)","v":0},{"$f":"IFERROR(IF($B554>D$15,0,IF(OFFSET(index!$I$2,MATCH(D$195,index!$I$3:$I$50,0),MONTH(CF表!$B554)),D$21*D$13/D$196,0)),0)","v":0},{"$f":"IFERROR(IF($B554>E$15,0,IF(OFFSET(index!$I$2,MATCH(E$195,index!$I$3:$I$50,0),MONTH(CF表!$B554)),E$21*E$13/E$196,0)),0)","v":0},{"$f":"IFERROR(IF($B554>F$15,0,IF(OFFSET(index!$I$2,MATCH(F$195,index!$I$3:$I$50,0),MONTH(CF表!$B554)),F$21*F$13/F$196,0)),0)","v":0},{"$f":"IFERROR(IF($B554>G$15,0,IF(OFFSET(index!$I$2,MATCH(G$195,index!$I$3:$I$50,0),MONTH(CF表!$B554)),G$21*G$13/G$196,0)),0)","v":0},{"$f":"IFERROR(IF($B554>H$15,0,IF(OFFSET(index!$I$2,MATCH(H$195,index!$I$3:$I$50,0),MONTH(CF表!$B554)),H$21*H$13/H$196,0)),0)","v":0},{"$f":"IFERROR(IF($B554>I$15,0,IF(OFFSET(index!$I$2,MATCH(I$195,index!$I$3:$I$50,0),MONTH(CF表!$B554)),I$21*I$13/I$196,0)),0)","v":0},{"$f":"IFERROR(IF($B554>J$15,0,IF(OFFSET(index!$I$2,MATCH(J$195,index!$I$3:$I$50,0),MONTH(CF表!$B554)),J$21*J$13/J$196,0)),0)","v":0},{"$f":"IFERROR(IF($B554>K$15,0,IF(OFFSET(index!$I$2,MATCH(K$195,index!$I$3:$I$50,0),MONTH(CF表!$B554)),K$21*K$13/K$196,0)),0)","v":0},{"$f":"IFERROR(IF($B554>L$15,0,IF(OFFSET(index!$I$2,MATCH(L$195,index!$I$3:$I$50,0),MONTH(CF表!$B554)),L$21*L$13/L$196,0)),0)","v":0}]
[null,"2052-07-01",{"$f":"IFERROR(IF($B555>C$15,0,IF(OFFSET(index!$I$2,MATCH(C$195,index!$I$3:$I$50,0),MONTH(CF表!$B555)),C$21*C$13/C$196,0)),0)","v":0},{"$f":"IFERROR(IF($B555>D$15,0,IF(OFFSET(index!$I$2,MATCH(D$195,index!$I$3:$I$50,0),MONTH(CF表!$B555)),D$21*D$13/D$196,0)),0)","v":0},{"$f":"IFERROR(IF($B555>E$15,0,IF(OFFSET(index!$I$2,MATCH(E$195,index!$I$3:$I$50,0),MONTH(CF表!$B555)),E$21*E$13/E$196,0)),0)","v":0},{"$f":"IFERROR(IF($B555>F$15,0,IF(OFFSET(index!$I$2,MATCH(F$195,index!$I$3:$I$50,0),MONTH(CF表!$B555)),F$21*F$13/F$196,0)),0)","v":0},{"$f":"IFERROR(IF($B555>G$15,0,IF(OFFSET(index!$I$2,MATCH(G$195,index!$I$3:$I$50,0),MONTH(CF表!$B555)),G$21*G$13/G$196,0)),0)","v":0},{"$f":"IFERROR(IF($B555>H$15,0,IF(OFFSET(index!$I$2,MATCH(H$195,index!$I$3:$I$50,0),MONTH(CF表!$B555)),H$21*H$13/H$196,0)),0)","v":0},{"$f":"IFERROR(IF($B555>I$15,0,IF(OFFSET(index!$I$2,MATCH(I$195,index!$I$3:$I$50,0),MONTH(CF表!$B555)),I$21*I$13/I$196,0)),0)","v":0},{"$f":"IFERROR(IF($B555>J$15,0,IF(OFFSET(index!$I$2,MATCH(J$195,index!$I$3:$I$50,0),MONTH(CF表!$B555)),J$21*J$13/J$196,0)),0)","v":0},{"$f":"IFERROR(IF($B555>K$15,0,IF(OFFSET(index!$I$2,MATCH(K$195,index!$I$3:$I$50,0),MONTH(CF表!$B555)),K$21*K$13/K$196,0)),0)","v":0},{"$f":"IFERROR(IF($B555>L$15,0,IF(OFFSET(index!$I$2,MATCH(L$195,index!$I$3:$I$50,0),MONTH(CF表!$B555)),L$21*L$13/L$196,0)),0)","v":0}]
[null,"2052-08-01",{"$f":"IFERROR(IF($B556>C$15,0,IF(OFFSET(index!$I$2,MATCH(C$195,index!$I$3:$I$50,0),MONTH(CF表!$B556)),C$21*C$13/C$196,0)),0)","v":0},{"$f":"IFERROR(IF($B556>D$15,0,IF(OFFSET(index!$I$2,MATCH(D$195,index!$I$3:$I$50,0),MONTH(CF表!$B556)),D$21*D$13/D$196,0)),0)","v":0},{"$f":"IFERROR(IF($B556>E$15,0,IF(OFFSET(index!$I$2,MATCH(E$195,index!$I$3:$I$50,0),MONTH(CF表!$B556)),E$21*E$13/E$196,0)),0)","v":0},{"$f":"IFERROR(IF($B556>F$15,0,IF(OFFSET(index!$I$2,MATCH(F$195,index!$I$3:$I$50,0),MONTH(CF表!$B556)),F$21*F$13/F$196,0)),0)","v":0},{"$f":"IFERROR(IF($B556>G$15,0,IF(OFFSET(index!$I$2,MATCH(G$195,index!$I$3:$I$50,0),MONTH(CF表!$B556)),G$21*G$13/G$196,0)),0)","v":0},{"$f":"IFERROR(IF($B556>H$15,0,IF(OFFSET(index!$I$2,MATCH(H$195,index!$I$3:$I$50,0),MONTH(CF表!$B556)),H$21*H$13/H$196,0)),0)","v":0},{"$f":"IFERROR(IF($B556>I$15,0,IF(OFFSET(index!$I$2,MATCH(I$195,index!$I$3:$I$50,0),MONTH(CF表!$B556)),I$21*I$13/I$196,0)),0)","v":0},{"$f":"IFERROR(IF($B556>J$15,0,IF(OFFSET(index!$I$2,MATCH(J$195,index!$I$3:$I$50,0),MONTH(CF表!$B556)),J$21*J$13/J$196,0)),0)","v":0},{"$f":"IFERROR(IF($B556>K$15,0,IF(OFFSET(index!$I$2,MATCH(K$195,index!$I$3:$I$50,0),MONTH(CF表!$B556)),K$21*K$13/K$196,0)),0)","v":0},{"$f":"IFERROR(IF($B556>L$15,0,IF(OFFSET(index!$I$2,MATCH(L$195,index!$I$3:$I$50,0),MONTH(CF表!$B556)),L$21*L$13/L$196,0)),0)","v":0}]
[null,"2052-09-01",{"$f":"IFERROR(IF($B557>C$15,0,IF(OFFSET(index!$I$2,MATCH(C$195,index!$I$3:$I$50,0),MONTH(CF表!$B557)),C$21*C$13/C$196,0)),0)","v":0},{"$f":"IFERROR(IF($B557>D$15,0,IF(OFFSET(index!$I$2,MATCH(D$195,index!$I$3:$I$50,0),MONTH(CF表!$B557)),D$21*D$13/D$196,0)),0)","v":0},{"$f":"IFERROR(IF($B557>E$15,0,IF(OFFSET(index!$I$2,MATCH(E$195,index!$I$3:$I$50,0),MONTH(CF表!$B557)),E$21*E$13/E$196,0)),0)","v":0},{"$f":"IFERROR(IF($B557>F$15,0,IF(OFFSET(index!$I$2,MATCH(F$195,index!$I$3:$I$50,0),MONTH(CF表!$B557)),F$21*F$13/F$196,0)),0)","v":0},{"$f":"IFERROR(IF($B557>G$15,0,IF(OFFSET(index!$I$2,MATCH(G$195,index!$I$3:$I$50,0),MONTH(CF表!$B557)),G$21*G$13/G$196,0)),0)","v":0},{"$f":"IFERROR(IF($B557>H$15,0,IF(OFFSET(index!$I$2,MATCH(H$195,index!$I$3:$I$50,0),MONTH(CF表!$B557)),H$21*H$13/H$196,0)),0)","v":0},{"$f":"IFERROR(IF($B557>I$15,0,IF(OFFSET(index!$I$2,MATCH(I$195,index!$I$3:$I$50,0),MONTH(CF表!$B557)),I$21*I$13/I$196,0)),0)","v":0},{"$f":"IFERROR(IF($B557>J$15,0,IF(OFFSET(index!$I$2,MATCH(J$195,index!$I$3:$I$50,0),MONTH(CF表!$B557)),J$21*J$13/J$196,0)),0)","v":0},{"$f":"IFERROR(IF($B557>K$15,0,IF(OFFSET(index!$I$2,MATCH(K$195,index!$I$3:$I$50,0),MONTH(CF表!$B557)),K$21*K$13/K$196,0)),0)","v":0},{"$f":"IFERROR(IF($B557>L$15,0,IF(OFFSET(index!$I$2,MATCH(L$195,index!$I$3:$I$50,0),MONTH(CF表!$B557)),L$21*L$13/L$196,0)),0)","v":0}]
[null,"2052-10-01",{"$f":"IFERROR(IF($B558>C$15,0,IF(OFFSET(index!$I$2,MATCH(C$195,index!$I$3:$I$50,0),MONTH(CF表!$B558)),C$21*C$13/C$196,0)),0)","v":0},{"$f":"IFERROR(IF($B558>D$15,0,IF(OFFSET(index!$I$2,MATCH(D$195,index!$I$3:$I$50,0),MONTH(CF表!$B558)),D$21*D$13/D$196,0)),0)","v":0},{"$f":"IFERROR(IF($B558>E$15,0,IF(OFFSET(index!$I$2,MATCH(E$195,index!$I$3:$I$50,0),MONTH(CF表!$B558)),E$21*E$13/E$196,0)),0)","v":0},{"$f":"IFERROR(IF($B558>F$15,0,IF(OFFSET(index!$I$2,MATCH(F$195,index!$I$3:$I$50,0),MONTH(CF表!$B558)),F$21*F$13/F$196,0)),0)","v":0},{"$f":"IFERROR(IF($B558>G$15,0,IF(OFFSET(index!$I$2,MATCH(G$195,index!$I$3:$I$50,0),MONTH(CF表!$B558)),G$21*G$13/G$196,0)),0)","v":0},{"$f":"IFERROR(IF($B558>H$15,0,IF(OFFSET(index!$I$2,MATCH(H$195,index!$I$3:$I$50,0),MONTH(CF表!$B558)),H$21*H$13/H$196,0)),0)","v":0},{"$f":"IFERROR(IF($B558>I$15,0,IF(OFFSET(index!$I$2,MATCH(I$195,index!$I$3:$I$50,0),MONTH(CF表!$B558)),I$21*I$13/I$196,0)),0)","v":0},{"$f":"IFERROR(IF($B558>J$15,0,IF(OFFSET(index!$I$2,MATCH(J$195,index!$I$3:$I$50,0),MONTH(CF表!$B558)),J$21*J$13/J$196,0)),0)","v":0},{"$f":"IFERROR(IF($B558>K$15,0,IF(OFFSET(index!$I$2,MATCH(K$195,index!$I$3:$I$50,0),MONTH(CF表!$B558)),K$21*K$13/K$196,0)),0)","v":0},{"$f":"IFERROR(IF($B558>L$15,0,IF(OFFSET(index!$I$2,MATCH(L$195,index!$I$3:$I$50,0),MONTH(CF表!$B558)),L$21*L$13/L$196,0)),0)","v":0}]
[null,"2052-11-01",{"$f":"IFERROR(IF($B559>C$15,0,IF(OFFSET(index!$I$2,MATCH(C$195,index!$I$3:$I$50,0),MONTH(CF表!$B559)),C$21*C$13/C$196,0)),0)","v":0},{"$f":"IFERROR(IF($B559>D$15,0,IF(OFFSET(index!$I$2,MATCH(D$195,index!$I$3:$I$50,0),MONTH(CF表!$B559)),D$21*D$13/D$196,0)),0)","v":0},{"$f":"IFERROR(IF($B559>E$15,0,IF(OFFSET(index!$I$2,MATCH(E$195,index!$I$3:$I$50,0),MONTH(CF表!$B559)),E$21*E$13/E$196,0)),0)","v":0},{"$f":"IFERROR(IF($B559>F$15,0,IF(OFFSET(index!$I$2,MATCH(F$195,index!$I$3:$I$50,0),MONTH(CF表!$B559)),F$21*F$13/F$196,0)),0)","v":0},{"$f":"IFERROR(IF($B559>G$15,0,IF(OFFSET(index!$I$2,MATCH(G$195,index!$I$3:$I$50,0),MONTH(CF表!$B559)),G$21*G$13/G$196,0)),0)","v":0},{"$f":"IFERROR(IF($B559>H$15,0,IF(OFFSET(index!$I$2,MATCH(H$195,index!$I$3:$I$50,0),MONTH(CF表!$B559)),H$21*H$13/H$196,0)),0)","v":0},{"$f":"IFERROR(IF($B559>I$15,0,IF(OFFSET(index!$I$2,MATCH(I$195,index!$I$3:$I$50,0),MONTH(CF表!$B559)),I$21*I$13/I$196,0)),0)","v":0},{"$f":"IFERROR(IF($B559>J$15,0,IF(OFFSET(index!$I$2,MATCH(J$195,index!$I$3:$I$50,0),MONTH(CF表!$B559)),J$21*J$13/J$196,0)),0)","v":0},{"$f":"IFERROR(IF($B559>K$15,0,IF(OFFSET(index!$I$2,MATCH(K$195,index!$I$3:$I$50,0),MONTH(CF表!$B559)),K$21*K$13/K$196,0)),0)","v":0},{"$f":"IFERROR(IF($B559>L$15,0,IF(OFFSET(index!$I$2,MATCH(L$195,index!$I$3:$I$50,0),MONTH(CF表!$B559)),L$21*L$13/L$196,0)),0)","v":0}]
[null,"2052-12-01",{"$f":"IFERROR(IF($B560>C$15,0,IF(OFFSET(index!$I$2,MATCH(C$195,index!$I$3:$I$50,0),MONTH(CF表!$B560)),C$21*C$13/C$196,0)),0)","v":0},{"$f":"IFERROR(IF($B560>D$15,0,IF(OFFSET(index!$I$2,MATCH(D$195,index!$I$3:$I$50,0),MONTH(CF表!$B560)),D$21*D$13/D$196,0)),0)","v":0},{"$f":"IFERROR(IF($B560>E$15,0,IF(OFFSET(index!$I$2,MATCH(E$195,index!$I$3:$I$50,0),MONTH(CF表!$B560)),E$21*E$13/E$196,0)),0)","v":0},{"$f":"IFERROR(IF($B560>F$15,0,IF(OFFSET(index!$I$2,MATCH(F$195,index!$I$3:$I$50,0),MONTH(CF表!$B560)),F$21*F$13/F$196,0)),0)","v":0},{"$f":"IFERROR(IF($B560>G$15,0,IF(OFFSET(index!$I$2,MATCH(G$195,index!$I$3:$I$50,0),MONTH(CF表!$B560)),G$21*G$13/G$196,0)),0)","v":0},{"$f":"IFERROR(IF($B560>H$15,0,IF(OFFSET(index!$I$2,MATCH(H$195,index!$I$3:$I$50,0),MONTH(CF表!$B560)),H$21*H$13/H$196,0)),0)","v":0},{"$f":"IFERROR(IF($B560>I$15,0,IF(OFFSET(index!$I$2,MATCH(I$195,index!$I$3:$I$50,0),MONTH(CF表!$B560)),I$21*I$13/I$196,0)),0)","v":0},{"$f":"IFERROR(IF($B560>J$15,0,IF(OFFSET(index!$I$2,MATCH(J$195,index!$I$3:$I$50,0),MONTH(CF表!$B560)),J$21*J$13/J$196,0)),0)","v":0},{"$f":"IFERROR(IF($B560>K$15,0,IF(OFFSET(index!$I$2,MATCH(K$195,index!$I$3:$I$50,0),MONTH(CF表!$B560)),K$21*K$13/K$196,0)),0)","v":0},{"$f":"IFERROR(IF($B560>L$15,0,IF(OFFSET(index!$I$2,MATCH(L$195,index!$I$3:$I$50,0),MONTH(CF表!$B560)),L$21*L$13/L$196,0)),0)","v":0}]
[null,"2053-01-01",{"$f":"IFERROR(IF($B561>C$15,0,IF(OFFSET(index!$I$2,MATCH(C$195,index!$I$3:$I$50,0),MONTH(CF表!$B561)),C$21*C$13/C$196,0)),0)","v":0},{"$f":"IFERROR(IF($B561>D$15,0,IF(OFFSET(index!$I$2,MATCH(D$195,index!$I$3:$I$50,0),MONTH(CF表!$B561)),D$21*D$13/D$196,0)),0)","v":0},{"$f":"IFERROR(IF($B561>E$15,0,IF(OFFSET(index!$I$2,MATCH(E$195,index!$I$3:$I$50,0),MONTH(CF表!$B561)),E$21*E$13/E$196,0)),0)","v":0},{"$f":"IFERROR(IF($B561>F$15,0,IF(OFFSET(index!$I$2,MATCH(F$195,index!$I$3:$I$50,0),MONTH(CF表!$B561)),F$21*F$13/F$196,0)),0)","v":0},{"$f":"IFERROR(IF($B561>G$15,0,IF(OFFSET(index!$I$2,MATCH(G$195,index!$I$3:$I$50,0),MONTH(CF表!$B561)),G$21*G$13/G$196,0)),0)","v":0},{"$f":"IFERROR(IF($B561>H$15,0,IF(OFFSET(index!$I$2,MATCH(H$195,index!$I$3:$I$50,0),MONTH(CF表!$B561)),H$21*H$13/H$196,0)),0)","v":0},{"$f":"IFERROR(IF($B561>I$15,0,IF(OFFSET(index!$I$2,MATCH(I$195,index!$I$3:$I$50,0),MONTH(CF表!$B561)),I$21*I$13/I$196,0)),0)","v":0},{"$f":"IFERROR(IF($B561>J$15,0,IF(OFFSET(index!$I$2,MATCH(J$195,index!$I$3:$I$50,0),MONTH(CF表!$B561)),J$21*J$13/J$196,0)),0)","v":0},{"$f":"IFERROR(IF($B561>K$15,0,IF(OFFSET(index!$I$2,MATCH(K$195,index!$I$3:$I$50,0),MONTH(CF表!$B561)),K$21*K$13/K$196,0)),0)","v":0},{"$f":"IFERROR(IF($B561>L$15,0,IF(OFFSET(index!$I$2,MATCH(L$195,index!$I$3:$I$50,0),MONTH(CF表!$B561)),L$21*L$13/L$196,0)),0)","v":0}]
[null,"2053-02-01",{"$f":"IFERROR(IF($B562>C$15,0,IF(OFFSET(index!$I$2,MATCH(C$195,index!$I$3:$I$50,0),MONTH(CF表!$B562)),C$21*C$13/C$196,0)),0)","v":0},{"$f":"IFERROR(IF($B562>D$15,0,IF(OFFSET(index!$I$2,MATCH(D$195,index!$I$3:$I$50,0),MONTH(CF表!$B562)),D$21*D$13/D$196,0)),0)","v":0},{"$f":"IFERROR(IF($B562>E$15,0,IF(OFFSET(index!$I$2,MATCH(E$195,index!$I$3:$I$50,0),MONTH(CF表!$B562)),E$21*E$13/E$196,0)),0)","v":0},{"$f":"IFERROR(IF($B562>F$15,0,IF(OFFSET(index!$I$2,MATCH(F$195,index!$I$3:$I$50,0),MONTH(CF表!$B562)),F$21*F$13/F$196,0)),0)","v":0},{"$f":"IFERROR(IF($B562>G$15,0,IF(OFFSET(index!$I$2,MATCH(G$195,index!$I$3:$I$50,0),MONTH(CF表!$B562)),G$21*G$13/G$196,0)),0)","v":0},{"$f":"IFERROR(IF($B562>H$15,0,IF(OFFSET(index!$I$2,MATCH(H$195,index!$I$3:$I$50,0),MONTH(CF表!$B562)),H$21*H$13/H$196,0)),0)","v":0},{"$f":"IFERROR(IF($B562>I$15,0,IF(OFFSET(index!$I$2,MATCH(I$195,index!$I$3:$I$50,0),MONTH(CF表!$B562)),I$21*I$13/I$196,0)),0)","v":0},{"$f":"IFERROR(IF($B562>J$15,0,IF(OFFSET(index!$I$2,MATCH(J$195,index!$I$3:$I$50,0),MONTH(CF表!$B562)),J$21*J$13/J$196,0)),0)","v":0},{"$f":"IFERROR(IF($B562>K$15,0,IF(OFFSET(index!$I$2,MATCH(K$195,index!$I$3:$I$50,0),MONTH(CF表!$B562)),K$21*K$13/K$196,0)),0)","v":0},{"$f":"IFERROR(IF($B562>L$15,0,IF(OFFSET(index!$I$2,MATCH(L$195,index!$I$3:$I$50,0),MONTH(CF表!$B562)),L$21*L$13/L$196,0)),0)","v":0}]
[null,"2053-03-01",{"$f":"IFERROR(IF($B563>C$15,0,IF(OFFSET(index!$I$2,MATCH(C$195,index!$I$3:$I$50,0),MONTH(CF表!$B563)),C$21*C$13/C$196,0)),0)","v":0},{"$f":"IFERROR(IF($B563>D$15,0,IF(OFFSET(index!$I$2,MATCH(D$195,index!$I$3:$I$50,0),MONTH(CF表!$B563)),D$21*D$13/D$196,0)),0)","v":0},{"$f":"IFERROR(IF($B563>E$15,0,IF(OFFSET(index!$I$2,MATCH(E$195,index!$I$3:$I$50,0),MONTH(CF表!$B563)),E$21*E$13/E$196,0)),0)","v":0},{"$f":"IFERROR(IF($B563>F$15,0,IF(OFFSET(index!$I$2,MATCH(F$195,index!$I$3:$I$50,0),MONTH(CF表!$B563)),F$21*F$13/F$196,0)),0)","v":0},{"$f":"IFERROR(IF($B563>G$15,0,IF(OFFSET(index!$I$2,MATCH(G$195,index!$I$3:$I$50,0),MONTH(CF表!$B563)),G$21*G$13/G$196,0)),0)","v":0},{"$f":"IFERROR(IF($B563>H$15,0,IF(OFFSET(index!$I$2,MATCH(H$195,index!$I$3:$I$50,0),MONTH(CF表!$B563)),H$21*H$13/H$196,0)),0)","v":0},{"$f":"IFERROR(IF($B563>I$15,0,IF(OFFSET(index!$I$2,MATCH(I$195,index!$I$3:$I$50,0),MONTH(CF表!$B563)),I$21*I$13/I$196,0)),0)","v":0},{"$f":"IFERROR(IF($B563>J$15,0,IF(OFFSET(index!$I$2,MATCH(J$195,index!$I$3:$I$50,0),MONTH(CF表!$B563)),J$21*J$13/J$196,0)),0)","v":0},{"$f":"IFERROR(IF($B563>K$15,0,IF(OFFSET(index!$I$2,MATCH(K$195,index!$I$3:$I$50,0),MONTH(CF表!$B563)),K$21*K$13/K$196,0)),0)","v":0},{"$f":"IFERROR(IF($B563>L$15,0,IF(OFFSET(index!$I$2,MATCH(L$195,index!$I$3:$I$50,0),MONTH(CF表!$B563)),L$21*L$13/L$196,0)),0)","v":0}]
[null,"2053-04-01",{"$f":"IFERROR(IF($B564>C$15,0,IF(OFFSET(index!$I$2,MATCH(C$195,index!$I$3:$I$50,0),MONTH(CF表!$B564)),C$21*C$13/C$196,0)),0)","v":0},{"$f":"IFERROR(IF($B564>D$15,0,IF(OFFSET(index!$I$2,MATCH(D$195,index!$I$3:$I$50,0),MONTH(CF表!$B564)),D$21*D$13/D$196,0)),0)","v":0},{"$f":"IFERROR(IF($B564>E$15,0,IF(OFFSET(index!$I$2,MATCH(E$195,index!$I$3:$I$50,0),MONTH(CF表!$B564)),E$21*E$13/E$196,0)),0)","v":0},{"$f":"IFERROR(IF($B564>F$15,0,IF(OFFSET(index!$I$2,MATCH(F$195,index!$I$3:$I$50,0),MONTH(CF表!$B564)),F$21*F$13/F$196,0)),0)","v":0},{"$f":"IFERROR(IF($B564>G$15,0,IF(OFFSET(index!$I$2,MATCH(G$195,index!$I$3:$I$50,0),MONTH(CF表!$B564)),G$21*G$13/G$196,0)),0)","v":0},{"$f":"IFERROR(IF($B564>H$15,0,IF(OFFSET(index!$I$2,MATCH(H$195,index!$I$3:$I$50,0),MONTH(CF表!$B564)),H$21*H$13/H$196,0)),0)","v":0},{"$f":"IFERROR(IF($B564>I$15,0,IF(OFFSET(index!$I$2,MATCH(I$195,index!$I$3:$I$50,0),MONTH(CF表!$B564)),I$21*I$13/I$196,0)),0)","v":0},{"$f":"IFERROR(IF($B564>J$15,0,IF(OFFSET(index!$I$2,MATCH(J$195,index!$I$3:$I$50,0),MONTH(CF表!$B564)),J$21*J$13/J$196,0)),0)","v":0},{"$f":"IFERROR(IF($B564>K$15,0,IF(OFFSET(index!$I$2,MATCH(K$195,index!$I$3:$I$50,0),MONTH(CF表!$B564)),K$21*K$13/K$196,0)),0)","v":0},{"$f":"IFERROR(IF($B564>L$15,0,IF(OFFSET(index!$I$2,MATCH(L$195,index!$I$3:$I$50,0),MONTH(CF表!$B564)),L$21*L$13/L$196,0)),0)","v":0}]
[null,"2053-05-01",{"$f":"IFERROR(IF($B565>C$15,0,IF(OFFSET(index!$I$2,MATCH(C$195,index!$I$3:$I$50,0),MONTH(CF表!$B565)),C$21*C$13/C$196,0)),0)","v":0},{"$f":"IFERROR(IF($B565>D$15,0,IF(OFFSET(index!$I$2,MATCH(D$195,index!$I$3:$I$50,0),MONTH(CF表!$B565)),D$21*D$13/D$196,0)),0)","v":0},{"$f":"IFERROR(IF($B565>E$15,0,IF(OFFSET(index!$I$2,MATCH(E$195,index!$I$3:$I$50,0),MONTH(CF表!$B565)),E$21*E$13/E$196,0)),0)","v":0},{"$f":"IFERROR(IF($B565>F$15,0,IF(OFFSET(index!$I$2,MATCH(F$195,index!$I$3:$I$50,0),MONTH(CF表!$B565)),F$21*F$13/F$196,0)),0)","v":0},{"$f":"IFERROR(IF($B565>G$15,0,IF(OFFSET(index!$I$2,MATCH(G$195,index!$I$3:$I$50,0),MONTH(CF表!$B565)),G$21*G$13/G$196,0)),0)","v":0},{"$f":"IFERROR(IF($B565>H$15,0,IF(OFFSET(index!$I$2,MATCH(H$195,index!$I$3:$I$50,0),MONTH(CF表!$B565)),H$21*H$13/H$196,0)),0)","v":0},{"$f":"IFERROR(IF($B565>I$15,0,IF(OFFSET(index!$I$2,MATCH(I$195,index!$I$3:$I$50,0),MONTH(CF表!$B565)),I$21*I$13/I$196,0)),0)","v":0},{"$f":"IFERROR(IF($B565>J$15,0,IF(OFFSET(index!$I$2,MATCH(J$195,index!$I$3:$I$50,0),MONTH(CF表!$B565)),J$21*J$13/J$196,0)),0)","v":0},{"$f":"IFERROR(IF($B565>K$15,0,IF(OFFSET(index!$I$2,MATCH(K$195,index!$I$3:$I$50,0),MONTH(CF表!$B565)),K$21*K$13/K$196,0)),0)","v":0},{"$f":"IFERROR(IF($B565>L$15,0,IF(OFFSET(index!$I$2,MATCH(L$195,index!$I$3:$I$50,0),MONTH(CF表!$B565)),L$21*L$13/L$196,0)),0)","v":0}]
[null,"2053-06-01",{"$f":"IFERROR(IF($B566>C$15,0,IF(OFFSET(index!$I$2,MATCH(C$195,index!$I$3:$I$50,0),MONTH(CF表!$B566)),C$21*C$13/C$196,0)),0)","v":0},{"$f":"IFERROR(IF($B566>D$15,0,IF(OFFSET(index!$I$2,MATCH(D$195,index!$I$3:$I$50,0),MONTH(CF表!$B566)),D$21*D$13/D$196,0)),0)","v":0},{"$f":"IFERROR(IF($B566>E$15,0,IF(OFFSET(index!$I$2,MATCH(E$195,index!$I$3:$I$50,0),MONTH(CF表!$B566)),E$21*E$13/E$196,0)),0)","v":0},{"$f":"IFERROR(IF($B566>F$15,0,IF(OFFSET(index!$I$2,MATCH(F$195,index!$I$3:$I$50,0),MONTH(CF表!$B566)),F$21*F$13/F$196,0)),0)","v":0},{"$f":"IFERROR(IF($B566>G$15,0,IF(OFFSET(index!$I$2,MATCH(G$195,index!$I$3:$I$50,0),MONTH(CF表!$B566)),G$21*G$13/G$196,0)),0)","v":0},{"$f":"IFERROR(IF($B566>H$15,0,IF(OFFSET(index!$I$2,MATCH(H$195,index!$I$3:$I$50,0),MONTH(CF表!$B566)),H$21*H$13/H$196,0)),0)","v":0},{"$f":"IFERROR(IF($B566>I$15,0,IF(OFFSET(index!$I$2,MATCH(I$195,index!$I$3:$I$50,0),MONTH(CF表!$B566)),I$21*I$13/I$196,0)),0)","v":0},{"$f":"IFERROR(IF($B566>J$15,0,IF(OFFSET(index!$I$2,MATCH(J$195,index!$I$3:$I$50,0),MONTH(CF表!$B566)),J$21*J$13/J$196,0)),0)","v":0},{"$f":"IFERROR(IF($B566>K$15,0,IF(OFFSET(index!$I$2,MATCH(K$195,index!$I$3:$I$50,0),MONTH(CF表!$B566)),K$21*K$13/K$196,0)),0)","v":0},{"$f":"IFERROR(IF($B566>L$15,0,IF(OFFSET(index!$I$2,MATCH(L$195,index!$I$3:$I$50,0),MONTH(CF表!$B566)),L$21*L$13/L$196,0)),0)","v":0}]
[null,"2053-07-01",{"$f":"IFERROR(IF($B567>C$15,0,IF(OFFSET(index!$I$2,MATCH(C$195,index!$I$3:$I$50,0),MONTH(CF表!$B567)),C$21*C$13/C$196,0)),0)","v":0},{"$f":"IFERROR(IF($B567>D$15,0,IF(OFFSET(index!$I$2,MATCH(D$195,index!$I$3:$I$50,0),MONTH(CF表!$B567)),D$21*D$13/D$196,0)),0)","v":0},{"$f":"IFERROR(IF($B567>E$15,0,IF(OFFSET(index!$I$2,MATCH(E$195,index!$I$3:$I$50,0),MONTH(CF表!$B567)),E$21*E$13/E$196,0)),0)","v":0},{"$f":"IFERROR(IF($B567>F$15,0,IF(OFFSET(index!$I$2,MATCH(F$195,index!$I$3:$I$50,0),MONTH(CF表!$B567)),F$21*F$13/F$196,0)),0)","v":0},{"$f":"IFERROR(IF($B567>G$15,0,IF(OFFSET(index!$I$2,MATCH(G$195,index!$I$3:$I$50,0),MONTH(CF表!$B567)),G$21*G$13/G$196,0)),0)","v":0},{"$f":"IFERROR(IF($B567>H$15,0,IF(OFFSET(index!$I$2,MATCH(H$195,index!$I$3:$I$50,0),MONTH(CF表!$B567)),H$21*H$13/H$196,0)),0)","v":0},{"$f":"IFERROR(IF($B567>I$15,0,IF(OFFSET(index!$I$2,MATCH(I$195,index!$I$3:$I$50,0),MONTH(CF表!$B567)),I$21*I$13/I$196,0)),0)","v":0},{"$f":"IFERROR(IF($B567>J$15,0,IF(OFFSET(index!$I$2,MATCH(J$195,index!$I$3:$I$50,0),MONTH(CF表!$B567)),J$21*J$13/J$196,0)),0)","v":0},{"$f":"IFERROR(IF($B567>K$15,0,IF(OFFSET(index!$I$2,MATCH(K$195,index!$I$3:$I$50,0),MONTH(CF表!$B567)),K$21*K$13/K$196,0)),0)","v":0},{"$f":"IFERROR(IF($B567>L$15,0,IF(OFFSET(index!$I$2,MATCH(L$195,index!$I$3:$I$50,0),MONTH(CF表!$B567)),L$21*L$13/L$196,0)),0)","v":0}]
[null,"2053-08-01",{"$f":"IFERROR(IF($B568>C$15,0,IF(OFFSET(index!$I$2,MATCH(C$195,index!$I$3:$I$50,0),MONTH(CF表!$B568)),C$21*C$13/C$196,0)),0)","v":0},{"$f":"IFERROR(IF($B568>D$15,0,IF(OFFSET(index!$I$2,MATCH(D$195,index!$I$3:$I$50,0),MONTH(CF表!$B568)),D$21*D$13/D$196,0)),0)","v":0},{"$f":"IFERROR(IF($B568>E$15,0,IF(OFFSET(index!$I$2,MATCH(E$195,index!$I$3:$I$50,0),MONTH(CF表!$B568)),E$21*E$13/E$196,0)),0)","v":0},{"$f":"IFERROR(IF($B568>F$15,0,IF(OFFSET(index!$I$2,MATCH(F$195,index!$I$3:$I$50,0),MONTH(CF表!$B568)),F$21*F$13/F$196,0)),0)","v":0},{"$f":"IFERROR(IF($B568>G$15,0,IF(OFFSET(index!$I$2,MATCH(G$195,index!$I$3:$I$50,0),MONTH(CF表!$B568)),G$21*G$13/G$196,0)),0)","v":0},{"$f":"IFERROR(IF($B568>H$15,0,IF(OFFSET(index!$I$2,MATCH(H$195,index!$I$3:$I$50,0),MONTH(CF表!$B568)),H$21*H$13/H$196,0)),0)","v":0},{"$f":"IFERROR(IF($B568>I$15,0,IF(OFFSET(index!$I$2,MATCH(I$195,index!$I$3:$I$50,0),MONTH(CF表!$B568)),I$21*I$13/I$196,0)),0)","v":0},{"$f":"IFERROR(IF($B568>J$15,0,IF(OFFSET(index!$I$2,MATCH(J$195,index!$I$3:$I$50,0),MONTH(CF表!$B568)),J$21*J$13/J$196,0)),0)","v":0},{"$f":"IFERROR(IF($B568>K$15,0,IF(OFFSET(index!$I$2,MATCH(K$195,index!$I$3:$I$50,0),MONTH(CF表!$B568)),K$21*K$13/K$196,0)),0)","v":0},{"$f":"IFERROR(IF($B568>L$15,0,IF(OFFSET(index!$I$2,MATCH(L$195,index!$I$3:$I$50,0),MONTH(CF表!$B568)),L$21*L$13/L$196,0)),0)","v":0}]
[null,"2053-09-01",{"$f":"IFERROR(IF($B569>C$15,0,IF(OFFSET(index!$I$2,MATCH(C$195,index!$I$3:$I$50,0),MONTH(CF表!$B569)),C$21*C$13/C$196,0)),0)","v":0},{"$f":"IFERROR(IF($B569>D$15,0,IF(OFFSET(index!$I$2,MATCH(D$195,index!$I$3:$I$50,0),MONTH(CF表!$B569)),D$21*D$13/D$196,0)),0)","v":0},{"$f":"IFERROR(IF($B569>E$15,0,IF(OFFSET(index!$I$2,MATCH(E$195,index!$I$3:$I$50,0),MONTH(CF表!$B569)),E$21*E$13/E$196,0)),0)","v":0},{"$f":"IFERROR(IF($B569>F$15,0,IF(OFFSET(index!$I$2,MATCH(F$195,index!$I$3:$I$50,0),MONTH(CF表!$B569)),F$21*F$13/F$196,0)),0)","v":0},{"$f":"IFERROR(IF($B569>G$15,0,IF(OFFSET(index!$I$2,MATCH(G$195,index!$I$3:$I$50,0),MONTH(CF表!$B569)),G$21*G$13/G$196,0)),0)","v":0},{"$f":"IFERROR(IF($B569>H$15,0,IF(OFFSET(index!$I$2,MATCH(H$195,index!$I$3:$I$50,0),MONTH(CF表!$B569)),H$21*H$13/H$196,0)),0)","v":0},{"$f":"IFERROR(IF($B569>I$15,0,IF(OFFSET(index!$I$2,MATCH(I$195,index!$I$3:$I$50,0),MONTH(CF表!$B569)),I$21*I$13/I$196,0)),0)","v":0},{"$f":"IFERROR(IF($B569>J$15,0,IF(OFFSET(index!$I$2,MATCH(J$195,index!$I$3:$I$50,0),MONTH(CF表!$B569)),J$21*J$13/J$196,0)),0)","v":0},{"$f":"IFERROR(IF($B569>K$15,0,IF(OFFSET(index!$I$2,MATCH(K$195,index!$I$3:$I$50,0),MONTH(CF表!$B569)),K$21*K$13/K$196,0)),0)","v":0},{"$f":"IFERROR(IF($B569>L$15,0,IF(OFFSET(index!$I$2,MATCH(L$195,index!$I$3:$I$50,0),MONTH(CF表!$B569)),L$21*L$13/L$196,0)),0)","v":0}]
[null,"2053-10-01",{"$f":"IFERROR(IF($B570>C$15,0,IF(OFFSET(index!$I$2,MATCH(C$195,index!$I$3:$I$50,0),MONTH(CF表!$B570)),C$21*C$13/C$196,0)),0)","v":0},{"$f":"IFERROR(IF($B570>D$15,0,IF(OFFSET(index!$I$2,MATCH(D$195,index!$I$3:$I$50,0),MONTH(CF表!$B570)),D$21*D$13/D$196,0)),0)","v":0},{"$f":"IFERROR(IF($B570>E$15,0,IF(OFFSET(index!$I$2,MATCH(E$195,index!$I$3:$I$50,0),MONTH(CF表!$B570)),E$21*E$13/E$196,0)),0)","v":0},{"$f":"IFERROR(IF($B570>F$15,0,IF(OFFSET(index!$I$2,MATCH(F$195,index!$I$3:$I$50,0),MONTH(CF表!$B570)),F$21*F$13/F$196,0)),0)","v":0},{"$f":"IFERROR(IF($B570>G$15,0,IF(OFFSET(index!$I$2,MATCH(G$195,index!$I$3:$I$50,0),MONTH(CF表!$B570)),G$21*G$13/G$196,0)),0)","v":0},{"$f":"IFERROR(IF($B570>H$15,0,IF(OFFSET(index!$I$2,MATCH(H$195,index!$I$3:$I$50,0),MONTH(CF表!$B570)),H$21*H$13/H$196,0)),0)","v":0},{"$f":"IFERROR(IF($B570>I$15,0,IF(OFFSET(index!$I$2,MATCH(I$195,index!$I$3:$I$50,0),MONTH(CF表!$B570)),I$21*I$13/I$196,0)),0)","v":0},{"$f":"IFERROR(IF($B570>J$15,0,IF(OFFSET(index!$I$2,MATCH(J$195,index!$I$3:$I$50,0),MONTH(CF表!$B570)),J$21*J$13/J$196,0)),0)","v":0},{"$f":"IFERROR(IF($B570>K$15,0,IF(OFFSET(index!$I$2,MATCH(K$195,index!$I$3:$I$50,0),MONTH(CF表!$B570)),K$21*K$13/K$196,0)),0)","v":0},{"$f":"IFERROR(IF($B570>L$15,0,IF(OFFSET(index!$I$2,MATCH(L$195,index!$I$3:$I$50,0),MONTH(CF表!$B570)),L$21*L$13/L$196,0)),0)","v":0}]
[null,"2053-11-01",{"$f":"IFERROR(IF($B571>C$15,0,IF(OFFSET(index!$I$2,MATCH(C$195,index!$I$3:$I$50,0),MONTH(CF表!$B571)),C$21*C$13/C$196,0)),0)","v":0},{"$f":"IFERROR(IF($B571>D$15,0,IF(OFFSET(index!$I$2,MATCH(D$195,index!$I$3:$I$50,0),MONTH(CF表!$B571)),D$21*D$13/D$196,0)),0)","v":0},{"$f":"IFERROR(IF($B571>E$15,0,IF(OFFSET(index!$I$2,MATCH(E$195,index!$I$3:$I$50,0),MONTH(CF表!$B571)),E$21*E$13/E$196,0)),0)","v":0},{"$f":"IFERROR(IF($B571>F$15,0,IF(OFFSET(index!$I$2,MATCH(F$195,index!$I$3:$I$50,0),MONTH(CF表!$B571)),F$21*F$13/F$196,0)),0)","v":0},{"$f":"IFERROR(IF($B571>G$15,0,IF(OFFSET(index!$I$2,MATCH(G$195,index!$I$3:$I$50,0),MONTH(CF表!$B571)),G$21*G$13/G$196,0)),0)","v":0},{"$f":"IFERROR(IF($B571>H$15,0,IF(OFFSET(index!$I$2,MATCH(H$195,index!$I$3:$I$50,0),MONTH(CF表!$B571)),H$21*H$13/H$196,0)),0)","v":0},{"$f":"IFERROR(IF($B571>I$15,0,IF(OFFSET(index!$I$2,MATCH(I$195,index!$I$3:$I$50,0),MONTH(CF表!$B571)),I$21*I$13/I$196,0)),0)","v":0},{"$f":"IFERROR(IF($B571>J$15,0,IF(OFFSET(index!$I$2,MATCH(J$195,index!$I$3:$I$50,0),MONTH(CF表!$B571)),J$21*J$13/J$196,0)),0)","v":0},{"$f":"IFERROR(IF($B571>K$15,0,IF(OFFSET(index!$I$2,MATCH(K$195,index!$I$3:$I$50,0),MONTH(CF表!$B571)),K$21*K$13/K$196,0)),0)","v":0},{"$f":"IFERROR(IF($B571>L$15,0,IF(OFFSET(index!$I$2,MATCH(L$195,index!$I$3:$I$50,0),MONTH(CF表!$B571)),L$21*L$13/L$196,0)),0)","v":0}]
[null,"2053-12-01",{"$f":"IFERROR(IF($B572>C$15,0,IF(OFFSET(index!$I$2,MATCH(C$195,index!$I$3:$I$50,0),MONTH(CF表!$B572)),C$21*C$13/C$196,0)),0)","v":0},{"$f":"IFERROR(IF($B572>D$15,0,IF(OFFSET(index!$I$2,MATCH(D$195,index!$I$3:$I$50,0),MONTH(CF表!$B572)),D$21*D$13/D$196,0)),0)","v":0},{"$f":"IFERROR(IF($B572>E$15,0,IF(OFFSET(index!$I$2,MATCH(E$195,index!$I$3:$I$50,0),MONTH(CF表!$B572)),E$21*E$13/E$196,0)),0)","v":0},{"$f":"IFERROR(IF($B572>F$15,0,IF(OFFSET(index!$I$2,MATCH(F$195,index!$I$3:$I$50,0),MONTH(CF表!$B572)),F$21*F$13/F$196,0)),0)","v":0},{"$f":"IFERROR(IF($B572>G$15,0,IF(OFFSET(index!$I$2,MATCH(G$195,index!$I$3:$I$50,0),MONTH(CF表!$B572)),G$21*G$13/G$196,0)),0)","v":0},{"$f":"IFERROR(IF($B572>H$15,0,IF(OFFSET(index!$I$2,MATCH(H$195,index!$I$3:$I$50,0),MONTH(CF表!$B572)),H$21*H$13/H$196,0)),0)","v":0},{"$f":"IFERROR(IF($B572>I$15,0,IF(OFFSET(index!$I$2,MATCH(I$195,index!$I$3:$I$50,0),MONTH(CF表!$B572)),I$21*I$13/I$196,0)),0)","v":0},{"$f":"IFERROR(IF($B572>J$15,0,IF(OFFSET(index!$I$2,MATCH(J$195,index!$I$3:$I$50,0),MONTH(CF表!$B572)),J$21*J$13/J$196,0)),0)","v":0},{"$f":"IFERROR(IF($B572>K$15,0,IF(OFFSET(index!$I$2,MATCH(K$195,index!$I$3:$I$50,0),MONTH(CF表!$B572)),K$21*K$13/K$196,0)),0)","v":0},{"$f":"IFERROR(IF($B572>L$15,0,IF(OFFSET(index!$I$2,MATCH(L$195,index!$I$3:$I$50,0),MONTH(CF表!$B572)),L$21*L$13/L$196,0)),0)","v":0}]
[null,{"$f":"EDATE(B572,1)","v":"2054-01-01"},{"$f":"IFERROR(IF($B573>C$15,0,IF(OFFSET(index!$I$2,MATCH(C$195,index!$I$3:$I$50,0),MONTH(CF表!$B573)),C$21*C$13/C$196,0)),0)","v":0},{"$f":"IFERROR(IF($B573>D$15,0,IF(OFFSET(index!$I$2,MATCH(D$195,index!$I$3:$I$50,0),MONTH(CF表!$B573)),D$21*D$13/D$196,0)),0)","v":0},{"$f":"IFERROR(IF($B573>E$15,0,IF(OFFSET(index!$I$2,MATCH(E$195,index!$I$3:$I$50,0),MONTH(CF表!$B573)),E$21*E$13/E$196,0)),0)","v":0},{"$f":"IFERROR(IF($B573>F$15,0,IF(OFFSET(index!$I$2,MATCH(F$195,index!$I$3:$I$50,0),MONTH(CF表!$B573)),F$21*F$13/F$196,0)),0)","v":0},{"$f":"IFERROR(IF($B573>G$15,0,IF(OFFSET(index!$I$2,MATCH(G$195,index!$I$3:$I$50,0),MONTH(CF表!$B573)),G$21*G$13/G$196,0)),0)","v":0},{"$f":"IFERROR(IF($B573>H$15,0,IF(OFFSET(index!$I$2,MATCH(H$195,index!$I$3:$I$50,0),MONTH(CF表!$B573)),H$21*H$13/H$196,0)),0)","v":0},{"$f":"IFERROR(IF($B573>I$15,0,IF(OFFSET(index!$I$2,MATCH(I$195,index!$I$3:$I$50,0),MONTH(CF表!$B573)),I$21*I$13/I$196,0)),0)","v":0},{"$f":"IFERROR(IF($B573>J$15,0,IF(OFFSET(index!$I$2,MATCH(J$195,index!$I$3:$I$50,0),MONTH(CF表!$B573)),J$21*J$13/J$196,0)),0)","v":0},{"$f":"IFERROR(IF($B573>K$15,0,IF(OFFSET(index!$I$2,MATCH(K$195,index!$I$3:$I$50,0),MONTH(CF表!$B573)),K$21*K$13/K$196,0)),0)","v":0},{"$f":"IFERROR(IF($B573>L$15,0,IF(OFFSET(index!$I$2,MATCH(L$195,index!$I$3:$I$50,0),MONTH(CF表!$B573)),L$21*L$13/L$196,0)),0)","v":0}]
[null,"2054-02-01",{"$f":"IFERROR(IF($B574>C$15,0,IF(OFFSET(index!$I$2,MATCH(C$195,index!$I$3:$I$50,0),MONTH(CF表!$B574)),C$21*C$13/C$196,0)),0)","v":0},{"$f":"IFERROR(IF($B574>D$15,0,IF(OFFSET(index!$I$2,MATCH(D$195,index!$I$3:$I$50,0),MONTH(CF表!$B574)),D$21*D$13/D$196,0)),0)","v":0},{"$f":"IFERROR(IF($B574>E$15,0,IF(OFFSET(index!$I$2,MATCH(E$195,index!$I$3:$I$50,0),MONTH(CF表!$B574)),E$21*E$13/E$196,0)),0)","v":0},{"$f":"IFERROR(IF($B574>F$15,0,IF(OFFSET(index!$I$2,MATCH(F$195,index!$I$3:$I$50,0),MONTH(CF表!$B574)),F$21*F$13/F$196,0)),0)","v":0},{"$f":"IFERROR(IF($B574>G$15,0,IF(OFFSET(index!$I$2,MATCH(G$195,index!$I$3:$I$50,0),MONTH(CF表!$B574)),G$21*G$13/G$196,0)),0)","v":0},{"$f":"IFERROR(IF($B574>H$15,0,IF(OFFSET(index!$I$2,MATCH(H$195,index!$I$3:$I$50,0),MONTH(CF表!$B574)),H$21*H$13/H$196,0)),0)","v":0},{"$f":"IFERROR(IF($B574>I$15,0,IF(OFFSET(index!$I$2,MATCH(I$195,index!$I$3:$I$50,0),MONTH(CF表!$B574)),I$21*I$13/I$196,0)),0)","v":0},{"$f":"IFERROR(IF($B574>J$15,0,IF(OFFSET(index!$I$2,MATCH(J$195,index!$I$3:$I$50,0),MONTH(CF表!$B574)),J$21*J$13/J$196,0)),0)","v":0},{"$f":"IFERROR(IF($B574>K$15,0,IF(OFFSET(index!$I$2,MATCH(K$195,index!$I$3:$I$50,0),MONTH(CF表!$B574)),K$21*K$13/K$196,0)),0)","v":0},{"$f":"IFERROR(IF($B574>L$15,0,IF(OFFSET(index!$I$2,MATCH(L$195,index!$I$3:$I$50,0),MONTH(CF表!$B574)),L$21*L$13/L$196,0)),0)","v":0}]
[null,"2054-03-01",{"$f":"IFERROR(IF($B575>C$15,0,IF(OFFSET(index!$I$2,MATCH(C$195,index!$I$3:$I$50,0),MONTH(CF表!$B575)),C$21*C$13/C$196,0)),0)","v":0},{"$f":"IFERROR(IF($B575>D$15,0,IF(OFFSET(index!$I$2,MATCH(D$195,index!$I$3:$I$50,0),MONTH(CF表!$B575)),D$21*D$13/D$196,0)),0)","v":0},{"$f":"IFERROR(IF($B575>E$15,0,IF(OFFSET(index!$I$2,MATCH(E$195,index!$I$3:$I$50,0),MONTH(CF表!$B575)),E$21*E$13/E$196,0)),0)","v":0},{"$f":"IFERROR(IF($B575>F$15,0,IF(OFFSET(index!$I$2,MATCH(F$195,index!$I$3:$I$50,0),MONTH(CF表!$B575)),F$21*F$13/F$196,0)),0)","v":0},{"$f":"IFERROR(IF($B575>G$15,0,IF(OFFSET(index!$I$2,MATCH(G$195,index!$I$3:$I$50,0),MONTH(CF表!$B575)),G$21*G$13/G$196,0)),0)","v":0},{"$f":"IFERROR(IF($B575>H$15,0,IF(OFFSET(index!$I$2,MATCH(H$195,index!$I$3:$I$50,0),MONTH(CF表!$B575)),H$21*H$13/H$196,0)),0)","v":0},{"$f":"IFERROR(IF($B575>I$15,0,IF(OFFSET(index!$I$2,MATCH(I$195,index!$I$3:$I$50,0),MONTH(CF表!$B575)),I$21*I$13/I$196,0)),0)","v":0},{"$f":"IFERROR(IF($B575>J$15,0,IF(OFFSET(index!$I$2,MATCH(J$195,index!$I$3:$I$50,0),MONTH(CF表!$B575)),J$21*J$13/J$196,0)),0)","v":0},{"$f":"IFERROR(IF($B575>K$15,0,IF(OFFSET(index!$I$2,MATCH(K$195,index!$I$3:$I$50,0),MONTH(CF表!$B575)),K$21*K$13/K$196,0)),0)","v":0},{"$f":"IFERROR(IF($B575>L$15,0,IF(OFFSET(index!$I$2,MATCH(L$195,index!$I$3:$I$50,0),MONTH(CF表!$B575)),L$21*L$13/L$196,0)),0)","v":0}]
[null,"2054-04-01",{"$f":"IFERROR(IF($B576>C$15,0,IF(OFFSET(index!$I$2,MATCH(C$195,index!$I$3:$I$50,0),MONTH(CF表!$B576)),C$21*C$13/C$196,0)),0)","v":0},{"$f":"IFERROR(IF($B576>D$15,0,IF(OFFSET(index!$I$2,MATCH(D$195,index!$I$3:$I$50,0),MONTH(CF表!$B576)),D$21*D$13/D$196,0)),0)","v":0},{"$f":"IFERROR(IF($B576>E$15,0,IF(OFFSET(index!$I$2,MATCH(E$195,index!$I$3:$I$50,0),MONTH(CF表!$B576)),E$21*E$13/E$196,0)),0)","v":0},{"$f":"IFERROR(IF($B576>F$15,0,IF(OFFSET(index!$I$2,MATCH(F$195,index!$I$3:$I$50,0),MONTH(CF表!$B576)),F$21*F$13/F$196,0)),0)","v":0},{"$f":"IFERROR(IF($B576>G$15,0,IF(OFFSET(index!$I$2,MATCH(G$195,index!$I$3:$I$50,0),MONTH(CF表!$B576)),G$21*G$13/G$196,0)),0)","v":0},{"$f":"IFERROR(IF($B576>H$15,0,IF(OFFSET(index!$I$2,MATCH(H$195,index!$I$3:$I$50,0),MONTH(CF表!$B576)),H$21*H$13/H$196,0)),0)","v":0},{"$f":"IFERROR(IF($B576>I$15,0,IF(OFFSET(index!$I$2,MATCH(I$195,index!$I$3:$I$50,0),MONTH(CF表!$B576)),I$21*I$13/I$196,0)),0)","v":0},{"$f":"IFERROR(IF($B576>J$15,0,IF(OFFSET(index!$I$2,MATCH(J$195,index!$I$3:$I$50,0),MONTH(CF表!$B576)),J$21*J$13/J$196,0)),0)","v":0},{"$f":"IFERROR(IF($B576>K$15,0,IF(OFFSET(index!$I$2,MATCH(K$195,index!$I$3:$I$50,0),MONTH(CF表!$B576)),K$21*K$13/K$196,0)),0)","v":0},{"$f":"IFERROR(IF($B576>L$15,0,IF(OFFSET(index!$I$2,MATCH(L$195,index!$I$3:$I$50,0),MONTH(CF表!$B576)),L$21*L$13/L$196,0)),0)","v":0}]
[null,"2054-05-01",{"$f":"IFERROR(IF($B577>C$15,0,IF(OFFSET(index!$I$2,MATCH(C$195,index!$I$3:$I$50,0),MONTH(CF表!$B577)),C$21*C$13/C$196,0)),0)","v":0},{"$f":"IFERROR(IF($B577>D$15,0,IF(OFFSET(index!$I$2,MATCH(D$195,index!$I$3:$I$50,0),MONTH(CF表!$B577)),D$21*D$13/D$196,0)),0)","v":0},{"$f":"IFERROR(IF($B577>E$15,0,IF(OFFSET(index!$I$2,MATCH(E$195,index!$I$3:$I$50,0),MONTH(CF表!$B577)),E$21*E$13/E$196,0)),0)","v":0},{"$f":"IFERROR(IF($B577>F$15,0,IF(OFFSET(index!$I$2,MATCH(F$195,index!$I$3:$I$50,0),MONTH(CF表!$B577)),F$21*F$13/F$196,0)),0)","v":0},{"$f":"IFERROR(IF($B577>G$15,0,IF(OFFSET(index!$I$2,MATCH(G$195,index!$I$3:$I$50,0),MONTH(CF表!$B577)),G$21*G$13/G$196,0)),0)","v":0},{"$f":"IFERROR(IF($B577>H$15,0,IF(OFFSET(index!$I$2,MATCH(H$195,index!$I$3:$I$50,0),MONTH(CF表!$B577)),H$21*H$13/H$196,0)),0)","v":0},{"$f":"IFERROR(IF($B577>I$15,0,IF(OFFSET(index!$I$2,MATCH(I$195,index!$I$3:$I$50,0),MONTH(CF表!$B577)),I$21*I$13/I$196,0)),0)","v":0},{"$f":"IFERROR(IF($B577>J$15,0,IF(OFFSET(index!$I$2,MATCH(J$195,index!$I$3:$I$50,0),MONTH(CF表!$B577)),J$21*J$13/J$196,0)),0)","v":0},{"$f":"IFERROR(IF($B577>K$15,0,IF(OFFSET(index!$I$2,MATCH(K$195,index!$I$3:$I$50,0),MONTH(CF表!$B577)),K$21*K$13/K$196,0)),0)","v":0},{"$f":"IFERROR(IF($B577>L$15,0,IF(OFFSET(index!$I$2,MATCH(L$195,index!$I$3:$I$50,0),MONTH(CF表!$B577)),L$21*L$13/L$196,0)),0)","v":0}]
[null,"2054-06-01",{"$f":"IFERROR(IF($B578>C$15,0,IF(OFFSET(index!$I$2,MATCH(C$195,index!$I$3:$I$50,0),MONTH(CF表!$B578)),C$21*C$13/C$196,0)),0)","v":0},{"$f":"IFERROR(IF($B578>D$15,0,IF(OFFSET(index!$I$2,MATCH(D$195,index!$I$3:$I$50,0),MONTH(CF表!$B578)),D$21*D$13/D$196,0)),0)","v":0},{"$f":"IFERROR(IF($B578>E$15,0,IF(OFFSET(index!$I$2,MATCH(E$195,index!$I$3:$I$50,0),MONTH(CF表!$B578)),E$21*E$13/E$196,0)),0)","v":0},{"$f":"IFERROR(IF($B578>F$15,0,IF(OFFSET(index!$I$2,MATCH(F$195,index!$I$3:$I$50,0),MONTH(CF表!$B578)),F$21*F$13/F$196,0)),0)","v":0},{"$f":"IFERROR(IF($B578>G$15,0,IF(OFFSET(index!$I$2,MATCH(G$195,index!$I$3:$I$50,0),MONTH(CF表!$B578)),G$21*G$13/G$196,0)),0)","v":0},{"$f":"IFERROR(IF($B578>H$15,0,IF(OFFSET(index!$I$2,MATCH(H$195,index!$I$3:$I$50,0),MONTH(CF表!$B578)),H$21*H$13/H$196,0)),0)","v":0},{"$f":"IFERROR(IF($B578>I$15,0,IF(OFFSET(index!$I$2,MATCH(I$195,index!$I$3:$I$50,0),MONTH(CF表!$B578)),I$21*I$13/I$196,0)),0)","v":0},{"$f":"IFERROR(IF($B578>J$15,0,IF(OFFSET(index!$I$2,MATCH(J$195,index!$I$3:$I$50,0),MONTH(CF表!$B578)),J$21*J$13/J$196,0)),0)","v":0},{"$f":"IFERROR(IF($B578>K$15,0,IF(OFFSET(index!$I$2,MATCH(K$195,index!$I$3:$I$50,0),MONTH(CF表!$B578)),K$21*K$13/K$196,0)),0)","v":0},{"$f":"IFERROR(IF($B578>L$15,0,IF(OFFSET(index!$I$2,MATCH(L$195,index!$I$3:$I$50,0),MONTH(CF表!$B578)),L$21*L$13/L$196,0)),0)","v":0}]
[null,"2054-07-01",{"$f":"IFERROR(IF($B579>C$15,0,IF(OFFSET(index!$I$2,MATCH(C$195,index!$I$3:$I$50,0),MONTH(CF表!$B579)),C$21*C$13/C$196,0)),0)","v":0},{"$f":"IFERROR(IF($B579>D$15,0,IF(OFFSET(index!$I$2,MATCH(D$195,index!$I$3:$I$50,0),MONTH(CF表!$B579)),D$21*D$13/D$196,0)),0)","v":0},{"$f":"IFERROR(IF($B579>E$15,0,IF(OFFSET(index!$I$2,MATCH(E$195,index!$I$3:$I$50,0),MONTH(CF表!$B579)),E$21*E$13/E$196,0)),0)","v":0},{"$f":"IFERROR(IF($B579>F$15,0,IF(OFFSET(index!$I$2,MATCH(F$195,index!$I$3:$I$50,0),MONTH(CF表!$B579)),F$21*F$13/F$196,0)),0)","v":0},{"$f":"IFERROR(IF($B579>G$15,0,IF(OFFSET(index!$I$2,MATCH(G$195,index!$I$3:$I$50,0),MONTH(CF表!$B579)),G$21*G$13/G$196,0)),0)","v":0},{"$f":"IFERROR(IF($B579>H$15,0,IF(OFFSET(index!$I$2,MATCH(H$195,index!$I$3:$I$50,0),MONTH(CF表!$B579)),H$21*H$13/H$196,0)),0)","v":0},{"$f":"IFERROR(IF($B579>I$15,0,IF(OFFSET(index!$I$2,MATCH(I$195,index!$I$3:$I$50,0),MONTH(CF表!$B579)),I$21*I$13/I$196,0)),0)","v":0},{"$f":"IFERROR(IF($B579>J$15,0,IF(OFFSET(index!$I$2,MATCH(J$195,index!$I$3:$I$50,0),MONTH(CF表!$B579)),J$21*J$13/J$196,0)),0)","v":0},{"$f":"IFERROR(IF($B579>K$15,0,IF(OFFSET(index!$I$2,MATCH(K$195,index!$I$3:$I$50,0),MONTH(CF表!$B579)),K$21*K$13/K$196,0)),0)","v":0},{"$f":"IFERROR(IF($B579>L$15,0,IF(OFFSET(index!$I$2,MATCH(L$195,index!$I$3:$I$50,0),MONTH(CF表!$B579)),L$21*L$13/L$196,0)),0)","v":0}]
[null,"2054-08-01",{"$f":"IFERROR(IF($B580>C$15,0,IF(OFFSET(index!$I$2,MATCH(C$195,index!$I$3:$I$50,0),MONTH(CF表!$B580)),C$21*C$13/C$196,0)),0)","v":0},{"$f":"IFERROR(IF($B580>D$15,0,IF(OFFSET(index!$I$2,MATCH(D$195,index!$I$3:$I$50,0),MONTH(CF表!$B580)),D$21*D$13/D$196,0)),0)","v":0},{"$f":"IFERROR(IF($B580>E$15,0,IF(OFFSET(index!$I$2,MATCH(E$195,index!$I$3:$I$50,0),MONTH(CF表!$B580)),E$21*E$13/E$196,0)),0)","v":0},{"$f":"IFERROR(IF($B580>F$15,0,IF(OFFSET(index!$I$2,MATCH(F$195,index!$I$3:$I$50,0),MONTH(CF表!$B580)),F$21*F$13/F$196,0)),0)","v":0},{"$f":"IFERROR(IF($B580>G$15,0,IF(OFFSET(index!$I$2,MATCH(G$195,index!$I$3:$I$50,0),MONTH(CF表!$B580)),G$21*G$13/G$196,0)),0)","v":0},{"$f":"IFERROR(IF($B580>H$15,0,IF(OFFSET(index!$I$2,MATCH(H$195,index!$I$3:$I$50,0),MONTH(CF表!$B580)),H$21*H$13/H$196,0)),0)","v":0},{"$f":"IFERROR(IF($B580>I$15,0,IF(OFFSET(index!$I$2,MATCH(I$195,index!$I$3:$I$50,0),MONTH(CF表!$B580)),I$21*I$13/I$196,0)),0)","v":0},{"$f":"IFERROR(IF($B580>J$15,0,IF(OFFSET(index!$I$2,MATCH(J$195,index!$I$3:$I$50,0),MONTH(CF表!$B580)),J$21*J$13/J$196,0)),0)","v":0},{"$f":"IFERROR(IF($B580>K$15,0,IF(OFFSET(index!$I$2,MATCH(K$195,index!$I$3:$I$50,0),MONTH(CF表!$B580)),K$21*K$13/K$196,0)),0)","v":0},{"$f":"IFERROR(IF($B580>L$15,0,IF(OFFSET(index!$I$2,MATCH(L$195,index!$I$3:$I$50,0),MONTH(CF表!$B580)),L$21*L$13/L$196,0)),0)","v":0}]
[null,"2054-09-01",{"$f":"IFERROR(IF($B581>C$15,0,IF(OFFSET(index!$I$2,MATCH(C$195,index!$I$3:$I$50,0),MONTH(CF表!$B581)),C$21*C$13/C$196,0)),0)","v":0},{"$f":"IFERROR(IF($B581>D$15,0,IF(OFFSET(index!$I$2,MATCH(D$195,index!$I$3:$I$50,0),MONTH(CF表!$B581)),D$21*D$13/D$196,0)),0)","v":0},{"$f":"IFERROR(IF($B581>E$15,0,IF(OFFSET(index!$I$2,MATCH(E$195,index!$I$3:$I$50,0),MONTH(CF表!$B581)),E$21*E$13/E$196,0)),0)","v":0},{"$f":"IFERROR(IF($B581>F$15,0,IF(OFFSET(index!$I$2,MATCH(F$195,index!$I$3:$I$50,0),MONTH(CF表!$B581)),F$21*F$13/F$196,0)),0)","v":0},{"$f":"IFERROR(IF($B581>G$15,0,IF(OFFSET(index!$I$2,MATCH(G$195,index!$I$3:$I$50,0),MONTH(CF表!$B581)),G$21*G$13/G$196,0)),0)","v":0},{"$f":"IFERROR(IF($B581>H$15,0,IF(OFFSET(index!$I$2,MATCH(H$195,index!$I$3:$I$50,0),MONTH(CF表!$B581)),H$21*H$13/H$196,0)),0)","v":0},{"$f":"IFERROR(IF($B581>I$15,0,IF(OFFSET(index!$I$2,MATCH(I$195,index!$I$3:$I$50,0),MONTH(CF表!$B581)),I$21*I$13/I$196,0)),0)","v":0},{"$f":"IFERROR(IF($B581>J$15,0,IF(OFFSET(index!$I$2,MATCH(J$195,index!$I$3:$I$50,0),MONTH(CF表!$B581)),J$21*J$13/J$196,0)),0)","v":0},{"$f":"IFERROR(IF($B581>K$15,0,IF(OFFSET(index!$I$2,MATCH(K$195,index!$I$3:$I$50,0),MONTH(CF表!$B581)),K$21*K$13/K$196,0)),0)","v":0},{"$f":"IFERROR(IF($B581>L$15,0,IF(OFFSET(index!$I$2,MATCH(L$195,index!$I$3:$I$50,0),MONTH(CF表!$B581)),L$21*L$13/L$196,0)),0)","v":0}]
[null,"2054-10-01",{"$f":"IFERROR(IF($B582>C$15,0,IF(OFFSET(index!$I$2,MATCH(C$195,index!$I$3:$I$50,0),MONTH(CF表!$B582)),C$21*C$13/C$196,0)),0)","v":0},{"$f":"IFERROR(IF($B582>D$15,0,IF(OFFSET(index!$I$2,MATCH(D$195,index!$I$3:$I$50,0),MONTH(CF表!$B582)),D$21*D$13/D$196,0)),0)","v":0},{"$f":"IFERROR(IF($B582>E$15,0,IF(OFFSET(index!$I$2,MATCH(E$195,index!$I$3:$I$50,0),MONTH(CF表!$B582)),E$21*E$13/E$196,0)),0)","v":0},{"$f":"IFERROR(IF($B582>F$15,0,IF(OFFSET(index!$I$2,MATCH(F$195,index!$I$3:$I$50,0),MONTH(CF表!$B582)),F$21*F$13/F$196,0)),0)","v":0},{"$f":"IFERROR(IF($B582>G$15,0,IF(OFFSET(index!$I$2,MATCH(G$195,index!$I$3:$I$50,0),MONTH(CF表!$B582)),G$21*G$13/G$196,0)),0)","v":0},{"$f":"IFERROR(IF($B582>H$15,0,IF(OFFSET(index!$I$2,MATCH(H$195,index!$I$3:$I$50,0),MONTH(CF表!$B582)),H$21*H$13/H$196,0)),0)","v":0},{"$f":"IFERROR(IF($B582>I$15,0,IF(OFFSET(index!$I$2,MATCH(I$195,index!$I$3:$I$50,0),MONTH(CF表!$B582)),I$21*I$13/I$196,0)),0)","v":0},{"$f":"IFERROR(IF($B582>J$15,0,IF(OFFSET(index!$I$2,MATCH(J$195,index!$I$3:$I$50,0),MONTH(CF表!$B582)),J$21*J$13/J$196,0)),0)","v":0},{"$f":"IFERROR(IF($B582>K$15,0,IF(OFFSET(index!$I$2,MATCH(K$195,index!$I$3:$I$50,0),MONTH(CF表!$B582)),K$21*K$13/K$196,0)),0)","v":0},{"$f":"IFERROR(IF($B582>L$15,0,IF(OFFSET(index!$I$2,MATCH(L$195,index!$I$3:$I$50,0),MONTH(CF表!$B582)),L$21*L$13/L$196,0)),0)","v":0}]
[null,"2054-11-01",{"$f":"IFERROR(IF($B583>C$15,0,IF(OFFSET(index!$I$2,MATCH(C$195,index!$I$3:$I$50,0),MONTH(CF表!$B583)),C$21*C$13/C$196,0)),0)","v":0},{"$f":"IFERROR(IF($B583>D$15,0,IF(OFFSET(index!$I$2,MATCH(D$195,index!$I$3:$I$50,0),MONTH(CF表!$B583)),D$21*D$13/D$196,0)),0)","v":0},{"$f":"IFERROR(IF($B583>E$15,0,IF(OFFSET(index!$I$2,MATCH(E$195,index!$I$3:$I$50,0),MONTH(CF表!$B583)),E$21*E$13/E$196,0)),0)","v":0},{"$f":"IFERROR(IF($B583>F$15,0,IF(OFFSET(index!$I$2,MATCH(F$195,index!$I$3:$I$50,0),MONTH(CF表!$B583)),F$21*F$13/F$196,0)),0)","v":0},{"$f":"IFERROR(IF($B583>G$15,0,IF(OFFSET(index!$I$2,MATCH(G$195,index!$I$3:$I$50,0),MONTH(CF表!$B583)),G$21*G$13/G$196,0)),0)","v":0},{"$f":"IFERROR(IF($B583>H$15,0,IF(OFFSET(index!$I$2,MATCH(H$195,index!$I$3:$I$50,0),MONTH(CF表!$B583)),H$21*H$13/H$196,0)),0)","v":0},{"$f":"IFERROR(IF($B583>I$15,0,IF(OFFSET(index!$I$2,MATCH(I$195,index!$I$3:$I$50,0),MONTH(CF表!$B583)),I$21*I$13/I$196,0)),0)","v":0},{"$f":"IFERROR(IF($B583>J$15,0,IF(OFFSET(index!$I$2,MATCH(J$195,index!$I$3:$I$50,0),MONTH(CF表!$B583)),J$21*J$13/J$196,0)),0)","v":0},{"$f":"IFERROR(IF($B583>K$15,0,IF(OFFSET(index!$I$2,MATCH(K$195,index!$I$3:$I$50,0),MONTH(CF表!$B583)),K$21*K$13/K$196,0)),0)","v":0},{"$f":"IFERROR(IF($B583>L$15,0,IF(OFFSET(index!$I$2,MATCH(L$195,index!$I$3:$I$50,0),MONTH(CF表!$B583)),L$21*L$13/L$196,0)),0)","v":0}]
[null,"2054-12-01",{"$f":"IFERROR(IF($B584>C$15,0,IF(OFFSET(index!$I$2,MATCH(C$195,index!$I$3:$I$50,0),MONTH(CF表!$B584)),C$21*C$13/C$196,0)),0)","v":0},{"$f":"IFERROR(IF($B584>D$15,0,IF(OFFSET(index!$I$2,MATCH(D$195,index!$I$3:$I$50,0),MONTH(CF表!$B584)),D$21*D$13/D$196,0)),0)","v":0},{"$f":"IFERROR(IF($B584>E$15,0,IF(OFFSET(index!$I$2,MATCH(E$195,index!$I$3:$I$50,0),MONTH(CF表!$B584)),E$21*E$13/E$196,0)),0)","v":0},{"$f":"IFERROR(IF($B584>F$15,0,IF(OFFSET(index!$I$2,MATCH(F$195,index!$I$3:$I$50,0),MONTH(CF表!$B584)),F$21*F$13/F$196,0)),0)","v":0},{"$f":"IFERROR(IF($B584>G$15,0,IF(OFFSET(index!$I$2,MATCH(G$195,index!$I$3:$I$50,0),MONTH(CF表!$B584)),G$21*G$13/G$196,0)),0)","v":0},{"$f":"IFERROR(IF($B584>H$15,0,IF(OFFSET(index!$I$2,MATCH(H$195,index!$I$3:$I$50,0),MONTH(CF表!$B584)),H$21*H$13/H$196,0)),0)","v":0},{"$f":"IFERROR(IF($B584>I$15,0,IF(OFFSET(index!$I$2,MATCH(I$195,index!$I$3:$I$50,0),MONTH(CF表!$B584)),I$21*I$13/I$196,0)),0)","v":0},{"$f":"IFERROR(IF($B584>J$15,0,IF(OFFSET(index!$I$2,MATCH(J$195,index!$I$3:$I$50,0),MONTH(CF表!$B584)),J$21*J$13/J$196,0)),0)","v":0},{"$f":"IFERROR(IF($B584>K$15,0,IF(OFFSET(index!$I$2,MATCH(K$195,index!$I$3:$I$50,0),MONTH(CF表!$B584)),K$21*K$13/K$196,0)),0)","v":0},{"$f":"IFERROR(IF($B584>L$15,0,IF(OFFSET(index!$I$2,MATCH(L$195,index!$I$3:$I$50,0),MONTH(CF表!$B584)),L$21*L$13/L$196,0)),0)","v":0}]
[null,"2055-01-01",{"$f":"IFERROR(IF($B585>C$15,0,IF(OFFSET(index!$I$2,MATCH(C$195,index!$I$3:$I$50,0),MONTH(CF表!$B585)),C$21*C$13/C$196,0)),0)","v":0},{"$f":"IFERROR(IF($B585>D$15,0,IF(OFFSET(index!$I$2,MATCH(D$195,index!$I$3:$I$50,0),MONTH(CF表!$B585)),D$21*D$13/D$196,0)),0)","v":0},{"$f":"IFERROR(IF($B585>E$15,0,IF(OFFSET(index!$I$2,MATCH(E$195,index!$I$3:$I$50,0),MONTH(CF表!$B585)),E$21*E$13/E$196,0)),0)","v":0},{"$f":"IFERROR(IF($B585>F$15,0,IF(OFFSET(index!$I$2,MATCH(F$195,index!$I$3:$I$50,0),MONTH(CF表!$B585)),F$21*F$13/F$196,0)),0)","v":0},{"$f":"IFERROR(IF($B585>G$15,0,IF(OFFSET(index!$I$2,MATCH(G$195,index!$I$3:$I$50,0),MONTH(CF表!$B585)),G$21*G$13/G$196,0)),0)","v":0},{"$f":"IFERROR(IF($B585>H$15,0,IF(OFFSET(index!$I$2,MATCH(H$195,index!$I$3:$I$50,0),MONTH(CF表!$B585)),H$21*H$13/H$196,0)),0)","v":0},{"$f":"IFERROR(IF($B585>I$15,0,IF(OFFSET(index!$I$2,MATCH(I$195,index!$I$3:$I$50,0),MONTH(CF表!$B585)),I$21*I$13/I$196,0)),0)","v":0},{"$f":"IFERROR(IF($B585>J$15,0,IF(OFFSET(index!$I$2,MATCH(J$195,index!$I$3:$I$50,0),MONTH(CF表!$B585)),J$21*J$13/J$196,0)),0)","v":0},{"$f":"IFERROR(IF($B585>K$15,0,IF(OFFSET(index!$I$2,MATCH(K$195,index!$I$3:$I$50,0),MONTH(CF表!$B585)),K$21*K$13/K$196,0)),0)","v":0},{"$f":"IFERROR(IF($B585>L$15,0,IF(OFFSET(index!$I$2,MATCH(L$195,index!$I$3:$I$50,0),MONTH(CF表!$B585)),L$21*L$13/L$196,0)),0)","v":0}]
[null,"2055-02-01",{"$f":"IFERROR(IF($B586>C$15,0,IF(OFFSET(index!$I$2,MATCH(C$195,index!$I$3:$I$50,0),MONTH(CF表!$B586)),C$21*C$13/C$196,0)),0)","v":0},{"$f":"IFERROR(IF($B586>D$15,0,IF(OFFSET(index!$I$2,MATCH(D$195,index!$I$3:$I$50,0),MONTH(CF表!$B586)),D$21*D$13/D$196,0)),0)","v":0},{"$f":"IFERROR(IF($B586>E$15,0,IF(OFFSET(index!$I$2,MATCH(E$195,index!$I$3:$I$50,0),MONTH(CF表!$B586)),E$21*E$13/E$196,0)),0)","v":0},{"$f":"IFERROR(IF($B586>F$15,0,IF(OFFSET(index!$I$2,MATCH(F$195,index!$I$3:$I$50,0),MONTH(CF表!$B586)),F$21*F$13/F$196,0)),0)","v":0},{"$f":"IFERROR(IF($B586>G$15,0,IF(OFFSET(index!$I$2,MATCH(G$195,index!$I$3:$I$50,0),MONTH(CF表!$B586)),G$21*G$13/G$196,0)),0)","v":0},{"$f":"IFERROR(IF($B586>H$15,0,IF(OFFSET(index!$I$2,MATCH(H$195,index!$I$3:$I$50,0),MONTH(CF表!$B586)),H$21*H$13/H$196,0)),0)","v":0},{"$f":"IFERROR(IF($B586>I$15,0,IF(OFFSET(index!$I$2,MATCH(I$195,index!$I$3:$I$50,0),MONTH(CF表!$B586)),I$21*I$13/I$196,0)),0)","v":0},{"$f":"IFERROR(IF($B586>J$15,0,IF(OFFSET(index!$I$2,MATCH(J$195,index!$I$3:$I$50,0),MONTH(CF表!$B586)),J$21*J$13/J$196,0)),0)","v":0},{"$f":"IFERROR(IF($B586>K$15,0,IF(OFFSET(index!$I$2,MATCH(K$195,index!$I$3:$I$50,0),MONTH(CF表!$B586)),K$21*K$13/K$196,0)),0)","v":0},{"$f":"IFERROR(IF($B586>L$15,0,IF(OFFSET(index!$I$2,MATCH(L$195,index!$I$3:$I$50,0),MONTH(CF表!$B586)),L$21*L$13/L$196,0)),0)","v":0}]
[null,"2055-03-01",{"$f":"IFERROR(IF($B587>C$15,0,IF(OFFSET(index!$I$2,MATCH(C$195,index!$I$3:$I$50,0),MONTH(CF表!$B587)),C$21*C$13/C$196,0)),0)","v":0},{"$f":"IFERROR(IF($B587>D$15,0,IF(OFFSET(index!$I$2,MATCH(D$195,index!$I$3:$I$50,0),MONTH(CF表!$B587)),D$21*D$13/D$196,0)),0)","v":0},{"$f":"IFERROR(IF($B587>E$15,0,IF(OFFSET(index!$I$2,MATCH(E$195,index!$I$3:$I$50,0),MONTH(CF表!$B587)),E$21*E$13/E$196,0)),0)","v":0},{"$f":"IFERROR(IF($B587>F$15,0,IF(OFFSET(index!$I$2,MATCH(F$195,index!$I$3:$I$50,0),MONTH(CF表!$B587)),F$21*F$13/F$196,0)),0)","v":0},{"$f":"IFERROR(IF($B587>G$15,0,IF(OFFSET(index!$I$2,MATCH(G$195,index!$I$3:$I$50,0),MONTH(CF表!$B587)),G$21*G$13/G$196,0)),0)","v":0},{"$f":"IFERROR(IF($B587>H$15,0,IF(OFFSET(index!$I$2,MATCH(H$195,index!$I$3:$I$50,0),MONTH(CF表!$B587)),H$21*H$13/H$196,0)),0)","v":0},{"$f":"IFERROR(IF($B587>I$15,0,IF(OFFSET(index!$I$2,MATCH(I$195,index!$I$3:$I$50,0),MONTH(CF表!$B587)),I$21*I$13/I$196,0)),0)","v":0},{"$f":"IFERROR(IF($B587>J$15,0,IF(OFFSET(index!$I$2,MATCH(J$195,index!$I$3:$I$50,0),MONTH(CF表!$B587)),J$21*J$13/J$196,0)),0)","v":0},{"$f":"IFERROR(IF($B587>K$15,0,IF(OFFSET(index!$I$2,MATCH(K$195,index!$I$3:$I$50,0),MONTH(CF表!$B587)),K$21*K$13/K$196,0)),0)","v":0},{"$f":"IFERROR(IF($B587>L$15,0,IF(OFFSET(index!$I$2,MATCH(L$195,index!$I$3:$I$50,0),MONTH(CF表!$B587)),L$21*L$13/L$196,0)),0)","v":0}]
[null,"2055-04-01",{"$f":"IFERROR(IF($B588>C$15,0,IF(OFFSET(index!$I$2,MATCH(C$195,index!$I$3:$I$50,0),MONTH(CF表!$B588)),C$21*C$13/C$196,0)),0)","v":0},{"$f":"IFERROR(IF($B588>D$15,0,IF(OFFSET(index!$I$2,MATCH(D$195,index!$I$3:$I$50,0),MONTH(CF表!$B588)),D$21*D$13/D$196,0)),0)","v":0},{"$f":"IFERROR(IF($B588>E$15,0,IF(OFFSET(index!$I$2,MATCH(E$195,index!$I$3:$I$50,0),MONTH(CF表!$B588)),E$21*E$13/E$196,0)),0)","v":0},{"$f":"IFERROR(IF($B588>F$15,0,IF(OFFSET(index!$I$2,MATCH(F$195,index!$I$3:$I$50,0),MONTH(CF表!$B588)),F$21*F$13/F$196,0)),0)","v":0},{"$f":"IFERROR(IF($B588>G$15,0,IF(OFFSET(index!$I$2,MATCH(G$195,index!$I$3:$I$50,0),MONTH(CF表!$B588)),G$21*G$13/G$196,0)),0)","v":0},{"$f":"IFERROR(IF($B588>H$15,0,IF(OFFSET(index!$I$2,MATCH(H$195,index!$I$3:$I$50,0),MONTH(CF表!$B588)),H$21*H$13/H$196,0)),0)","v":0},{"$f":"IFERROR(IF($B588>I$15,0,IF(OFFSET(index!$I$2,MATCH(I$195,index!$I$3:$I$50,0),MONTH(CF表!$B588)),I$21*I$13/I$196,0)),0)","v":0},{"$f":"IFERROR(IF($B588>J$15,0,IF(OFFSET(index!$I$2,MATCH(J$195,index!$I$3:$I$50,0),MONTH(CF表!$B588)),J$21*J$13/J$196,0)),0)","v":0},{"$f":"IFERROR(IF($B588>K$15,0,IF(OFFSET(index!$I$2,MATCH(K$195,index!$I$3:$I$50,0),MONTH(CF表!$B588)),K$21*K$13/K$196,0)),0)","v":0},{"$f":"IFERROR(IF($B588>L$15,0,IF(OFFSET(index!$I$2,MATCH(L$195,index!$I$3:$I$50,0),MONTH(CF表!$B588)),L$21*L$13/L$196,0)),0)","v":0}]
[null,"2055-05-01",{"$f":"IFERROR(IF($B589>C$15,0,IF(OFFSET(index!$I$2,MATCH(C$195,index!$I$3:$I$50,0),MONTH(CF表!$B589)),C$21*C$13/C$196,0)),0)","v":0},{"$f":"IFERROR(IF($B589>D$15,0,IF(OFFSET(index!$I$2,MATCH(D$195,index!$I$3:$I$50,0),MONTH(CF表!$B589)),D$21*D$13/D$196,0)),0)","v":0},{"$f":"IFERROR(IF($B589>E$15,0,IF(OFFSET(index!$I$2,MATCH(E$195,index!$I$3:$I$50,0),MONTH(CF表!$B589)),E$21*E$13/E$196,0)),0)","v":0},{"$f":"IFERROR(IF($B589>F$15,0,IF(OFFSET(index!$I$2,MATCH(F$195,index!$I$3:$I$50,0),MONTH(CF表!$B589)),F$21*F$13/F$196,0)),0)","v":0},{"$f":"IFERROR(IF($B589>G$15,0,IF(OFFSET(index!$I$2,MATCH(G$195,index!$I$3:$I$50,0),MONTH(CF表!$B589)),G$21*G$13/G$196,0)),0)","v":0},{"$f":"IFERROR(IF($B589>H$15,0,IF(OFFSET(index!$I$2,MATCH(H$195,index!$I$3:$I$50,0),MONTH(CF表!$B589)),H$21*H$13/H$196,0)),0)","v":0},{"$f":"IFERROR(IF($B589>I$15,0,IF(OFFSET(index!$I$2,MATCH(I$195,index!$I$3:$I$50,0),MONTH(CF表!$B589)),I$21*I$13/I$196,0)),0)","v":0},{"$f":"IFERROR(IF($B589>J$15,0,IF(OFFSET(index!$I$2,MATCH(J$195,index!$I$3:$I$50,0),MONTH(CF表!$B589)),J$21*J$13/J$196,0)),0)","v":0},{"$f":"IFERROR(IF($B589>K$15,0,IF(OFFSET(index!$I$2,MATCH(K$195,index!$I$3:$I$50,0),MONTH(CF表!$B589)),K$21*K$13/K$196,0)),0)","v":0},{"$f":"IFERROR(IF($B589>L$15,0,IF(OFFSET(index!$I$2,MATCH(L$195,index!$I$3:$I$50,0),MONTH(CF表!$B589)),L$21*L$13/L$196,0)),0)","v":0}]
[null,"2055-06-01",{"$f":"IFERROR(IF($B590>C$15,0,IF(OFFSET(index!$I$2,MATCH(C$195,index!$I$3:$I$50,0),MONTH(CF表!$B590)),C$21*C$13/C$196,0)),0)","v":0},{"$f":"IFERROR(IF($B590>D$15,0,IF(OFFSET(index!$I$2,MATCH(D$195,index!$I$3:$I$50,0),MONTH(CF表!$B590)),D$21*D$13/D$196,0)),0)","v":0},{"$f":"IFERROR(IF($B590>E$15,0,IF(OFFSET(index!$I$2,MATCH(E$195,index!$I$3:$I$50,0),MONTH(CF表!$B590)),E$21*E$13/E$196,0)),0)","v":0},{"$f":"IFERROR(IF($B590>F$15,0,IF(OFFSET(index!$I$2,MATCH(F$195,index!$I$3:$I$50,0),MONTH(CF表!$B590)),F$21*F$13/F$196,0)),0)","v":0},{"$f":"IFERROR(IF($B590>G$15,0,IF(OFFSET(index!$I$2,MATCH(G$195,index!$I$3:$I$50,0),MONTH(CF表!$B590)),G$21*G$13/G$196,0)),0)","v":0},{"$f":"IFERROR(IF($B590>H$15,0,IF(OFFSET(index!$I$2,MATCH(H$195,index!$I$3:$I$50,0),MONTH(CF表!$B590)),H$21*H$13/H$196,0)),0)","v":0},{"$f":"IFERROR(IF($B590>I$15,0,IF(OFFSET(index!$I$2,MATCH(I$195,index!$I$3:$I$50,0),MONTH(CF表!$B590)),I$21*I$13/I$196,0)),0)","v":0},{"$f":"IFERROR(IF($B590>J$15,0,IF(OFFSET(index!$I$2,MATCH(J$195,index!$I$3:$I$50,0),MONTH(CF表!$B590)),J$21*J$13/J$196,0)),0)","v":0},{"$f":"IFERROR(IF($B590>K$15,0,IF(OFFSET(index!$I$2,MATCH(K$195,index!$I$3:$I$50,0),MONTH(CF表!$B590)),K$21*K$13/K$196,0)),0)","v":0},{"$f":"IFERROR(IF($B590>L$15,0,IF(OFFSET(index!$I$2,MATCH(L$195,index!$I$3:$I$50,0),MONTH(CF表!$B590)),L$21*L$13/L$196,0)),0)","v":0}]
[null,"2055-07-01",{"$f":"IFERROR(IF($B591>C$15,0,IF(OFFSET(index!$I$2,MATCH(C$195,index!$I$3:$I$50,0),MONTH(CF表!$B591)),C$21*C$13/C$196,0)),0)","v":0},{"$f":"IFERROR(IF($B591>D$15,0,IF(OFFSET(index!$I$2,MATCH(D$195,index!$I$3:$I$50,0),MONTH(CF表!$B591)),D$21*D$13/D$196,0)),0)","v":0},{"$f":"IFERROR(IF($B591>E$15,0,IF(OFFSET(index!$I$2,MATCH(E$195,index!$I$3:$I$50,0),MONTH(CF表!$B591)),E$21*E$13/E$196,0)),0)","v":0},{"$f":"IFERROR(IF($B591>F$15,0,IF(OFFSET(index!$I$2,MATCH(F$195,index!$I$3:$I$50,0),MONTH(CF表!$B591)),F$21*F$13/F$196,0)),0)","v":0},{"$f":"IFERROR(IF($B591>G$15,0,IF(OFFSET(index!$I$2,MATCH(G$195,index!$I$3:$I$50,0),MONTH(CF表!$B591)),G$21*G$13/G$196,0)),0)","v":0},{"$f":"IFERROR(IF($B591>H$15,0,IF(OFFSET(index!$I$2,MATCH(H$195,index!$I$3:$I$50,0),MONTH(CF表!$B591)),H$21*H$13/H$196,0)),0)","v":0},{"$f":"IFERROR(IF($B591>I$15,0,IF(OFFSET(index!$I$2,MATCH(I$195,index!$I$3:$I$50,0),MONTH(CF表!$B591)),I$21*I$13/I$196,0)),0)","v":0},{"$f":"IFERROR(IF($B591>J$15,0,IF(OFFSET(index!$I$2,MATCH(J$195,index!$I$3:$I$50,0),MONTH(CF表!$B591)),J$21*J$13/J$196,0)),0)","v":0},{"$f":"IFERROR(IF($B591>K$15,0,IF(OFFSET(index!$I$2,MATCH(K$195,index!$I$3:$I$50,0),MONTH(CF表!$B591)),K$21*K$13/K$196,0)),0)","v":0},{"$f":"IFERROR(IF($B591>L$15,0,IF(OFFSET(index!$I$2,MATCH(L$195,index!$I$3:$I$50,0),MONTH(CF表!$B591)),L$21*L$13/L$196,0)),0)","v":0}]
[null,"2055-08-01",{"$f":"IFERROR(IF($B592>C$15,0,IF(OFFSET(index!$I$2,MATCH(C$195,index!$I$3:$I$50,0),MONTH(CF表!$B592)),C$21*C$13/C$196,0)),0)","v":0},{"$f":"IFERROR(IF($B592>D$15,0,IF(OFFSET(index!$I$2,MATCH(D$195,index!$I$3:$I$50,0),MONTH(CF表!$B592)),D$21*D$13/D$196,0)),0)","v":0},{"$f":"IFERROR(IF($B592>E$15,0,IF(OFFSET(index!$I$2,MATCH(E$195,index!$I$3:$I$50,0),MONTH(CF表!$B592)),E$21*E$13/E$196,0)),0)","v":0},{"$f":"IFERROR(IF($B592>F$15,0,IF(OFFSET(index!$I$2,MATCH(F$195,index!$I$3:$I$50,0),MONTH(CF表!$B592)),F$21*F$13/F$196,0)),0)","v":0},{"$f":"IFERROR(IF($B592>G$15,0,IF(OFFSET(index!$I$2,MATCH(G$195,index!$I$3:$I$50,0),MONTH(CF表!$B592)),G$21*G$13/G$196,0)),0)","v":0},{"$f":"IFERROR(IF($B592>H$15,0,IF(OFFSET(index!$I$2,MATCH(H$195,index!$I$3:$I$50,0),MONTH(CF表!$B592)),H$21*H$13/H$196,0)),0)","v":0},{"$f":"IFERROR(IF($B592>I$15,0,IF(OFFSET(index!$I$2,MATCH(I$195,index!$I$3:$I$50,0),MONTH(CF表!$B592)),I$21*I$13/I$196,0)),0)","v":0},{"$f":"IFERROR(IF($B592>J$15,0,IF(OFFSET(index!$I$2,MATCH(J$195,index!$I$3:$I$50,0),MONTH(CF表!$B592)),J$21*J$13/J$196,0)),0)","v":0},{"$f":"IFERROR(IF($B592>K$15,0,IF(OFFSET(index!$I$2,MATCH(K$195,index!$I$3:$I$50,0),MONTH(CF表!$B592)),K$21*K$13/K$196,0)),0)","v":0},{"$f":"IFERROR(IF($B592>L$15,0,IF(OFFSET(index!$I$2,MATCH(L$195,index!$I$3:$I$50,0),MONTH(CF表!$B592)),L$21*L$13/L$196,0)),0)","v":0}]
[null,"2055-09-01",{"$f":"IFERROR(IF($B593>C$15,0,IF(OFFSET(index!$I$2,MATCH(C$195,index!$I$3:$I$50,0),MONTH(CF表!$B593)),C$21*C$13/C$196,0)),0)","v":0},{"$f":"IFERROR(IF($B593>D$15,0,IF(OFFSET(index!$I$2,MATCH(D$195,index!$I$3:$I$50,0),MONTH(CF表!$B593)),D$21*D$13/D$196,0)),0)","v":0},{"$f":"IFERROR(IF($B593>E$15,0,IF(OFFSET(index!$I$2,MATCH(E$195,index!$I$3:$I$50,0),MONTH(CF表!$B593)),E$21*E$13/E$196,0)),0)","v":0},{"$f":"IFERROR(IF($B593>F$15,0,IF(OFFSET(index!$I$2,MATCH(F$195,index!$I$3:$I$50,0),MONTH(CF表!$B593)),F$21*F$13/F$196,0)),0)","v":0},{"$f":"IFERROR(IF($B593>G$15,0,IF(OFFSET(index!$I$2,MATCH(G$195,index!$I$3:$I$50,0),MONTH(CF表!$B593)),G$21*G$13/G$196,0)),0)","v":0},{"$f":"IFERROR(IF($B593>H$15,0,IF(OFFSET(index!$I$2,MATCH(H$195,index!$I$3:$I$50,0),MONTH(CF表!$B593)),H$21*H$13/H$196,0)),0)","v":0},{"$f":"IFERROR(IF($B593>I$15,0,IF(OFFSET(index!$I$2,MATCH(I$195,index!$I$3:$I$50,0),MONTH(CF表!$B593)),I$21*I$13/I$196,0)),0)","v":0},{"$f":"IFERROR(IF($B593>J$15,0,IF(OFFSET(index!$I$2,MATCH(J$195,index!$I$3:$I$50,0),MONTH(CF表!$B593)),J$21*J$13/J$196,0)),0)","v":0},{"$f":"IFERROR(IF($B593>K$15,0,IF(OFFSET(index!$I$2,MATCH(K$195,index!$I$3:$I$50,0),MONTH(CF表!$B593)),K$21*K$13/K$196,0)),0)","v":0},{"$f":"IFERROR(IF($B593>L$15,0,IF(OFFSET(index!$I$2,MATCH(L$195,index!$I$3:$I$50,0),MONTH(CF表!$B593)),L$21*L$13/L$196,0)),0)","v":0}]
[null,"2055-10-01",{"$f":"IFERROR(IF($B594>C$15,0,IF(OFFSET(index!$I$2,MATCH(C$195,index!$I$3:$I$50,0),MONTH(CF表!$B594)),C$21*C$13/C$196,0)),0)","v":0},{"$f":"IFERROR(IF($B594>D$15,0,IF(OFFSET(index!$I$2,MATCH(D$195,index!$I$3:$I$50,0),MONTH(CF表!$B594)),D$21*D$13/D$196,0)),0)","v":0},{"$f":"IFERROR(IF($B594>E$15,0,IF(OFFSET(index!$I$2,MATCH(E$195,index!$I$3:$I$50,0),MONTH(CF表!$B594)),E$21*E$13/E$196,0)),0)","v":0},{"$f":"IFERROR(IF($B594>F$15,0,IF(OFFSET(index!$I$2,MATCH(F$195,index!$I$3:$I$50,0),MONTH(CF表!$B594)),F$21*F$13/F$196,0)),0)","v":0},{"$f":"IFERROR(IF($B594>G$15,0,IF(OFFSET(index!$I$2,MATCH(G$195,index!$I$3:$I$50,0),MONTH(CF表!$B594)),G$21*G$13/G$196,0)),0)","v":0},{"$f":"IFERROR(IF($B594>H$15,0,IF(OFFSET(index!$I$2,MATCH(H$195,index!$I$3:$I$50,0),MONTH(CF表!$B594)),H$21*H$13/H$196,0)),0)","v":0},{"$f":"IFERROR(IF($B594>I$15,0,IF(OFFSET(index!$I$2,MATCH(I$195,index!$I$3:$I$50,0),MONTH(CF表!$B594)),I$21*I$13/I$196,0)),0)","v":0},{"$f":"IFERROR(IF($B594>J$15,0,IF(OFFSET(index!$I$2,MATCH(J$195,index!$I$3:$I$50,0),MONTH(CF表!$B594)),J$21*J$13/J$196,0)),0)","v":0},{"$f":"IFERROR(IF($B594>K$15,0,IF(OFFSET(index!$I$2,MATCH(K$195,index!$I$3:$I$50,0),MONTH(CF表!$B594)),K$21*K$13/K$196,0)),0)","v":0},{"$f":"IFERROR(IF($B594>L$15,0,IF(OFFSET(index!$I$2,MATCH(L$195,index!$I$3:$I$50,0),MONTH(CF表!$B594)),L$21*L$13/L$196,0)),0)","v":0}]
[null,"2055-11-01",{"$f":"IFERROR(IF($B595>C$15,0,IF(OFFSET(index!$I$2,MATCH(C$195,index!$I$3:$I$50,0),MONTH(CF表!$B595)),C$21*C$13/C$196,0)),0)","v":0},{"$f":"IFERROR(IF($B595>D$15,0,IF(OFFSET(index!$I$2,MATCH(D$195,index!$I$3:$I$50,0),MONTH(CF表!$B595)),D$21*D$13/D$196,0)),0)","v":0},{"$f":"IFERROR(IF($B595>E$15,0,IF(OFFSET(index!$I$2,MATCH(E$195,index!$I$3:$I$50,0),MONTH(CF表!$B595)),E$21*E$13/E$196,0)),0)","v":0},{"$f":"IFERROR(IF($B595>F$15,0,IF(OFFSET(index!$I$2,MATCH(F$195,index!$I$3:$I$50,0),MONTH(CF表!$B595)),F$21*F$13/F$196,0)),0)","v":0},{"$f":"IFERROR(IF($B595>G$15,0,IF(OFFSET(index!$I$2,MATCH(G$195,index!$I$3:$I$50,0),MONTH(CF表!$B595)),G$21*G$13/G$196,0)),0)","v":0},{"$f":"IFERROR(IF($B595>H$15,0,IF(OFFSET(index!$I$2,MATCH(H$195,index!$I$3:$I$50,0),MONTH(CF表!$B595)),H$21*H$13/H$196,0)),0)","v":0},{"$f":"IFERROR(IF($B595>I$15,0,IF(OFFSET(index!$I$2,MATCH(I$195,index!$I$3:$I$50,0),MONTH(CF表!$B595)),I$21*I$13/I$196,0)),0)","v":0},{"$f":"IFERROR(IF($B595>J$15,0,IF(OFFSET(index!$I$2,MATCH(J$195,index!$I$3:$I$50,0),MONTH(CF表!$B595)),J$21*J$13/J$196,0)),0)","v":0},{"$f":"IFERROR(IF($B595>K$15,0,IF(OFFSET(index!$I$2,MATCH(K$195,index!$I$3:$I$50,0),MONTH(CF表!$B595)),K$21*K$13/K$196,0)),0)","v":0},{"$f":"IFERROR(IF($B595>L$15,0,IF(OFFSET(index!$I$2,MATCH(L$195,index!$I$3:$I$50,0),MONTH(CF表!$B595)),L$21*L$13/L$196,0)),0)","v":0}]
[null,"2055-12-01",{"$f":"IFERROR(IF($B596>C$15,0,IF(OFFSET(index!$I$2,MATCH(C$195,index!$I$3:$I$50,0),MONTH(CF表!$B596)),C$21*C$13/C$196,0)),0)","v":0},{"$f":"IFERROR(IF($B596>D$15,0,IF(OFFSET(index!$I$2,MATCH(D$195,index!$I$3:$I$50,0),MONTH(CF表!$B596)),D$21*D$13/D$196,0)),0)","v":0},{"$f":"IFERROR(IF($B596>E$15,0,IF(OFFSET(index!$I$2,MATCH(E$195,index!$I$3:$I$50,0),MONTH(CF表!$B596)),E$21*E$13/E$196,0)),0)","v":0},{"$f":"IFERROR(IF($B596>F$15,0,IF(OFFSET(index!$I$2,MATCH(F$195,index!$I$3:$I$50,0),MONTH(CF表!$B596)),F$21*F$13/F$196,0)),0)","v":0},{"$f":"IFERROR(IF($B596>G$15,0,IF(OFFSET(index!$I$2,MATCH(G$195,index!$I$3:$I$50,0),MONTH(CF表!$B596)),G$21*G$13/G$196,0)),0)","v":0},{"$f":"IFERROR(IF($B596>H$15,0,IF(OFFSET(index!$I$2,MATCH(H$195,index!$I$3:$I$50,0),MONTH(CF表!$B596)),H$21*H$13/H$196,0)),0)","v":0},{"$f":"IFERROR(IF($B596>I$15,0,IF(OFFSET(index!$I$2,MATCH(I$195,index!$I$3:$I$50,0),MONTH(CF表!$B596)),I$21*I$13/I$196,0)),0)","v":0},{"$f":"IFERROR(IF($B596>J$15,0,IF(OFFSET(index!$I$2,MATCH(J$195,index!$I$3:$I$50,0),MONTH(CF表!$B596)),J$21*J$13/J$196,0)),0)","v":0},{"$f":"IFERROR(IF($B596>K$15,0,IF(OFFSET(index!$I$2,MATCH(K$195,index!$I$3:$I$50,0),MONTH(CF表!$B596)),K$21*K$13/K$196,0)),0)","v":0},{"$f":"IFERROR(IF($B596>L$15,0,IF(OFFSET(index!$I$2,MATCH(L$195,index!$I$3:$I$50,0),MONTH(CF表!$B596)),L$21*L$13/L$196,0)),0)","v":0}]
[null,"2056-01-01",{"$f":"IFERROR(IF($B597>C$15,0,IF(OFFSET(index!$I$2,MATCH(C$195,index!$I$3:$I$50,0),MONTH(CF表!$B597)),C$21*C$13/C$196,0)),0)","v":0},{"$f":"IFERROR(IF($B597>D$15,0,IF(OFFSET(index!$I$2,MATCH(D$195,index!$I$3:$I$50,0),MONTH(CF表!$B597)),D$21*D$13/D$196,0)),0)","v":0},{"$f":"IFERROR(IF($B597>E$15,0,IF(OFFSET(index!$I$2,MATCH(E$195,index!$I$3:$I$50,0),MONTH(CF表!$B597)),E$21*E$13/E$196,0)),0)","v":0},{"$f":"IFERROR(IF($B597>F$15,0,IF(OFFSET(index!$I$2,MATCH(F$195,index!$I$3:$I$50,0),MONTH(CF表!$B597)),F$21*F$13/F$196,0)),0)","v":0},{"$f":"IFERROR(IF($B597>G$15,0,IF(OFFSET(index!$I$2,MATCH(G$195,index!$I$3:$I$50,0),MONTH(CF表!$B597)),G$21*G$13/G$196,0)),0)","v":0},{"$f":"IFERROR(IF($B597>H$15,0,IF(OFFSET(index!$I$2,MATCH(H$195,index!$I$3:$I$50,0),MONTH(CF表!$B597)),H$21*H$13/H$196,0)),0)","v":0},{"$f":"IFERROR(IF($B597>I$15,0,IF(OFFSET(index!$I$2,MATCH(I$195,index!$I$3:$I$50,0),MONTH(CF表!$B597)),I$21*I$13/I$196,0)),0)","v":0},{"$f":"IFERROR(IF($B597>J$15,0,IF(OFFSET(index!$I$2,MATCH(J$195,index!$I$3:$I$50,0),MONTH(CF表!$B597)),J$21*J$13/J$196,0)),0)","v":0},{"$f":"IFERROR(IF($B597>K$15,0,IF(OFFSET(index!$I$2,MATCH(K$195,index!$I$3:$I$50,0),MONTH(CF表!$B597)),K$21*K$13/K$196,0)),0)","v":0},{"$f":"IFERROR(IF($B597>L$15,0,IF(OFFSET(index!$I$2,MATCH(L$195,index!$I$3:$I$50,0),MONTH(CF表!$B597)),L$21*L$13/L$196,0)),0)","v":0}]
[null,"2056-02-01",{"$f":"IFERROR(IF($B598>C$15,0,IF(OFFSET(index!$I$2,MATCH(C$195,index!$I$3:$I$50,0),MONTH(CF表!$B598)),C$21*C$13/C$196,0)),0)","v":0},{"$f":"IFERROR(IF($B598>D$15,0,IF(OFFSET(index!$I$2,MATCH(D$195,index!$I$3:$I$50,0),MONTH(CF表!$B598)),D$21*D$13/D$196,0)),0)","v":0},{"$f":"IFERROR(IF($B598>E$15,0,IF(OFFSET(index!$I$2,MATCH(E$195,index!$I$3:$I$50,0),MONTH(CF表!$B598)),E$21*E$13/E$196,0)),0)","v":0},{"$f":"IFERROR(IF($B598>F$15,0,IF(OFFSET(index!$I$2,MATCH(F$195,index!$I$3:$I$50,0),MONTH(CF表!$B598)),F$21*F$13/F$196,0)),0)","v":0},{"$f":"IFERROR(IF($B598>G$15,0,IF(OFFSET(index!$I$2,MATCH(G$195,index!$I$3:$I$50,0),MONTH(CF表!$B598)),G$21*G$13/G$196,0)),0)","v":0},{"$f":"IFERROR(IF($B598>H$15,0,IF(OFFSET(index!$I$2,MATCH(H$195,index!$I$3:$I$50,0),MONTH(CF表!$B598)),H$21*H$13/H$196,0)),0)","v":0},{"$f":"IFERROR(IF($B598>I$15,0,IF(OFFSET(index!$I$2,MATCH(I$195,index!$I$3:$I$50,0),MONTH(CF表!$B598)),I$21*I$13/I$196,0)),0)","v":0},{"$f":"IFERROR(IF($B598>J$15,0,IF(OFFSET(index!$I$2,MATCH(J$195,index!$I$3:$I$50,0),MONTH(CF表!$B598)),J$21*J$13/J$196,0)),0)","v":0},{"$f":"IFERROR(IF($B598>K$15,0,IF(OFFSET(index!$I$2,MATCH(K$195,index!$I$3:$I$50,0),MONTH(CF表!$B598)),K$21*K$13/K$196,0)),0)","v":0},{"$f":"IFERROR(IF($B598>L$15,0,IF(OFFSET(index!$I$2,MATCH(L$195,index!$I$3:$I$50,0),MONTH(CF表!$B598)),L$21*L$13/L$196,0)),0)","v":0}]
[null,"2056-03-01",{"$f":"IFERROR(IF($B599>C$15,0,IF(OFFSET(index!$I$2,MATCH(C$195,index!$I$3:$I$50,0),MONTH(CF表!$B599)),C$21*C$13/C$196,0)),0)","v":0},{"$f":"IFERROR(IF($B599>D$15,0,IF(OFFSET(index!$I$2,MATCH(D$195,index!$I$3:$I$50,0),MONTH(CF表!$B599)),D$21*D$13/D$196,0)),0)","v":0},{"$f":"IFERROR(IF($B599>E$15,0,IF(OFFSET(index!$I$2,MATCH(E$195,index!$I$3:$I$50,0),MONTH(CF表!$B599)),E$21*E$13/E$196,0)),0)","v":0},{"$f":"IFERROR(IF($B599>F$15,0,IF(OFFSET(index!$I$2,MATCH(F$195,index!$I$3:$I$50,0),MONTH(CF表!$B599)),F$21*F$13/F$196,0)),0)","v":0},{"$f":"IFERROR(IF($B599>G$15,0,IF(OFFSET(index!$I$2,MATCH(G$195,index!$I$3:$I$50,0),MONTH(CF表!$B599)),G$21*G$13/G$196,0)),0)","v":0},{"$f":"IFERROR(IF($B599>H$15,0,IF(OFFSET(index!$I$2,MATCH(H$195,index!$I$3:$I$50,0),MONTH(CF表!$B599)),H$21*H$13/H$196,0)),0)","v":0},{"$f":"IFERROR(IF($B599>I$15,0,IF(OFFSET(index!$I$2,MATCH(I$195,index!$I$3:$I$50,0),MONTH(CF表!$B599)),I$21*I$13/I$196,0)),0)","v":0},{"$f":"IFERROR(IF($B599>J$15,0,IF(OFFSET(index!$I$2,MATCH(J$195,index!$I$3:$I$50,0),MONTH(CF表!$B599)),J$21*J$13/J$196,0)),0)","v":0},{"$f":"IFERROR(IF($B599>K$15,0,IF(OFFSET(index!$I$2,MATCH(K$195,index!$I$3:$I$50,0),MONTH(CF表!$B599)),K$21*K$13/K$196,0)),0)","v":0},{"$f":"IFERROR(IF($B599>L$15,0,IF(OFFSET(index!$I$2,MATCH(L$195,index!$I$3:$I$50,0),MONTH(CF表!$B599)),L$21*L$13/L$196,0)),0)","v":0}]
[null,"2056-04-01",{"$f":"IFERROR(IF($B600>C$15,0,IF(OFFSET(index!$I$2,MATCH(C$195,index!$I$3:$I$50,0),MONTH(CF表!$B600)),C$21*C$13/C$196,0)),0)","v":0},{"$f":"IFERROR(IF($B600>D$15,0,IF(OFFSET(index!$I$2,MATCH(D$195,index!$I$3:$I$50,0),MONTH(CF表!$B600)),D$21*D$13/D$196,0)),0)","v":0},{"$f":"IFERROR(IF($B600>E$15,0,IF(OFFSET(index!$I$2,MATCH(E$195,index!$I$3:$I$50,0),MONTH(CF表!$B600)),E$21*E$13/E$196,0)),0)","v":0},{"$f":"IFERROR(IF($B600>F$15,0,IF(OFFSET(index!$I$2,MATCH(F$195,index!$I$3:$I$50,0),MONTH(CF表!$B600)),F$21*F$13/F$196,0)),0)","v":0},{"$f":"IFERROR(IF($B600>G$15,0,IF(OFFSET(index!$I$2,MATCH(G$195,index!$I$3:$I$50,0),MONTH(CF表!$B600)),G$21*G$13/G$196,0)),0)","v":0},{"$f":"IFERROR(IF($B600>H$15,0,IF(OFFSET(index!$I$2,MATCH(H$195,index!$I$3:$I$50,0),MONTH(CF表!$B600)),H$21*H$13/H$196,0)),0)","v":0},{"$f":"IFERROR(IF($B600>I$15,0,IF(OFFSET(index!$I$2,MATCH(I$195,index!$I$3:$I$50,0),MONTH(CF表!$B600)),I$21*I$13/I$196,0)),0)","v":0},{"$f":"IFERROR(IF($B600>J$15,0,IF(OFFSET(index!$I$2,MATCH(J$195,index!$I$3:$I$50,0),MONTH(CF表!$B600)),J$21*J$13/J$196,0)),0)","v":0},{"$f":"IFERROR(IF($B600>K$15,0,IF(OFFSET(index!$I$2,MATCH(K$195,index!$I$3:$I$50,0),MONTH(CF表!$B600)),K$21*K$13/K$196,0)),0)","v":0},{"$f":"IFERROR(IF($B600>L$15,0,IF(OFFSET(index!$I$2,MATCH(L$195,index!$I$3:$I$50,0),MONTH(CF表!$B600)),L$21*L$13/L$196,0)),0)","v":0}]
[null,"2056-05-01",{"$f":"IFERROR(IF($B601>C$15,0,IF(OFFSET(index!$I$2,MATCH(C$195,index!$I$3:$I$50,0),MONTH(CF表!$B601)),C$21*C$13/C$196,0)),0)","v":0},{"$f":"IFERROR(IF($B601>D$15,0,IF(OFFSET(index!$I$2,MATCH(D$195,index!$I$3:$I$50,0),MONTH(CF表!$B601)),D$21*D$13/D$196,0)),0)","v":0},{"$f":"IFERROR(IF($B601>E$15,0,IF(OFFSET(index!$I$2,MATCH(E$195,index!$I$3:$I$50,0),MONTH(CF表!$B601)),E$21*E$13/E$196,0)),0)","v":0},{"$f":"IFERROR(IF($B601>F$15,0,IF(OFFSET(index!$I$2,MATCH(F$195,index!$I$3:$I$50,0),MONTH(CF表!$B601)),F$21*F$13/F$196,0)),0)","v":0},{"$f":"IFERROR(IF($B601>G$15,0,IF(OFFSET(index!$I$2,MATCH(G$195,index!$I$3:$I$50,0),MONTH(CF表!$B601)),G$21*G$13/G$196,0)),0)","v":0},{"$f":"IFERROR(IF($B601>H$15,0,IF(OFFSET(index!$I$2,MATCH(H$195,index!$I$3:$I$50,0),MONTH(CF表!$B601)),H$21*H$13/H$196,0)),0)","v":0},{"$f":"IFERROR(IF($B601>I$15,0,IF(OFFSET(index!$I$2,MATCH(I$195,index!$I$3:$I$50,0),MONTH(CF表!$B601)),I$21*I$13/I$196,0)),0)","v":0},{"$f":"IFERROR(IF($B601>J$15,0,IF(OFFSET(index!$I$2,MATCH(J$195,index!$I$3:$I$50,0),MONTH(CF表!$B601)),J$21*J$13/J$196,0)),0)","v":0},{"$f":"IFERROR(IF($B601>K$15,0,IF(OFFSET(index!$I$2,MATCH(K$195,index!$I$3:$I$50,0),MONTH(CF表!$B601)),K$21*K$13/K$196,0)),0)","v":0},{"$f":"IFERROR(IF($B601>L$15,0,IF(OFFSET(index!$I$2,MATCH(L$195,index!$I$3:$I$50,0),MONTH(CF表!$B601)),L$21*L$13/L$196,0)),0)","v":0}]
[null,"2056-06-01",{"$f":"IFERROR(IF($B602>C$15,0,IF(OFFSET(index!$I$2,MATCH(C$195,index!$I$3:$I$50,0),MONTH(CF表!$B602)),C$21*C$13/C$196,0)),0)","v":0},{"$f":"IFERROR(IF($B602>D$15,0,IF(OFFSET(index!$I$2,MATCH(D$195,index!$I$3:$I$50,0),MONTH(CF表!$B602)),D$21*D$13/D$196,0)),0)","v":0},{"$f":"IFERROR(IF($B602>E$15,0,IF(OFFSET(index!$I$2,MATCH(E$195,index!$I$3:$I$50,0),MONTH(CF表!$B602)),E$21*E$13/E$196,0)),0)","v":0},{"$f":"IFERROR(IF($B602>F$15,0,IF(OFFSET(index!$I$2,MATCH(F$195,index!$I$3:$I$50,0),MONTH(CF表!$B602)),F$21*F$13/F$196,0)),0)","v":0},{"$f":"IFERROR(IF($B602>G$15,0,IF(OFFSET(index!$I$2,MATCH(G$195,index!$I$3:$I$50,0),MONTH(CF表!$B602)),G$21*G$13/G$196,0)),0)","v":0},{"$f":"IFERROR(IF($B602>H$15,0,IF(OFFSET(index!$I$2,MATCH(H$195,index!$I$3:$I$50,0),MONTH(CF表!$B602)),H$21*H$13/H$196,0)),0)","v":0},{"$f":"IFERROR(IF($B602>I$15,0,IF(OFFSET(index!$I$2,MATCH(I$195,index!$I$3:$I$50,0),MONTH(CF表!$B602)),I$21*I$13/I$196,0)),0)","v":0},{"$f":"IFERROR(IF($B602>J$15,0,IF(OFFSET(index!$I$2,MATCH(J$195,index!$I$3:$I$50,0),MONTH(CF表!$B602)),J$21*J$13/J$196,0)),0)","v":0},{"$f":"IFERROR(IF($B602>K$15,0,IF(OFFSET(index!$I$2,MATCH(K$195,index!$I$3:$I$50,0),MONTH(CF表!$B602)),K$21*K$13/K$196,0)),0)","v":0},{"$f":"IFERROR(IF($B602>L$15,0,IF(OFFSET(index!$I$2,MATCH(L$195,index!$I$3:$I$50,0),MONTH(CF表!$B602)),L$21*L$13/L$196,0)),0)","v":0}]
[null,"2056-07-01",{"$f":"IFERROR(IF($B603>C$15,0,IF(OFFSET(index!$I$2,MATCH(C$195,index!$I$3:$I$50,0),MONTH(CF表!$B603)),C$21*C$13/C$196,0)),0)","v":0},{"$f":"IFERROR(IF($B603>D$15,0,IF(OFFSET(index!$I$2,MATCH(D$195,index!$I$3:$I$50,0),MONTH(CF表!$B603)),D$21*D$13/D$196,0)),0)","v":0},{"$f":"IFERROR(IF($B603>E$15,0,IF(OFFSET(index!$I$2,MATCH(E$195,index!$I$3:$I$50,0),MONTH(CF表!$B603)),E$21*E$13/E$196,0)),0)","v":0},{"$f":"IFERROR(IF($B603>F$15,0,IF(OFFSET(index!$I$2,MATCH(F$195,index!$I$3:$I$50,0),MONTH(CF表!$B603)),F$21*F$13/F$196,0)),0)","v":0},{"$f":"IFERROR(IF($B603>G$15,0,IF(OFFSET(index!$I$2,MATCH(G$195,index!$I$3:$I$50,0),MONTH(CF表!$B603)),G$21*G$13/G$196,0)),0)","v":0},{"$f":"IFERROR(IF($B603>H$15,0,IF(OFFSET(index!$I$2,MATCH(H$195,index!$I$3:$I$50,0),MONTH(CF表!$B603)),H$21*H$13/H$196,0)),0)","v":0},{"$f":"IFERROR(IF($B603>I$15,0,IF(OFFSET(index!$I$2,MATCH(I$195,index!$I$3:$I$50,0),MONTH(CF表!$B603)),I$21*I$13/I$196,0)),0)","v":0},{"$f":"IFERROR(IF($B603>J$15,0,IF(OFFSET(index!$I$2,MATCH(J$195,index!$I$3:$I$50,0),MONTH(CF表!$B603)),J$21*J$13/J$196,0)),0)","v":0},{"$f":"IFERROR(IF($B603>K$15,0,IF(OFFSET(index!$I$2,MATCH(K$195,index!$I$3:$I$50,0),MONTH(CF表!$B603)),K$21*K$13/K$196,0)),0)","v":0},{"$f":"IFERROR(IF($B603>L$15,0,IF(OFFSET(index!$I$2,MATCH(L$195,index!$I$3:$I$50,0),MONTH(CF表!$B603)),L$21*L$13/L$196,0)),0)","v":0}]
[null,"2056-08-01",{"$f":"IFERROR(IF($B604>C$15,0,IF(OFFSET(index!$I$2,MATCH(C$195,index!$I$3:$I$50,0),MONTH(CF表!$B604)),C$21*C$13/C$196,0)),0)","v":0},{"$f":"IFERROR(IF($B604>D$15,0,IF(OFFSET(index!$I$2,MATCH(D$195,index!$I$3:$I$50,0),MONTH(CF表!$B604)),D$21*D$13/D$196,0)),0)","v":0},{"$f":"IFERROR(IF($B604>E$15,0,IF(OFFSET(index!$I$2,MATCH(E$195,index!$I$3:$I$50,0),MONTH(CF表!$B604)),E$21*E$13/E$196,0)),0)","v":0},{"$f":"IFERROR(IF($B604>F$15,0,IF(OFFSET(index!$I$2,MATCH(F$195,index!$I$3:$I$50,0),MONTH(CF表!$B604)),F$21*F$13/F$196,0)),0)","v":0},{"$f":"IFERROR(IF($B604>G$15,0,IF(OFFSET(index!$I$2,MATCH(G$195,index!$I$3:$I$50,0),MONTH(CF表!$B604)),G$21*G$13/G$196,0)),0)","v":0},{"$f":"IFERROR(IF($B604>H$15,0,IF(OFFSET(index!$I$2,MATCH(H$195,index!$I$3:$I$50,0),MONTH(CF表!$B604)),H$21*H$13/H$196,0)),0)","v":0},{"$f":"IFERROR(IF($B604>I$15,0,IF(OFFSET(index!$I$2,MATCH(I$195,index!$I$3:$I$50,0),MONTH(CF表!$B604)),I$21*I$13/I$196,0)),0)","v":0},{"$f":"IFERROR(IF($B604>J$15,0,IF(OFFSET(index!$I$2,MATCH(J$195,index!$I$3:$I$50,0),MONTH(CF表!$B604)),J$21*J$13/J$196,0)),0)","v":0},{"$f":"IFERROR(IF($B604>K$15,0,IF(OFFSET(index!$I$2,MATCH(K$195,index!$I$3:$I$50,0),MONTH(CF表!$B604)),K$21*K$13/K$196,0)),0)","v":0},{"$f":"IFERROR(IF($B604>L$15,0,IF(OFFSET(index!$I$2,MATCH(L$195,index!$I$3:$I$50,0),MONTH(CF表!$B604)),L$21*L$13/L$196,0)),0)","v":0}]
[null,"2056-09-01",{"$f":"IFERROR(IF($B605>C$15,0,IF(OFFSET(index!$I$2,MATCH(C$195,index!$I$3:$I$50,0),MONTH(CF表!$B605)),C$21*C$13/C$196,0)),0)","v":0},{"$f":"IFERROR(IF($B605>D$15,0,IF(OFFSET(index!$I$2,MATCH(D$195,index!$I$3:$I$50,0),MONTH(CF表!$B605)),D$21*D$13/D$196,0)),0)","v":0},{"$f":"IFERROR(IF($B605>E$15,0,IF(OFFSET(index!$I$2,MATCH(E$195,index!$I$3:$I$50,0),MONTH(CF表!$B605)),E$21*E$13/E$196,0)),0)","v":0},{"$f":"IFERROR(IF($B605>F$15,0,IF(OFFSET(index!$I$2,MATCH(F$195,index!$I$3:$I$50,0),MONTH(CF表!$B605)),F$21*F$13/F$196,0)),0)","v":0},{"$f":"IFERROR(IF($B605>G$15,0,IF(OFFSET(index!$I$2,MATCH(G$195,index!$I$3:$I$50,0),MONTH(CF表!$B605)),G$21*G$13/G$196,0)),0)","v":0},{"$f":"IFERROR(IF($B605>H$15,0,IF(OFFSET(index!$I$2,MATCH(H$195,index!$I$3:$I$50,0),MONTH(CF表!$B605)),H$21*H$13/H$196,0)),0)","v":0},{"$f":"IFERROR(IF($B605>I$15,0,IF(OFFSET(index!$I$2,MATCH(I$195,index!$I$3:$I$50,0),MONTH(CF表!$B605)),I$21*I$13/I$196,0)),0)","v":0},{"$f":"IFERROR(IF($B605>J$15,0,IF(OFFSET(index!$I$2,MATCH(J$195,index!$I$3:$I$50,0),MONTH(CF表!$B605)),J$21*J$13/J$196,0)),0)","v":0},{"$f":"IFERROR(IF($B605>K$15,0,IF(OFFSET(index!$I$2,MATCH(K$195,index!$I$3:$I$50,0),MONTH(CF表!$B605)),K$21*K$13/K$196,0)),0)","v":0},{"$f":"IFERROR(IF($B605>L$15,0,IF(OFFSET(index!$I$2,MATCH(L$195,index!$I$3:$I$50,0),MONTH(CF表!$B605)),L$21*L$13/L$196,0)),0)","v":0}]
[null,"2056-10-01",{"$f":"IFERROR(IF($B606>C$15,0,IF(OFFSET(index!$I$2,MATCH(C$195,index!$I$3:$I$50,0),MONTH(CF表!$B606)),C$21*C$13/C$196,0)),0)","v":0},{"$f":"IFERROR(IF($B606>D$15,0,IF(OFFSET(index!$I$2,MATCH(D$195,index!$I$3:$I$50,0),MONTH(CF表!$B606)),D$21*D$13/D$196,0)),0)","v":0},{"$f":"IFERROR(IF($B606>E$15,0,IF(OFFSET(index!$I$2,MATCH(E$195,index!$I$3:$I$50,0),MONTH(CF表!$B606)),E$21*E$13/E$196,0)),0)","v":0},{"$f":"IFERROR(IF($B606>F$15,0,IF(OFFSET(index!$I$2,MATCH(F$195,index!$I$3:$I$50,0),MONTH(CF表!$B606)),F$21*F$13/F$196,0)),0)","v":0},{"$f":"IFERROR(IF($B606>G$15,0,IF(OFFSET(index!$I$2,MATCH(G$195,index!$I$3:$I$50,0),MONTH(CF表!$B606)),G$21*G$13/G$196,0)),0)","v":0},{"$f":"IFERROR(IF($B606>H$15,0,IF(OFFSET(index!$I$2,MATCH(H$195,index!$I$3:$I$50,0),MONTH(CF表!$B606)),H$21*H$13/H$196,0)),0)","v":0},{"$f":"IFERROR(IF($B606>I$15,0,IF(OFFSET(index!$I$2,MATCH(I$195,index!$I$3:$I$50,0),MONTH(CF表!$B606)),I$21*I$13/I$196,0)),0)","v":0},{"$f":"IFERROR(IF($B606>J$15,0,IF(OFFSET(index!$I$2,MATCH(J$195,index!$I$3:$I$50,0),MONTH(CF表!$B606)),J$21*J$13/J$196,0)),0)","v":0},{"$f":"IFERROR(IF($B606>K$15,0,IF(OFFSET(index!$I$2,MATCH(K$195,index!$I$3:$I$50,0),MONTH(CF表!$B606)),K$21*K$13/K$196,0)),0)","v":0},{"$f":"IFERROR(IF($B606>L$15,0,IF(OFFSET(index!$I$2,MATCH(L$195,index!$I$3:$I$50,0),MONTH(CF表!$B606)),L$21*L$13/L$196,0)),0)","v":0}]
[null,"2056-11-01",{"$f":"IFERROR(IF($B607>C$15,0,IF(OFFSET(index!$I$2,MATCH(C$195,index!$I$3:$I$50,0),MONTH(CF表!$B607)),C$21*C$13/C$196,0)),0)","v":0},{"$f":"IFERROR(IF($B607>D$15,0,IF(OFFSET(index!$I$2,MATCH(D$195,index!$I$3:$I$50,0),MONTH(CF表!$B607)),D$21*D$13/D$196,0)),0)","v":0},{"$f":"IFERROR(IF($B607>E$15,0,IF(OFFSET(index!$I$2,MATCH(E$195,index!$I$3:$I$50,0),MONTH(CF表!$B607)),E$21*E$13/E$196,0)),0)","v":0},{"$f":"IFERROR(IF($B607>F$15,0,IF(OFFSET(index!$I$2,MATCH(F$195,index!$I$3:$I$50,0),MONTH(CF表!$B607)),F$21*F$13/F$196,0)),0)","v":0},{"$f":"IFERROR(IF($B607>G$15,0,IF(OFFSET(index!$I$2,MATCH(G$195,index!$I$3:$I$50,0),MONTH(CF表!$B607)),G$21*G$13/G$196,0)),0)","v":0},{"$f":"IFERROR(IF($B607>H$15,0,IF(OFFSET(index!$I$2,MATCH(H$195,index!$I$3:$I$50,0),MONTH(CF表!$B607)),H$21*H$13/H$196,0)),0)","v":0},{"$f":"IFERROR(IF($B607>I$15,0,IF(OFFSET(index!$I$2,MATCH(I$195,index!$I$3:$I$50,0),MONTH(CF表!$B607)),I$21*I$13/I$196,0)),0)","v":0},{"$f":"IFERROR(IF($B607>J$15,0,IF(OFFSET(index!$I$2,MATCH(J$195,index!$I$3:$I$50,0),MONTH(CF表!$B607)),J$21*J$13/J$196,0)),0)","v":0},{"$f":"IFERROR(IF($B607>K$15,0,IF(OFFSET(index!$I$2,MATCH(K$195,index!$I$3:$I$50,0),MONTH(CF表!$B607)),K$21*K$13/K$196,0)),0)","v":0},{"$f":"IFERROR(IF($B607>L$15,0,IF(OFFSET(index!$I$2,MATCH(L$195,index!$I$3:$I$50,0),MONTH(CF表!$B607)),L$21*L$13/L$196,0)),0)","v":0}]
[null,"2056-12-01",{"$f":"IFERROR(IF($B608>C$15,0,IF(OFFSET(index!$I$2,MATCH(C$195,index!$I$3:$I$50,0),MONTH(CF表!$B608)),C$21*C$13/C$196,0)),0)","v":0},{"$f":"IFERROR(IF($B608>D$15,0,IF(OFFSET(index!$I$2,MATCH(D$195,index!$I$3:$I$50,0),MONTH(CF表!$B608)),D$21*D$13/D$196,0)),0)","v":0},{"$f":"IFERROR(IF($B608>E$15,0,IF(OFFSET(index!$I$2,MATCH(E$195,index!$I$3:$I$50,0),MONTH(CF表!$B608)),E$21*E$13/E$196,0)),0)","v":0},{"$f":"IFERROR(IF($B608>F$15,0,IF(OFFSET(index!$I$2,MATCH(F$195,index!$I$3:$I$50,0),MONTH(CF表!$B608)),F$21*F$13/F$196,0)),0)","v":0},{"$f":"IFERROR(IF($B608>G$15,0,IF(OFFSET(index!$I$2,MATCH(G$195,index!$I$3:$I$50,0),MONTH(CF表!$B608)),G$21*G$13/G$196,0)),0)","v":0},{"$f":"IFERROR(IF($B608>H$15,0,IF(OFFSET(index!$I$2,MATCH(H$195,index!$I$3:$I$50,0),MONTH(CF表!$B608)),H$21*H$13/H$196,0)),0)","v":0},{"$f":"IFERROR(IF($B608>I$15,0,IF(OFFSET(index!$I$2,MATCH(I$195,index!$I$3:$I$50,0),MONTH(CF表!$B608)),I$21*I$13/I$196,0)),0)","v":0},{"$f":"IFERROR(IF($B608>J$15,0,IF(OFFSET(index!$I$2,MATCH(J$195,index!$I$3:$I$50,0),MONTH(CF表!$B608)),J$21*J$13/J$196,0)),0)","v":0},{"$f":"IFERROR(IF($B608>K$15,0,IF(OFFSET(index!$I$2,MATCH(K$195,index!$I$3:$I$50,0),MONTH(CF表!$B608)),K$21*K$13/K$196,0)),0)","v":0},{"$f":"IFERROR(IF($B608>L$15,0,IF(OFFSET(index!$I$2,MATCH(L$195,index!$I$3:$I$50,0),MONTH(CF表!$B608)),L$21*L$13/L$196,0)),0)","v":0}]
[null,"2057-01-01",{"$f":"IFERROR(IF($B609>C$15,0,IF(OFFSET(index!$I$2,MATCH(C$195,index!$I$3:$I$50,0),MONTH(CF表!$B609)),C$21*C$13/C$196,0)),0)","v":0},{"$f":"IFERROR(IF($B609>D$15,0,IF(OFFSET(index!$I$2,MATCH(D$195,index!$I$3:$I$50,0),MONTH(CF表!$B609)),D$21*D$13/D$196,0)),0)","v":0},{"$f":"IFERROR(IF($B609>E$15,0,IF(OFFSET(index!$I$2,MATCH(E$195,index!$I$3:$I$50,0),MONTH(CF表!$B609)),E$21*E$13/E$196,0)),0)","v":0},{"$f":"IFERROR(IF($B609>F$15,0,IF(OFFSET(index!$I$2,MATCH(F$195,index!$I$3:$I$50,0),MONTH(CF表!$B609)),F$21*F$13/F$196,0)),0)","v":0},{"$f":"IFERROR(IF($B609>G$15,0,IF(OFFSET(index!$I$2,MATCH(G$195,index!$I$3:$I$50,0),MONTH(CF表!$B609)),G$21*G$13/G$196,0)),0)","v":0},{"$f":"IFERROR(IF($B609>H$15,0,IF(OFFSET(index!$I$2,MATCH(H$195,index!$I$3:$I$50,0),MONTH(CF表!$B609)),H$21*H$13/H$196,0)),0)","v":0},{"$f":"IFERROR(IF($B609>I$15,0,IF(OFFSET(index!$I$2,MATCH(I$195,index!$I$3:$I$50,0),MONTH(CF表!$B609)),I$21*I$13/I$196,0)),0)","v":0},{"$f":"IFERROR(IF($B609>J$15,0,IF(OFFSET(index!$I$2,MATCH(J$195,index!$I$3:$I$50,0),MONTH(CF表!$B609)),J$21*J$13/J$196,0)),0)","v":0},{"$f":"IFERROR(IF($B609>K$15,0,IF(OFFSET(index!$I$2,MATCH(K$195,index!$I$3:$I$50,0),MONTH(CF表!$B609)),K$21*K$13/K$196,0)),0)","v":0},{"$f":"IFERROR(IF($B609>L$15,0,IF(OFFSET(index!$I$2,MATCH(L$195,index!$I$3:$I$50,0),MONTH(CF表!$B609)),L$21*L$13/L$196,0)),0)","v":0}]
[null,"2057-02-01",{"$f":"IFERROR(IF($B610>C$15,0,IF(OFFSET(index!$I$2,MATCH(C$195,index!$I$3:$I$50,0),MONTH(CF表!$B610)),C$21*C$13/C$196,0)),0)","v":0},{"$f":"IFERROR(IF($B610>D$15,0,IF(OFFSET(index!$I$2,MATCH(D$195,index!$I$3:$I$50,0),MONTH(CF表!$B610)),D$21*D$13/D$196,0)),0)","v":0},{"$f":"IFERROR(IF($B610>E$15,0,IF(OFFSET(index!$I$2,MATCH(E$195,index!$I$3:$I$50,0),MONTH(CF表!$B610)),E$21*E$13/E$196,0)),0)","v":0},{"$f":"IFERROR(IF($B610>F$15,0,IF(OFFSET(index!$I$2,MATCH(F$195,index!$I$3:$I$50,0),MONTH(CF表!$B610)),F$21*F$13/F$196,0)),0)","v":0},{"$f":"IFERROR(IF($B610>G$15,0,IF(OFFSET(index!$I$2,MATCH(G$195,index!$I$3:$I$50,0),MONTH(CF表!$B610)),G$21*G$13/G$196,0)),0)","v":0},{"$f":"IFERROR(IF($B610>H$15,0,IF(OFFSET(index!$I$2,MATCH(H$195,index!$I$3:$I$50,0),MONTH(CF表!$B610)),H$21*H$13/H$196,0)),0)","v":0},{"$f":"IFERROR(IF($B610>I$15,0,IF(OFFSET(index!$I$2,MATCH(I$195,index!$I$3:$I$50,0),MONTH(CF表!$B610)),I$21*I$13/I$196,0)),0)","v":0},{"$f":"IFERROR(IF($B610>J$15,0,IF(OFFSET(index!$I$2,MATCH(J$195,index!$I$3:$I$50,0),MONTH(CF表!$B610)),J$21*J$13/J$196,0)),0)","v":0},{"$f":"IFERROR(IF($B610>K$15,0,IF(OFFSET(index!$I$2,MATCH(K$195,index!$I$3:$I$50,0),MONTH(CF表!$B610)),K$21*K$13/K$196,0)),0)","v":0},{"$f":"IFERROR(IF($B610>L$15,0,IF(OFFSET(index!$I$2,MATCH(L$195,index!$I$3:$I$50,0),MONTH(CF表!$B610)),L$21*L$13/L$196,0)),0)","v":0}]
[null,"2057-03-01",{"$f":"IFERROR(IF($B611>C$15,0,IF(OFFSET(index!$I$2,MATCH(C$195,index!$I$3:$I$50,0),MONTH(CF表!$B611)),C$21*C$13/C$196,0)),0)","v":0},{"$f":"IFERROR(IF($B611>D$15,0,IF(OFFSET(index!$I$2,MATCH(D$195,index!$I$3:$I$50,0),MONTH(CF表!$B611)),D$21*D$13/D$196,0)),0)","v":0},{"$f":"IFERROR(IF($B611>E$15,0,IF(OFFSET(index!$I$2,MATCH(E$195,index!$I$3:$I$50,0),MONTH(CF表!$B611)),E$21*E$13/E$196,0)),0)","v":0},{"$f":"IFERROR(IF($B611>F$15,0,IF(OFFSET(index!$I$2,MATCH(F$195,index!$I$3:$I$50,0),MONTH(CF表!$B611)),F$21*F$13/F$196,0)),0)","v":0},{"$f":"IFERROR(IF($B611>G$15,0,IF(OFFSET(index!$I$2,MATCH(G$195,index!$I$3:$I$50,0),MONTH(CF表!$B611)),G$21*G$13/G$196,0)),0)","v":0},{"$f":"IFERROR(IF($B611>H$15,0,IF(OFFSET(index!$I$2,MATCH(H$195,index!$I$3:$I$50,0),MONTH(CF表!$B611)),H$21*H$13/H$196,0)),0)","v":0},{"$f":"IFERROR(IF($B611>I$15,0,IF(OFFSET(index!$I$2,MATCH(I$195,index!$I$3:$I$50,0),MONTH(CF表!$B611)),I$21*I$13/I$196,0)),0)","v":0},{"$f":"IFERROR(IF($B611>J$15,0,IF(OFFSET(index!$I$2,MATCH(J$195,index!$I$3:$I$50,0),MONTH(CF表!$B611)),J$21*J$13/J$196,0)),0)","v":0},{"$f":"IFERROR(IF($B611>K$15,0,IF(OFFSET(index!$I$2,MATCH(K$195,index!$I$3:$I$50,0),MONTH(CF表!$B611)),K$21*K$13/K$196,0)),0)","v":0},{"$f":"IFERROR(IF($B611>L$15,0,IF(OFFSET(index!$I$2,MATCH(L$195,index!$I$3:$I$50,0),MONTH(CF表!$B611)),L$21*L$13/L$196,0)),0)","v":0}]
[null,"2057-04-01",{"$f":"IFERROR(IF($B612>C$15,0,IF(OFFSET(index!$I$2,MATCH(C$195,index!$I$3:$I$50,0),MONTH(CF表!$B612)),C$21*C$13/C$196,0)),0)","v":0},{"$f":"IFERROR(IF($B612>D$15,0,IF(OFFSET(index!$I$2,MATCH(D$195,index!$I$3:$I$50,0),MONTH(CF表!$B612)),D$21*D$13/D$196,0)),0)","v":0},{"$f":"IFERROR(IF($B612>E$15,0,IF(OFFSET(index!$I$2,MATCH(E$195,index!$I$3:$I$50,0),MONTH(CF表!$B612)),E$21*E$13/E$196,0)),0)","v":0},{"$f":"IFERROR(IF($B612>F$15,0,IF(OFFSET(index!$I$2,MATCH(F$195,index!$I$3:$I$50,0),MONTH(CF表!$B612)),F$21*F$13/F$196,0)),0)","v":0},{"$f":"IFERROR(IF($B612>G$15,0,IF(OFFSET(index!$I$2,MATCH(G$195,index!$I$3:$I$50,0),MONTH(CF表!$B612)),G$21*G$13/G$196,0)),0)","v":0},{"$f":"IFERROR(IF($B612>H$15,0,IF(OFFSET(index!$I$2,MATCH(H$195,index!$I$3:$I$50,0),MONTH(CF表!$B612)),H$21*H$13/H$196,0)),0)","v":0},{"$f":"IFERROR(IF($B612>I$15,0,IF(OFFSET(index!$I$2,MATCH(I$195,index!$I$3:$I$50,0),MONTH(CF表!$B612)),I$21*I$13/I$196,0)),0)","v":0},{"$f":"IFERROR(IF($B612>J$15,0,IF(OFFSET(index!$I$2,MATCH(J$195,index!$I$3:$I$50,0),MONTH(CF表!$B612)),J$21*J$13/J$196,0)),0)","v":0},{"$f":"IFERROR(IF($B612>K$15,0,IF(OFFSET(index!$I$2,MATCH(K$195,index!$I$3:$I$50,0),MONTH(CF表!$B612)),K$21*K$13/K$196,0)),0)","v":0},{"$f":"IFERROR(IF($B612>L$15,0,IF(OFFSET(index!$I$2,MATCH(L$195,index!$I$3:$I$50,0),MONTH(CF表!$B612)),L$21*L$13/L$196,0)),0)","v":0}]
[null,"2057-05-01",{"$f":"IFERROR(IF($B613>C$15,0,IF(OFFSET(index!$I$2,MATCH(C$195,index!$I$3:$I$50,0),MONTH(CF表!$B613)),C$21*C$13/C$196,0)),0)","v":0},{"$f":"IFERROR(IF($B613>D$15,0,IF(OFFSET(index!$I$2,MATCH(D$195,index!$I$3:$I$50,0),MONTH(CF表!$B613)),D$21*D$13/D$196,0)),0)","v":0},{"$f":"IFERROR(IF($B613>E$15,0,IF(OFFSET(index!$I$2,MATCH(E$195,index!$I$3:$I$50,0),MONTH(CF表!$B613)),E$21*E$13/E$196,0)),0)","v":0},{"$f":"IFERROR(IF($B613>F$15,0,IF(OFFSET(index!$I$2,MATCH(F$195,index!$I$3:$I$50,0),MONTH(CF表!$B613)),F$21*F$13/F$196,0)),0)","v":0},{"$f":"IFERROR(IF($B613>G$15,0,IF(OFFSET(index!$I$2,MATCH(G$195,index!$I$3:$I$50,0),MONTH(CF表!$B613)),G$21*G$13/G$196,0)),0)","v":0},{"$f":"IFERROR(IF($B613>H$15,0,IF(OFFSET(index!$I$2,MATCH(H$195,index!$I$3:$I$50,0),MONTH(CF表!$B613)),H$21*H$13/H$196,0)),0)","v":0},{"$f":"IFERROR(IF($B613>I$15,0,IF(OFFSET(index!$I$2,MATCH(I$195,index!$I$3:$I$50,0),MONTH(CF表!$B613)),I$21*I$13/I$196,0)),0)","v":0},{"$f":"IFERROR(IF($B613>J$15,0,IF(OFFSET(index!$I$2,MATCH(J$195,index!$I$3:$I$50,0),MONTH(CF表!$B613)),J$21*J$13/J$196,0)),0)","v":0},{"$f":"IFERROR(IF($B613>K$15,0,IF(OFFSET(index!$I$2,MATCH(K$195,index!$I$3:$I$50,0),MONTH(CF表!$B613)),K$21*K$13/K$196,0)),0)","v":0},{"$f":"IFERROR(IF($B613>L$15,0,IF(OFFSET(index!$I$2,MATCH(L$195,index!$I$3:$I$50,0),MONTH(CF表!$B613)),L$21*L$13/L$196,0)),0)","v":0}]
[null,"2057-06-01",{"$f":"IFERROR(IF($B614>C$15,0,IF(OFFSET(index!$I$2,MATCH(C$195,index!$I$3:$I$50,0),MONTH(CF表!$B614)),C$21*C$13/C$196,0)),0)","v":0},{"$f":"IFERROR(IF($B614>D$15,0,IF(OFFSET(index!$I$2,MATCH(D$195,index!$I$3:$I$50,0),MONTH(CF表!$B614)),D$21*D$13/D$196,0)),0)","v":0},{"$f":"IFERROR(IF($B614>E$15,0,IF(OFFSET(index!$I$2,MATCH(E$195,index!$I$3:$I$50,0),MONTH(CF表!$B614)),E$21*E$13/E$196,0)),0)","v":0},{"$f":"IFERROR(IF($B614>F$15,0,IF(OFFSET(index!$I$2,MATCH(F$195,index!$I$3:$I$50,0),MONTH(CF表!$B614)),F$21*F$13/F$196,0)),0)","v":0},{"$f":"IFERROR(IF($B614>G$15,0,IF(OFFSET(index!$I$2,MATCH(G$195,index!$I$3:$I$50,0),MONTH(CF表!$B614)),G$21*G$13/G$196,0)),0)","v":0},{"$f":"IFERROR(IF($B614>H$15,0,IF(OFFSET(index!$I$2,MATCH(H$195,index!$I$3:$I$50,0),MONTH(CF表!$B614)),H$21*H$13/H$196,0)),0)","v":0},{"$f":"IFERROR(IF($B614>I$15,0,IF(OFFSET(index!$I$2,MATCH(I$195,index!$I$3:$I$50,0),MONTH(CF表!$B614)),I$21*I$13/I$196,0)),0)","v":0},{"$f":"IFERROR(IF($B614>J$15,0,IF(OFFSET(index!$I$2,MATCH(J$195,index!$I$3:$I$50,0),MONTH(CF表!$B614)),J$21*J$13/J$196,0)),0)","v":0},{"$f":"IFERROR(IF($B614>K$15,0,IF(OFFSET(index!$I$2,MATCH(K$195,index!$I$3:$I$50,0),MONTH(CF表!$B614)),K$21*K$13/K$196,0)),0)","v":0},{"$f":"IFERROR(IF($B614>L$15,0,IF(OFFSET(index!$I$2,MATCH(L$195,index!$I$3:$I$50,0),MONTH(CF表!$B614)),L$21*L$13/L$196,0)),0)","v":0}]
[null,"2057-07-01",{"$f":"IFERROR(IF($B615>C$15,0,IF(OFFSET(index!$I$2,MATCH(C$195,index!$I$3:$I$50,0),MONTH(CF表!$B615)),C$21*C$13/C$196,0)),0)","v":0},{"$f":"IFERROR(IF($B615>D$15,0,IF(OFFSET(index!$I$2,MATCH(D$195,index!$I$3:$I$50,0),MONTH(CF表!$B615)),D$21*D$13/D$196,0)),0)","v":0},{"$f":"IFERROR(IF($B615>E$15,0,IF(OFFSET(index!$I$2,MATCH(E$195,index!$I$3:$I$50,0),MONTH(CF表!$B615)),E$21*E$13/E$196,0)),0)","v":0},{"$f":"IFERROR(IF($B615>F$15,0,IF(OFFSET(index!$I$2,MATCH(F$195,index!$I$3:$I$50,0),MONTH(CF表!$B615)),F$21*F$13/F$196,0)),0)","v":0},{"$f":"IFERROR(IF($B615>G$15,0,IF(OFFSET(index!$I$2,MATCH(G$195,index!$I$3:$I$50,0),MONTH(CF表!$B615)),G$21*G$13/G$196,0)),0)","v":0},{"$f":"IFERROR(IF($B615>H$15,0,IF(OFFSET(index!$I$2,MATCH(H$195,index!$I$3:$I$50,0),MONTH(CF表!$B615)),H$21*H$13/H$196,0)),0)","v":0},{"$f":"IFERROR(IF($B615>I$15,0,IF(OFFSET(index!$I$2,MATCH(I$195,index!$I$3:$I$50,0),MONTH(CF表!$B615)),I$21*I$13/I$196,0)),0)","v":0},{"$f":"IFERROR(IF($B615>J$15,0,IF(OFFSET(index!$I$2,MATCH(J$195,index!$I$3:$I$50,0),MONTH(CF表!$B615)),J$21*J$13/J$196,0)),0)","v":0},{"$f":"IFERROR(IF($B615>K$15,0,IF(OFFSET(index!$I$2,MATCH(K$195,index!$I$3:$I$50,0),MONTH(CF表!$B615)),K$21*K$13/K$196,0)),0)","v":0},{"$f":"IFERROR(IF($B615>L$15,0,IF(OFFSET(index!$I$2,MATCH(L$195,index!$I$3:$I$50,0),MONTH(CF表!$B615)),L$21*L$13/L$196,0)),0)","v":0}]
[null,"2057-08-01",{"$f":"IFERROR(IF($B616>C$15,0,IF(OFFSET(index!$I$2,MATCH(C$195,index!$I$3:$I$50,0),MONTH(CF表!$B616)),C$21*C$13/C$196,0)),0)","v":0},{"$f":"IFERROR(IF($B616>D$15,0,IF(OFFSET(index!$I$2,MATCH(D$195,index!$I$3:$I$50,0),MONTH(CF表!$B616)),D$21*D$13/D$196,0)),0)","v":0},{"$f":"IFERROR(IF($B616>E$15,0,IF(OFFSET(index!$I$2,MATCH(E$195,index!$I$3:$I$50,0),MONTH(CF表!$B616)),E$21*E$13/E$196,0)),0)","v":0},{"$f":"IFERROR(IF($B616>F$15,0,IF(OFFSET(index!$I$2,MATCH(F$195,index!$I$3:$I$50,0),MONTH(CF表!$B616)),F$21*F$13/F$196,0)),0)","v":0},{"$f":"IFERROR(IF($B616>G$15,0,IF(OFFSET(index!$I$2,MATCH(G$195,index!$I$3:$I$50,0),MONTH(CF表!$B616)),G$21*G$13/G$196,0)),0)","v":0},{"$f":"IFERROR(IF($B616>H$15,0,IF(OFFSET(index!$I$2,MATCH(H$195,index!$I$3:$I$50,0),MONTH(CF表!$B616)),H$21*H$13/H$196,0)),0)","v":0},{"$f":"IFERROR(IF($B616>I$15,0,IF(OFFSET(index!$I$2,MATCH(I$195,index!$I$3:$I$50,0),MONTH(CF表!$B616)),I$21*I$13/I$196,0)),0)","v":0},{"$f":"IFERROR(IF($B616>J$15,0,IF(OFFSET(index!$I$2,MATCH(J$195,index!$I$3:$I$50,0),MONTH(CF表!$B616)),J$21*J$13/J$196,0)),0)","v":0},{"$f":"IFERROR(IF($B616>K$15,0,IF(OFFSET(index!$I$2,MATCH(K$195,index!$I$3:$I$50,0),MONTH(CF表!$B616)),K$21*K$13/K$196,0)),0)","v":0},{"$f":"IFERROR(IF($B616>L$15,0,IF(OFFSET(index!$I$2,MATCH(L$195,index!$I$3:$I$50,0),MONTH(CF表!$B616)),L$21*L$13/L$196,0)),0)","v":0}]
[null,"2057-09-01",{"$f":"IFERROR(IF($B617>C$15,0,IF(OFFSET(index!$I$2,MATCH(C$195,index!$I$3:$I$50,0),MONTH(CF表!$B617)),C$21*C$13/C$196,0)),0)","v":0},{"$f":"IFERROR(IF($B617>D$15,0,IF(OFFSET(index!$I$2,MATCH(D$195,index!$I$3:$I$50,0),MONTH(CF表!$B617)),D$21*D$13/D$196,0)),0)","v":0},{"$f":"IFERROR(IF($B617>E$15,0,IF(OFFSET(index!$I$2,MATCH(E$195,index!$I$3:$I$50,0),MONTH(CF表!$B617)),E$21*E$13/E$196,0)),0)","v":0},{"$f":"IFERROR(IF($B617>F$15,0,IF(OFFSET(index!$I$2,MATCH(F$195,index!$I$3:$I$50,0),MONTH(CF表!$B617)),F$21*F$13/F$196,0)),0)","v":0},{"$f":"IFERROR(IF($B617>G$15,0,IF(OFFSET(index!$I$2,MATCH(G$195,index!$I$3:$I$50,0),MONTH(CF表!$B617)),G$21*G$13/G$196,0)),0)","v":0},{"$f":"IFERROR(IF($B617>H$15,0,IF(OFFSET(index!$I$2,MATCH(H$195,index!$I$3:$I$50,0),MONTH(CF表!$B617)),H$21*H$13/H$196,0)),0)","v":0},{"$f":"IFERROR(IF($B617>I$15,0,IF(OFFSET(index!$I$2,MATCH(I$195,index!$I$3:$I$50,0),MONTH(CF表!$B617)),I$21*I$13/I$196,0)),0)","v":0},{"$f":"IFERROR(IF($B617>J$15,0,IF(OFFSET(index!$I$2,MATCH(J$195,index!$I$3:$I$50,0),MONTH(CF表!$B617)),J$21*J$13/J$196,0)),0)","v":0},{"$f":"IFERROR(IF($B617>K$15,0,IF(OFFSET(index!$I$2,MATCH(K$195,index!$I$3:$I$50,0),MONTH(CF表!$B617)),K$21*K$13/K$196,0)),0)","v":0},{"$f":"IFERROR(IF($B617>L$15,0,IF(OFFSET(index!$I$2,MATCH(L$195,index!$I$3:$I$50,0),MONTH(CF表!$B617)),L$21*L$13/L$196,0)),0)","v":0}]
[null,"2057-10-01",{"$f":"IFERROR(IF($B618>C$15,0,IF(OFFSET(index!$I$2,MATCH(C$195,index!$I$3:$I$50,0),MONTH(CF表!$B618)),C$21*C$13/C$196,0)),0)","v":0},{"$f":"IFERROR(IF($B618>D$15,0,IF(OFFSET(index!$I$2,MATCH(D$195,index!$I$3:$I$50,0),MONTH(CF表!$B618)),D$21*D$13/D$196,0)),0)","v":0},{"$f":"IFERROR(IF($B618>E$15,0,IF(OFFSET(index!$I$2,MATCH(E$195,index!$I$3:$I$50,0),MONTH(CF表!$B618)),E$21*E$13/E$196,0)),0)","v":0},{"$f":"IFERROR(IF($B618>F$15,0,IF(OFFSET(index!$I$2,MATCH(F$195,index!$I$3:$I$50,0),MONTH(CF表!$B618)),F$21*F$13/F$196,0)),0)","v":0},{"$f":"IFERROR(IF($B618>G$15,0,IF(OFFSET(index!$I$2,MATCH(G$195,index!$I$3:$I$50,0),MONTH(CF表!$B618)),G$21*G$13/G$196,0)),0)","v":0},{"$f":"IFERROR(IF($B618>H$15,0,IF(OFFSET(index!$I$2,MATCH(H$195,index!$I$3:$I$50,0),MONTH(CF表!$B618)),H$21*H$13/H$196,0)),0)","v":0},{"$f":"IFERROR(IF($B618>I$15,0,IF(OFFSET(index!$I$2,MATCH(I$195,index!$I$3:$I$50,0),MONTH(CF表!$B618)),I$21*I$13/I$196,0)),0)","v":0},{"$f":"IFERROR(IF($B618>J$15,0,IF(OFFSET(index!$I$2,MATCH(J$195,index!$I$3:$I$50,0),MONTH(CF表!$B618)),J$21*J$13/J$196,0)),0)","v":0},{"$f":"IFERROR(IF($B618>K$15,0,IF(OFFSET(index!$I$2,MATCH(K$195,index!$I$3:$I$50,0),MONTH(CF表!$B618)),K$21*K$13/K$196,0)),0)","v":0},{"$f":"IFERROR(IF($B618>L$15,0,IF(OFFSET(index!$I$2,MATCH(L$195,index!$I$3:$I$50,0),MONTH(CF表!$B618)),L$21*L$13/L$196,0)),0)","v":0}]
[null,"2057-11-01",{"$f":"IFERROR(IF($B619>C$15,0,IF(OFFSET(index!$I$2,MATCH(C$195,index!$I$3:$I$50,0),MONTH(CF表!$B619)),C$21*C$13/C$196,0)),0)","v":0},{"$f":"IFERROR(IF($B619>D$15,0,IF(OFFSET(index!$I$2,MATCH(D$195,index!$I$3:$I$50,0),MONTH(CF表!$B619)),D$21*D$13/D$196,0)),0)","v":0},{"$f":"IFERROR(IF($B619>E$15,0,IF(OFFSET(index!$I$2,MATCH(E$195,index!$I$3:$I$50,0),MONTH(CF表!$B619)),E$21*E$13/E$196,0)),0)","v":0},{"$f":"IFERROR(IF($B619>F$15,0,IF(OFFSET(index!$I$2,MATCH(F$195,index!$I$3:$I$50,0),MONTH(CF表!$B619)),F$21*F$13/F$196,0)),0)","v":0},{"$f":"IFERROR(IF($B619>G$15,0,IF(OFFSET(index!$I$2,MATCH(G$195,index!$I$3:$I$50,0),MONTH(CF表!$B619)),G$21*G$13/G$196,0)),0)","v":0},{"$f":"IFERROR(IF($B619>H$15,0,IF(OFFSET(index!$I$2,MATCH(H$195,index!$I$3:$I$50,0),MONTH(CF表!$B619)),H$21*H$13/H$196,0)),0)","v":0},{"$f":"IFERROR(IF($B619>I$15,0,IF(OFFSET(index!$I$2,MATCH(I$195,index!$I$3:$I$50,0),MONTH(CF表!$B619)),I$21*I$13/I$196,0)),0)","v":0},{"$f":"IFERROR(IF($B619>J$15,0,IF(OFFSET(index!$I$2,MATCH(J$195,index!$I$3:$I$50,0),MONTH(CF表!$B619)),J$21*J$13/J$196,0)),0)","v":0},{"$f":"IFERROR(IF($B619>K$15,0,IF(OFFSET(index!$I$2,MATCH(K$195,index!$I$3:$I$50,0),MONTH(CF表!$B619)),K$21*K$13/K$196,0)),0)","v":0},{"$f":"IFERROR(IF($B619>L$15,0,IF(OFFSET(index!$I$2,MATCH(L$195,index!$I$3:$I$50,0),MONTH(CF表!$B619)),L$21*L$13/L$196,0)),0)","v":0}]
[null,"2057-12-01",{"$f":"IFERROR(IF($B620>C$15,0,IF(OFFSET(index!$I$2,MATCH(C$195,index!$I$3:$I$50,0),MONTH(CF表!$B620)),C$21*C$13/C$196,0)),0)","v":0},{"$f":"IFERROR(IF($B620>D$15,0,IF(OFFSET(index!$I$2,MATCH(D$195,index!$I$3:$I$50,0),MONTH(CF表!$B620)),D$21*D$13/D$196,0)),0)","v":0},{"$f":"IFERROR(IF($B620>E$15,0,IF(OFFSET(index!$I$2,MATCH(E$195,index!$I$3:$I$50,0),MONTH(CF表!$B620)),E$21*E$13/E$196,0)),0)","v":0},{"$f":"IFERROR(IF($B620>F$15,0,IF(OFFSET(index!$I$2,MATCH(F$195,index!$I$3:$I$50,0),MONTH(CF表!$B620)),F$21*F$13/F$196,0)),0)","v":0},{"$f":"IFERROR(IF($B620>G$15,0,IF(OFFSET(index!$I$2,MATCH(G$195,index!$I$3:$I$50,0),MONTH(CF表!$B620)),G$21*G$13/G$196,0)),0)","v":0},{"$f":"IFERROR(IF($B620>H$15,0,IF(OFFSET(index!$I$2,MATCH(H$195,index!$I$3:$I$50,0),MONTH(CF表!$B620)),H$21*H$13/H$196,0)),0)","v":0},{"$f":"IFERROR(IF($B620>I$15,0,IF(OFFSET(index!$I$2,MATCH(I$195,index!$I$3:$I$50,0),MONTH(CF表!$B620)),I$21*I$13/I$196,0)),0)","v":0},{"$f":"IFERROR(IF($B620>J$15,0,IF(OFFSET(index!$I$2,MATCH(J$195,index!$I$3:$I$50,0),MONTH(CF表!$B620)),J$21*J$13/J$196,0)),0)","v":0},{"$f":"IFERROR(IF($B620>K$15,0,IF(OFFSET(index!$I$2,MATCH(K$195,index!$I$3:$I$50,0),MONTH(CF表!$B620)),K$21*K$13/K$196,0)),0)","v":0},{"$f":"IFERROR(IF($B620>L$15,0,IF(OFFSET(index!$I$2,MATCH(L$195,index!$I$3:$I$50,0),MONTH(CF表!$B620)),L$21*L$13/L$196,0)),0)","v":0}]
[null,"2058-01-01",{"$f":"IFERROR(IF($B621>C$15,0,IF(OFFSET(index!$I$2,MATCH(C$195,index!$I$3:$I$50,0),MONTH(CF表!$B621)),C$21*C$13/C$196,0)),0)","v":0},{"$f":"IFERROR(IF($B621>D$15,0,IF(OFFSET(index!$I$2,MATCH(D$195,index!$I$3:$I$50,0),MONTH(CF表!$B621)),D$21*D$13/D$196,0)),0)","v":0},{"$f":"IFERROR(IF($B621>E$15,0,IF(OFFSET(index!$I$2,MATCH(E$195,index!$I$3:$I$50,0),MONTH(CF表!$B621)),E$21*E$13/E$196,0)),0)","v":0},{"$f":"IFERROR(IF($B621>F$15,0,IF(OFFSET(index!$I$2,MATCH(F$195,index!$I$3:$I$50,0),MONTH(CF表!$B621)),F$21*F$13/F$196,0)),0)","v":0},{"$f":"IFERROR(IF($B621>G$15,0,IF(OFFSET(index!$I$2,MATCH(G$195,index!$I$3:$I$50,0),MONTH(CF表!$B621)),G$21*G$13/G$196,0)),0)","v":0},{"$f":"IFERROR(IF($B621>H$15,0,IF(OFFSET(index!$I$2,MATCH(H$195,index!$I$3:$I$50,0),MONTH(CF表!$B621)),H$21*H$13/H$196,0)),0)","v":0},{"$f":"IFERROR(IF($B621>I$15,0,IF(OFFSET(index!$I$2,MATCH(I$195,index!$I$3:$I$50,0),MONTH(CF表!$B621)),I$21*I$13/I$196,0)),0)","v":0},{"$f":"IFERROR(IF($B621>J$15,0,IF(OFFSET(index!$I$2,MATCH(J$195,index!$I$3:$I$50,0),MONTH(CF表!$B621)),J$21*J$13/J$196,0)),0)","v":0},{"$f":"IFERROR(IF($B621>K$15,0,IF(OFFSET(index!$I$2,MATCH(K$195,index!$I$3:$I$50,0),MONTH(CF表!$B621)),K$21*K$13/K$196,0)),0)","v":0},{"$f":"IFERROR(IF($B621>L$15,0,IF(OFFSET(index!$I$2,MATCH(L$195,index!$I$3:$I$50,0),MONTH(CF表!$B621)),L$21*L$13/L$196,0)),0)","v":0}]
[null,"2058-02-01",{"$f":"IFERROR(IF($B622>C$15,0,IF(OFFSET(index!$I$2,MATCH(C$195,index!$I$3:$I$50,0),MONTH(CF表!$B622)),C$21*C$13/C$196,0)),0)","v":0},{"$f":"IFERROR(IF($B622>D$15,0,IF(OFFSET(index!$I$2,MATCH(D$195,index!$I$3:$I$50,0),MONTH(CF表!$B622)),D$21*D$13/D$196,0)),0)","v":0},{"$f":"IFERROR(IF($B622>E$15,0,IF(OFFSET(index!$I$2,MATCH(E$195,index!$I$3:$I$50,0),MONTH(CF表!$B622)),E$21*E$13/E$196,0)),0)","v":0},{"$f":"IFERROR(IF($B622>F$15,0,IF(OFFSET(index!$I$2,MATCH(F$195,index!$I$3:$I$50,0),MONTH(CF表!$B622)),F$21*F$13/F$196,0)),0)","v":0},{"$f":"IFERROR(IF($B622>G$15,0,IF(OFFSET(index!$I$2,MATCH(G$195,index!$I$3:$I$50,0),MONTH(CF表!$B622)),G$21*G$13/G$196,0)),0)","v":0},{"$f":"IFERROR(IF($B622>H$15,0,IF(OFFSET(index!$I$2,MATCH(H$195,index!$I$3:$I$50,0),MONTH(CF表!$B622)),H$21*H$13/H$196,0)),0)","v":0},{"$f":"IFERROR(IF($B622>I$15,0,IF(OFFSET(index!$I$2,MATCH(I$195,index!$I$3:$I$50,0),MONTH(CF表!$B622)),I$21*I$13/I$196,0)),0)","v":0},{"$f":"IFERROR(IF($B622>J$15,0,IF(OFFSET(index!$I$2,MATCH(J$195,index!$I$3:$I$50,0),MONTH(CF表!$B622)),J$21*J$13/J$196,0)),0)","v":0},{"$f":"IFERROR(IF($B622>K$15,0,IF(OFFSET(index!$I$2,MATCH(K$195,index!$I$3:$I$50,0),MONTH(CF表!$B622)),K$21*K$13/K$196,0)),0)","v":0},{"$f":"IFERROR(IF($B622>L$15,0,IF(OFFSET(index!$I$2,MATCH(L$195,index!$I$3:$I$50,0),MONTH(CF表!$B622)),L$21*L$13/L$196,0)),0)","v":0}]
[null,"2058-03-01",{"$f":"IFERROR(IF($B623>C$15,0,IF(OFFSET(index!$I$2,MATCH(C$195,index!$I$3:$I$50,0),MONTH(CF表!$B623)),C$21*C$13/C$196,0)),0)","v":0},{"$f":"IFERROR(IF($B623>D$15,0,IF(OFFSET(index!$I$2,MATCH(D$195,index!$I$3:$I$50,0),MONTH(CF表!$B623)),D$21*D$13/D$196,0)),0)","v":0},{"$f":"IFERROR(IF($B623>E$15,0,IF(OFFSET(index!$I$2,MATCH(E$195,index!$I$3:$I$50,0),MONTH(CF表!$B623)),E$21*E$13/E$196,0)),0)","v":0},{"$f":"IFERROR(IF($B623>F$15,0,IF(OFFSET(index!$I$2,MATCH(F$195,index!$I$3:$I$50,0),MONTH(CF表!$B623)),F$21*F$13/F$196,0)),0)","v":0},{"$f":"IFERROR(IF($B623>G$15,0,IF(OFFSET(index!$I$2,MATCH(G$195,index!$I$3:$I$50,0),MONTH(CF表!$B623)),G$21*G$13/G$196,0)),0)","v":0},{"$f":"IFERROR(IF($B623>H$15,0,IF(OFFSET(index!$I$2,MATCH(H$195,index!$I$3:$I$50,0),MONTH(CF表!$B623)),H$21*H$13/H$196,0)),0)","v":0},{"$f":"IFERROR(IF($B623>I$15,0,IF(OFFSET(index!$I$2,MATCH(I$195,index!$I$3:$I$50,0),MONTH(CF表!$B623)),I$21*I$13/I$196,0)),0)","v":0},{"$f":"IFERROR(IF($B623>J$15,0,IF(OFFSET(index!$I$2,MATCH(J$195,index!$I$3:$I$50,0),MONTH(CF表!$B623)),J$21*J$13/J$196,0)),0)","v":0},{"$f":"IFERROR(IF($B623>K$15,0,IF(OFFSET(index!$I$2,MATCH(K$195,index!$I$3:$I$50,0),MONTH(CF表!$B623)),K$21*K$13/K$196,0)),0)","v":0},{"$f":"IFERROR(IF($B623>L$15,0,IF(OFFSET(index!$I$2,MATCH(L$195,index!$I$3:$I$50,0),MONTH(CF表!$B623)),L$21*L$13/L$196,0)),0)","v":0}]
[null,"2058-04-01",{"$f":"IFERROR(IF($B624>C$15,0,IF(OFFSET(index!$I$2,MATCH(C$195,index!$I$3:$I$50,0),MONTH(CF表!$B624)),C$21*C$13/C$196,0)),0)","v":0},{"$f":"IFERROR(IF($B624>D$15,0,IF(OFFSET(index!$I$2,MATCH(D$195,index!$I$3:$I$50,0),MONTH(CF表!$B624)),D$21*D$13/D$196,0)),0)","v":0},{"$f":"IFERROR(IF($B624>E$15,0,IF(OFFSET(index!$I$2,MATCH(E$195,index!$I$3:$I$50,0),MONTH(CF表!$B624)),E$21*E$13/E$196,0)),0)","v":0},{"$f":"IFERROR(IF($B624>F$15,0,IF(OFFSET(index!$I$2,MATCH(F$195,index!$I$3:$I$50,0),MONTH(CF表!$B624)),F$21*F$13/F$196,0)),0)","v":0},{"$f":"IFERROR(IF($B624>G$15,0,IF(OFFSET(index!$I$2,MATCH(G$195,index!$I$3:$I$50,0),MONTH(CF表!$B624)),G$21*G$13/G$196,0)),0)","v":0},{"$f":"IFERROR(IF($B624>H$15,0,IF(OFFSET(index!$I$2,MATCH(H$195,index!$I$3:$I$50,0),MONTH(CF表!$B624)),H$21*H$13/H$196,0)),0)","v":0},{"$f":"IFERROR(IF($B624>I$15,0,IF(OFFSET(index!$I$2,MATCH(I$195,index!$I$3:$I$50,0),MONTH(CF表!$B624)),I$21*I$13/I$196,0)),0)","v":0},{"$f":"IFERROR(IF($B624>J$15,0,IF(OFFSET(index!$I$2,MATCH(J$195,index!$I$3:$I$50,0),MONTH(CF表!$B624)),J$21*J$13/J$196,0)),0)","v":0},{"$f":"IFERROR(IF($B624>K$15,0,IF(OFFSET(index!$I$2,MATCH(K$195,index!$I$3:$I$50,0),MONTH(CF表!$B624)),K$21*K$13/K$196,0)),0)","v":0},{"$f":"IFERROR(IF($B624>L$15,0,IF(OFFSET(index!$I$2,MATCH(L$195,index!$I$3:$I$50,0),MONTH(CF表!$B624)),L$21*L$13/L$196,0)),0)","v":0}]
[null,"2058-05-01",{"$f":"IFERROR(IF($B625>C$15,0,IF(OFFSET(index!$I$2,MATCH(C$195,index!$I$3:$I$50,0),MONTH(CF表!$B625)),C$21*C$13/C$196,0)),0)","v":0},{"$f":"IFERROR(IF($B625>D$15,0,IF(OFFSET(index!$I$2,MATCH(D$195,index!$I$3:$I$50,0),MONTH(CF表!$B625)),D$21*D$13/D$196,0)),0)","v":0},{"$f":"IFERROR(IF($B625>E$15,0,IF(OFFSET(index!$I$2,MATCH(E$195,index!$I$3:$I$50,0),MONTH(CF表!$B625)),E$21*E$13/E$196,0)),0)","v":0},{"$f":"IFERROR(IF($B625>F$15,0,IF(OFFSET(index!$I$2,MATCH(F$195,index!$I$3:$I$50,0),MONTH(CF表!$B625)),F$21*F$13/F$196,0)),0)","v":0},{"$f":"IFERROR(IF($B625>G$15,0,IF(OFFSET(index!$I$2,MATCH(G$195,index!$I$3:$I$50,0),MONTH(CF表!$B625)),G$21*G$13/G$196,0)),0)","v":0},{"$f":"IFERROR(IF($B625>H$15,0,IF(OFFSET(index!$I$2,MATCH(H$195,index!$I$3:$I$50,0),MONTH(CF表!$B625)),H$21*H$13/H$196,0)),0)","v":0},{"$f":"IFERROR(IF($B625>I$15,0,IF(OFFSET(index!$I$2,MATCH(I$195,index!$I$3:$I$50,0),MONTH(CF表!$B625)),I$21*I$13/I$196,0)),0)","v":0},{"$f":"IFERROR(IF($B625>J$15,0,IF(OFFSET(index!$I$2,MATCH(J$195,index!$I$3:$I$50,0),MONTH(CF表!$B625)),J$21*J$13/J$196,0)),0)","v":0},{"$f":"IFERROR(IF($B625>K$15,0,IF(OFFSET(index!$I$2,MATCH(K$195,index!$I$3:$I$50,0),MONTH(CF表!$B625)),K$21*K$13/K$196,0)),0)","v":0},{"$f":"IFERROR(IF($B625>L$15,0,IF(OFFSET(index!$I$2,MATCH(L$195,index!$I$3:$I$50,0),MONTH(CF表!$B625)),L$21*L$13/L$196,0)),0)","v":0}]
[null,"2058-06-01",{"$f":"IFERROR(IF($B626>C$15,0,IF(OFFSET(index!$I$2,MATCH(C$195,index!$I$3:$I$50,0),MONTH(CF表!$B626)),C$21*C$13/C$196,0)),0)","v":0},{"$f":"IFERROR(IF($B626>D$15,0,IF(OFFSET(index!$I$2,MATCH(D$195,index!$I$3:$I$50,0),MONTH(CF表!$B626)),D$21*D$13/D$196,0)),0)","v":0},{"$f":"IFERROR(IF($B626>E$15,0,IF(OFFSET(index!$I$2,MATCH(E$195,index!$I$3:$I$50,0),MONTH(CF表!$B626)),E$21*E$13/E$196,0)),0)","v":0},{"$f":"IFERROR(IF($B626>F$15,0,IF(OFFSET(index!$I$2,MATCH(F$195,index!$I$3:$I$50,0),MONTH(CF表!$B626)),F$21*F$13/F$196,0)),0)","v":0},{"$f":"IFERROR(IF($B626>G$15,0,IF(OFFSET(index!$I$2,MATCH(G$195,index!$I$3:$I$50,0),MONTH(CF表!$B626)),G$21*G$13/G$196,0)),0)","v":0},{"$f":"IFERROR(IF($B626>H$15,0,IF(OFFSET(index!$I$2,MATCH(H$195,index!$I$3:$I$50,0),MONTH(CF表!$B626)),H$21*H$13/H$196,0)),0)","v":0},{"$f":"IFERROR(IF($B626>I$15,0,IF(OFFSET(index!$I$2,MATCH(I$195,index!$I$3:$I$50,0),MONTH(CF表!$B626)),I$21*I$13/I$196,0)),0)","v":0},{"$f":"IFERROR(IF($B626>J$15,0,IF(OFFSET(index!$I$2,MATCH(J$195,index!$I$3:$I$50,0),MONTH(CF表!$B626)),J$21*J$13/J$196,0)),0)","v":0},{"$f":"IFERROR(IF($B626>K$15,0,IF(OFFSET(index!$I$2,MATCH(K$195,index!$I$3:$I$50,0),MONTH(CF表!$B626)),K$21*K$13/K$196,0)),0)","v":0},{"$f":"IFERROR(IF($B626>L$15,0,IF(OFFSET(index!$I$2,MATCH(L$195,index!$I$3:$I$50,0),MONTH(CF表!$B626)),L$21*L$13/L$196,0)),0)","v":0}]
[null,"2058-07-01",{"$f":"IFERROR(IF($B627>C$15,0,IF(OFFSET(index!$I$2,MATCH(C$195,index!$I$3:$I$50,0),MONTH(CF表!$B627)),C$21*C$13/C$196,0)),0)","v":0},{"$f":"IFERROR(IF($B627>D$15,0,IF(OFFSET(index!$I$2,MATCH(D$195,index!$I$3:$I$50,0),MONTH(CF表!$B627)),D$21*D$13/D$196,0)),0)","v":0},{"$f":"IFERROR(IF($B627>E$15,0,IF(OFFSET(index!$I$2,MATCH(E$195,index!$I$3:$I$50,0),MONTH(CF表!$B627)),E$21*E$13/E$196,0)),0)","v":0},{"$f":"IFERROR(IF($B627>F$15,0,IF(OFFSET(index!$I$2,MATCH(F$195,index!$I$3:$I$50,0),MONTH(CF表!$B627)),F$21*F$13/F$196,0)),0)","v":0},{"$f":"IFERROR(IF($B627>G$15,0,IF(OFFSET(index!$I$2,MATCH(G$195,index!$I$3:$I$50,0),MONTH(CF表!$B627)),G$21*G$13/G$196,0)),0)","v":0},{"$f":"IFERROR(IF($B627>H$15,0,IF(OFFSET(index!$I$2,MATCH(H$195,index!$I$3:$I$50,0),MONTH(CF表!$B627)),H$21*H$13/H$196,0)),0)","v":0},{"$f":"IFERROR(IF($B627>I$15,0,IF(OFFSET(index!$I$2,MATCH(I$195,index!$I$3:$I$50,0),MONTH(CF表!$B627)),I$21*I$13/I$196,0)),0)","v":0},{"$f":"IFERROR(IF($B627>J$15,0,IF(OFFSET(index!$I$2,MATCH(J$195,index!$I$3:$I$50,0),MONTH(CF表!$B627)),J$21*J$13/J$196,0)),0)","v":0},{"$f":"IFERROR(IF($B627>K$15,0,IF(OFFSET(index!$I$2,MATCH(K$195,index!$I$3:$I$50,0),MONTH(CF表!$B627)),K$21*K$13/K$196,0)),0)","v":0},{"$f":"IFERROR(IF($B627>L$15,0,IF(OFFSET(index!$I$2,MATCH(L$195,index!$I$3:$I$50,0),MONTH(CF表!$B627)),L$21*L$13/L$196,0)),0)","v":0}]
[null,"2058-08-01",{"$f":"IFERROR(IF($B628>C$15,0,IF(OFFSET(index!$I$2,MATCH(C$195,index!$I$3:$I$50,0),MONTH(CF表!$B628)),C$21*C$13/C$196,0)),0)","v":0},{"$f":"IFERROR(IF($B628>D$15,0,IF(OFFSET(index!$I$2,MATCH(D$195,index!$I$3:$I$50,0),MONTH(CF表!$B628)),D$21*D$13/D$196,0)),0)","v":0},{"$f":"IFERROR(IF($B628>E$15,0,IF(OFFSET(index!$I$2,MATCH(E$195,index!$I$3:$I$50,0),MONTH(CF表!$B628)),E$21*E$13/E$196,0)),0)","v":0},{"$f":"IFERROR(IF($B628>F$15,0,IF(OFFSET(index!$I$2,MATCH(F$195,index!$I$3:$I$50,0),MONTH(CF表!$B628)),F$21*F$13/F$196,0)),0)","v":0},{"$f":"IFERROR(IF($B628>G$15,0,IF(OFFSET(index!$I$2,MATCH(G$195,index!$I$3:$I$50,0),MONTH(CF表!$B628)),G$21*G$13/G$196,0)),0)","v":0},{"$f":"IFERROR(IF($B628>H$15,0,IF(OFFSET(index!$I$2,MATCH(H$195,index!$I$3:$I$50,0),MONTH(CF表!$B628)),H$21*H$13/H$196,0)),0)","v":0},{"$f":"IFERROR(IF($B628>I$15,0,IF(OFFSET(index!$I$2,MATCH(I$195,index!$I$3:$I$50,0),MONTH(CF表!$B628)),I$21*I$13/I$196,0)),0)","v":0},{"$f":"IFERROR(IF($B628>J$15,0,IF(OFFSET(index!$I$2,MATCH(J$195,index!$I$3:$I$50,0),MONTH(CF表!$B628)),J$21*J$13/J$196,0)),0)","v":0},{"$f":"IFERROR(IF($B628>K$15,0,IF(OFFSET(index!$I$2,MATCH(K$195,index!$I$3:$I$50,0),MONTH(CF表!$B628)),K$21*K$13/K$196,0)),0)","v":0},{"$f":"IFERROR(IF($B628>L$15,0,IF(OFFSET(index!$I$2,MATCH(L$195,index!$I$3:$I$50,0),MONTH(CF表!$B628)),L$21*L$13/L$196,0)),0)","v":0}]
[null,"2058-09-01",{"$f":"IFERROR(IF($B629>C$15,0,IF(OFFSET(index!$I$2,MATCH(C$195,index!$I$3:$I$50,0),MONTH(CF表!$B629)),C$21*C$13/C$196,0)),0)","v":0},{"$f":"IFERROR(IF($B629>D$15,0,IF(OFFSET(index!$I$2,MATCH(D$195,index!$I$3:$I$50,0),MONTH(CF表!$B629)),D$21*D$13/D$196,0)),0)","v":0},{"$f":"IFERROR(IF($B629>E$15,0,IF(OFFSET(index!$I$2,MATCH(E$195,index!$I$3:$I$50,0),MONTH(CF表!$B629)),E$21*E$13/E$196,0)),0)","v":0},{"$f":"IFERROR(IF($B629>F$15,0,IF(OFFSET(index!$I$2,MATCH(F$195,index!$I$3:$I$50,0),MONTH(CF表!$B629)),F$21*F$13/F$196,0)),0)","v":0},{"$f":"IFERROR(IF($B629>G$15,0,IF(OFFSET(index!$I$2,MATCH(G$195,index!$I$3:$I$50,0),MONTH(CF表!$B629)),G$21*G$13/G$196,0)),0)","v":0},{"$f":"IFERROR(IF($B629>H$15,0,IF(OFFSET(index!$I$2,MATCH(H$195,index!$I$3:$I$50,0),MONTH(CF表!$B629)),H$21*H$13/H$196,0)),0)","v":0},{"$f":"IFERROR(IF($B629>I$15,0,IF(OFFSET(index!$I$2,MATCH(I$195,index!$I$3:$I$50,0),MONTH(CF表!$B629)),I$21*I$13/I$196,0)),0)","v":0},{"$f":"IFERROR(IF($B629>J$15,0,IF(OFFSET(index!$I$2,MATCH(J$195,index!$I$3:$I$50,0),MONTH(CF表!$B629)),J$21*J$13/J$196,0)),0)","v":0},{"$f":"IFERROR(IF($B629>K$15,0,IF(OFFSET(index!$I$2,MATCH(K$195,index!$I$3:$I$50,0),MONTH(CF表!$B629)),K$21*K$13/K$196,0)),0)","v":0},{"$f":"IFERROR(IF($B629>L$15,0,IF(OFFSET(index!$I$2,MATCH(L$195,index!$I$3:$I$50,0),MONTH(CF表!$B629)),L$21*L$13/L$196,0)),0)","v":0}]
[null,"2058-10-01",{"$f":"IFERROR(IF($B630>C$15,0,IF(OFFSET(index!$I$2,MATCH(C$195,index!$I$3:$I$50,0),MONTH(CF表!$B630)),C$21*C$13/C$196,0)),0)","v":0},{"$f":"IFERROR(IF($B630>D$15,0,IF(OFFSET(index!$I$2,MATCH(D$195,index!$I$3:$I$50,0),MONTH(CF表!$B630)),D$21*D$13/D$196,0)),0)","v":0},{"$f":"IFERROR(IF($B630>E$15,0,IF(OFFSET(index!$I$2,MATCH(E$195,index!$I$3:$I$50,0),MONTH(CF表!$B630)),E$21*E$13/E$196,0)),0)","v":0},{"$f":"IFERROR(IF($B630>F$15,0,IF(OFFSET(index!$I$2,MATCH(F$195,index!$I$3:$I$50,0),MONTH(CF表!$B630)),F$21*F$13/F$196,0)),0)","v":0},{"$f":"IFERROR(IF($B630>G$15,0,IF(OFFSET(index!$I$2,MATCH(G$195,index!$I$3:$I$50,0),MONTH(CF表!$B630)),G$21*G$13/G$196,0)),0)","v":0},{"$f":"IFERROR(IF($B630>H$15,0,IF(OFFSET(index!$I$2,MATCH(H$195,index!$I$3:$I$50,0),MONTH(CF表!$B630)),H$21*H$13/H$196,0)),0)","v":0},{"$f":"IFERROR(IF($B630>I$15,0,IF(OFFSET(index!$I$2,MATCH(I$195,index!$I$3:$I$50,0),MONTH(CF表!$B630)),I$21*I$13/I$196,0)),0)","v":0},{"$f":"IFERROR(IF($B630>J$15,0,IF(OFFSET(index!$I$2,MATCH(J$195,index!$I$3:$I$50,0),MONTH(CF表!$B630)),J$21*J$13/J$196,0)),0)","v":0},{"$f":"IFERROR(IF($B630>K$15,0,IF(OFFSET(index!$I$2,MATCH(K$195,index!$I$3:$I$50,0),MONTH(CF表!$B630)),K$21*K$13/K$196,0)),0)","v":0},{"$f":"IFERROR(IF($B630>L$15,0,IF(OFFSET(index!$I$2,MATCH(L$195,index!$I$3:$I$50,0),MONTH(CF表!$B630)),L$21*L$13/L$196,0)),0)","v":0}]
[null,"2058-11-01",{"$f":"IFERROR(IF($B631>C$15,0,IF(OFFSET(index!$I$2,MATCH(C$195,index!$I$3:$I$50,0),MONTH(CF表!$B631)),C$21*C$13/C$196,0)),0)","v":0},{"$f":"IFERROR(IF($B631>D$15,0,IF(OFFSET(index!$I$2,MATCH(D$195,index!$I$3:$I$50,0),MONTH(CF表!$B631)),D$21*D$13/D$196,0)),0)","v":0},{"$f":"IFERROR(IF($B631>E$15,0,IF(OFFSET(index!$I$2,MATCH(E$195,index!$I$3:$I$50,0),MONTH(CF表!$B631)),E$21*E$13/E$196,0)),0)","v":0},{"$f":"IFERROR(IF($B631>F$15,0,IF(OFFSET(index!$I$2,MATCH(F$195,index!$I$3:$I$50,0),MONTH(CF表!$B631)),F$21*F$13/F$196,0)),0)","v":0},{"$f":"IFERROR(IF($B631>G$15,0,IF(OFFSET(index!$I$2,MATCH(G$195,index!$I$3:$I$50,0),MONTH(CF表!$B631)),G$21*G$13/G$196,0)),0)","v":0},{"$f":"IFERROR(IF($B631>H$15,0,IF(OFFSET(index!$I$2,MATCH(H$195,index!$I$3:$I$50,0),MONTH(CF表!$B631)),H$21*H$13/H$196,0)),0)","v":0},{"$f":"IFERROR(IF($B631>I$15,0,IF(OFFSET(index!$I$2,MATCH(I$195,index!$I$3:$I$50,0),MONTH(CF表!$B631)),I$21*I$13/I$196,0)),0)","v":0},{"$f":"IFERROR(IF($B631>J$15,0,IF(OFFSET(index!$I$2,MATCH(J$195,index!$I$3:$I$50,0),MONTH(CF表!$B631)),J$21*J$13/J$196,0)),0)","v":0},{"$f":"IFERROR(IF($B631>K$15,0,IF(OFFSET(index!$I$2,MATCH(K$195,index!$I$3:$I$50,0),MONTH(CF表!$B631)),K$21*K$13/K$196,0)),0)","v":0},{"$f":"IFERROR(IF($B631>L$15,0,IF(OFFSET(index!$I$2,MATCH(L$195,index!$I$3:$I$50,0),MONTH(CF表!$B631)),L$21*L$13/L$196,0)),0)","v":0}]
[null,"2058-12-01",{"$f":"IFERROR(IF($B632>C$15,0,IF(OFFSET(index!$I$2,MATCH(C$195,index!$I$3:$I$50,0),MONTH(CF表!$B632)),C$21*C$13/C$196,0)),0)","v":0},{"$f":"IFERROR(IF($B632>D$15,0,IF(OFFSET(index!$I$2,MATCH(D$195,index!$I$3:$I$50,0),MONTH(CF表!$B632)),D$21*D$13/D$196,0)),0)","v":0},{"$f":"IFERROR(IF($B632>E$15,0,IF(OFFSET(index!$I$2,MATCH(E$195,index!$I$3:$I$50,0),MONTH(CF表!$B632)),E$21*E$13/E$196,0)),0)","v":0},{"$f":"IFERROR(IF($B632>F$15,0,IF(OFFSET(index!$I$2,MATCH(F$195,index!$I$3:$I$50,0),MONTH(CF表!$B632)),F$21*F$13/F$196,0)),0)","v":0},{"$f":"IFERROR(IF($B632>G$15,0,IF(OFFSET(index!$I$2,MATCH(G$195,index!$I$3:$I$50,0),MONTH(CF表!$B632)),G$21*G$13/G$196,0)),0)","v":0},{"$f":"IFERROR(IF($B632>H$15,0,IF(OFFSET(index!$I$2,MATCH(H$195,index!$I$3:$I$50,0),MONTH(CF表!$B632)),H$21*H$13/H$196,0)),0)","v":0},{"$f":"IFERROR(IF($B632>I$15,0,IF(OFFSET(index!$I$2,MATCH(I$195,index!$I$3:$I$50,0),MONTH(CF表!$B632)),I$21*I$13/I$196,0)),0)","v":0},{"$f":"IFERROR(IF($B632>J$15,0,IF(OFFSET(index!$I$2,MATCH(J$195,index!$I$3:$I$50,0),MONTH(CF表!$B632)),J$21*J$13/J$196,0)),0)","v":0},{"$f":"IFERROR(IF($B632>K$15,0,IF(OFFSET(index!$I$2,MATCH(K$195,index!$I$3:$I$50,0),MONTH(CF表!$B632)),K$21*K$13/K$196,0)),0)","v":0},{"$f":"IFERROR(IF($B632>L$15,0,IF(OFFSET(index!$I$2,MATCH(L$195,index!$I$3:$I$50,0),MONTH(CF表!$B632)),L$21*L$13/L$196,0)),0)","v":0}]
[null,"2059-01-01",{"$f":"IFERROR(IF($B633>C$15,0,IF(OFFSET(index!$I$2,MATCH(C$195,index!$I$3:$I$50,0),MONTH(CF表!$B633)),C$21*C$13/C$196,0)),0)","v":0},{"$f":"IFERROR(IF($B633>D$15,0,IF(OFFSET(index!$I$2,MATCH(D$195,index!$I$3:$I$50,0),MONTH(CF表!$B633)),D$21*D$13/D$196,0)),0)","v":0},{"$f":"IFERROR(IF($B633>E$15,0,IF(OFFSET(index!$I$2,MATCH(E$195,index!$I$3:$I$50,0),MONTH(CF表!$B633)),E$21*E$13/E$196,0)),0)","v":0},{"$f":"IFERROR(IF($B633>F$15,0,IF(OFFSET(index!$I$2,MATCH(F$195,index!$I$3:$I$50,0),MONTH(CF表!$B633)),F$21*F$13/F$196,0)),0)","v":0},{"$f":"IFERROR(IF($B633>G$15,0,IF(OFFSET(index!$I$2,MATCH(G$195,index!$I$3:$I$50,0),MONTH(CF表!$B633)),G$21*G$13/G$196,0)),0)","v":0},{"$f":"IFERROR(IF($B633>H$15,0,IF(OFFSET(index!$I$2,MATCH(H$195,index!$I$3:$I$50,0),MONTH(CF表!$B633)),H$21*H$13/H$196,0)),0)","v":0},{"$f":"IFERROR(IF($B633>I$15,0,IF(OFFSET(index!$I$2,MATCH(I$195,index!$I$3:$I$50,0),MONTH(CF表!$B633)),I$21*I$13/I$196,0)),0)","v":0},{"$f":"IFERROR(IF($B633>J$15,0,IF(OFFSET(index!$I$2,MATCH(J$195,index!$I$3:$I$50,0),MONTH(CF表!$B633)),J$21*J$13/J$196,0)),0)","v":0},{"$f":"IFERROR(IF($B633>K$15,0,IF(OFFSET(index!$I$2,MATCH(K$195,index!$I$3:$I$50,0),MONTH(CF表!$B633)),K$21*K$13/K$196,0)),0)","v":0},{"$f":"IFERROR(IF($B633>L$15,0,IF(OFFSET(index!$I$2,MATCH(L$195,index!$I$3:$I$50,0),MONTH(CF表!$B633)),L$21*L$13/L$196,0)),0)","v":0}]
[null,"2059-02-01",{"$f":"IFERROR(IF($B634>C$15,0,IF(OFFSET(index!$I$2,MATCH(C$195,index!$I$3:$I$50,0),MONTH(CF表!$B634)),C$21*C$13/C$196,0)),0)","v":0},{"$f":"IFERROR(IF($B634>D$15,0,IF(OFFSET(index!$I$2,MATCH(D$195,index!$I$3:$I$50,0),MONTH(CF表!$B634)),D$21*D$13/D$196,0)),0)","v":0},{"$f":"IFERROR(IF($B634>E$15,0,IF(OFFSET(index!$I$2,MATCH(E$195,index!$I$3:$I$50,0),MONTH(CF表!$B634)),E$21*E$13/E$196,0)),0)","v":0},{"$f":"IFERROR(IF($B634>F$15,0,IF(OFFSET(index!$I$2,MATCH(F$195,index!$I$3:$I$50,0),MONTH(CF表!$B634)),F$21*F$13/F$196,0)),0)","v":0},{"$f":"IFERROR(IF($B634>G$15,0,IF(OFFSET(index!$I$2,MATCH(G$195,index!$I$3:$I$50,0),MONTH(CF表!$B634)),G$21*G$13/G$196,0)),0)","v":0},{"$f":"IFERROR(IF($B634>H$15,0,IF(OFFSET(index!$I$2,MATCH(H$195,index!$I$3:$I$50,0),MONTH(CF表!$B634)),H$21*H$13/H$196,0)),0)","v":0},{"$f":"IFERROR(IF($B634>I$15,0,IF(OFFSET(index!$I$2,MATCH(I$195,index!$I$3:$I$50,0),MONTH(CF表!$B634)),I$21*I$13/I$196,0)),0)","v":0},{"$f":"IFERROR(IF($B634>J$15,0,IF(OFFSET(index!$I$2,MATCH(J$195,index!$I$3:$I$50,0),MONTH(CF表!$B634)),J$21*J$13/J$196,0)),0)","v":0},{"$f":"IFERROR(IF($B634>K$15,0,IF(OFFSET(index!$I$2,MATCH(K$195,index!$I$3:$I$50,0),MONTH(CF表!$B634)),K$21*K$13/K$196,0)),0)","v":0},{"$f":"IFERROR(IF($B634>L$15,0,IF(OFFSET(index!$I$2,MATCH(L$195,index!$I$3:$I$50,0),MONTH(CF表!$B634)),L$21*L$13/L$196,0)),0)","v":0}]
[null,"2059-03-01",{"$f":"IFERROR(IF($B635>C$15,0,IF(OFFSET(index!$I$2,MATCH(C$195,index!$I$3:$I$50,0),MONTH(CF表!$B635)),C$21*C$13/C$196,0)),0)","v":0},{"$f":"IFERROR(IF($B635>D$15,0,IF(OFFSET(index!$I$2,MATCH(D$195,index!$I$3:$I$50,0),MONTH(CF表!$B635)),D$21*D$13/D$196,0)),0)","v":0},{"$f":"IFERROR(IF($B635>E$15,0,IF(OFFSET(index!$I$2,MATCH(E$195,index!$I$3:$I$50,0),MONTH(CF表!$B635)),E$21*E$13/E$196,0)),0)","v":0},{"$f":"IFERROR(IF($B635>F$15,0,IF(OFFSET(index!$I$2,MATCH(F$195,index!$I$3:$I$50,0),MONTH(CF表!$B635)),F$21*F$13/F$196,0)),0)","v":0},{"$f":"IFERROR(IF($B635>G$15,0,IF(OFFSET(index!$I$2,MATCH(G$195,index!$I$3:$I$50,0),MONTH(CF表!$B635)),G$21*G$13/G$196,0)),0)","v":0},{"$f":"IFERROR(IF($B635>H$15,0,IF(OFFSET(index!$I$2,MATCH(H$195,index!$I$3:$I$50,0),MONTH(CF表!$B635)),H$21*H$13/H$196,0)),0)","v":0},{"$f":"IFERROR(IF($B635>I$15,0,IF(OFFSET(index!$I$2,MATCH(I$195,index!$I$3:$I$50,0),MONTH(CF表!$B635)),I$21*I$13/I$196,0)),0)","v":0},{"$f":"IFERROR(IF($B635>J$15,0,IF(OFFSET(index!$I$2,MATCH(J$195,index!$I$3:$I$50,0),MONTH(CF表!$B635)),J$21*J$13/J$196,0)),0)","v":0},{"$f":"IFERROR(IF($B635>K$15,0,IF(OFFSET(index!$I$2,MATCH(K$195,index!$I$3:$I$50,0),MONTH(CF表!$B635)),K$21*K$13/K$196,0)),0)","v":0},{"$f":"IFERROR(IF($B635>L$15,0,IF(OFFSET(index!$I$2,MATCH(L$195,index!$I$3:$I$50,0),MONTH(CF表!$B635)),L$21*L$13/L$196,0)),0)","v":0}]
[null,"2059-04-01",{"$f":"IFERROR(IF($B636>C$15,0,IF(OFFSET(index!$I$2,MATCH(C$195,index!$I$3:$I$50,0),MONTH(CF表!$B636)),C$21*C$13/C$196,0)),0)","v":0},{"$f":"IFERROR(IF($B636>D$15,0,IF(OFFSET(index!$I$2,MATCH(D$195,index!$I$3:$I$50,0),MONTH(CF表!$B636)),D$21*D$13/D$196,0)),0)","v":0},{"$f":"IFERROR(IF($B636>E$15,0,IF(OFFSET(index!$I$2,MATCH(E$195,index!$I$3:$I$50,0),MONTH(CF表!$B636)),E$21*E$13/E$196,0)),0)","v":0},{"$f":"IFERROR(IF($B636>F$15,0,IF(OFFSET(index!$I$2,MATCH(F$195,index!$I$3:$I$50,0),MONTH(CF表!$B636)),F$21*F$13/F$196,0)),0)","v":0},{"$f":"IFERROR(IF($B636>G$15,0,IF(OFFSET(index!$I$2,MATCH(G$195,index!$I$3:$I$50,0),MONTH(CF表!$B636)),G$21*G$13/G$196,0)),0)","v":0},{"$f":"IFERROR(IF($B636>H$15,0,IF(OFFSET(index!$I$2,MATCH(H$195,index!$I$3:$I$50,0),MONTH(CF表!$B636)),H$21*H$13/H$196,0)),0)","v":0},{"$f":"IFERROR(IF($B636>I$15,0,IF(OFFSET(index!$I$2,MATCH(I$195,index!$I$3:$I$50,0),MONTH(CF表!$B636)),I$21*I$13/I$196,0)),0)","v":0},{"$f":"IFERROR(IF($B636>J$15,0,IF(OFFSET(index!$I$2,MATCH(J$195,index!$I$3:$I$50,0),MONTH(CF表!$B636)),J$21*J$13/J$196,0)),0)","v":0},{"$f":"IFERROR(IF($B636>K$15,0,IF(OFFSET(index!$I$2,MATCH(K$195,index!$I$3:$I$50,0),MONTH(CF表!$B636)),K$21*K$13/K$196,0)),0)","v":0},{"$f":"IFERROR(IF($B636>L$15,0,IF(OFFSET(index!$I$2,MATCH(L$195,index!$I$3:$I$50,0),MONTH(CF表!$B636)),L$21*L$13/L$196,0)),0)","v":0}]
[null,{"$f":"EDATE(B636,1)","v":"2059-05-01"},{"$f":"IFERROR(IF($B637>C$15,0,IF(OFFSET(index!$I$2,MATCH(C$195,index!$I$3:$I$50,0),MONTH(CF表!$B637)),C$21*C$13/C$196,0)),0)","v":0},{"$f":"IFERROR(IF($B637>D$15,0,IF(OFFSET(index!$I$2,MATCH(D$195,index!$I$3:$I$50,0),MONTH(CF表!$B637)),D$21*D$13/D$196,0)),0)","v":0},{"$f":"IFERROR(IF($B637>E$15,0,IF(OFFSET(index!$I$2,MATCH(E$195,index!$I$3:$I$50,0),MONTH(CF表!$B637)),E$21*E$13/E$196,0)),0)","v":0},{"$f":"IFERROR(IF($B637>F$15,0,IF(OFFSET(index!$I$2,MATCH(F$195,index!$I$3:$I$50,0),MONTH(CF表!$B637)),F$21*F$13/F$196,0)),0)","v":0},{"$f":"IFERROR(IF($B637>G$15,0,IF(OFFSET(index!$I$2,MATCH(G$195,index!$I$3:$I$50,0),MONTH(CF表!$B637)),G$21*G$13/G$196,0)),0)","v":0},{"$f":"IFERROR(IF($B637>H$15,0,IF(OFFSET(index!$I$2,MATCH(H$195,index!$I$3:$I$50,0),MONTH(CF表!$B637)),H$21*H$13/H$196,0)),0)","v":0},{"$f":"IFERROR(IF($B637>I$15,0,IF(OFFSET(index!$I$2,MATCH(I$195,index!$I$3:$I$50,0),MONTH(CF表!$B637)),I$21*I$13/I$196,0)),0)","v":0},{"$f":"IFERROR(IF($B637>J$15,0,IF(OFFSET(index!$I$2,MATCH(J$195,index!$I$3:$I$50,0),MONTH(CF表!$B637)),J$21*J$13/J$196,0)),0)","v":0},{"$f":"IFERROR(IF($B637>K$15,0,IF(OFFSET(index!$I$2,MATCH(K$195,index!$I$3:$I$50,0),MONTH(CF表!$B637)),K$21*K$13/K$196,0)),0)","v":0},{"$f":"IFERROR(IF($B637>L$15,0,IF(OFFSET(index!$I$2,MATCH(L$195,index!$I$3:$I$50,0),MONTH(CF表!$B637)),L$21*L$13/L$196,0)),0)","v":0}]
[null,"2059-06-01",{"$f":"IFERROR(IF($B638>C$15,0,IF(OFFSET(index!$I$2,MATCH(C$195,index!$I$3:$I$50,0),MONTH(CF表!$B638)),C$21*C$13/C$196,0)),0)","v":0},{"$f":"IFERROR(IF($B638>D$15,0,IF(OFFSET(index!$I$2,MATCH(D$195,index!$I$3:$I$50,0),MONTH(CF表!$B638)),D$21*D$13/D$196,0)),0)","v":0},{"$f":"IFERROR(IF($B638>E$15,0,IF(OFFSET(index!$I$2,MATCH(E$195,index!$I$3:$I$50,0),MONTH(CF表!$B638)),E$21*E$13/E$196,0)),0)","v":0},{"$f":"IFERROR(IF($B638>F$15,0,IF(OFFSET(index!$I$2,MATCH(F$195,index!$I$3:$I$50,0),MONTH(CF表!$B638)),F$21*F$13/F$196,0)),0)","v":0},{"$f":"IFERROR(IF($B638>G$15,0,IF(OFFSET(index!$I$2,MATCH(G$195,index!$I$3:$I$50,0),MONTH(CF表!$B638)),G$21*G$13/G$196,0)),0)","v":0},{"$f":"IFERROR(IF($B638>H$15,0,IF(OFFSET(index!$I$2,MATCH(H$195,index!$I$3:$I$50,0),MONTH(CF表!$B638)),H$21*H$13/H$196,0)),0)","v":0},{"$f":"IFERROR(IF($B638>I$15,0,IF(OFFSET(index!$I$2,MATCH(I$195,index!$I$3:$I$50,0),MONTH(CF表!$B638)),I$21*I$13/I$196,0)),0)","v":0},{"$f":"IFERROR(IF($B638>J$15,0,IF(OFFSET(index!$I$2,MATCH(J$195,index!$I$3:$I$50,0),MONTH(CF表!$B638)),J$21*J$13/J$196,0)),0)","v":0},{"$f":"IFERROR(IF($B638>K$15,0,IF(OFFSET(index!$I$2,MATCH(K$195,index!$I$3:$I$50,0),MONTH(CF表!$B638)),K$21*K$13/K$196,0)),0)","v":0},{"$f":"IFERROR(IF($B638>L$15,0,IF(OFFSET(index!$I$2,MATCH(L$195,index!$I$3:$I$50,0),MONTH(CF表!$B638)),L$21*L$13/L$196,0)),0)","v":0}]
[null,"2059-07-01",{"$f":"IFERROR(IF($B639>C$15,0,IF(OFFSET(index!$I$2,MATCH(C$195,index!$I$3:$I$50,0),MONTH(CF表!$B639)),C$21*C$13/C$196,0)),0)","v":0},{"$f":"IFERROR(IF($B639>D$15,0,IF(OFFSET(index!$I$2,MATCH(D$195,index!$I$3:$I$50,0),MONTH(CF表!$B639)),D$21*D$13/D$196,0)),0)","v":0},{"$f":"IFERROR(IF($B639>E$15,0,IF(OFFSET(index!$I$2,MATCH(E$195,index!$I$3:$I$50,0),MONTH(CF表!$B639)),E$21*E$13/E$196,0)),0)","v":0},{"$f":"IFERROR(IF($B639>F$15,0,IF(OFFSET(index!$I$2,MATCH(F$195,index!$I$3:$I$50,0),MONTH(CF表!$B639)),F$21*F$13/F$196,0)),0)","v":0},{"$f":"IFERROR(IF($B639>G$15,0,IF(OFFSET(index!$I$2,MATCH(G$195,index!$I$3:$I$50,0),MONTH(CF表!$B639)),G$21*G$13/G$196,0)),0)","v":0},{"$f":"IFERROR(IF($B639>H$15,0,IF(OFFSET(index!$I$2,MATCH(H$195,index!$I$3:$I$50,0),MONTH(CF表!$B639)),H$21*H$13/H$196,0)),0)","v":0},{"$f":"IFERROR(IF($B639>I$15,0,IF(OFFSET(index!$I$2,MATCH(I$195,index!$I$3:$I$50,0),MONTH(CF表!$B639)),I$21*I$13/I$196,0)),0)","v":0},{"$f":"IFERROR(IF($B639>J$15,0,IF(OFFSET(index!$I$2,MATCH(J$195,index!$I$3:$I$50,0),MONTH(CF表!$B639)),J$21*J$13/J$196,0)),0)","v":0},{"$f":"IFERROR(IF($B639>K$15,0,IF(OFFSET(index!$I$2,MATCH(K$195,index!$I$3:$I$50,0),MONTH(CF表!$B639)),K$21*K$13/K$196,0)),0)","v":0},{"$f":"IFERROR(IF($B639>L$15,0,IF(OFFSET(index!$I$2,MATCH(L$195,index!$I$3:$I$50,0),MONTH(CF表!$B639)),L$21*L$13/L$196,0)),0)","v":0}]
[null,"2059-08-01",{"$f":"IFERROR(IF($B640>C$15,0,IF(OFFSET(index!$I$2,MATCH(C$195,index!$I$3:$I$50,0),MONTH(CF表!$B640)),C$21*C$13/C$196,0)),0)","v":0},{"$f":"IFERROR(IF($B640>D$15,0,IF(OFFSET(index!$I$2,MATCH(D$195,index!$I$3:$I$50,0),MONTH(CF表!$B640)),D$21*D$13/D$196,0)),0)","v":0},{"$f":"IFERROR(IF($B640>E$15,0,IF(OFFSET(index!$I$2,MATCH(E$195,index!$I$3:$I$50,0),MONTH(CF表!$B640)),E$21*E$13/E$196,0)),0)","v":0},{"$f":"IFERROR(IF($B640>F$15,0,IF(OFFSET(index!$I$2,MATCH(F$195,index!$I$3:$I$50,0),MONTH(CF表!$B640)),F$21*F$13/F$196,0)),0)","v":0},{"$f":"IFERROR(IF($B640>G$15,0,IF(OFFSET(index!$I$2,MATCH(G$195,index!$I$3:$I$50,0),MONTH(CF表!$B640)),G$21*G$13/G$196,0)),0)","v":0},{"$f":"IFERROR(IF($B640>H$15,0,IF(OFFSET(index!$I$2,MATCH(H$195,index!$I$3:$I$50,0),MONTH(CF表!$B640)),H$21*H$13/H$196,0)),0)","v":0},{"$f":"IFERROR(IF($B640>I$15,0,IF(OFFSET(index!$I$2,MATCH(I$195,index!$I$3:$I$50,0),MONTH(CF表!$B640)),I$21*I$13/I$196,0)),0)","v":0},{"$f":"IFERROR(IF($B640>J$15,0,IF(OFFSET(index!$I$2,MATCH(J$195,index!$I$3:$I$50,0),MONTH(CF表!$B640)),J$21*J$13/J$196,0)),0)","v":0},{"$f":"IFERROR(IF($B640>K$15,0,IF(OFFSET(index!$I$2,MATCH(K$195,index!$I$3:$I$50,0),MONTH(CF表!$B640)),K$21*K$13/K$196,0)),0)","v":0},{"$f":"IFERROR(IF($B640>L$15,0,IF(OFFSET(index!$I$2,MATCH(L$195,index!$I$3:$I$50,0),MONTH(CF表!$B640)),L$21*L$13/L$196,0)),0)","v":0}]
[null,"2059-09-01",{"$f":"IFERROR(IF($B641>C$15,0,IF(OFFSET(index!$I$2,MATCH(C$195,index!$I$3:$I$50,0),MONTH(CF表!$B641)),C$21*C$13/C$196,0)),0)","v":0},{"$f":"IFERROR(IF($B641>D$15,0,IF(OFFSET(index!$I$2,MATCH(D$195,index!$I$3:$I$50,0),MONTH(CF表!$B641)),D$21*D$13/D$196,0)),0)","v":0},{"$f":"IFERROR(IF($B641>E$15,0,IF(OFFSET(index!$I$2,MATCH(E$195,index!$I$3:$I$50,0),MONTH(CF表!$B641)),E$21*E$13/E$196,0)),0)","v":0},{"$f":"IFERROR(IF($B641>F$15,0,IF(OFFSET(index!$I$2,MATCH(F$195,index!$I$3:$I$50,0),MONTH(CF表!$B641)),F$21*F$13/F$196,0)),0)","v":0},{"$f":"IFERROR(IF($B641>G$15,0,IF(OFFSET(index!$I$2,MATCH(G$195,index!$I$3:$I$50,0),MONTH(CF表!$B641)),G$21*G$13/G$196,0)),0)","v":0},{"$f":"IFERROR(IF($B641>H$15,0,IF(OFFSET(index!$I$2,MATCH(H$195,index!$I$3:$I$50,0),MONTH(CF表!$B641)),H$21*H$13/H$196,0)),0)","v":0},{"$f":"IFERROR(IF($B641>I$15,0,IF(OFFSET(index!$I$2,MATCH(I$195,index!$I$3:$I$50,0),MONTH(CF表!$B641)),I$21*I$13/I$196,0)),0)","v":0},{"$f":"IFERROR(IF($B641>J$15,0,IF(OFFSET(index!$I$2,MATCH(J$195,index!$I$3:$I$50,0),MONTH(CF表!$B641)),J$21*J$13/J$196,0)),0)","v":0},{"$f":"IFERROR(IF($B641>K$15,0,IF(OFFSET(index!$I$2,MATCH(K$195,index!$I$3:$I$50,0),MONTH(CF表!$B641)),K$21*K$13/K$196,0)),0)","v":0},{"$f":"IFERROR(IF($B641>L$15,0,IF(OFFSET(index!$I$2,MATCH(L$195,index!$I$3:$I$50,0),MONTH(CF表!$B641)),L$21*L$13/L$196,0)),0)","v":0}]
[null,"2059-10-01",{"$f":"IFERROR(IF($B642>C$15,0,IF(OFFSET(index!$I$2,MATCH(C$195,index!$I$3:$I$50,0),MONTH(CF表!$B642)),C$21*C$13/C$196,0)),0)","v":0},{"$f":"IFERROR(IF($B642>D$15,0,IF(OFFSET(index!$I$2,MATCH(D$195,index!$I$3:$I$50,0),MONTH(CF表!$B642)),D$21*D$13/D$196,0)),0)","v":0},{"$f":"IFERROR(IF($B642>E$15,0,IF(OFFSET(index!$I$2,MATCH(E$195,index!$I$3:$I$50,0),MONTH(CF表!$B642)),E$21*E$13/E$196,0)),0)","v":0},{"$f":"IFERROR(IF($B642>F$15,0,IF(OFFSET(index!$I$2,MATCH(F$195,index!$I$3:$I$50,0),MONTH(CF表!$B642)),F$21*F$13/F$196,0)),0)","v":0},{"$f":"IFERROR(IF($B642>G$15,0,IF(OFFSET(index!$I$2,MATCH(G$195,index!$I$3:$I$50,0),MONTH(CF表!$B642)),G$21*G$13/G$196,0)),0)","v":0},{"$f":"IFERROR(IF($B642>H$15,0,IF(OFFSET(index!$I$2,MATCH(H$195,index!$I$3:$I$50,0),MONTH(CF表!$B642)),H$21*H$13/H$196,0)),0)","v":0},{"$f":"IFERROR(IF($B642>I$15,0,IF(OFFSET(index!$I$2,MATCH(I$195,index!$I$3:$I$50,0),MONTH(CF表!$B642)),I$21*I$13/I$196,0)),0)","v":0},{"$f":"IFERROR(IF($B642>J$15,0,IF(OFFSET(index!$I$2,MATCH(J$195,index!$I$3:$I$50,0),MONTH(CF表!$B642)),J$21*J$13/J$196,0)),0)","v":0},{"$f":"IFERROR(IF($B642>K$15,0,IF(OFFSET(index!$I$2,MATCH(K$195,index!$I$3:$I$50,0),MONTH(CF表!$B642)),K$21*K$13/K$196,0)),0)","v":0},{"$f":"IFERROR(IF($B642>L$15,0,IF(OFFSET(index!$I$2,MATCH(L$195,index!$I$3:$I$50,0),MONTH(CF表!$B642)),L$21*L$13/L$196,0)),0)","v":0}]
[null,"2059-11-01",{"$f":"IFERROR(IF($B643>C$15,0,IF(OFFSET(index!$I$2,MATCH(C$195,index!$I$3:$I$50,0),MONTH(CF表!$B643)),C$21*C$13/C$196,0)),0)","v":0},{"$f":"IFERROR(IF($B643>D$15,0,IF(OFFSET(index!$I$2,MATCH(D$195,index!$I$3:$I$50,0),MONTH(CF表!$B643)),D$21*D$13/D$196,0)),0)","v":0},{"$f":"IFERROR(IF($B643>E$15,0,IF(OFFSET(index!$I$2,MATCH(E$195,index!$I$3:$I$50,0),MONTH(CF表!$B643)),E$21*E$13/E$196,0)),0)","v":0},{"$f":"IFERROR(IF($B643>F$15,0,IF(OFFSET(index!$I$2,MATCH(F$195,index!$I$3:$I$50,0),MONTH(CF表!$B643)),F$21*F$13/F$196,0)),0)","v":0},{"$f":"IFERROR(IF($B643>G$15,0,IF(OFFSET(index!$I$2,MATCH(G$195,index!$I$3:$I$50,0),MONTH(CF表!$B643)),G$21*G$13/G$196,0)),0)","v":0},{"$f":"IFERROR(IF($B643>H$15,0,IF(OFFSET(index!$I$2,MATCH(H$195,index!$I$3:$I$50,0),MONTH(CF表!$B643)),H$21*H$13/H$196,0)),0)","v":0},{"$f":"IFERROR(IF($B643>I$15,0,IF(OFFSET(index!$I$2,MATCH(I$195,index!$I$3:$I$50,0),MONTH(CF表!$B643)),I$21*I$13/I$196,0)),0)","v":0},{"$f":"IFERROR(IF($B643>J$15,0,IF(OFFSET(index!$I$2,MATCH(J$195,index!$I$3:$I$50,0),MONTH(CF表!$B643)),J$21*J$13/J$196,0)),0)","v":0},{"$f":"IFERROR(IF($B643>K$15,0,IF(OFFSET(index!$I$2,MATCH(K$195,index!$I$3:$I$50,0),MONTH(CF表!$B643)),K$21*K$13/K$196,0)),0)","v":0},{"$f":"IFERROR(IF($B643>L$15,0,IF(OFFSET(index!$I$2,MATCH(L$195,index!$I$3:$I$50,0),MONTH(CF表!$B643)),L$21*L$13/L$196,0)),0)","v":0}]
[null,"2059-12-01",{"$f":"IFERROR(IF($B644>C$15,0,IF(OFFSET(index!$I$2,MATCH(C$195,index!$I$3:$I$50,0),MONTH(CF表!$B644)),C$21*C$13/C$196,0)),0)","v":0},{"$f":"IFERROR(IF($B644>D$15,0,IF(OFFSET(index!$I$2,MATCH(D$195,index!$I$3:$I$50,0),MONTH(CF表!$B644)),D$21*D$13/D$196,0)),0)","v":0},{"$f":"IFERROR(IF($B644>E$15,0,IF(OFFSET(index!$I$2,MATCH(E$195,index!$I$3:$I$50,0),MONTH(CF表!$B644)),E$21*E$13/E$196,0)),0)","v":0},{"$f":"IFERROR(IF($B644>F$15,0,IF(OFFSET(index!$I$2,MATCH(F$195,index!$I$3:$I$50,0),MONTH(CF表!$B644)),F$21*F$13/F$196,0)),0)","v":0},{"$f":"IFERROR(IF($B644>G$15,0,IF(OFFSET(index!$I$2,MATCH(G$195,index!$I$3:$I$50,0),MONTH(CF表!$B644)),G$21*G$13/G$196,0)),0)","v":0},{"$f":"IFERROR(IF($B644>H$15,0,IF(OFFSET(index!$I$2,MATCH(H$195,index!$I$3:$I$50,0),MONTH(CF表!$B644)),H$21*H$13/H$196,0)),0)","v":0},{"$f":"IFERROR(IF($B644>I$15,0,IF(OFFSET(index!$I$2,MATCH(I$195,index!$I$3:$I$50,0),MONTH(CF表!$B644)),I$21*I$13/I$196,0)),0)","v":0},{"$f":"IFERROR(IF($B644>J$15,0,IF(OFFSET(index!$I$2,MATCH(J$195,index!$I$3:$I$50,0),MONTH(CF表!$B644)),J$21*J$13/J$196,0)),0)","v":0},{"$f":"IFERROR(IF($B644>K$15,0,IF(OFFSET(index!$I$2,MATCH(K$195,index!$I$3:$I$50,0),MONTH(CF表!$B644)),K$21*K$13/K$196,0)),0)","v":0},{"$f":"IFERROR(IF($B644>L$15,0,IF(OFFSET(index!$I$2,MATCH(L$195,index!$I$3:$I$50,0),MONTH(CF表!$B644)),L$21*L$13/L$196,0)),0)","v":0}]
[null,"2060-01-01",{"$f":"IFERROR(IF($B645>C$15,0,IF(OFFSET(index!$I$2,MATCH(C$195,index!$I$3:$I$50,0),MONTH(CF表!$B645)),C$21*C$13/C$196,0)),0)","v":0},{"$f":"IFERROR(IF($B645>D$15,0,IF(OFFSET(index!$I$2,MATCH(D$195,index!$I$3:$I$50,0),MONTH(CF表!$B645)),D$21*D$13/D$196,0)),0)","v":0},{"$f":"IFERROR(IF($B645>E$15,0,IF(OFFSET(index!$I$2,MATCH(E$195,index!$I$3:$I$50,0),MONTH(CF表!$B645)),E$21*E$13/E$196,0)),0)","v":0},{"$f":"IFERROR(IF($B645>F$15,0,IF(OFFSET(index!$I$2,MATCH(F$195,index!$I$3:$I$50,0),MONTH(CF表!$B645)),F$21*F$13/F$196,0)),0)","v":0},{"$f":"IFERROR(IF($B645>G$15,0,IF(OFFSET(index!$I$2,MATCH(G$195,index!$I$3:$I$50,0),MONTH(CF表!$B645)),G$21*G$13/G$196,0)),0)","v":0},{"$f":"IFERROR(IF($B645>H$15,0,IF(OFFSET(index!$I$2,MATCH(H$195,index!$I$3:$I$50,0),MONTH(CF表!$B645)),H$21*H$13/H$196,0)),0)","v":0},{"$f":"IFERROR(IF($B645>I$15,0,IF(OFFSET(index!$I$2,MATCH(I$195,index!$I$3:$I$50,0),MONTH(CF表!$B645)),I$21*I$13/I$196,0)),0)","v":0},{"$f":"IFERROR(IF($B645>J$15,0,IF(OFFSET(index!$I$2,MATCH(J$195,index!$I$3:$I$50,0),MONTH(CF表!$B645)),J$21*J$13/J$196,0)),0)","v":0},{"$f":"IFERROR(IF($B645>K$15,0,IF(OFFSET(index!$I$2,MATCH(K$195,index!$I$3:$I$50,0),MONTH(CF表!$B645)),K$21*K$13/K$196,0)),0)","v":0},{"$f":"IFERROR(IF($B645>L$15,0,IF(OFFSET(index!$I$2,MATCH(L$195,index!$I$3:$I$50,0),MONTH(CF表!$B645)),L$21*L$13/L$196,0)),0)","v":0}]
[null,"2060-02-01",{"$f":"IFERROR(IF($B646>C$15,0,IF(OFFSET(index!$I$2,MATCH(C$195,index!$I$3:$I$50,0),MONTH(CF表!$B646)),C$21*C$13/C$196,0)),0)","v":0},{"$f":"IFERROR(IF($B646>D$15,0,IF(OFFSET(index!$I$2,MATCH(D$195,index!$I$3:$I$50,0),MONTH(CF表!$B646)),D$21*D$13/D$196,0)),0)","v":0},{"$f":"IFERROR(IF($B646>E$15,0,IF(OFFSET(index!$I$2,MATCH(E$195,index!$I$3:$I$50,0),MONTH(CF表!$B646)),E$21*E$13/E$196,0)),0)","v":0},{"$f":"IFERROR(IF($B646>F$15,0,IF(OFFSET(index!$I$2,MATCH(F$195,index!$I$3:$I$50,0),MONTH(CF表!$B646)),F$21*F$13/F$196,0)),0)","v":0},{"$f":"IFERROR(IF($B646>G$15,0,IF(OFFSET(index!$I$2,MATCH(G$195,index!$I$3:$I$50,0),MONTH(CF表!$B646)),G$21*G$13/G$196,0)),0)","v":0},{"$f":"IFERROR(IF($B646>H$15,0,IF(OFFSET(index!$I$2,MATCH(H$195,index!$I$3:$I$50,0),MONTH(CF表!$B646)),H$21*H$13/H$196,0)),0)","v":0},{"$f":"IFERROR(IF($B646>I$15,0,IF(OFFSET(index!$I$2,MATCH(I$195,index!$I$3:$I$50,0),MONTH(CF表!$B646)),I$21*I$13/I$196,0)),0)","v":0},{"$f":"IFERROR(IF($B646>J$15,0,IF(OFFSET(index!$I$2,MATCH(J$195,index!$I$3:$I$50,0),MONTH(CF表!$B646)),J$21*J$13/J$196,0)),0)","v":0},{"$f":"IFERROR(IF($B646>K$15,0,IF(OFFSET(index!$I$2,MATCH(K$195,index!$I$3:$I$50,0),MONTH(CF表!$B646)),K$21*K$13/K$196,0)),0)","v":0},{"$f":"IFERROR(IF($B646>L$15,0,IF(OFFSET(index!$I$2,MATCH(L$195,index!$I$3:$I$50,0),MONTH(CF表!$B646)),L$21*L$13/L$196,0)),0)","v":0}]
[null,"2060-03-01",{"$f":"IFERROR(IF($B647>C$15,0,IF(OFFSET(index!$I$2,MATCH(C$195,index!$I$3:$I$50,0),MONTH(CF表!$B647)),C$21*C$13/C$196,0)),0)","v":0},{"$f":"IFERROR(IF($B647>D$15,0,IF(OFFSET(index!$I$2,MATCH(D$195,index!$I$3:$I$50,0),MONTH(CF表!$B647)),D$21*D$13/D$196,0)),0)","v":0},{"$f":"IFERROR(IF($B647>E$15,0,IF(OFFSET(index!$I$2,MATCH(E$195,index!$I$3:$I$50,0),MONTH(CF表!$B647)),E$21*E$13/E$196,0)),0)","v":0},{"$f":"IFERROR(IF($B647>F$15,0,IF(OFFSET(index!$I$2,MATCH(F$195,index!$I$3:$I$50,0),MONTH(CF表!$B647)),F$21*F$13/F$196,0)),0)","v":0},{"$f":"IFERROR(IF($B647>G$15,0,IF(OFFSET(index!$I$2,MATCH(G$195,index!$I$3:$I$50,0),MONTH(CF表!$B647)),G$21*G$13/G$196,0)),0)","v":0},{"$f":"IFERROR(IF($B647>H$15,0,IF(OFFSET(index!$I$2,MATCH(H$195,index!$I$3:$I$50,0),MONTH(CF表!$B647)),H$21*H$13/H$196,0)),0)","v":0},{"$f":"IFERROR(IF($B647>I$15,0,IF(OFFSET(index!$I$2,MATCH(I$195,index!$I$3:$I$50,0),MONTH(CF表!$B647)),I$21*I$13/I$196,0)),0)","v":0},{"$f":"IFERROR(IF($B647>J$15,0,IF(OFFSET(index!$I$2,MATCH(J$195,index!$I$3:$I$50,0),MONTH(CF表!$B647)),J$21*J$13/J$196,0)),0)","v":0},{"$f":"IFERROR(IF($B647>K$15,0,IF(OFFSET(index!$I$2,MATCH(K$195,index!$I$3:$I$50,0),MONTH(CF表!$B647)),K$21*K$13/K$196,0)),0)","v":0},{"$f":"IFERROR(IF($B647>L$15,0,IF(OFFSET(index!$I$2,MATCH(L$195,index!$I$3:$I$50,0),MONTH(CF表!$B647)),L$21*L$13/L$196,0)),0)","v":0}]
[null,"2060-04-01",{"$f":"IFERROR(IF($B648>C$15,0,IF(OFFSET(index!$I$2,MATCH(C$195,index!$I$3:$I$50,0),MONTH(CF表!$B648)),C$21*C$13/C$196,0)),0)","v":0},{"$f":"IFERROR(IF($B648>D$15,0,IF(OFFSET(index!$I$2,MATCH(D$195,index!$I$3:$I$50,0),MONTH(CF表!$B648)),D$21*D$13/D$196,0)),0)","v":0},{"$f":"IFERROR(IF($B648>E$15,0,IF(OFFSET(index!$I$2,MATCH(E$195,index!$I$3:$I$50,0),MONTH(CF表!$B648)),E$21*E$13/E$196,0)),0)","v":0},{"$f":"IFERROR(IF($B648>F$15,0,IF(OFFSET(index!$I$2,MATCH(F$195,index!$I$3:$I$50,0),MONTH(CF表!$B648)),F$21*F$13/F$196,0)),0)","v":0},{"$f":"IFERROR(IF($B648>G$15,0,IF(OFFSET(index!$I$2,MATCH(G$195,index!$I$3:$I$50,0),MONTH(CF表!$B648)),G$21*G$13/G$196,0)),0)","v":0},{"$f":"IFERROR(IF($B648>H$15,0,IF(OFFSET(index!$I$2,MATCH(H$195,index!$I$3:$I$50,0),MONTH(CF表!$B648)),H$21*H$13/H$196,0)),0)","v":0},{"$f":"IFERROR(IF($B648>I$15,0,IF(OFFSET(index!$I$2,MATCH(I$195,index!$I$3:$I$50,0),MONTH(CF表!$B648)),I$21*I$13/I$196,0)),0)","v":0},{"$f":"IFERROR(IF($B648>J$15,0,IF(OFFSET(index!$I$2,MATCH(J$195,index!$I$3:$I$50,0),MONTH(CF表!$B648)),J$21*J$13/J$196,0)),0)","v":0},{"$f":"IFERROR(IF($B648>K$15,0,IF(OFFSET(index!$I$2,MATCH(K$195,index!$I$3:$I$50,0),MONTH(CF表!$B648)),K$21*K$13/K$196,0)),0)","v":0},{"$f":"IFERROR(IF($B648>L$15,0,IF(OFFSET(index!$I$2,MATCH(L$195,index!$I$3:$I$50,0),MONTH(CF表!$B648)),L$21*L$13/L$196,0)),0)","v":0}]
[null,"2060-05-01",{"$f":"IFERROR(IF($B649>C$15,0,IF(OFFSET(index!$I$2,MATCH(C$195,index!$I$3:$I$50,0),MONTH(CF表!$B649)),C$21*C$13/C$196,0)),0)","v":0},{"$f":"IFERROR(IF($B649>D$15,0,IF(OFFSET(index!$I$2,MATCH(D$195,index!$I$3:$I$50,0),MONTH(CF表!$B649)),D$21*D$13/D$196,0)),0)","v":0},{"$f":"IFERROR(IF($B649>E$15,0,IF(OFFSET(index!$I$2,MATCH(E$195,index!$I$3:$I$50,0),MONTH(CF表!$B649)),E$21*E$13/E$196,0)),0)","v":0},{"$f":"IFERROR(IF($B649>F$15,0,IF(OFFSET(index!$I$2,MATCH(F$195,index!$I$3:$I$50,0),MONTH(CF表!$B649)),F$21*F$13/F$196,0)),0)","v":0},{"$f":"IFERROR(IF($B649>G$15,0,IF(OFFSET(index!$I$2,MATCH(G$195,index!$I$3:$I$50,0),MONTH(CF表!$B649)),G$21*G$13/G$196,0)),0)","v":0},{"$f":"IFERROR(IF($B649>H$15,0,IF(OFFSET(index!$I$2,MATCH(H$195,index!$I$3:$I$50,0),MONTH(CF表!$B649)),H$21*H$13/H$196,0)),0)","v":0},{"$f":"IFERROR(IF($B649>I$15,0,IF(OFFSET(index!$I$2,MATCH(I$195,index!$I$3:$I$50,0),MONTH(CF表!$B649)),I$21*I$13/I$196,0)),0)","v":0},{"$f":"IFERROR(IF($B649>J$15,0,IF(OFFSET(index!$I$2,MATCH(J$195,index!$I$3:$I$50,0),MONTH(CF表!$B649)),J$21*J$13/J$196,0)),0)","v":0},{"$f":"IFERROR(IF($B649>K$15,0,IF(OFFSET(index!$I$2,MATCH(K$195,index!$I$3:$I$50,0),MONTH(CF表!$B649)),K$21*K$13/K$196,0)),0)","v":0},{"$f":"IFERROR(IF($B649>L$15,0,IF(OFFSET(index!$I$2,MATCH(L$195,index!$I$3:$I$50,0),MONTH(CF表!$B649)),L$21*L$13/L$196,0)),0)","v":0}]
[null,"2060-06-01",{"$f":"IFERROR(IF($B650>C$15,0,IF(OFFSET(index!$I$2,MATCH(C$195,index!$I$3:$I$50,0),MONTH(CF表!$B650)),C$21*C$13/C$196,0)),0)","v":0},{"$f":"IFERROR(IF($B650>D$15,0,IF(OFFSET(index!$I$2,MATCH(D$195,index!$I$3:$I$50,0),MONTH(CF表!$B650)),D$21*D$13/D$196,0)),0)","v":0},{"$f":"IFERROR(IF($B650>E$15,0,IF(OFFSET(index!$I$2,MATCH(E$195,index!$I$3:$I$50,0),MONTH(CF表!$B650)),E$21*E$13/E$196,0)),0)","v":0},{"$f":"IFERROR(IF($B650>F$15,0,IF(OFFSET(index!$I$2,MATCH(F$195,index!$I$3:$I$50,0),MONTH(CF表!$B650)),F$21*F$13/F$196,0)),0)","v":0},{"$f":"IFERROR(IF($B650>G$15,0,IF(OFFSET(index!$I$2,MATCH(G$195,index!$I$3:$I$50,0),MONTH(CF表!$B650)),G$21*G$13/G$196,0)),0)","v":0},{"$f":"IFERROR(IF($B650>H$15,0,IF(OFFSET(index!$I$2,MATCH(H$195,index!$I$3:$I$50,0),MONTH(CF表!$B650)),H$21*H$13/H$196,0)),0)","v":0},{"$f":"IFERROR(IF($B650>I$15,0,IF(OFFSET(index!$I$2,MATCH(I$195,index!$I$3:$I$50,0),MONTH(CF表!$B650)),I$21*I$13/I$196,0)),0)","v":0},{"$f":"IFERROR(IF($B650>J$15,0,IF(OFFSET(index!$I$2,MATCH(J$195,index!$I$3:$I$50,0),MONTH(CF表!$B650)),J$21*J$13/J$196,0)),0)","v":0},{"$f":"IFERROR(IF($B650>K$15,0,IF(OFFSET(index!$I$2,MATCH(K$195,index!$I$3:$I$50,0),MONTH(CF表!$B650)),K$21*K$13/K$196,0)),0)","v":0},{"$f":"IFERROR(IF($B650>L$15,0,IF(OFFSET(index!$I$2,MATCH(L$195,index!$I$3:$I$50,0),MONTH(CF表!$B650)),L$21*L$13/L$196,0)),0)","v":0}]
[null,"2060-07-01",{"$f":"IFERROR(IF($B651>C$15,0,IF(OFFSET(index!$I$2,MATCH(C$195,index!$I$3:$I$50,0),MONTH(CF表!$B651)),C$21*C$13/C$196,0)),0)","v":0},{"$f":"IFERROR(IF($B651>D$15,0,IF(OFFSET(index!$I$2,MATCH(D$195,index!$I$3:$I$50,0),MONTH(CF表!$B651)),D$21*D$13/D$196,0)),0)","v":0},{"$f":"IFERROR(IF($B651>E$15,0,IF(OFFSET(index!$I$2,MATCH(E$195,index!$I$3:$I$50,0),MONTH(CF表!$B651)),E$21*E$13/E$196,0)),0)","v":0},{"$f":"IFERROR(IF($B651>F$15,0,IF(OFFSET(index!$I$2,MATCH(F$195,index!$I$3:$I$50,0),MONTH(CF表!$B651)),F$21*F$13/F$196,0)),0)","v":0},{"$f":"IFERROR(IF($B651>G$15,0,IF(OFFSET(index!$I$2,MATCH(G$195,index!$I$3:$I$50,0),MONTH(CF表!$B651)),G$21*G$13/G$196,0)),0)","v":0},{"$f":"IFERROR(IF($B651>H$15,0,IF(OFFSET(index!$I$2,MATCH(H$195,index!$I$3:$I$50,0),MONTH(CF表!$B651)),H$21*H$13/H$196,0)),0)","v":0},{"$f":"IFERROR(IF($B651>I$15,0,IF(OFFSET(index!$I$2,MATCH(I$195,index!$I$3:$I$50,0),MONTH(CF表!$B651)),I$21*I$13/I$196,0)),0)","v":0},{"$f":"IFERROR(IF($B651>J$15,0,IF(OFFSET(index!$I$2,MATCH(J$195,index!$I$3:$I$50,0),MONTH(CF表!$B651)),J$21*J$13/J$196,0)),0)","v":0},{"$f":"IFERROR(IF($B651>K$15,0,IF(OFFSET(index!$I$2,MATCH(K$195,index!$I$3:$I$50,0),MONTH(CF表!$B651)),K$21*K$13/K$196,0)),0)","v":0},{"$f":"IFERROR(IF($B651>L$15,0,IF(OFFSET(index!$I$2,MATCH(L$195,index!$I$3:$I$50,0),MONTH(CF表!$B651)),L$21*L$13/L$196,0)),0)","v":0}]
[null,"2060-08-01",{"$f":"IFERROR(IF($B652>C$15,0,IF(OFFSET(index!$I$2,MATCH(C$195,index!$I$3:$I$50,0),MONTH(CF表!$B652)),C$21*C$13/C$196,0)),0)","v":0},{"$f":"IFERROR(IF($B652>D$15,0,IF(OFFSET(index!$I$2,MATCH(D$195,index!$I$3:$I$50,0),MONTH(CF表!$B652)),D$21*D$13/D$196,0)),0)","v":0},{"$f":"IFERROR(IF($B652>E$15,0,IF(OFFSET(index!$I$2,MATCH(E$195,index!$I$3:$I$50,0),MONTH(CF表!$B652)),E$21*E$13/E$196,0)),0)","v":0},{"$f":"IFERROR(IF($B652>F$15,0,IF(OFFSET(index!$I$2,MATCH(F$195,index!$I$3:$I$50,0),MONTH(CF表!$B652)),F$21*F$13/F$196,0)),0)","v":0},{"$f":"IFERROR(IF($B652>G$15,0,IF(OFFSET(index!$I$2,MATCH(G$195,index!$I$3:$I$50,0),MONTH(CF表!$B652)),G$21*G$13/G$196,0)),0)","v":0},{"$f":"IFERROR(IF($B652>H$15,0,IF(OFFSET(index!$I$2,MATCH(H$195,index!$I$3:$I$50,0),MONTH(CF表!$B652)),H$21*H$13/H$196,0)),0)","v":0},{"$f":"IFERROR(IF($B652>I$15,0,IF(OFFSET(index!$I$2,MATCH(I$195,index!$I$3:$I$50,0),MONTH(CF表!$B652)),I$21*I$13/I$196,0)),0)","v":0},{"$f":"IFERROR(IF($B652>J$15,0,IF(OFFSET(index!$I$2,MATCH(J$195,index!$I$3:$I$50,0),MONTH(CF表!$B652)),J$21*J$13/J$196,0)),0)","v":0},{"$f":"IFERROR(IF($B652>K$15,0,IF(OFFSET(index!$I$2,MATCH(K$195,index!$I$3:$I$50,0),MONTH(CF表!$B652)),K$21*K$13/K$196,0)),0)","v":0},{"$f":"IFERROR(IF($B652>L$15,0,IF(OFFSET(index!$I$2,MATCH(L$195,index!$I$3:$I$50,0),MONTH(CF表!$B652)),L$21*L$13/L$196,0)),0)","v":0}]
[null,"2060-09-01",{"$f":"IFERROR(IF($B653>C$15,0,IF(OFFSET(index!$I$2,MATCH(C$195,index!$I$3:$I$50,0),MONTH(CF表!$B653)),C$21*C$13/C$196,0)),0)","v":0},{"$f":"IFERROR(IF($B653>D$15,0,IF(OFFSET(index!$I$2,MATCH(D$195,index!$I$3:$I$50,0),MONTH(CF表!$B653)),D$21*D$13/D$196,0)),0)","v":0},{"$f":"IFERROR(IF($B653>E$15,0,IF(OFFSET(index!$I$2,MATCH(E$195,index!$I$3:$I$50,0),MONTH(CF表!$B653)),E$21*E$13/E$196,0)),0)","v":0},{"$f":"IFERROR(IF($B653>F$15,0,IF(OFFSET(index!$I$2,MATCH(F$195,index!$I$3:$I$50,0),MONTH(CF表!$B653)),F$21*F$13/F$196,0)),0)","v":0},{"$f":"IFERROR(IF($B653>G$15,0,IF(OFFSET(index!$I$2,MATCH(G$195,index!$I$3:$I$50,0),MONTH(CF表!$B653)),G$21*G$13/G$196,0)),0)","v":0},{"$f":"IFERROR(IF($B653>H$15,0,IF(OFFSET(index!$I$2,MATCH(H$195,index!$I$3:$I$50,0),MONTH(CF表!$B653)),H$21*H$13/H$196,0)),0)","v":0},{"$f":"IFERROR(IF($B653>I$15,0,IF(OFFSET(index!$I$2,MATCH(I$195,index!$I$3:$I$50,0),MONTH(CF表!$B653)),I$21*I$13/I$196,0)),0)","v":0},{"$f":"IFERROR(IF($B653>J$15,0,IF(OFFSET(index!$I$2,MATCH(J$195,index!$I$3:$I$50,0),MONTH(CF表!$B653)),J$21*J$13/J$196,0)),0)","v":0},{"$f":"IFERROR(IF($B653>K$15,0,IF(OFFSET(index!$I$2,MATCH(K$195,index!$I$3:$I$50,0),MONTH(CF表!$B653)),K$21*K$13/K$196,0)),0)","v":0},{"$f":"IFERROR(IF($B653>L$15,0,IF(OFFSET(index!$I$2,MATCH(L$195,index!$I$3:$I$50,0),MONTH(CF表!$B653)),L$21*L$13/L$196,0)),0)","v":0}]
[null,"2060-10-01",{"$f":"IFERROR(IF($B654>C$15,0,IF(OFFSET(index!$I$2,MATCH(C$195,index!$I$3:$I$50,0),MONTH(CF表!$B654)),C$21*C$13/C$196,0)),0)","v":0},{"$f":"IFERROR(IF($B654>D$15,0,IF(OFFSET(index!$I$2,MATCH(D$195,index!$I$3:$I$50,0),MONTH(CF表!$B654)),D$21*D$13/D$196,0)),0)","v":0},{"$f":"IFERROR(IF($B654>E$15,0,IF(OFFSET(index!$I$2,MATCH(E$195,index!$I$3:$I$50,0),MONTH(CF表!$B654)),E$21*E$13/E$196,0)),0)","v":0},{"$f":"IFERROR(IF($B654>F$15,0,IF(OFFSET(index!$I$2,MATCH(F$195,index!$I$3:$I$50,0),MONTH(CF表!$B654)),F$21*F$13/F$196,0)),0)","v":0},{"$f":"IFERROR(IF($B654>G$15,0,IF(OFFSET(index!$I$2,MATCH(G$195,index!$I$3:$I$50,0),MONTH(CF表!$B654)),G$21*G$13/G$196,0)),0)","v":0},{"$f":"IFERROR(IF($B654>H$15,0,IF(OFFSET(index!$I$2,MATCH(H$195,index!$I$3:$I$50,0),MONTH(CF表!$B654)),H$21*H$13/H$196,0)),0)","v":0},{"$f":"IFERROR(IF($B654>I$15,0,IF(OFFSET(index!$I$2,MATCH(I$195,index!$I$3:$I$50,0),MONTH(CF表!$B654)),I$21*I$13/I$196,0)),0)","v":0},{"$f":"IFERROR(IF($B654>J$15,0,IF(OFFSET(index!$I$2,MATCH(J$195,index!$I$3:$I$50,0),MONTH(CF表!$B654)),J$21*J$13/J$196,0)),0)","v":0},{"$f":"IFERROR(IF($B654>K$15,0,IF(OFFSET(index!$I$2,MATCH(K$195,index!$I$3:$I$50,0),MONTH(CF表!$B654)),K$21*K$13/K$196,0)),0)","v":0},{"$f":"IFERROR(IF($B654>L$15,0,IF(OFFSET(index!$I$2,MATCH(L$195,index!$I$3:$I$50,0),MONTH(CF表!$B654)),L$21*L$13/L$196,0)),0)","v":0}]
[null,"2060-11-01",{"$f":"IFERROR(IF($B655>C$15,0,IF(OFFSET(index!$I$2,MATCH(C$195,index!$I$3:$I$50,0),MONTH(CF表!$B655)),C$21*C$13/C$196,0)),0)","v":0},{"$f":"IFERROR(IF($B655>D$15,0,IF(OFFSET(index!$I$2,MATCH(D$195,index!$I$3:$I$50,0),MONTH(CF表!$B655)),D$21*D$13/D$196,0)),0)","v":0},{"$f":"IFERROR(IF($B655>E$15,0,IF(OFFSET(index!$I$2,MATCH(E$195,index!$I$3:$I$50,0),MONTH(CF表!$B655)),E$21*E$13/E$196,0)),0)","v":0},{"$f":"IFERROR(IF($B655>F$15,0,IF(OFFSET(index!$I$2,MATCH(F$195,index!$I$3:$I$50,0),MONTH(CF表!$B655)),F$21*F$13/F$196,0)),0)","v":0},{"$f":"IFERROR(IF($B655>G$15,0,IF(OFFSET(index!$I$2,MATCH(G$195,index!$I$3:$I$50,0),MONTH(CF表!$B655)),G$21*G$13/G$196,0)),0)","v":0},{"$f":"IFERROR(IF($B655>H$15,0,IF(OFFSET(index!$I$2,MATCH(H$195,index!$I$3:$I$50,0),MONTH(CF表!$B655)),H$21*H$13/H$196,0)),0)","v":0},{"$f":"IFERROR(IF($B655>I$15,0,IF(OFFSET(index!$I$2,MATCH(I$195,index!$I$3:$I$50,0),MONTH(CF表!$B655)),I$21*I$13/I$196,0)),0)","v":0},{"$f":"IFERROR(IF($B655>J$15,0,IF(OFFSET(index!$I$2,MATCH(J$195,index!$I$3:$I$50,0),MONTH(CF表!$B655)),J$21*J$13/J$196,0)),0)","v":0},{"$f":"IFERROR(IF($B655>K$15,0,IF(OFFSET(index!$I$2,MATCH(K$195,index!$I$3:$I$50,0),MONTH(CF表!$B655)),K$21*K$13/K$196,0)),0)","v":0},{"$f":"IFERROR(IF($B655>L$15,0,IF(OFFSET(index!$I$2,MATCH(L$195,index!$I$3:$I$50,0),MONTH(CF表!$B655)),L$21*L$13/L$196,0)),0)","v":0}]
[null,"2060-12-01",{"$f":"IFERROR(IF($B656>C$15,0,IF(OFFSET(index!$I$2,MATCH(C$195,index!$I$3:$I$50,0),MONTH(CF表!$B656)),C$21*C$13/C$196,0)),0)","v":0},{"$f":"IFERROR(IF($B656>D$15,0,IF(OFFSET(index!$I$2,MATCH(D$195,index!$I$3:$I$50,0),MONTH(CF表!$B656)),D$21*D$13/D$196,0)),0)","v":0},{"$f":"IFERROR(IF($B656>E$15,0,IF(OFFSET(index!$I$2,MATCH(E$195,index!$I$3:$I$50,0),MONTH(CF表!$B656)),E$21*E$13/E$196,0)),0)","v":0},{"$f":"IFERROR(IF($B656>F$15,0,IF(OFFSET(index!$I$2,MATCH(F$195,index!$I$3:$I$50,0),MONTH(CF表!$B656)),F$21*F$13/F$196,0)),0)","v":0},{"$f":"IFERROR(IF($B656>G$15,0,IF(OFFSET(index!$I$2,MATCH(G$195,index!$I$3:$I$50,0),MONTH(CF表!$B656)),G$21*G$13/G$196,0)),0)","v":0},{"$f":"IFERROR(IF($B656>H$15,0,IF(OFFSET(index!$I$2,MATCH(H$195,index!$I$3:$I$50,0),MONTH(CF表!$B656)),H$21*H$13/H$196,0)),0)","v":0},{"$f":"IFERROR(IF($B656>I$15,0,IF(OFFSET(index!$I$2,MATCH(I$195,index!$I$3:$I$50,0),MONTH(CF表!$B656)),I$21*I$13/I$196,0)),0)","v":0},{"$f":"IFERROR(IF($B656>J$15,0,IF(OFFSET(index!$I$2,MATCH(J$195,index!$I$3:$I$50,0),MONTH(CF表!$B656)),J$21*J$13/J$196,0)),0)","v":0},{"$f":"IFERROR(IF($B656>K$15,0,IF(OFFSET(index!$I$2,MATCH(K$195,index!$I$3:$I$50,0),MONTH(CF表!$B656)),K$21*K$13/K$196,0)),0)","v":0},{"$f":"IFERROR(IF($B656>L$15,0,IF(OFFSET(index!$I$2,MATCH(L$195,index!$I$3:$I$50,0),MONTH(CF表!$B656)),L$21*L$13/L$196,0)),0)","v":0}]
[null,"2061-01-01",{"$f":"IFERROR(IF($B657>C$15,0,IF(OFFSET(index!$I$2,MATCH(C$195,index!$I$3:$I$50,0),MONTH(CF表!$B657)),C$21*C$13/C$196,0)),0)","v":0},{"$f":"IFERROR(IF($B657>D$15,0,IF(OFFSET(index!$I$2,MATCH(D$195,index!$I$3:$I$50,0),MONTH(CF表!$B657)),D$21*D$13/D$196,0)),0)","v":0},{"$f":"IFERROR(IF($B657>E$15,0,IF(OFFSET(index!$I$2,MATCH(E$195,index!$I$3:$I$50,0),MONTH(CF表!$B657)),E$21*E$13/E$196,0)),0)","v":0},{"$f":"IFERROR(IF($B657>F$15,0,IF(OFFSET(index!$I$2,MATCH(F$195,index!$I$3:$I$50,0),MONTH(CF表!$B657)),F$21*F$13/F$196,0)),0)","v":0},{"$f":"IFERROR(IF($B657>G$15,0,IF(OFFSET(index!$I$2,MATCH(G$195,index!$I$3:$I$50,0),MONTH(CF表!$B657)),G$21*G$13/G$196,0)),0)","v":0},{"$f":"IFERROR(IF($B657>H$15,0,IF(OFFSET(index!$I$2,MATCH(H$195,index!$I$3:$I$50,0),MONTH(CF表!$B657)),H$21*H$13/H$196,0)),0)","v":0},{"$f":"IFERROR(IF($B657>I$15,0,IF(OFFSET(index!$I$2,MATCH(I$195,index!$I$3:$I$50,0),MONTH(CF表!$B657)),I$21*I$13/I$196,0)),0)","v":0},{"$f":"IFERROR(IF($B657>J$15,0,IF(OFFSET(index!$I$2,MATCH(J$195,index!$I$3:$I$50,0),MONTH(CF表!$B657)),J$21*J$13/J$196,0)),0)","v":0},{"$f":"IFERROR(IF($B657>K$15,0,IF(OFFSET(index!$I$2,MATCH(K$195,index!$I$3:$I$50,0),MONTH(CF表!$B657)),K$21*K$13/K$196,0)),0)","v":0},{"$f":"IFERROR(IF($B657>L$15,0,IF(OFFSET(index!$I$2,MATCH(L$195,index!$I$3:$I$50,0),MONTH(CF表!$B657)),L$21*L$13/L$196,0)),0)","v":0}]
[null,"2061-02-01",{"$f":"IFERROR(IF($B658>C$15,0,IF(OFFSET(index!$I$2,MATCH(C$195,index!$I$3:$I$50,0),MONTH(CF表!$B658)),C$21*C$13/C$196,0)),0)","v":0},{"$f":"IFERROR(IF($B658>D$15,0,IF(OFFSET(index!$I$2,MATCH(D$195,index!$I$3:$I$50,0),MONTH(CF表!$B658)),D$21*D$13/D$196,0)),0)","v":0},{"$f":"IFERROR(IF($B658>E$15,0,IF(OFFSET(index!$I$2,MATCH(E$195,index!$I$3:$I$50,0),MONTH(CF表!$B658)),E$21*E$13/E$196,0)),0)","v":0},{"$f":"IFERROR(IF($B658>F$15,0,IF(OFFSET(index!$I$2,MATCH(F$195,index!$I$3:$I$50,0),MONTH(CF表!$B658)),F$21*F$13/F$196,0)),0)","v":0},{"$f":"IFERROR(IF($B658>G$15,0,IF(OFFSET(index!$I$2,MATCH(G$195,index!$I$3:$I$50,0),MONTH(CF表!$B658)),G$21*G$13/G$196,0)),0)","v":0},{"$f":"IFERROR(IF($B658>H$15,0,IF(OFFSET(index!$I$2,MATCH(H$195,index!$I$3:$I$50,0),MONTH(CF表!$B658)),H$21*H$13/H$196,0)),0)","v":0},{"$f":"IFERROR(IF($B658>I$15,0,IF(OFFSET(index!$I$2,MATCH(I$195,index!$I$3:$I$50,0),MONTH(CF表!$B658)),I$21*I$13/I$196,0)),0)","v":0},{"$f":"IFERROR(IF($B658>J$15,0,IF(OFFSET(index!$I$2,MATCH(J$195,index!$I$3:$I$50,0),MONTH(CF表!$B658)),J$21*J$13/J$196,0)),0)","v":0},{"$f":"IFERROR(IF($B658>K$15,0,IF(OFFSET(index!$I$2,MATCH(K$195,index!$I$3:$I$50,0),MONTH(CF表!$B658)),K$21*K$13/K$196,0)),0)","v":0},{"$f":"IFERROR(IF($B658>L$15,0,IF(OFFSET(index!$I$2,MATCH(L$195,index!$I$3:$I$50,0),MONTH(CF表!$B658)),L$21*L$13/L$196,0)),0)","v":0}]
[null,"2061-03-01",{"$f":"IFERROR(IF($B659>C$15,0,IF(OFFSET(index!$I$2,MATCH(C$195,index!$I$3:$I$50,0),MONTH(CF表!$B659)),C$21*C$13/C$196,0)),0)","v":0},{"$f":"IFERROR(IF($B659>D$15,0,IF(OFFSET(index!$I$2,MATCH(D$195,index!$I$3:$I$50,0),MONTH(CF表!$B659)),D$21*D$13/D$196,0)),0)","v":0},{"$f":"IFERROR(IF($B659>E$15,0,IF(OFFSET(index!$I$2,MATCH(E$195,index!$I$3:$I$50,0),MONTH(CF表!$B659)),E$21*E$13/E$196,0)),0)","v":0},{"$f":"IFERROR(IF($B659>F$15,0,IF(OFFSET(index!$I$2,MATCH(F$195,index!$I$3:$I$50,0),MONTH(CF表!$B659)),F$21*F$13/F$196,0)),0)","v":0},{"$f":"IFERROR(IF($B659>G$15,0,IF(OFFSET(index!$I$2,MATCH(G$195,index!$I$3:$I$50,0),MONTH(CF表!$B659)),G$21*G$13/G$196,0)),0)","v":0},{"$f":"IFERROR(IF($B659>H$15,0,IF(OFFSET(index!$I$2,MATCH(H$195,index!$I$3:$I$50,0),MONTH(CF表!$B659)),H$21*H$13/H$196,0)),0)","v":0},{"$f":"IFERROR(IF($B659>I$15,0,IF(OFFSET(index!$I$2,MATCH(I$195,index!$I$3:$I$50,0),MONTH(CF表!$B659)),I$21*I$13/I$196,0)),0)","v":0},{"$f":"IFERROR(IF($B659>J$15,0,IF(OFFSET(index!$I$2,MATCH(J$195,index!$I$3:$I$50,0),MONTH(CF表!$B659)),J$21*J$13/J$196,0)),0)","v":0},{"$f":"IFERROR(IF($B659>K$15,0,IF(OFFSET(index!$I$2,MATCH(K$195,index!$I$3:$I$50,0),MONTH(CF表!$B659)),K$21*K$13/K$196,0)),0)","v":0},{"$f":"IFERROR(IF($B659>L$15,0,IF(OFFSET(index!$I$2,MATCH(L$195,index!$I$3:$I$50,0),MONTH(CF表!$B659)),L$21*L$13/L$196,0)),0)","v":0}]
[null,"2061-04-01",{"$f":"IFERROR(IF($B660>C$15,0,IF(OFFSET(index!$I$2,MATCH(C$195,index!$I$3:$I$50,0),MONTH(CF表!$B660)),C$21*C$13/C$196,0)),0)","v":0},{"$f":"IFERROR(IF($B660>D$15,0,IF(OFFSET(index!$I$2,MATCH(D$195,index!$I$3:$I$50,0),MONTH(CF表!$B660)),D$21*D$13/D$196,0)),0)","v":0},{"$f":"IFERROR(IF($B660>E$15,0,IF(OFFSET(index!$I$2,MATCH(E$195,index!$I$3:$I$50,0),MONTH(CF表!$B660)),E$21*E$13/E$196,0)),0)","v":0},{"$f":"IFERROR(IF($B660>F$15,0,IF(OFFSET(index!$I$2,MATCH(F$195,index!$I$3:$I$50,0),MONTH(CF表!$B660)),F$21*F$13/F$196,0)),0)","v":0},{"$f":"IFERROR(IF($B660>G$15,0,IF(OFFSET(index!$I$2,MATCH(G$195,index!$I$3:$I$50,0),MONTH(CF表!$B660)),G$21*G$13/G$196,0)),0)","v":0},{"$f":"IFERROR(IF($B660>H$15,0,IF(OFFSET(index!$I$2,MATCH(H$195,index!$I$3:$I$50,0),MONTH(CF表!$B660)),H$21*H$13/H$196,0)),0)","v":0},{"$f":"IFERROR(IF($B660>I$15,0,IF(OFFSET(index!$I$2,MATCH(I$195,index!$I$3:$I$50,0),MONTH(CF表!$B660)),I$21*I$13/I$196,0)),0)","v":0},{"$f":"IFERROR(IF($B660>J$15,0,IF(OFFSET(index!$I$2,MATCH(J$195,index!$I$3:$I$50,0),MONTH(CF表!$B660)),J$21*J$13/J$196,0)),0)","v":0},{"$f":"IFERROR(IF($B660>K$15,0,IF(OFFSET(index!$I$2,MATCH(K$195,index!$I$3:$I$50,0),MONTH(CF表!$B660)),K$21*K$13/K$196,0)),0)","v":0},{"$f":"IFERROR(IF($B660>L$15,0,IF(OFFSET(index!$I$2,MATCH(L$195,index!$I$3:$I$50,0),MONTH(CF表!$B660)),L$21*L$13/L$196,0)),0)","v":0}]
[null,"2061-05-01",{"$f":"IFERROR(IF($B661>C$15,0,IF(OFFSET(index!$I$2,MATCH(C$195,index!$I$3:$I$50,0),MONTH(CF表!$B661)),C$21*C$13/C$196,0)),0)","v":0},{"$f":"IFERROR(IF($B661>D$15,0,IF(OFFSET(index!$I$2,MATCH(D$195,index!$I$3:$I$50,0),MONTH(CF表!$B661)),D$21*D$13/D$196,0)),0)","v":0},{"$f":"IFERROR(IF($B661>E$15,0,IF(OFFSET(index!$I$2,MATCH(E$195,index!$I$3:$I$50,0),MONTH(CF表!$B661)),E$21*E$13/E$196,0)),0)","v":0},{"$f":"IFERROR(IF($B661>F$15,0,IF(OFFSET(index!$I$2,MATCH(F$195,index!$I$3:$I$50,0),MONTH(CF表!$B661)),F$21*F$13/F$196,0)),0)","v":0},{"$f":"IFERROR(IF($B661>G$15,0,IF(OFFSET(index!$I$2,MATCH(G$195,index!$I$3:$I$50,0),MONTH(CF表!$B661)),G$21*G$13/G$196,0)),0)","v":0},{"$f":"IFERROR(IF($B661>H$15,0,IF(OFFSET(index!$I$2,MATCH(H$195,index!$I$3:$I$50,0),MONTH(CF表!$B661)),H$21*H$13/H$196,0)),0)","v":0},{"$f":"IFERROR(IF($B661>I$15,0,IF(OFFSET(index!$I$2,MATCH(I$195,index!$I$3:$I$50,0),MONTH(CF表!$B661)),I$21*I$13/I$196,0)),0)","v":0},{"$f":"IFERROR(IF($B661>J$15,0,IF(OFFSET(index!$I$2,MATCH(J$195,index!$I$3:$I$50,0),MONTH(CF表!$B661)),J$21*J$13/J$196,0)),0)","v":0},{"$f":"IFERROR(IF($B661>K$15,0,IF(OFFSET(index!$I$2,MATCH(K$195,index!$I$3:$I$50,0),MONTH(CF表!$B661)),K$21*K$13/K$196,0)),0)","v":0},{"$f":"IFERROR(IF($B661>L$15,0,IF(OFFSET(index!$I$2,MATCH(L$195,index!$I$3:$I$50,0),MONTH(CF表!$B661)),L$21*L$13/L$196,0)),0)","v":0}]
[null,"2061-06-01",{"$f":"IFERROR(IF($B662>C$15,0,IF(OFFSET(index!$I$2,MATCH(C$195,index!$I$3:$I$50,0),MONTH(CF表!$B662)),C$21*C$13/C$196,0)),0)","v":0},{"$f":"IFERROR(IF($B662>D$15,0,IF(OFFSET(index!$I$2,MATCH(D$195,index!$I$3:$I$50,0),MONTH(CF表!$B662)),D$21*D$13/D$196,0)),0)","v":0},{"$f":"IFERROR(IF($B662>E$15,0,IF(OFFSET(index!$I$2,MATCH(E$195,index!$I$3:$I$50,0),MONTH(CF表!$B662)),E$21*E$13/E$196,0)),0)","v":0},{"$f":"IFERROR(IF($B662>F$15,0,IF(OFFSET(index!$I$2,MATCH(F$195,index!$I$3:$I$50,0),MONTH(CF表!$B662)),F$21*F$13/F$196,0)),0)","v":0},{"$f":"IFERROR(IF($B662>G$15,0,IF(OFFSET(index!$I$2,MATCH(G$195,index!$I$3:$I$50,0),MONTH(CF表!$B662)),G$21*G$13/G$196,0)),0)","v":0},{"$f":"IFERROR(IF($B662>H$15,0,IF(OFFSET(index!$I$2,MATCH(H$195,index!$I$3:$I$50,0),MONTH(CF表!$B662)),H$21*H$13/H$196,0)),0)","v":0},{"$f":"IFERROR(IF($B662>I$15,0,IF(OFFSET(index!$I$2,MATCH(I$195,index!$I$3:$I$50,0),MONTH(CF表!$B662)),I$21*I$13/I$196,0)),0)","v":0},{"$f":"IFERROR(IF($B662>J$15,0,IF(OFFSET(index!$I$2,MATCH(J$195,index!$I$3:$I$50,0),MONTH(CF表!$B662)),J$21*J$13/J$196,0)),0)","v":0},{"$f":"IFERROR(IF($B662>K$15,0,IF(OFFSET(index!$I$2,MATCH(K$195,index!$I$3:$I$50,0),MONTH(CF表!$B662)),K$21*K$13/K$196,0)),0)","v":0},{"$f":"IFERROR(IF($B662>L$15,0,IF(OFFSET(index!$I$2,MATCH(L$195,index!$I$3:$I$50,0),MONTH(CF表!$B662)),L$21*L$13/L$196,0)),0)","v":0}]
[null,"2061-07-01",{"$f":"IFERROR(IF($B663>C$15,0,IF(OFFSET(index!$I$2,MATCH(C$195,index!$I$3:$I$50,0),MONTH(CF表!$B663)),C$21*C$13/C$196,0)),0)","v":0},{"$f":"IFERROR(IF($B663>D$15,0,IF(OFFSET(index!$I$2,MATCH(D$195,index!$I$3:$I$50,0),MONTH(CF表!$B663)),D$21*D$13/D$196,0)),0)","v":0},{"$f":"IFERROR(IF($B663>E$15,0,IF(OFFSET(index!$I$2,MATCH(E$195,index!$I$3:$I$50,0),MONTH(CF表!$B663)),E$21*E$13/E$196,0)),0)","v":0},{"$f":"IFERROR(IF($B663>F$15,0,IF(OFFSET(index!$I$2,MATCH(F$195,index!$I$3:$I$50,0),MONTH(CF表!$B663)),F$21*F$13/F$196,0)),0)","v":0},{"$f":"IFERROR(IF($B663>G$15,0,IF(OFFSET(index!$I$2,MATCH(G$195,index!$I$3:$I$50,0),MONTH(CF表!$B663)),G$21*G$13/G$196,0)),0)","v":0},{"$f":"IFERROR(IF($B663>H$15,0,IF(OFFSET(index!$I$2,MATCH(H$195,index!$I$3:$I$50,0),MONTH(CF表!$B663)),H$21*H$13/H$196,0)),0)","v":0},{"$f":"IFERROR(IF($B663>I$15,0,IF(OFFSET(index!$I$2,MATCH(I$195,index!$I$3:$I$50,0),MONTH(CF表!$B663)),I$21*I$13/I$196,0)),0)","v":0},{"$f":"IFERROR(IF($B663>J$15,0,IF(OFFSET(index!$I$2,MATCH(J$195,index!$I$3:$I$50,0),MONTH(CF表!$B663)),J$21*J$13/J$196,0)),0)","v":0},{"$f":"IFERROR(IF($B663>K$15,0,IF(OFFSET(index!$I$2,MATCH(K$195,index!$I$3:$I$50,0),MONTH(CF表!$B663)),K$21*K$13/K$196,0)),0)","v":0},{"$f":"IFERROR(IF($B663>L$15,0,IF(OFFSET(index!$I$2,MATCH(L$195,index!$I$3:$I$50,0),MONTH(CF表!$B663)),L$21*L$13/L$196,0)),0)","v":0}]
[null,"2061-08-01",{"$f":"IFERROR(IF($B664>C$15,0,IF(OFFSET(index!$I$2,MATCH(C$195,index!$I$3:$I$50,0),MONTH(CF表!$B664)),C$21*C$13/C$196,0)),0)","v":0},{"$f":"IFERROR(IF($B664>D$15,0,IF(OFFSET(index!$I$2,MATCH(D$195,index!$I$3:$I$50,0),MONTH(CF表!$B664)),D$21*D$13/D$196,0)),0)","v":0},{"$f":"IFERROR(IF($B664>E$15,0,IF(OFFSET(index!$I$2,MATCH(E$195,index!$I$3:$I$50,0),MONTH(CF表!$B664)),E$21*E$13/E$196,0)),0)","v":0},{"$f":"IFERROR(IF($B664>F$15,0,IF(OFFSET(index!$I$2,MATCH(F$195,index!$I$3:$I$50,0),MONTH(CF表!$B664)),F$21*F$13/F$196,0)),0)","v":0},{"$f":"IFERROR(IF($B664>G$15,0,IF(OFFSET(index!$I$2,MATCH(G$195,index!$I$3:$I$50,0),MONTH(CF表!$B664)),G$21*G$13/G$196,0)),0)","v":0},{"$f":"IFERROR(IF($B664>H$15,0,IF(OFFSET(index!$I$2,MATCH(H$195,index!$I$3:$I$50,0),MONTH(CF表!$B664)),H$21*H$13/H$196,0)),0)","v":0},{"$f":"IFERROR(IF($B664>I$15,0,IF(OFFSET(index!$I$2,MATCH(I$195,index!$I$3:$I$50,0),MONTH(CF表!$B664)),I$21*I$13/I$196,0)),0)","v":0},{"$f":"IFERROR(IF($B664>J$15,0,IF(OFFSET(index!$I$2,MATCH(J$195,index!$I$3:$I$50,0),MONTH(CF表!$B664)),J$21*J$13/J$196,0)),0)","v":0},{"$f":"IFERROR(IF($B664>K$15,0,IF(OFFSET(index!$I$2,MATCH(K$195,index!$I$3:$I$50,0),MONTH(CF表!$B664)),K$21*K$13/K$196,0)),0)","v":0},{"$f":"IFERROR(IF($B664>L$15,0,IF(OFFSET(index!$I$2,MATCH(L$195,index!$I$3:$I$50,0),MONTH(CF表!$B664)),L$21*L$13/L$196,0)),0)","v":0}]
[null,"2061-09-01",{"$f":"IFERROR(IF($B665>C$15,0,IF(OFFSET(index!$I$2,MATCH(C$195,index!$I$3:$I$50,0),MONTH(CF表!$B665)),C$21*C$13/C$196,0)),0)","v":0},{"$f":"IFERROR(IF($B665>D$15,0,IF(OFFSET(index!$I$2,MATCH(D$195,index!$I$3:$I$50,0),MONTH(CF表!$B665)),D$21*D$13/D$196,0)),0)","v":0},{"$f":"IFERROR(IF($B665>E$15,0,IF(OFFSET(index!$I$2,MATCH(E$195,index!$I$3:$I$50,0),MONTH(CF表!$B665)),E$21*E$13/E$196,0)),0)","v":0},{"$f":"IFERROR(IF($B665>F$15,0,IF(OFFSET(index!$I$2,MATCH(F$195,index!$I$3:$I$50,0),MONTH(CF表!$B665)),F$21*F$13/F$196,0)),0)","v":0},{"$f":"IFERROR(IF($B665>G$15,0,IF(OFFSET(index!$I$2,MATCH(G$195,index!$I$3:$I$50,0),MONTH(CF表!$B665)),G$21*G$13/G$196,0)),0)","v":0},{"$f":"IFERROR(IF($B665>H$15,0,IF(OFFSET(index!$I$2,MATCH(H$195,index!$I$3:$I$50,0),MONTH(CF表!$B665)),H$21*H$13/H$196,0)),0)","v":0},{"$f":"IFERROR(IF($B665>I$15,0,IF(OFFSET(index!$I$2,MATCH(I$195,index!$I$3:$I$50,0),MONTH(CF表!$B665)),I$21*I$13/I$196,0)),0)","v":0},{"$f":"IFERROR(IF($B665>J$15,0,IF(OFFSET(index!$I$2,MATCH(J$195,index!$I$3:$I$50,0),MONTH(CF表!$B665)),J$21*J$13/J$196,0)),0)","v":0},{"$f":"IFERROR(IF($B665>K$15,0,IF(OFFSET(index!$I$2,MATCH(K$195,index!$I$3:$I$50,0),MONTH(CF表!$B665)),K$21*K$13/K$196,0)),0)","v":0},{"$f":"IFERROR(IF($B665>L$15,0,IF(OFFSET(index!$I$2,MATCH(L$195,index!$I$3:$I$50,0),MONTH(CF表!$B665)),L$21*L$13/L$196,0)),0)","v":0}]
[null,"2061-10-01",{"$f":"IFERROR(IF($B666>C$15,0,IF(OFFSET(index!$I$2,MATCH(C$195,index!$I$3:$I$50,0),MONTH(CF表!$B666)),C$21*C$13/C$196,0)),0)","v":0},{"$f":"IFERROR(IF($B666>D$15,0,IF(OFFSET(index!$I$2,MATCH(D$195,index!$I$3:$I$50,0),MONTH(CF表!$B666)),D$21*D$13/D$196,0)),0)","v":0},{"$f":"IFERROR(IF($B666>E$15,0,IF(OFFSET(index!$I$2,MATCH(E$195,index!$I$3:$I$50,0),MONTH(CF表!$B666)),E$21*E$13/E$196,0)),0)","v":0},{"$f":"IFERROR(IF($B666>F$15,0,IF(OFFSET(index!$I$2,MATCH(F$195,index!$I$3:$I$50,0),MONTH(CF表!$B666)),F$21*F$13/F$196,0)),0)","v":0},{"$f":"IFERROR(IF($B666>G$15,0,IF(OFFSET(index!$I$2,MATCH(G$195,index!$I$3:$I$50,0),MONTH(CF表!$B666)),G$21*G$13/G$196,0)),0)","v":0},{"$f":"IFERROR(IF($B666>H$15,0,IF(OFFSET(index!$I$2,MATCH(H$195,index!$I$3:$I$50,0),MONTH(CF表!$B666)),H$21*H$13/H$196,0)),0)","v":0},{"$f":"IFERROR(IF($B666>I$15,0,IF(OFFSET(index!$I$2,MATCH(I$195,index!$I$3:$I$50,0),MONTH(CF表!$B666)),I$21*I$13/I$196,0)),0)","v":0},{"$f":"IFERROR(IF($B666>J$15,0,IF(OFFSET(index!$I$2,MATCH(J$195,index!$I$3:$I$50,0),MONTH(CF表!$B666)),J$21*J$13/J$196,0)),0)","v":0},{"$f":"IFERROR(IF($B666>K$15,0,IF(OFFSET(index!$I$2,MATCH(K$195,index!$I$3:$I$50,0),MONTH(CF表!$B666)),K$21*K$13/K$196,0)),0)","v":0},{"$f":"IFERROR(IF($B666>L$15,0,IF(OFFSET(index!$I$2,MATCH(L$195,index!$I$3:$I$50,0),MONTH(CF表!$B666)),L$21*L$13/L$196,0)),0)","v":0}]
[null,"2061-11-01",{"$f":"IFERROR(IF($B667>C$15,0,IF(OFFSET(index!$I$2,MATCH(C$195,index!$I$3:$I$50,0),MONTH(CF表!$B667)),C$21*C$13/C$196,0)),0)","v":0},{"$f":"IFERROR(IF($B667>D$15,0,IF(OFFSET(index!$I$2,MATCH(D$195,index!$I$3:$I$50,0),MONTH(CF表!$B667)),D$21*D$13/D$196,0)),0)","v":0},{"$f":"IFERROR(IF($B667>E$15,0,IF(OFFSET(index!$I$2,MATCH(E$195,index!$I$3:$I$50,0),MONTH(CF表!$B667)),E$21*E$13/E$196,0)),0)","v":0},{"$f":"IFERROR(IF($B667>F$15,0,IF(OFFSET(index!$I$2,MATCH(F$195,index!$I$3:$I$50,0),MONTH(CF表!$B667)),F$21*F$13/F$196,0)),0)","v":0},{"$f":"IFERROR(IF($B667>G$15,0,IF(OFFSET(index!$I$2,MATCH(G$195,index!$I$3:$I$50,0),MONTH(CF表!$B667)),G$21*G$13/G$196,0)),0)","v":0},{"$f":"IFERROR(IF($B667>H$15,0,IF(OFFSET(index!$I$2,MATCH(H$195,index!$I$3:$I$50,0),MONTH(CF表!$B667)),H$21*H$13/H$196,0)),0)","v":0},{"$f":"IFERROR(IF($B667>I$15,0,IF(OFFSET(index!$I$2,MATCH(I$195,index!$I$3:$I$50,0),MONTH(CF表!$B667)),I$21*I$13/I$196,0)),0)","v":0},{"$f":"IFERROR(IF($B667>J$15,0,IF(OFFSET(index!$I$2,MATCH(J$195,index!$I$3:$I$50,0),MONTH(CF表!$B667)),J$21*J$13/J$196,0)),0)","v":0},{"$f":"IFERROR(IF($B667>K$15,0,IF(OFFSET(index!$I$2,MATCH(K$195,index!$I$3:$I$50,0),MONTH(CF表!$B667)),K$21*K$13/K$196,0)),0)","v":0},{"$f":"IFERROR(IF($B667>L$15,0,IF(OFFSET(index!$I$2,MATCH(L$195,index!$I$3:$I$50,0),MONTH(CF表!$B667)),L$21*L$13/L$196,0)),0)","v":0}]
[null,"2061-12-01",{"$f":"IFERROR(IF($B668>C$15,0,IF(OFFSET(index!$I$2,MATCH(C$195,index!$I$3:$I$50,0),MONTH(CF表!$B668)),C$21*C$13/C$196,0)),0)","v":0},{"$f":"IFERROR(IF($B668>D$15,0,IF(OFFSET(index!$I$2,MATCH(D$195,index!$I$3:$I$50,0),MONTH(CF表!$B668)),D$21*D$13/D$196,0)),0)","v":0},{"$f":"IFERROR(IF($B668>E$15,0,IF(OFFSET(index!$I$2,MATCH(E$195,index!$I$3:$I$50,0),MONTH(CF表!$B668)),E$21*E$13/E$196,0)),0)","v":0},{"$f":"IFERROR(IF($B668>F$15,0,IF(OFFSET(index!$I$2,MATCH(F$195,index!$I$3:$I$50,0),MONTH(CF表!$B668)),F$21*F$13/F$196,0)),0)","v":0},{"$f":"IFERROR(IF($B668>G$15,0,IF(OFFSET(index!$I$2,MATCH(G$195,index!$I$3:$I$50,0),MONTH(CF表!$B668)),G$21*G$13/G$196,0)),0)","v":0},{"$f":"IFERROR(IF($B668>H$15,0,IF(OFFSET(index!$I$2,MATCH(H$195,index!$I$3:$I$50,0),MONTH(CF表!$B668)),H$21*H$13/H$196,0)),0)","v":0},{"$f":"IFERROR(IF($B668>I$15,0,IF(OFFSET(index!$I$2,MATCH(I$195,index!$I$3:$I$50,0),MONTH(CF表!$B668)),I$21*I$13/I$196,0)),0)","v":0},{"$f":"IFERROR(IF($B668>J$15,0,IF(OFFSET(index!$I$2,MATCH(J$195,index!$I$3:$I$50,0),MONTH(CF表!$B668)),J$21*J$13/J$196,0)),0)","v":0},{"$f":"IFERROR(IF($B668>K$15,0,IF(OFFSET(index!$I$2,MATCH(K$195,index!$I$3:$I$50,0),MONTH(CF表!$B668)),K$21*K$13/K$196,0)),0)","v":0},{"$f":"IFERROR(IF($B668>L$15,0,IF(OFFSET(index!$I$2,MATCH(L$195,index!$I$3:$I$50,0),MONTH(CF表!$B668)),L$21*L$13/L$196,0)),0)","v":0}]
[null,"2062-01-01",{"$f":"IFERROR(IF($B669>C$15,0,IF(OFFSET(index!$I$2,MATCH(C$195,index!$I$3:$I$50,0),MONTH(CF表!$B669)),C$21*C$13/C$196,0)),0)","v":0},{"$f":"IFERROR(IF($B669>D$15,0,IF(OFFSET(index!$I$2,MATCH(D$195,index!$I$3:$I$50,0),MONTH(CF表!$B669)),D$21*D$13/D$196,0)),0)","v":0},{"$f":"IFERROR(IF($B669>E$15,0,IF(OFFSET(index!$I$2,MATCH(E$195,index!$I$3:$I$50,0),MONTH(CF表!$B669)),E$21*E$13/E$196,0)),0)","v":0},{"$f":"IFERROR(IF($B669>F$15,0,IF(OFFSET(index!$I$2,MATCH(F$195,index!$I$3:$I$50,0),MONTH(CF表!$B669)),F$21*F$13/F$196,0)),0)","v":0},{"$f":"IFERROR(IF($B669>G$15,0,IF(OFFSET(index!$I$2,MATCH(G$195,index!$I$3:$I$50,0),MONTH(CF表!$B669)),G$21*G$13/G$196,0)),0)","v":0},{"$f":"IFERROR(IF($B669>H$15,0,IF(OFFSET(index!$I$2,MATCH(H$195,index!$I$3:$I$50,0),MONTH(CF表!$B669)),H$21*H$13/H$196,0)),0)","v":0},{"$f":"IFERROR(IF($B669>I$15,0,IF(OFFSET(index!$I$2,MATCH(I$195,index!$I$3:$I$50,0),MONTH(CF表!$B669)),I$21*I$13/I$196,0)),0)","v":0},{"$f":"IFERROR(IF($B669>J$15,0,IF(OFFSET(index!$I$2,MATCH(J$195,index!$I$3:$I$50,0),MONTH(CF表!$B669)),J$21*J$13/J$196,0)),0)","v":0},{"$f":"IFERROR(IF($B669>K$15,0,IF(OFFSET(index!$I$2,MATCH(K$195,index!$I$3:$I$50,0),MONTH(CF表!$B669)),K$21*K$13/K$196,0)),0)","v":0},{"$f":"IFERROR(IF($B669>L$15,0,IF(OFFSET(index!$I$2,MATCH(L$195,index!$I$3:$I$50,0),MONTH(CF表!$B669)),L$21*L$13/L$196,0)),0)","v":0}]
[null,"2062-02-01",{"$f":"IFERROR(IF($B670>C$15,0,IF(OFFSET(index!$I$2,MATCH(C$195,index!$I$3:$I$50,0),MONTH(CF表!$B670)),C$21*C$13/C$196,0)),0)","v":0},{"$f":"IFERROR(IF($B670>D$15,0,IF(OFFSET(index!$I$2,MATCH(D$195,index!$I$3:$I$50,0),MONTH(CF表!$B670)),D$21*D$13/D$196,0)),0)","v":0},{"$f":"IFERROR(IF($B670>E$15,0,IF(OFFSET(index!$I$2,MATCH(E$195,index!$I$3:$I$50,0),MONTH(CF表!$B670)),E$21*E$13/E$196,0)),0)","v":0},{"$f":"IFERROR(IF($B670>F$15,0,IF(OFFSET(index!$I$2,MATCH(F$195,index!$I$3:$I$50,0),MONTH(CF表!$B670)),F$21*F$13/F$196,0)),0)","v":0},{"$f":"IFERROR(IF($B670>G$15,0,IF(OFFSET(index!$I$2,MATCH(G$195,index!$I$3:$I$50,0),MONTH(CF表!$B670)),G$21*G$13/G$196,0)),0)","v":0},{"$f":"IFERROR(IF($B670>H$15,0,IF(OFFSET(index!$I$2,MATCH(H$195,index!$I$3:$I$50,0),MONTH(CF表!$B670)),H$21*H$13/H$196,0)),0)","v":0},{"$f":"IFERROR(IF($B670>I$15,0,IF(OFFSET(index!$I$2,MATCH(I$195,index!$I$3:$I$50,0),MONTH(CF表!$B670)),I$21*I$13/I$196,0)),0)","v":0},{"$f":"IFERROR(IF($B670>J$15,0,IF(OFFSET(index!$I$2,MATCH(J$195,index!$I$3:$I$50,0),MONTH(CF表!$B670)),J$21*J$13/J$196,0)),0)","v":0},{"$f":"IFERROR(IF($B670>K$15,0,IF(OFFSET(index!$I$2,MATCH(K$195,index!$I$3:$I$50,0),MONTH(CF表!$B670)),K$21*K$13/K$196,0)),0)","v":0},{"$f":"IFERROR(IF($B670>L$15,0,IF(OFFSET(index!$I$2,MATCH(L$195,index!$I$3:$I$50,0),MONTH(CF表!$B670)),L$21*L$13/L$196,0)),0)","v":0}]
[null,"2062-03-01",{"$f":"IFERROR(IF($B671>C$15,0,IF(OFFSET(index!$I$2,MATCH(C$195,index!$I$3:$I$50,0),MONTH(CF表!$B671)),C$21*C$13/C$196,0)),0)","v":0},{"$f":"IFERROR(IF($B671>D$15,0,IF(OFFSET(index!$I$2,MATCH(D$195,index!$I$3:$I$50,0),MONTH(CF表!$B671)),D$21*D$13/D$196,0)),0)","v":0},{"$f":"IFERROR(IF($B671>E$15,0,IF(OFFSET(index!$I$2,MATCH(E$195,index!$I$3:$I$50,0),MONTH(CF表!$B671)),E$21*E$13/E$196,0)),0)","v":0},{"$f":"IFERROR(IF($B671>F$15,0,IF(OFFSET(index!$I$2,MATCH(F$195,index!$I$3:$I$50,0),MONTH(CF表!$B671)),F$21*F$13/F$196,0)),0)","v":0},{"$f":"IFERROR(IF($B671>G$15,0,IF(OFFSET(index!$I$2,MATCH(G$195,index!$I$3:$I$50,0),MONTH(CF表!$B671)),G$21*G$13/G$196,0)),0)","v":0},{"$f":"IFERROR(IF($B671>H$15,0,IF(OFFSET(index!$I$2,MATCH(H$195,index!$I$3:$I$50,0),MONTH(CF表!$B671)),H$21*H$13/H$196,0)),0)","v":0},{"$f":"IFERROR(IF($B671>I$15,0,IF(OFFSET(index!$I$2,MATCH(I$195,index!$I$3:$I$50,0),MONTH(CF表!$B671)),I$21*I$13/I$196,0)),0)","v":0},{"$f":"IFERROR(IF($B671>J$15,0,IF(OFFSET(index!$I$2,MATCH(J$195,index!$I$3:$I$50,0),MONTH(CF表!$B671)),J$21*J$13/J$196,0)),0)","v":0},{"$f":"IFERROR(IF($B671>K$15,0,IF(OFFSET(index!$I$2,MATCH(K$195,index!$I$3:$I$50,0),MONTH(CF表!$B671)),K$21*K$13/K$196,0)),0)","v":0},{"$f":"IFERROR(IF($B671>L$15,0,IF(OFFSET(index!$I$2,MATCH(L$195,index!$I$3:$I$50,0),MONTH(CF表!$B671)),L$21*L$13/L$196,0)),0)","v":0}]
[null,"2062-04-01",{"$f":"IFERROR(IF($B672>C$15,0,IF(OFFSET(index!$I$2,MATCH(C$195,index!$I$3:$I$50,0),MONTH(CF表!$B672)),C$21*C$13/C$196,0)),0)","v":0},{"$f":"IFERROR(IF($B672>D$15,0,IF(OFFSET(index!$I$2,MATCH(D$195,index!$I$3:$I$50,0),MONTH(CF表!$B672)),D$21*D$13/D$196,0)),0)","v":0},{"$f":"IFERROR(IF($B672>E$15,0,IF(OFFSET(index!$I$2,MATCH(E$195,index!$I$3:$I$50,0),MONTH(CF表!$B672)),E$21*E$13/E$196,0)),0)","v":0},{"$f":"IFERROR(IF($B672>F$15,0,IF(OFFSET(index!$I$2,MATCH(F$195,index!$I$3:$I$50,0),MONTH(CF表!$B672)),F$21*F$13/F$196,0)),0)","v":0},{"$f":"IFERROR(IF($B672>G$15,0,IF(OFFSET(index!$I$2,MATCH(G$195,index!$I$3:$I$50,0),MONTH(CF表!$B672)),G$21*G$13/G$196,0)),0)","v":0},{"$f":"IFERROR(IF($B672>H$15,0,IF(OFFSET(index!$I$2,MATCH(H$195,index!$I$3:$I$50,0),MONTH(CF表!$B672)),H$21*H$13/H$196,0)),0)","v":0},{"$f":"IFERROR(IF($B672>I$15,0,IF(OFFSET(index!$I$2,MATCH(I$195,index!$I$3:$I$50,0),MONTH(CF表!$B672)),I$21*I$13/I$196,0)),0)","v":0},{"$f":"IFERROR(IF($B672>J$15,0,IF(OFFSET(index!$I$2,MATCH(J$195,index!$I$3:$I$50,0),MONTH(CF表!$B672)),J$21*J$13/J$196,0)),0)","v":0},{"$f":"IFERROR(IF($B672>K$15,0,IF(OFFSET(index!$I$2,MATCH(K$195,index!$I$3:$I$50,0),MONTH(CF表!$B672)),K$21*K$13/K$196,0)),0)","v":0},{"$f":"IFERROR(IF($B672>L$15,0,IF(OFFSET(index!$I$2,MATCH(L$195,index!$I$3:$I$50,0),MONTH(CF表!$B672)),L$21*L$13/L$196,0)),0)","v":0}]
[null,"2062-05-01",{"$f":"IFERROR(IF($B673>C$15,0,IF(OFFSET(index!$I$2,MATCH(C$195,index!$I$3:$I$50,0),MONTH(CF表!$B673)),C$21*C$13/C$196,0)),0)","v":0},{"$f":"IFERROR(IF($B673>D$15,0,IF(OFFSET(index!$I$2,MATCH(D$195,index!$I$3:$I$50,0),MONTH(CF表!$B673)),D$21*D$13/D$196,0)),0)","v":0},{"$f":"IFERROR(IF($B673>E$15,0,IF(OFFSET(index!$I$2,MATCH(E$195,index!$I$3:$I$50,0),MONTH(CF表!$B673)),E$21*E$13/E$196,0)),0)","v":0},{"$f":"IFERROR(IF($B673>F$15,0,IF(OFFSET(index!$I$2,MATCH(F$195,index!$I$3:$I$50,0),MONTH(CF表!$B673)),F$21*F$13/F$196,0)),0)","v":0},{"$f":"IFERROR(IF($B673>G$15,0,IF(OFFSET(index!$I$2,MATCH(G$195,index!$I$3:$I$50,0),MONTH(CF表!$B673)),G$21*G$13/G$196,0)),0)","v":0},{"$f":"IFERROR(IF($B673>H$15,0,IF(OFFSET(index!$I$2,MATCH(H$195,index!$I$3:$I$50,0),MONTH(CF表!$B673)),H$21*H$13/H$196,0)),0)","v":0},{"$f":"IFERROR(IF($B673>I$15,0,IF(OFFSET(index!$I$2,MATCH(I$195,index!$I$3:$I$50,0),MONTH(CF表!$B673)),I$21*I$13/I$196,0)),0)","v":0},{"$f":"IFERROR(IF($B673>J$15,0,IF(OFFSET(index!$I$2,MATCH(J$195,index!$I$3:$I$50,0),MONTH(CF表!$B673)),J$21*J$13/J$196,0)),0)","v":0},{"$f":"IFERROR(IF($B673>K$15,0,IF(OFFSET(index!$I$2,MATCH(K$195,index!$I$3:$I$50,0),MONTH(CF表!$B673)),K$21*K$13/K$196,0)),0)","v":0},{"$f":"IFERROR(IF($B673>L$15,0,IF(OFFSET(index!$I$2,MATCH(L$195,index!$I$3:$I$50,0),MONTH(CF表!$B673)),L$21*L$13/L$196,0)),0)","v":0}]
[null,"2062-06-01",{"$f":"IFERROR(IF($B674>C$15,0,IF(OFFSET(index!$I$2,MATCH(C$195,index!$I$3:$I$50,0),MONTH(CF表!$B674)),C$21*C$13/C$196,0)),0)","v":0},{"$f":"IFERROR(IF($B674>D$15,0,IF(OFFSET(index!$I$2,MATCH(D$195,index!$I$3:$I$50,0),MONTH(CF表!$B674)),D$21*D$13/D$196,0)),0)","v":0},{"$f":"IFERROR(IF($B674>E$15,0,IF(OFFSET(index!$I$2,MATCH(E$195,index!$I$3:$I$50,0),MONTH(CF表!$B674)),E$21*E$13/E$196,0)),0)","v":0},{"$f":"IFERROR(IF($B674>F$15,0,IF(OFFSET(index!$I$2,MATCH(F$195,index!$I$3:$I$50,0),MONTH(CF表!$B674)),F$21*F$13/F$196,0)),0)","v":0},{"$f":"IFERROR(IF($B674>G$15,0,IF(OFFSET(index!$I$2,MATCH(G$195,index!$I$3:$I$50,0),MONTH(CF表!$B674)),G$21*G$13/G$196,0)),0)","v":0},{"$f":"IFERROR(IF($B674>H$15,0,IF(OFFSET(index!$I$2,MATCH(H$195,index!$I$3:$I$50,0),MONTH(CF表!$B674)),H$21*H$13/H$196,0)),0)","v":0},{"$f":"IFERROR(IF($B674>I$15,0,IF(OFFSET(index!$I$2,MATCH(I$195,index!$I$3:$I$50,0),MONTH(CF表!$B674)),I$21*I$13/I$196,0)),0)","v":0},{"$f":"IFERROR(IF($B674>J$15,0,IF(OFFSET(index!$I$2,MATCH(J$195,index!$I$3:$I$50,0),MONTH(CF表!$B674)),J$21*J$13/J$196,0)),0)","v":0},{"$f":"IFERROR(IF($B674>K$15,0,IF(OFFSET(index!$I$2,MATCH(K$195,index!$I$3:$I$50,0),MONTH(CF表!$B674)),K$21*K$13/K$196,0)),0)","v":0},{"$f":"IFERROR(IF($B674>L$15,0,IF(OFFSET(index!$I$2,MATCH(L$195,index!$I$3:$I$50,0),MONTH(CF表!$B674)),L$21*L$13/L$196,0)),0)","v":0}]
[null,"2062-07-01",{"$f":"IFERROR(IF($B675>C$15,0,IF(OFFSET(index!$I$2,MATCH(C$195,index!$I$3:$I$50,0),MONTH(CF表!$B675)),C$21*C$13/C$196,0)),0)","v":0},{"$f":"IFERROR(IF($B675>D$15,0,IF(OFFSET(index!$I$2,MATCH(D$195,index!$I$3:$I$50,0),MONTH(CF表!$B675)),D$21*D$13/D$196,0)),0)","v":0},{"$f":"IFERROR(IF($B675>E$15,0,IF(OFFSET(index!$I$2,MATCH(E$195,index!$I$3:$I$50,0),MONTH(CF表!$B675)),E$21*E$13/E$196,0)),0)","v":0},{"$f":"IFERROR(IF($B675>F$15,0,IF(OFFSET(index!$I$2,MATCH(F$195,index!$I$3:$I$50,0),MONTH(CF表!$B675)),F$21*F$13/F$196,0)),0)","v":0},{"$f":"IFERROR(IF($B675>G$15,0,IF(OFFSET(index!$I$2,MATCH(G$195,index!$I$3:$I$50,0),MONTH(CF表!$B675)),G$21*G$13/G$196,0)),0)","v":0},{"$f":"IFERROR(IF($B675>H$15,0,IF(OFFSET(index!$I$2,MATCH(H$195,index!$I$3:$I$50,0),MONTH(CF表!$B675)),H$21*H$13/H$196,0)),0)","v":0},{"$f":"IFERROR(IF($B675>I$15,0,IF(OFFSET(index!$I$2,MATCH(I$195,index!$I$3:$I$50,0),MONTH(CF表!$B675)),I$21*I$13/I$196,0)),0)","v":0},{"$f":"IFERROR(IF($B675>J$15,0,IF(OFFSET(index!$I$2,MATCH(J$195,index!$I$3:$I$50,0),MONTH(CF表!$B675)),J$21*J$13/J$196,0)),0)","v":0},{"$f":"IFERROR(IF($B675>K$15,0,IF(OFFSET(index!$I$2,MATCH(K$195,index!$I$3:$I$50,0),MONTH(CF表!$B675)),K$21*K$13/K$196,0)),0)","v":0},{"$f":"IFERROR(IF($B675>L$15,0,IF(OFFSET(index!$I$2,MATCH(L$195,index!$I$3:$I$50,0),MONTH(CF表!$B675)),L$21*L$13/L$196,0)),0)","v":0}]
[null,"2062-08-01",{"$f":"IFERROR(IF($B676>C$15,0,IF(OFFSET(index!$I$2,MATCH(C$195,index!$I$3:$I$50,0),MONTH(CF表!$B676)),C$21*C$13/C$196,0)),0)","v":0},{"$f":"IFERROR(IF($B676>D$15,0,IF(OFFSET(index!$I$2,MATCH(D$195,index!$I$3:$I$50,0),MONTH(CF表!$B676)),D$21*D$13/D$196,0)),0)","v":0},{"$f":"IFERROR(IF($B676>E$15,0,IF(OFFSET(index!$I$2,MATCH(E$195,index!$I$3:$I$50,0),MONTH(CF表!$B676)),E$21*E$13/E$196,0)),0)","v":0},{"$f":"IFERROR(IF($B676>F$15,0,IF(OFFSET(index!$I$2,MATCH(F$195,index!$I$3:$I$50,0),MONTH(CF表!$B676)),F$21*F$13/F$196,0)),0)","v":0},{"$f":"IFERROR(IF($B676>G$15,0,IF(OFFSET(index!$I$2,MATCH(G$195,index!$I$3:$I$50,0),MONTH(CF表!$B676)),G$21*G$13/G$196,0)),0)","v":0},{"$f":"IFERROR(IF($B676>H$15,0,IF(OFFSET(index!$I$2,MATCH(H$195,index!$I$3:$I$50,0),MONTH(CF表!$B676)),H$21*H$13/H$196,0)),0)","v":0},{"$f":"IFERROR(IF($B676>I$15,0,IF(OFFSET(index!$I$2,MATCH(I$195,index!$I$3:$I$50,0),MONTH(CF表!$B676)),I$21*I$13/I$196,0)),0)","v":0},{"$f":"IFERROR(IF($B676>J$15,0,IF(OFFSET(index!$I$2,MATCH(J$195,index!$I$3:$I$50,0),MONTH(CF表!$B676)),J$21*J$13/J$196,0)),0)","v":0},{"$f":"IFERROR(IF($B676>K$15,0,IF(OFFSET(index!$I$2,MATCH(K$195,index!$I$3:$I$50,0),MONTH(CF表!$B676)),K$21*K$13/K$196,0)),0)","v":0},{"$f":"IFERROR(IF($B676>L$15,0,IF(OFFSET(index!$I$2,MATCH(L$195,index!$I$3:$I$50,0),MONTH(CF表!$B676)),L$21*L$13/L$196,0)),0)","v":0}]
[null,"2062-09-01",{"$f":"IFERROR(IF($B677>C$15,0,IF(OFFSET(index!$I$2,MATCH(C$195,index!$I$3:$I$50,0),MONTH(CF表!$B677)),C$21*C$13/C$196,0)),0)","v":0},{"$f":"IFERROR(IF($B677>D$15,0,IF(OFFSET(index!$I$2,MATCH(D$195,index!$I$3:$I$50,0),MONTH(CF表!$B677)),D$21*D$13/D$196,0)),0)","v":0},{"$f":"IFERROR(IF($B677>E$15,0,IF(OFFSET(index!$I$2,MATCH(E$195,index!$I$3:$I$50,0),MONTH(CF表!$B677)),E$21*E$13/E$196,0)),0)","v":0},{"$f":"IFERROR(IF($B677>F$15,0,IF(OFFSET(index!$I$2,MATCH(F$195,index!$I$3:$I$50,0),MONTH(CF表!$B677)),F$21*F$13/F$196,0)),0)","v":0},{"$f":"IFERROR(IF($B677>G$15,0,IF(OFFSET(index!$I$2,MATCH(G$195,index!$I$3:$I$50,0),MONTH(CF表!$B677)),G$21*G$13/G$196,0)),0)","v":0},{"$f":"IFERROR(IF($B677>H$15,0,IF(OFFSET(index!$I$2,MATCH(H$195,index!$I$3:$I$50,0),MONTH(CF表!$B677)),H$21*H$13/H$196,0)),0)","v":0},{"$f":"IFERROR(IF($B677>I$15,0,IF(OFFSET(index!$I$2,MATCH(I$195,index!$I$3:$I$50,0),MONTH(CF表!$B677)),I$21*I$13/I$196,0)),0)","v":0},{"$f":"IFERROR(IF($B677>J$15,0,IF(OFFSET(index!$I$2,MATCH(J$195,index!$I$3:$I$50,0),MONTH(CF表!$B677)),J$21*J$13/J$196,0)),0)","v":0},{"$f":"IFERROR(IF($B677>K$15,0,IF(OFFSET(index!$I$2,MATCH(K$195,index!$I$3:$I$50,0),MONTH(CF表!$B677)),K$21*K$13/K$196,0)),0)","v":0},{"$f":"IFERROR(IF($B677>L$15,0,IF(OFFSET(index!$I$2,MATCH(L$195,index!$I$3:$I$50,0),MONTH(CF表!$B677)),L$21*L$13/L$196,0)),0)","v":0}]
[null,"2062-10-01",{"$f":"IFERROR(IF($B678>C$15,0,IF(OFFSET(index!$I$2,MATCH(C$195,index!$I$3:$I$50,0),MONTH(CF表!$B678)),C$21*C$13/C$196,0)),0)","v":0},{"$f":"IFERROR(IF($B678>D$15,0,IF(OFFSET(index!$I$2,MATCH(D$195,index!$I$3:$I$50,0),MONTH(CF表!$B678)),D$21*D$13/D$196,0)),0)","v":0},{"$f":"IFERROR(IF($B678>E$15,0,IF(OFFSET(index!$I$2,MATCH(E$195,index!$I$3:$I$50,0),MONTH(CF表!$B678)),E$21*E$13/E$196,0)),0)","v":0},{"$f":"IFERROR(IF($B678>F$15,0,IF(OFFSET(index!$I$2,MATCH(F$195,index!$I$3:$I$50,0),MONTH(CF表!$B678)),F$21*F$13/F$196,0)),0)","v":0},{"$f":"IFERROR(IF($B678>G$15,0,IF(OFFSET(index!$I$2,MATCH(G$195,index!$I$3:$I$50,0),MONTH(CF表!$B678)),G$21*G$13/G$196,0)),0)","v":0},{"$f":"IFERROR(IF($B678>H$15,0,IF(OFFSET(index!$I$2,MATCH(H$195,index!$I$3:$I$50,0),MONTH(CF表!$B678)),H$21*H$13/H$196,0)),0)","v":0},{"$f":"IFERROR(IF($B678>I$15,0,IF(OFFSET(index!$I$2,MATCH(I$195,index!$I$3:$I$50,0),MONTH(CF表!$B678)),I$21*I$13/I$196,0)),0)","v":0},{"$f":"IFERROR(IF($B678>J$15,0,IF(OFFSET(index!$I$2,MATCH(J$195,index!$I$3:$I$50,0),MONTH(CF表!$B678)),J$21*J$13/J$196,0)),0)","v":0},{"$f":"IFERROR(IF($B678>K$15,0,IF(OFFSET(index!$I$2,MATCH(K$195,index!$I$3:$I$50,0),MONTH(CF表!$B678)),K$21*K$13/K$196,0)),0)","v":0},{"$f":"IFERROR(IF($B678>L$15,0,IF(OFFSET(index!$I$2,MATCH(L$195,index!$I$3:$I$50,0),MONTH(CF表!$B678)),L$21*L$13/L$196,0)),0)","v":0}]
[null,"2062-11-01",{"$f":"IFERROR(IF($B679>C$15,0,IF(OFFSET(index!$I$2,MATCH(C$195,index!$I$3:$I$50,0),MONTH(CF表!$B679)),C$21*C$13/C$196,0)),0)","v":0},{"$f":"IFERROR(IF($B679>D$15,0,IF(OFFSET(index!$I$2,MATCH(D$195,index!$I$3:$I$50,0),MONTH(CF表!$B679)),D$21*D$13/D$196,0)),0)","v":0},{"$f":"IFERROR(IF($B679>E$15,0,IF(OFFSET(index!$I$2,MATCH(E$195,index!$I$3:$I$50,0),MONTH(CF表!$B679)),E$21*E$13/E$196,0)),0)","v":0},{"$f":"IFERROR(IF($B679>F$15,0,IF(OFFSET(index!$I$2,MATCH(F$195,index!$I$3:$I$50,0),MONTH(CF表!$B679)),F$21*F$13/F$196,0)),0)","v":0},{"$f":"IFERROR(IF($B679>G$15,0,IF(OFFSET(index!$I$2,MATCH(G$195,index!$I$3:$I$50,0),MONTH(CF表!$B679)),G$21*G$13/G$196,0)),0)","v":0},{"$f":"IFERROR(IF($B679>H$15,0,IF(OFFSET(index!$I$2,MATCH(H$195,index!$I$3:$I$50,0),MONTH(CF表!$B679)),H$21*H$13/H$196,0)),0)","v":0},{"$f":"IFERROR(IF($B679>I$15,0,IF(OFFSET(index!$I$2,MATCH(I$195,index!$I$3:$I$50,0),MONTH(CF表!$B679)),I$21*I$13/I$196,0)),0)","v":0},{"$f":"IFERROR(IF($B679>J$15,0,IF(OFFSET(index!$I$2,MATCH(J$195,index!$I$3:$I$50,0),MONTH(CF表!$B679)),J$21*J$13/J$196,0)),0)","v":0},{"$f":"IFERROR(IF($B679>K$15,0,IF(OFFSET(index!$I$2,MATCH(K$195,index!$I$3:$I$50,0),MONTH(CF表!$B679)),K$21*K$13/K$196,0)),0)","v":0},{"$f":"IFERROR(IF($B679>L$15,0,IF(OFFSET(index!$I$2,MATCH(L$195,index!$I$3:$I$50,0),MONTH(CF表!$B679)),L$21*L$13/L$196,0)),0)","v":0}]
[null,"2062-12-01",{"$f":"IFERROR(IF($B680>C$15,0,IF(OFFSET(index!$I$2,MATCH(C$195,index!$I$3:$I$50,0),MONTH(CF表!$B680)),C$21*C$13/C$196,0)),0)","v":0},{"$f":"IFERROR(IF($B680>D$15,0,IF(OFFSET(index!$I$2,MATCH(D$195,index!$I$3:$I$50,0),MONTH(CF表!$B680)),D$21*D$13/D$196,0)),0)","v":0},{"$f":"IFERROR(IF($B680>E$15,0,IF(OFFSET(index!$I$2,MATCH(E$195,index!$I$3:$I$50,0),MONTH(CF表!$B680)),E$21*E$13/E$196,0)),0)","v":0},{"$f":"IFERROR(IF($B680>F$15,0,IF(OFFSET(index!$I$2,MATCH(F$195,index!$I$3:$I$50,0),MONTH(CF表!$B680)),F$21*F$13/F$196,0)),0)","v":0},{"$f":"IFERROR(IF($B680>G$15,0,IF(OFFSET(index!$I$2,MATCH(G$195,index!$I$3:$I$50,0),MONTH(CF表!$B680)),G$21*G$13/G$196,0)),0)","v":0},{"$f":"IFERROR(IF($B680>H$15,0,IF(OFFSET(index!$I$2,MATCH(H$195,index!$I$3:$I$50,0),MONTH(CF表!$B680)),H$21*H$13/H$196,0)),0)","v":0},{"$f":"IFERROR(IF($B680>I$15,0,IF(OFFSET(index!$I$2,MATCH(I$195,index!$I$3:$I$50,0),MONTH(CF表!$B680)),I$21*I$13/I$196,0)),0)","v":0},{"$f":"IFERROR(IF($B680>J$15,0,IF(OFFSET(index!$I$2,MATCH(J$195,index!$I$3:$I$50,0),MONTH(CF表!$B680)),J$21*J$13/J$196,0)),0)","v":0},{"$f":"IFERROR(IF($B680>K$15,0,IF(OFFSET(index!$I$2,MATCH(K$195,index!$I$3:$I$50,0),MONTH(CF表!$B680)),K$21*K$13/K$196,0)),0)","v":0},{"$f":"IFERROR(IF($B680>L$15,0,IF(OFFSET(index!$I$2,MATCH(L$195,index!$I$3:$I$50,0),MONTH(CF表!$B680)),L$21*L$13/L$196,0)),0)","v":0}]
[null,"2063-01-01",{"$f":"IFERROR(IF($B681>C$15,0,IF(OFFSET(index!$I$2,MATCH(C$195,index!$I$3:$I$50,0),MONTH(CF表!$B681)),C$21*C$13/C$196,0)),0)","v":0},{"$f":"IFERROR(IF($B681>D$15,0,IF(OFFSET(index!$I$2,MATCH(D$195,index!$I$3:$I$50,0),MONTH(CF表!$B681)),D$21*D$13/D$196,0)),0)","v":0},{"$f":"IFERROR(IF($B681>E$15,0,IF(OFFSET(index!$I$2,MATCH(E$195,index!$I$3:$I$50,0),MONTH(CF表!$B681)),E$21*E$13/E$196,0)),0)","v":0},{"$f":"IFERROR(IF($B681>F$15,0,IF(OFFSET(index!$I$2,MATCH(F$195,index!$I$3:$I$50,0),MONTH(CF表!$B681)),F$21*F$13/F$196,0)),0)","v":0},{"$f":"IFERROR(IF($B681>G$15,0,IF(OFFSET(index!$I$2,MATCH(G$195,index!$I$3:$I$50,0),MONTH(CF表!$B681)),G$21*G$13/G$196,0)),0)","v":0},{"$f":"IFERROR(IF($B681>H$15,0,IF(OFFSET(index!$I$2,MATCH(H$195,index!$I$3:$I$50,0),MONTH(CF表!$B681)),H$21*H$13/H$196,0)),0)","v":0},{"$f":"IFERROR(IF($B681>I$15,0,IF(OFFSET(index!$I$2,MATCH(I$195,index!$I$3:$I$50,0),MONTH(CF表!$B681)),I$21*I$13/I$196,0)),0)","v":0},{"$f":"IFERROR(IF($B681>J$15,0,IF(OFFSET(index!$I$2,MATCH(J$195,index!$I$3:$I$50,0),MONTH(CF表!$B681)),J$21*J$13/J$196,0)),0)","v":0},{"$f":"IFERROR(IF($B681>K$15,0,IF(OFFSET(index!$I$2,MATCH(K$195,index!$I$3:$I$50,0),MONTH(CF表!$B681)),K$21*K$13/K$196,0)),0)","v":0},{"$f":"IFERROR(IF($B681>L$15,0,IF(OFFSET(index!$I$2,MATCH(L$195,index!$I$3:$I$50,0),MONTH(CF表!$B681)),L$21*L$13/L$196,0)),0)","v":0}]
[null,"2063-02-01",{"$f":"IFERROR(IF($B682>C$15,0,IF(OFFSET(index!$I$2,MATCH(C$195,index!$I$3:$I$50,0),MONTH(CF表!$B682)),C$21*C$13/C$196,0)),0)","v":0},{"$f":"IFERROR(IF($B682>D$15,0,IF(OFFSET(index!$I$2,MATCH(D$195,index!$I$3:$I$50,0),MONTH(CF表!$B682)),D$21*D$13/D$196,0)),0)","v":0},{"$f":"IFERROR(IF($B682>E$15,0,IF(OFFSET(index!$I$2,MATCH(E$195,index!$I$3:$I$50,0),MONTH(CF表!$B682)),E$21*E$13/E$196,0)),0)","v":0},{"$f":"IFERROR(IF($B682>F$15,0,IF(OFFSET(index!$I$2,MATCH(F$195,index!$I$3:$I$50,0),MONTH(CF表!$B682)),F$21*F$13/F$196,0)),0)","v":0},{"$f":"IFERROR(IF($B682>G$15,0,IF(OFFSET(index!$I$2,MATCH(G$195,index!$I$3:$I$50,0),MONTH(CF表!$B682)),G$21*G$13/G$196,0)),0)","v":0},{"$f":"IFERROR(IF($B682>H$15,0,IF(OFFSET(index!$I$2,MATCH(H$195,index!$I$3:$I$50,0),MONTH(CF表!$B682)),H$21*H$13/H$196,0)),0)","v":0},{"$f":"IFERROR(IF($B682>I$15,0,IF(OFFSET(index!$I$2,MATCH(I$195,index!$I$3:$I$50,0),MONTH(CF表!$B682)),I$21*I$13/I$196,0)),0)","v":0},{"$f":"IFERROR(IF($B682>J$15,0,IF(OFFSET(index!$I$2,MATCH(J$195,index!$I$3:$I$50,0),MONTH(CF表!$B682)),J$21*J$13/J$196,0)),0)","v":0},{"$f":"IFERROR(IF($B682>K$15,0,IF(OFFSET(index!$I$2,MATCH(K$195,index!$I$3:$I$50,0),MONTH(CF表!$B682)),K$21*K$13/K$196,0)),0)","v":0},{"$f":"IFERROR(IF($B682>L$15,0,IF(OFFSET(index!$I$2,MATCH(L$195,index!$I$3:$I$50,0),MONTH(CF表!$B682)),L$21*L$13/L$196,0)),0)","v":0}]
[null,"2063-03-01",{"$f":"IFERROR(IF($B683>C$15,0,IF(OFFSET(index!$I$2,MATCH(C$195,index!$I$3:$I$50,0),MONTH(CF表!$B683)),C$21*C$13/C$196,0)),0)","v":0},{"$f":"IFERROR(IF($B683>D$15,0,IF(OFFSET(index!$I$2,MATCH(D$195,index!$I$3:$I$50,0),MONTH(CF表!$B683)),D$21*D$13/D$196,0)),0)","v":0},{"$f":"IFERROR(IF($B683>E$15,0,IF(OFFSET(index!$I$2,MATCH(E$195,index!$I$3:$I$50,0),MONTH(CF表!$B683)),E$21*E$13/E$196,0)),0)","v":0},{"$f":"IFERROR(IF($B683>F$15,0,IF(OFFSET(index!$I$2,MATCH(F$195,index!$I$3:$I$50,0),MONTH(CF表!$B683)),F$21*F$13/F$196,0)),0)","v":0},{"$f":"IFERROR(IF($B683>G$15,0,IF(OFFSET(index!$I$2,MATCH(G$195,index!$I$3:$I$50,0),MONTH(CF表!$B683)),G$21*G$13/G$196,0)),0)","v":0},{"$f":"IFERROR(IF($B683>H$15,0,IF(OFFSET(index!$I$2,MATCH(H$195,index!$I$3:$I$50,0),MONTH(CF表!$B683)),H$21*H$13/H$196,0)),0)","v":0},{"$f":"IFERROR(IF($B683>I$15,0,IF(OFFSET(index!$I$2,MATCH(I$195,index!$I$3:$I$50,0),MONTH(CF表!$B683)),I$21*I$13/I$196,0)),0)","v":0},{"$f":"IFERROR(IF($B683>J$15,0,IF(OFFSET(index!$I$2,MATCH(J$195,index!$I$3:$I$50,0),MONTH(CF表!$B683)),J$21*J$13/J$196,0)),0)","v":0},{"$f":"IFERROR(IF($B683>K$15,0,IF(OFFSET(index!$I$2,MATCH(K$195,index!$I$3:$I$50,0),MONTH(CF表!$B683)),K$21*K$13/K$196,0)),0)","v":0},{"$f":"IFERROR(IF($B683>L$15,0,IF(OFFSET(index!$I$2,MATCH(L$195,index!$I$3:$I$50,0),MONTH(CF表!$B683)),L$21*L$13/L$196,0)),0)","v":0}]
[null,"2063-04-01",{"$f":"IFERROR(IF($B684>C$15,0,IF(OFFSET(index!$I$2,MATCH(C$195,index!$I$3:$I$50,0),MONTH(CF表!$B684)),C$21*C$13/C$196,0)),0)","v":0},{"$f":"IFERROR(IF($B684>D$15,0,IF(OFFSET(index!$I$2,MATCH(D$195,index!$I$3:$I$50,0),MONTH(CF表!$B684)),D$21*D$13/D$196,0)),0)","v":0},{"$f":"IFERROR(IF($B684>E$15,0,IF(OFFSET(index!$I$2,MATCH(E$195,index!$I$3:$I$50,0),MONTH(CF表!$B684)),E$21*E$13/E$196,0)),0)","v":0},{"$f":"IFERROR(IF($B684>F$15,0,IF(OFFSET(index!$I$2,MATCH(F$195,index!$I$3:$I$50,0),MONTH(CF表!$B684)),F$21*F$13/F$196,0)),0)","v":0},{"$f":"IFERROR(IF($B684>G$15,0,IF(OFFSET(index!$I$2,MATCH(G$195,index!$I$3:$I$50,0),MONTH(CF表!$B684)),G$21*G$13/G$196,0)),0)","v":0},{"$f":"IFERROR(IF($B684>H$15,0,IF(OFFSET(index!$I$2,MATCH(H$195,index!$I$3:$I$50,0),MONTH(CF表!$B684)),H$21*H$13/H$196,0)),0)","v":0},{"$f":"IFERROR(IF($B684>I$15,0,IF(OFFSET(index!$I$2,MATCH(I$195,index!$I$3:$I$50,0),MONTH(CF表!$B684)),I$21*I$13/I$196,0)),0)","v":0},{"$f":"IFERROR(IF($B684>J$15,0,IF(OFFSET(index!$I$2,MATCH(J$195,index!$I$3:$I$50,0),MONTH(CF表!$B684)),J$21*J$13/J$196,0)),0)","v":0},{"$f":"IFERROR(IF($B684>K$15,0,IF(OFFSET(index!$I$2,MATCH(K$195,index!$I$3:$I$50,0),MONTH(CF表!$B684)),K$21*K$13/K$196,0)),0)","v":0},{"$f":"IFERROR(IF($B684>L$15,0,IF(OFFSET(index!$I$2,MATCH(L$195,index!$I$3:$I$50,0),MONTH(CF表!$B684)),L$21*L$13/L$196,0)),0)","v":0}]
[null,"2063-05-01",{"$f":"IFERROR(IF($B685>C$15,0,IF(OFFSET(index!$I$2,MATCH(C$195,index!$I$3:$I$50,0),MONTH(CF表!$B685)),C$21*C$13/C$196,0)),0)","v":0},{"$f":"IFERROR(IF($B685>D$15,0,IF(OFFSET(index!$I$2,MATCH(D$195,index!$I$3:$I$50,0),MONTH(CF表!$B685)),D$21*D$13/D$196,0)),0)","v":0},{"$f":"IFERROR(IF($B685>E$15,0,IF(OFFSET(index!$I$2,MATCH(E$195,index!$I$3:$I$50,0),MONTH(CF表!$B685)),E$21*E$13/E$196,0)),0)","v":0},{"$f":"IFERROR(IF($B685>F$15,0,IF(OFFSET(index!$I$2,MATCH(F$195,index!$I$3:$I$50,0),MONTH(CF表!$B685)),F$21*F$13/F$196,0)),0)","v":0},{"$f":"IFERROR(IF($B685>G$15,0,IF(OFFSET(index!$I$2,MATCH(G$195,index!$I$3:$I$50,0),MONTH(CF表!$B685)),G$21*G$13/G$196,0)),0)","v":0},{"$f":"IFERROR(IF($B685>H$15,0,IF(OFFSET(index!$I$2,MATCH(H$195,index!$I$3:$I$50,0),MONTH(CF表!$B685)),H$21*H$13/H$196,0)),0)","v":0},{"$f":"IFERROR(IF($B685>I$15,0,IF(OFFSET(index!$I$2,MATCH(I$195,index!$I$3:$I$50,0),MONTH(CF表!$B685)),I$21*I$13/I$196,0)),0)","v":0},{"$f":"IFERROR(IF($B685>J$15,0,IF(OFFSET(index!$I$2,MATCH(J$195,index!$I$3:$I$50,0),MONTH(CF表!$B685)),J$21*J$13/J$196,0)),0)","v":0},{"$f":"IFERROR(IF($B685>K$15,0,IF(OFFSET(index!$I$2,MATCH(K$195,index!$I$3:$I$50,0),MONTH(CF表!$B685)),K$21*K$13/K$196,0)),0)","v":0},{"$f":"IFERROR(IF($B685>L$15,0,IF(OFFSET(index!$I$2,MATCH(L$195,index!$I$3:$I$50,0),MONTH(CF表!$B685)),L$21*L$13/L$196,0)),0)","v":0}]
[null,"2063-06-01",{"$f":"IFERROR(IF($B686>C$15,0,IF(OFFSET(index!$I$2,MATCH(C$195,index!$I$3:$I$50,0),MONTH(CF表!$B686)),C$21*C$13/C$196,0)),0)","v":0},{"$f":"IFERROR(IF($B686>D$15,0,IF(OFFSET(index!$I$2,MATCH(D$195,index!$I$3:$I$50,0),MONTH(CF表!$B686)),D$21*D$13/D$196,0)),0)","v":0},{"$f":"IFERROR(IF($B686>E$15,0,IF(OFFSET(index!$I$2,MATCH(E$195,index!$I$3:$I$50,0),MONTH(CF表!$B686)),E$21*E$13/E$196,0)),0)","v":0},{"$f":"IFERROR(IF($B686>F$15,0,IF(OFFSET(index!$I$2,MATCH(F$195,index!$I$3:$I$50,0),MONTH(CF表!$B686)),F$21*F$13/F$196,0)),0)","v":0},{"$f":"IFERROR(IF($B686>G$15,0,IF(OFFSET(index!$I$2,MATCH(G$195,index!$I$3:$I$50,0),MONTH(CF表!$B686)),G$21*G$13/G$196,0)),0)","v":0},{"$f":"IFERROR(IF($B686>H$15,0,IF(OFFSET(index!$I$2,MATCH(H$195,index!$I$3:$I$50,0),MONTH(CF表!$B686)),H$21*H$13/H$196,0)),0)","v":0},{"$f":"IFERROR(IF($B686>I$15,0,IF(OFFSET(index!$I$2,MATCH(I$195,index!$I$3:$I$50,0),MONTH(CF表!$B686)),I$21*I$13/I$196,0)),0)","v":0},{"$f":"IFERROR(IF($B686>J$15,0,IF(OFFSET(index!$I$2,MATCH(J$195,index!$I$3:$I$50,0),MONTH(CF表!$B686)),J$21*J$13/J$196,0)),0)","v":0},{"$f":"IFERROR(IF($B686>K$15,0,IF(OFFSET(index!$I$2,MATCH(K$195,index!$I$3:$I$50,0),MONTH(CF表!$B686)),K$21*K$13/K$196,0)),0)","v":0},{"$f":"IFERROR(IF($B686>L$15,0,IF(OFFSET(index!$I$2,MATCH(L$195,index!$I$3:$I$50,0),MONTH(CF表!$B686)),L$21*L$13/L$196,0)),0)","v":0}]
[null,"2063-07-01",{"$f":"IFERROR(IF($B687>C$15,0,IF(OFFSET(index!$I$2,MATCH(C$195,index!$I$3:$I$50,0),MONTH(CF表!$B687)),C$21*C$13/C$196,0)),0)","v":0},{"$f":"IFERROR(IF($B687>D$15,0,IF(OFFSET(index!$I$2,MATCH(D$195,index!$I$3:$I$50,0),MONTH(CF表!$B687)),D$21*D$13/D$196,0)),0)","v":0},{"$f":"IFERROR(IF($B687>E$15,0,IF(OFFSET(index!$I$2,MATCH(E$195,index!$I$3:$I$50,0),MONTH(CF表!$B687)),E$21*E$13/E$196,0)),0)","v":0},{"$f":"IFERROR(IF($B687>F$15,0,IF(OFFSET(index!$I$2,MATCH(F$195,index!$I$3:$I$50,0),MONTH(CF表!$B687)),F$21*F$13/F$196,0)),0)","v":0},{"$f":"IFERROR(IF($B687>G$15,0,IF(OFFSET(index!$I$2,MATCH(G$195,index!$I$3:$I$50,0),MONTH(CF表!$B687)),G$21*G$13/G$196,0)),0)","v":0},{"$f":"IFERROR(IF($B687>H$15,0,IF(OFFSET(index!$I$2,MATCH(H$195,index!$I$3:$I$50,0),MONTH(CF表!$B687)),H$21*H$13/H$196,0)),0)","v":0},{"$f":"IFERROR(IF($B687>I$15,0,IF(OFFSET(index!$I$2,MATCH(I$195,index!$I$3:$I$50,0),MONTH(CF表!$B687)),I$21*I$13/I$196,0)),0)","v":0},{"$f":"IFERROR(IF($B687>J$15,0,IF(OFFSET(index!$I$2,MATCH(J$195,index!$I$3:$I$50,0),MONTH(CF表!$B687)),J$21*J$13/J$196,0)),0)","v":0},{"$f":"IFERROR(IF($B687>K$15,0,IF(OFFSET(index!$I$2,MATCH(K$195,index!$I$3:$I$50,0),MONTH(CF表!$B687)),K$21*K$13/K$196,0)),0)","v":0},{"$f":"IFERROR(IF($B687>L$15,0,IF(OFFSET(index!$I$2,MATCH(L$195,index!$I$3:$I$50,0),MONTH(CF表!$B687)),L$21*L$13/L$196,0)),0)","v":0}]
[null,"2063-08-01",{"$f":"IFERROR(IF($B688>C$15,0,IF(OFFSET(index!$I$2,MATCH(C$195,index!$I$3:$I$50,0),MONTH(CF表!$B688)),C$21*C$13/C$196,0)),0)","v":0},{"$f":"IFERROR(IF($B688>D$15,0,IF(OFFSET(index!$I$2,MATCH(D$195,index!$I$3:$I$50,0),MONTH(CF表!$B688)),D$21*D$13/D$196,0)),0)","v":0},{"$f":"IFERROR(IF($B688>E$15,0,IF(OFFSET(index!$I$2,MATCH(E$195,index!$I$3:$I$50,0),MONTH(CF表!$B688)),E$21*E$13/E$196,0)),0)","v":0},{"$f":"IFERROR(IF($B688>F$15,0,IF(OFFSET(index!$I$2,MATCH(F$195,index!$I$3:$I$50,0),MONTH(CF表!$B688)),F$21*F$13/F$196,0)),0)","v":0},{"$f":"IFERROR(IF($B688>G$15,0,IF(OFFSET(index!$I$2,MATCH(G$195,index!$I$3:$I$50,0),MONTH(CF表!$B688)),G$21*G$13/G$196,0)),0)","v":0},{"$f":"IFERROR(IF($B688>H$15,0,IF(OFFSET(index!$I$2,MATCH(H$195,index!$I$3:$I$50,0),MONTH(CF表!$B688)),H$21*H$13/H$196,0)),0)","v":0},{"$f":"IFERROR(IF($B688>I$15,0,IF(OFFSET(index!$I$2,MATCH(I$195,index!$I$3:$I$50,0),MONTH(CF表!$B688)),I$21*I$13/I$196,0)),0)","v":0},{"$f":"IFERROR(IF($B688>J$15,0,IF(OFFSET(index!$I$2,MATCH(J$195,index!$I$3:$I$50,0),MONTH(CF表!$B688)),J$21*J$13/J$196,0)),0)","v":0},{"$f":"IFERROR(IF($B688>K$15,0,IF(OFFSET(index!$I$2,MATCH(K$195,index!$I$3:$I$50,0),MONTH(CF表!$B688)),K$21*K$13/K$196,0)),0)","v":0},{"$f":"IFERROR(IF($B688>L$15,0,IF(OFFSET(index!$I$2,MATCH(L$195,index!$I$3:$I$50,0),MONTH(CF表!$B688)),L$21*L$13/L$196,0)),0)","v":0}]
[null,"2063-09-01",{"$f":"IFERROR(IF($B689>C$15,0,IF(OFFSET(index!$I$2,MATCH(C$195,index!$I$3:$I$50,0),MONTH(CF表!$B689)),C$21*C$13/C$196,0)),0)","v":0},{"$f":"IFERROR(IF($B689>D$15,0,IF(OFFSET(index!$I$2,MATCH(D$195,index!$I$3:$I$50,0),MONTH(CF表!$B689)),D$21*D$13/D$196,0)),0)","v":0},{"$f":"IFERROR(IF($B689>E$15,0,IF(OFFSET(index!$I$2,MATCH(E$195,index!$I$3:$I$50,0),MONTH(CF表!$B689)),E$21*E$13/E$196,0)),0)","v":0},{"$f":"IFERROR(IF($B689>F$15,0,IF(OFFSET(index!$I$2,MATCH(F$195,index!$I$3:$I$50,0),MONTH(CF表!$B689)),F$21*F$13/F$196,0)),0)","v":0},{"$f":"IFERROR(IF($B689>G$15,0,IF(OFFSET(index!$I$2,MATCH(G$195,index!$I$3:$I$50,0),MONTH(CF表!$B689)),G$21*G$13/G$196,0)),0)","v":0},{"$f":"IFERROR(IF($B689>H$15,0,IF(OFFSET(index!$I$2,MATCH(H$195,index!$I$3:$I$50,0),MONTH(CF表!$B689)),H$21*H$13/H$196,0)),0)","v":0},{"$f":"IFERROR(IF($B689>I$15,0,IF(OFFSET(index!$I$2,MATCH(I$195,index!$I$3:$I$50,0),MONTH(CF表!$B689)),I$21*I$13/I$196,0)),0)","v":0},{"$f":"IFERROR(IF($B689>J$15,0,IF(OFFSET(index!$I$2,MATCH(J$195,index!$I$3:$I$50,0),MONTH(CF表!$B689)),J$21*J$13/J$196,0)),0)","v":0},{"$f":"IFERROR(IF($B689>K$15,0,IF(OFFSET(index!$I$2,MATCH(K$195,index!$I$3:$I$50,0),MONTH(CF表!$B689)),K$21*K$13/K$196,0)),0)","v":0},{"$f":"IFERROR(IF($B689>L$15,0,IF(OFFSET(index!$I$2,MATCH(L$195,index!$I$3:$I$50,0),MONTH(CF表!$B689)),L$21*L$13/L$196,0)),0)","v":0}]
[null,"2063-10-01",{"$f":"IFERROR(IF($B690>C$15,0,IF(OFFSET(index!$I$2,MATCH(C$195,index!$I$3:$I$50,0),MONTH(CF表!$B690)),C$21*C$13/C$196,0)),0)","v":0},{"$f":"IFERROR(IF($B690>D$15,0,IF(OFFSET(index!$I$2,MATCH(D$195,index!$I$3:$I$50,0),MONTH(CF表!$B690)),D$21*D$13/D$196,0)),0)","v":0},{"$f":"IFERROR(IF($B690>E$15,0,IF(OFFSET(index!$I$2,MATCH(E$195,index!$I$3:$I$50,0),MONTH(CF表!$B690)),E$21*E$13/E$196,0)),0)","v":0},{"$f":"IFERROR(IF($B690>F$15,0,IF(OFFSET(index!$I$2,MATCH(F$195,index!$I$3:$I$50,0),MONTH(CF表!$B690)),F$21*F$13/F$196,0)),0)","v":0},{"$f":"IFERROR(IF($B690>G$15,0,IF(OFFSET(index!$I$2,MATCH(G$195,index!$I$3:$I$50,0),MONTH(CF表!$B690)),G$21*G$13/G$196,0)),0)","v":0},{"$f":"IFERROR(IF($B690>H$15,0,IF(OFFSET(index!$I$2,MATCH(H$195,index!$I$3:$I$50,0),MONTH(CF表!$B690)),H$21*H$13/H$196,0)),0)","v":0},{"$f":"IFERROR(IF($B690>I$15,0,IF(OFFSET(index!$I$2,MATCH(I$195,index!$I$3:$I$50,0),MONTH(CF表!$B690)),I$21*I$13/I$196,0)),0)","v":0},{"$f":"IFERROR(IF($B690>J$15,0,IF(OFFSET(index!$I$2,MATCH(J$195,index!$I$3:$I$50,0),MONTH(CF表!$B690)),J$21*J$13/J$196,0)),0)","v":0},{"$f":"IFERROR(IF($B690>K$15,0,IF(OFFSET(index!$I$2,MATCH(K$195,index!$I$3:$I$50,0),MONTH(CF表!$B690)),K$21*K$13/K$196,0)),0)","v":0},{"$f":"IFERROR(IF($B690>L$15,0,IF(OFFSET(index!$I$2,MATCH(L$195,index!$I$3:$I$50,0),MONTH(CF表!$B690)),L$21*L$13/L$196,0)),0)","v":0}]
[null,"2063-11-01",{"$f":"IFERROR(IF($B691>C$15,0,IF(OFFSET(index!$I$2,MATCH(C$195,index!$I$3:$I$50,0),MONTH(CF表!$B691)),C$21*C$13/C$196,0)),0)","v":0},{"$f":"IFERROR(IF($B691>D$15,0,IF(OFFSET(index!$I$2,MATCH(D$195,index!$I$3:$I$50,0),MONTH(CF表!$B691)),D$21*D$13/D$196,0)),0)","v":0},{"$f":"IFERROR(IF($B691>E$15,0,IF(OFFSET(index!$I$2,MATCH(E$195,index!$I$3:$I$50,0),MONTH(CF表!$B691)),E$21*E$13/E$196,0)),0)","v":0},{"$f":"IFERROR(IF($B691>F$15,0,IF(OFFSET(index!$I$2,MATCH(F$195,index!$I$3:$I$50,0),MONTH(CF表!$B691)),F$21*F$13/F$196,0)),0)","v":0},{"$f":"IFERROR(IF($B691>G$15,0,IF(OFFSET(index!$I$2,MATCH(G$195,index!$I$3:$I$50,0),MONTH(CF表!$B691)),G$21*G$13/G$196,0)),0)","v":0},{"$f":"IFERROR(IF($B691>H$15,0,IF(OFFSET(index!$I$2,MATCH(H$195,index!$I$3:$I$50,0),MONTH(CF表!$B691)),H$21*H$13/H$196,0)),0)","v":0},{"$f":"IFERROR(IF($B691>I$15,0,IF(OFFSET(index!$I$2,MATCH(I$195,index!$I$3:$I$50,0),MONTH(CF表!$B691)),I$21*I$13/I$196,0)),0)","v":0},{"$f":"IFERROR(IF($B691>J$15,0,IF(OFFSET(index!$I$2,MATCH(J$195,index!$I$3:$I$50,0),MONTH(CF表!$B691)),J$21*J$13/J$196,0)),0)","v":0},{"$f":"IFERROR(IF($B691>K$15,0,IF(OFFSET(index!$I$2,MATCH(K$195,index!$I$3:$I$50,0),MONTH(CF表!$B691)),K$21*K$13/K$196,0)),0)","v":0},{"$f":"IFERROR(IF($B691>L$15,0,IF(OFFSET(index!$I$2,MATCH(L$195,index!$I$3:$I$50,0),MONTH(CF表!$B691)),L$21*L$13/L$196,0)),0)","v":0}]
[null,"2063-12-01",{"$f":"IFERROR(IF($B692>C$15,0,IF(OFFSET(index!$I$2,MATCH(C$195,index!$I$3:$I$50,0),MONTH(CF表!$B692)),C$21*C$13/C$196,0)),0)","v":0},{"$f":"IFERROR(IF($B692>D$15,0,IF(OFFSET(index!$I$2,MATCH(D$195,index!$I$3:$I$50,0),MONTH(CF表!$B692)),D$21*D$13/D$196,0)),0)","v":0},{"$f":"IFERROR(IF($B692>E$15,0,IF(OFFSET(index!$I$2,MATCH(E$195,index!$I$3:$I$50,0),MONTH(CF表!$B692)),E$21*E$13/E$196,0)),0)","v":0},{"$f":"IFERROR(IF($B692>F$15,0,IF(OFFSET(index!$I$2,MATCH(F$195,index!$I$3:$I$50,0),MONTH(CF表!$B692)),F$21*F$13/F$196,0)),0)","v":0},{"$f":"IFERROR(IF($B692>G$15,0,IF(OFFSET(index!$I$2,MATCH(G$195,index!$I$3:$I$50,0),MONTH(CF表!$B692)),G$21*G$13/G$196,0)),0)","v":0},{"$f":"IFERROR(IF($B692>H$15,0,IF(OFFSET(index!$I$2,MATCH(H$195,index!$I$3:$I$50,0),MONTH(CF表!$B692)),H$21*H$13/H$196,0)),0)","v":0},{"$f":"IFERROR(IF($B692>I$15,0,IF(OFFSET(index!$I$2,MATCH(I$195,index!$I$3:$I$50,0),MONTH(CF表!$B692)),I$21*I$13/I$196,0)),0)","v":0},{"$f":"IFERROR(IF($B692>J$15,0,IF(OFFSET(index!$I$2,MATCH(J$195,index!$I$3:$I$50,0),MONTH(CF表!$B692)),J$21*J$13/J$196,0)),0)","v":0},{"$f":"IFERROR(IF($B692>K$15,0,IF(OFFSET(index!$I$2,MATCH(K$195,index!$I$3:$I$50,0),MONTH(CF表!$B692)),K$21*K$13/K$196,0)),0)","v":0},{"$f":"IFERROR(IF($B692>L$15,0,IF(OFFSET(index!$I$2,MATCH(L$195,index!$I$3:$I$50,0),MONTH(CF表!$B692)),L$21*L$13/L$196,0)),0)","v":0}]
[null,"2064-01-01",{"$f":"IFERROR(IF($B693>C$15,0,IF(OFFSET(index!$I$2,MATCH(C$195,index!$I$3:$I$50,0),MONTH(CF表!$B693)),C$21*C$13/C$196,0)),0)","v":0},{"$f":"IFERROR(IF($B693>D$15,0,IF(OFFSET(index!$I$2,MATCH(D$195,index!$I$3:$I$50,0),MONTH(CF表!$B693)),D$21*D$13/D$196,0)),0)","v":0},{"$f":"IFERROR(IF($B693>E$15,0,IF(OFFSET(index!$I$2,MATCH(E$195,index!$I$3:$I$50,0),MONTH(CF表!$B693)),E$21*E$13/E$196,0)),0)","v":0},{"$f":"IFERROR(IF($B693>F$15,0,IF(OFFSET(index!$I$2,MATCH(F$195,index!$I$3:$I$50,0),MONTH(CF表!$B693)),F$21*F$13/F$196,0)),0)","v":0},{"$f":"IFERROR(IF($B693>G$15,0,IF(OFFSET(index!$I$2,MATCH(G$195,index!$I$3:$I$50,0),MONTH(CF表!$B693)),G$21*G$13/G$196,0)),0)","v":0},{"$f":"IFERROR(IF($B693>H$15,0,IF(OFFSET(index!$I$2,MATCH(H$195,index!$I$3:$I$50,0),MONTH(CF表!$B693)),H$21*H$13/H$196,0)),0)","v":0},{"$f":"IFERROR(IF($B693>I$15,0,IF(OFFSET(index!$I$2,MATCH(I$195,index!$I$3:$I$50,0),MONTH(CF表!$B693)),I$21*I$13/I$196,0)),0)","v":0},{"$f":"IFERROR(IF($B693>J$15,0,IF(OFFSET(index!$I$2,MATCH(J$195,index!$I$3:$I$50,0),MONTH(CF表!$B693)),J$21*J$13/J$196,0)),0)","v":0},{"$f":"IFERROR(IF($B693>K$15,0,IF(OFFSET(index!$I$2,MATCH(K$195,index!$I$3:$I$50,0),MONTH(CF表!$B693)),K$21*K$13/K$196,0)),0)","v":0},{"$f":"IFERROR(IF($B693>L$15,0,IF(OFFSET(index!$I$2,MATCH(L$195,index!$I$3:$I$50,0),MONTH(CF表!$B693)),L$21*L$13/L$196,0)),0)","v":0}]
[null,"2064-02-01",{"$f":"IFERROR(IF($B694>C$15,0,IF(OFFSET(index!$I$2,MATCH(C$195,index!$I$3:$I$50,0),MONTH(CF表!$B694)),C$21*C$13/C$196,0)),0)","v":0},{"$f":"IFERROR(IF($B694>D$15,0,IF(OFFSET(index!$I$2,MATCH(D$195,index!$I$3:$I$50,0),MONTH(CF表!$B694)),D$21*D$13/D$196,0)),0)","v":0},{"$f":"IFERROR(IF($B694>E$15,0,IF(OFFSET(index!$I$2,MATCH(E$195,index!$I$3:$I$50,0),MONTH(CF表!$B694)),E$21*E$13/E$196,0)),0)","v":0},{"$f":"IFERROR(IF($B694>F$15,0,IF(OFFSET(index!$I$2,MATCH(F$195,index!$I$3:$I$50,0),MONTH(CF表!$B694)),F$21*F$13/F$196,0)),0)","v":0},{"$f":"IFERROR(IF($B694>G$15,0,IF(OFFSET(index!$I$2,MATCH(G$195,index!$I$3:$I$50,0),MONTH(CF表!$B694)),G$21*G$13/G$196,0)),0)","v":0},{"$f":"IFERROR(IF($B694>H$15,0,IF(OFFSET(index!$I$2,MATCH(H$195,index!$I$3:$I$50,0),MONTH(CF表!$B694)),H$21*H$13/H$196,0)),0)","v":0},{"$f":"IFERROR(IF($B694>I$15,0,IF(OFFSET(index!$I$2,MATCH(I$195,index!$I$3:$I$50,0),MONTH(CF表!$B694)),I$21*I$13/I$196,0)),0)","v":0},{"$f":"IFERROR(IF($B694>J$15,0,IF(OFFSET(index!$I$2,MATCH(J$195,index!$I$3:$I$50,0),MONTH(CF表!$B694)),J$21*J$13/J$196,0)),0)","v":0},{"$f":"IFERROR(IF($B694>K$15,0,IF(OFFSET(index!$I$2,MATCH(K$195,index!$I$3:$I$50,0),MONTH(CF表!$B694)),K$21*K$13/K$196,0)),0)","v":0},{"$f":"IFERROR(IF($B694>L$15,0,IF(OFFSET(index!$I$2,MATCH(L$195,index!$I$3:$I$50,0),MONTH(CF表!$B694)),L$21*L$13/L$196,0)),0)","v":0}]
[null,"2064-03-01",{"$f":"IFERROR(IF($B695>C$15,0,IF(OFFSET(index!$I$2,MATCH(C$195,index!$I$3:$I$50,0),MONTH(CF表!$B695)),C$21*C$13/C$196,0)),0)","v":0},{"$f":"IFERROR(IF($B695>D$15,0,IF(OFFSET(index!$I$2,MATCH(D$195,index!$I$3:$I$50,0),MONTH(CF表!$B695)),D$21*D$13/D$196,0)),0)","v":0},{"$f":"IFERROR(IF($B695>E$15,0,IF(OFFSET(index!$I$2,MATCH(E$195,index!$I$3:$I$50,0),MONTH(CF表!$B695)),E$21*E$13/E$196,0)),0)","v":0},{"$f":"IFERROR(IF($B695>F$15,0,IF(OFFSET(index!$I$2,MATCH(F$195,index!$I$3:$I$50,0),MONTH(CF表!$B695)),F$21*F$13/F$196,0)),0)","v":0},{"$f":"IFERROR(IF($B695>G$15,0,IF(OFFSET(index!$I$2,MATCH(G$195,index!$I$3:$I$50,0),MONTH(CF表!$B695)),G$21*G$13/G$196,0)),0)","v":0},{"$f":"IFERROR(IF($B695>H$15,0,IF(OFFSET(index!$I$2,MATCH(H$195,index!$I$3:$I$50,0),MONTH(CF表!$B695)),H$21*H$13/H$196,0)),0)","v":0},{"$f":"IFERROR(IF($B695>I$15,0,IF(OFFSET(index!$I$2,MATCH(I$195,index!$I$3:$I$50,0),MONTH(CF表!$B695)),I$21*I$13/I$196,0)),0)","v":0},{"$f":"IFERROR(IF($B695>J$15,0,IF(OFFSET(index!$I$2,MATCH(J$195,index!$I$3:$I$50,0),MONTH(CF表!$B695)),J$21*J$13/J$196,0)),0)","v":0},{"$f":"IFERROR(IF($B695>K$15,0,IF(OFFSET(index!$I$2,MATCH(K$195,index!$I$3:$I$50,0),MONTH(CF表!$B695)),K$21*K$13/K$196,0)),0)","v":0},{"$f":"IFERROR(IF($B695>L$15,0,IF(OFFSET(index!$I$2,MATCH(L$195,index!$I$3:$I$50,0),MONTH(CF表!$B695)),L$21*L$13/L$196,0)),0)","v":0}]
[null,"2064-04-01",{"$f":"IFERROR(IF($B696>C$15,0,IF(OFFSET(index!$I$2,MATCH(C$195,index!$I$3:$I$50,0),MONTH(CF表!$B696)),C$21*C$13/C$196,0)),0)","v":0},{"$f":"IFERROR(IF($B696>D$15,0,IF(OFFSET(index!$I$2,MATCH(D$195,index!$I$3:$I$50,0),MONTH(CF表!$B696)),D$21*D$13/D$196,0)),0)","v":0},{"$f":"IFERROR(IF($B696>E$15,0,IF(OFFSET(index!$I$2,MATCH(E$195,index!$I$3:$I$50,0),MONTH(CF表!$B696)),E$21*E$13/E$196,0)),0)","v":0},{"$f":"IFERROR(IF($B696>F$15,0,IF(OFFSET(index!$I$2,MATCH(F$195,index!$I$3:$I$50,0),MONTH(CF表!$B696)),F$21*F$13/F$196,0)),0)","v":0},{"$f":"IFERROR(IF($B696>G$15,0,IF(OFFSET(index!$I$2,MATCH(G$195,index!$I$3:$I$50,0),MONTH(CF表!$B696)),G$21*G$13/G$196,0)),0)","v":0},{"$f":"IFERROR(IF($B696>H$15,0,IF(OFFSET(index!$I$2,MATCH(H$195,index!$I$3:$I$50,0),MONTH(CF表!$B696)),H$21*H$13/H$196,0)),0)","v":0},{"$f":"IFERROR(IF($B696>I$15,0,IF(OFFSET(index!$I$2,MATCH(I$195,index!$I$3:$I$50,0),MONTH(CF表!$B696)),I$21*I$13/I$196,0)),0)","v":0},{"$f":"IFERROR(IF($B696>J$15,0,IF(OFFSET(index!$I$2,MATCH(J$195,index!$I$3:$I$50,0),MONTH(CF表!$B696)),J$21*J$13/J$196,0)),0)","v":0},{"$f":"IFERROR(IF($B696>K$15,0,IF(OFFSET(index!$I$2,MATCH(K$195,index!$I$3:$I$50,0),MONTH(CF表!$B696)),K$21*K$13/K$196,0)),0)","v":0},{"$f":"IFERROR(IF($B696>L$15,0,IF(OFFSET(index!$I$2,MATCH(L$195,index!$I$3:$I$50,0),MONTH(CF表!$B696)),L$21*L$13/L$196,0)),0)","v":0}]
[null,"2064-05-01",{"$f":"IFERROR(IF($B697>C$15,0,IF(OFFSET(index!$I$2,MATCH(C$195,index!$I$3:$I$50,0),MONTH(CF表!$B697)),C$21*C$13/C$196,0)),0)","v":0},{"$f":"IFERROR(IF($B697>D$15,0,IF(OFFSET(index!$I$2,MATCH(D$195,index!$I$3:$I$50,0),MONTH(CF表!$B697)),D$21*D$13/D$196,0)),0)","v":0},{"$f":"IFERROR(IF($B697>E$15,0,IF(OFFSET(index!$I$2,MATCH(E$195,index!$I$3:$I$50,0),MONTH(CF表!$B697)),E$21*E$13/E$196,0)),0)","v":0},{"$f":"IFERROR(IF($B697>F$15,0,IF(OFFSET(index!$I$2,MATCH(F$195,index!$I$3:$I$50,0),MONTH(CF表!$B697)),F$21*F$13/F$196,0)),0)","v":0},{"$f":"IFERROR(IF($B697>G$15,0,IF(OFFSET(index!$I$2,MATCH(G$195,index!$I$3:$I$50,0),MONTH(CF表!$B697)),G$21*G$13/G$196,0)),0)","v":0},{"$f":"IFERROR(IF($B697>H$15,0,IF(OFFSET(index!$I$2,MATCH(H$195,index!$I$3:$I$50,0),MONTH(CF表!$B697)),H$21*H$13/H$196,0)),0)","v":0},{"$f":"IFERROR(IF($B697>I$15,0,IF(OFFSET(index!$I$2,MATCH(I$195,index!$I$3:$I$50,0),MONTH(CF表!$B697)),I$21*I$13/I$196,0)),0)","v":0},{"$f":"IFERROR(IF($B697>J$15,0,IF(OFFSET(index!$I$2,MATCH(J$195,index!$I$3:$I$50,0),MONTH(CF表!$B697)),J$21*J$13/J$196,0)),0)","v":0},{"$f":"IFERROR(IF($B697>K$15,0,IF(OFFSET(index!$I$2,MATCH(K$195,index!$I$3:$I$50,0),MONTH(CF表!$B697)),K$21*K$13/K$196,0)),0)","v":0},{"$f":"IFERROR(IF($B697>L$15,0,IF(OFFSET(index!$I$2,MATCH(L$195,index!$I$3:$I$50,0),MONTH(CF表!$B697)),L$21*L$13/L$196,0)),0)","v":0}]
[null,"2064-06-01",{"$f":"IFERROR(IF($B698>C$15,0,IF(OFFSET(index!$I$2,MATCH(C$195,index!$I$3:$I$50,0),MONTH(CF表!$B698)),C$21*C$13/C$196,0)),0)","v":0},{"$f":"IFERROR(IF($B698>D$15,0,IF(OFFSET(index!$I$2,MATCH(D$195,index!$I$3:$I$50,0),MONTH(CF表!$B698)),D$21*D$13/D$196,0)),0)","v":0},{"$f":"IFERROR(IF($B698>E$15,0,IF(OFFSET(index!$I$2,MATCH(E$195,index!$I$3:$I$50,0),MONTH(CF表!$B698)),E$21*E$13/E$196,0)),0)","v":0},{"$f":"IFERROR(IF($B698>F$15,0,IF(OFFSET(index!$I$2,MATCH(F$195,index!$I$3:$I$50,0),MONTH(CF表!$B698)),F$21*F$13/F$196,0)),0)","v":0},{"$f":"IFERROR(IF($B698>G$15,0,IF(OFFSET(index!$I$2,MATCH(G$195,index!$I$3:$I$50,0),MONTH(CF表!$B698)),G$21*G$13/G$196,0)),0)","v":0},{"$f":"IFERROR(IF($B698>H$15,0,IF(OFFSET(index!$I$2,MATCH(H$195,index!$I$3:$I$50,0),MONTH(CF表!$B698)),H$21*H$13/H$196,0)),0)","v":0},{"$f":"IFERROR(IF($B698>I$15,0,IF(OFFSET(index!$I$2,MATCH(I$195,index!$I$3:$I$50,0),MONTH(CF表!$B698)),I$21*I$13/I$196,0)),0)","v":0},{"$f":"IFERROR(IF($B698>J$15,0,IF(OFFSET(index!$I$2,MATCH(J$195,index!$I$3:$I$50,0),MONTH(CF表!$B698)),J$21*J$13/J$196,0)),0)","v":0},{"$f":"IFERROR(IF($B698>K$15,0,IF(OFFSET(index!$I$2,MATCH(K$195,index!$I$3:$I$50,0),MONTH(CF表!$B698)),K$21*K$13/K$196,0)),0)","v":0},{"$f":"IFERROR(IF($B698>L$15,0,IF(OFFSET(index!$I$2,MATCH(L$195,index!$I$3:$I$50,0),MONTH(CF表!$B698)),L$21*L$13/L$196,0)),0)","v":0}]
[null,"2064-07-01",{"$f":"IFERROR(IF($B699>C$15,0,IF(OFFSET(index!$I$2,MATCH(C$195,index!$I$3:$I$50,0),MONTH(CF表!$B699)),C$21*C$13/C$196,0)),0)","v":0},{"$f":"IFERROR(IF($B699>D$15,0,IF(OFFSET(index!$I$2,MATCH(D$195,index!$I$3:$I$50,0),MONTH(CF表!$B699)),D$21*D$13/D$196,0)),0)","v":0},{"$f":"IFERROR(IF($B699>E$15,0,IF(OFFSET(index!$I$2,MATCH(E$195,index!$I$3:$I$50,0),MONTH(CF表!$B699)),E$21*E$13/E$196,0)),0)","v":0},{"$f":"IFERROR(IF($B699>F$15,0,IF(OFFSET(index!$I$2,MATCH(F$195,index!$I$3:$I$50,0),MONTH(CF表!$B699)),F$21*F$13/F$196,0)),0)","v":0},{"$f":"IFERROR(IF($B699>G$15,0,IF(OFFSET(index!$I$2,MATCH(G$195,index!$I$3:$I$50,0),MONTH(CF表!$B699)),G$21*G$13/G$196,0)),0)","v":0},{"$f":"IFERROR(IF($B699>H$15,0,IF(OFFSET(index!$I$2,MATCH(H$195,index!$I$3:$I$50,0),MONTH(CF表!$B699)),H$21*H$13/H$196,0)),0)","v":0},{"$f":"IFERROR(IF($B699>I$15,0,IF(OFFSET(index!$I$2,MATCH(I$195,index!$I$3:$I$50,0),MONTH(CF表!$B699)),I$21*I$13/I$196,0)),0)","v":0},{"$f":"IFERROR(IF($B699>J$15,0,IF(OFFSET(index!$I$2,MATCH(J$195,index!$I$3:$I$50,0),MONTH(CF表!$B699)),J$21*J$13/J$196,0)),0)","v":0},{"$f":"IFERROR(IF($B699>K$15,0,IF(OFFSET(index!$I$2,MATCH(K$195,index!$I$3:$I$50,0),MONTH(CF表!$B699)),K$21*K$13/K$196,0)),0)","v":0},{"$f":"IFERROR(IF($B699>L$15,0,IF(OFFSET(index!$I$2,MATCH(L$195,index!$I$3:$I$50,0),MONTH(CF表!$B699)),L$21*L$13/L$196,0)),0)","v":0}]
[null,"2064-08-01",{"$f":"IFERROR(IF($B700>C$15,0,IF(OFFSET(index!$I$2,MATCH(C$195,index!$I$3:$I$50,0),MONTH(CF表!$B700)),C$21*C$13/C$196,0)),0)","v":0},{"$f":"IFERROR(IF($B700>D$15,0,IF(OFFSET(index!$I$2,MATCH(D$195,index!$I$3:$I$50,0),MONTH(CF表!$B700)),D$21*D$13/D$196,0)),0)","v":0},{"$f":"IFERROR(IF($B700>E$15,0,IF(OFFSET(index!$I$2,MATCH(E$195,index!$I$3:$I$50,0),MONTH(CF表!$B700)),E$21*E$13/E$196,0)),0)","v":0},{"$f":"IFERROR(IF($B700>F$15,0,IF(OFFSET(index!$I$2,MATCH(F$195,index!$I$3:$I$50,0),MONTH(CF表!$B700)),F$21*F$13/F$196,0)),0)","v":0},{"$f":"IFERROR(IF($B700>G$15,0,IF(OFFSET(index!$I$2,MATCH(G$195,index!$I$3:$I$50,0),MONTH(CF表!$B700)),G$21*G$13/G$196,0)),0)","v":0},{"$f":"IFERROR(IF($B700>H$15,0,IF(OFFSET(index!$I$2,MATCH(H$195,index!$I$3:$I$50,0),MONTH(CF表!$B700)),H$21*H$13/H$196,0)),0)","v":0},{"$f":"IFERROR(IF($B700>I$15,0,IF(OFFSET(index!$I$2,MATCH(I$195,index!$I$3:$I$50,0),MONTH(CF表!$B700)),I$21*I$13/I$196,0)),0)","v":0},{"$f":"IFERROR(IF($B700>J$15,0,IF(OFFSET(index!$I$2,MATCH(J$195,index!$I$3:$I$50,0),MONTH(CF表!$B700)),J$21*J$13/J$196,0)),0)","v":0},{"$f":"IFERROR(IF($B700>K$15,0,IF(OFFSET(index!$I$2,MATCH(K$195,index!$I$3:$I$50,0),MONTH(CF表!$B700)),K$21*K$13/K$196,0)),0)","v":0},{"$f":"IFERROR(IF($B700>L$15,0,IF(OFFSET(index!$I$2,MATCH(L$195,index!$I$3:$I$50,0),MONTH(CF表!$B700)),L$21*L$13/L$196,0)),0)","v":0}]
[null,{"$f":"EDATE(B700,1)","v":"2064-09-01"},{"$f":"IFERROR(IF($B701>C$15,0,IF(OFFSET(index!$I$2,MATCH(C$195,index!$I$3:$I$50,0),MONTH(CF表!$B701)),C$21*C$13/C$196,0)),0)","v":0},{"$f":"IFERROR(IF($B701>D$15,0,IF(OFFSET(index!$I$2,MATCH(D$195,index!$I$3:$I$50,0),MONTH(CF表!$B701)),D$21*D$13/D$196,0)),0)","v":0},{"$f":"IFERROR(IF($B701>E$15,0,IF(OFFSET(index!$I$2,MATCH(E$195,index!$I$3:$I$50,0),MONTH(CF表!$B701)),E$21*E$13/E$196,0)),0)","v":0},{"$f":"IFERROR(IF($B701>F$15,0,IF(OFFSET(index!$I$2,MATCH(F$195,index!$I$3:$I$50,0),MONTH(CF表!$B701)),F$21*F$13/F$196,0)),0)","v":0},{"$f":"IFERROR(IF($B701>G$15,0,IF(OFFSET(index!$I$2,MATCH(G$195,index!$I$3:$I$50,0),MONTH(CF表!$B701)),G$21*G$13/G$196,0)),0)","v":0},{"$f":"IFERROR(IF($B701>H$15,0,IF(OFFSET(index!$I$2,MATCH(H$195,index!$I$3:$I$50,0),MONTH(CF表!$B701)),H$21*H$13/H$196,0)),0)","v":0},{"$f":"IFERROR(IF($B701>I$15,0,IF(OFFSET(index!$I$2,MATCH(I$195,index!$I$3:$I$50,0),MONTH(CF表!$B701)),I$21*I$13/I$196,0)),0)","v":0},{"$f":"IFERROR(IF($B701>J$15,0,IF(OFFSET(index!$I$2,MATCH(J$195,index!$I$3:$I$50,0),MONTH(CF表!$B701)),J$21*J$13/J$196,0)),0)","v":0},{"$f":"IFERROR(IF($B701>K$15,0,IF(OFFSET(index!$I$2,MATCH(K$195,index!$I$3:$I$50,0),MONTH(CF表!$B701)),K$21*K$13/K$196,0)),0)","v":0},{"$f":"IFERROR(IF($B701>L$15,0,IF(OFFSET(index!$I$2,MATCH(L$195,index!$I$3:$I$50,0),MONTH(CF表!$B701)),L$21*L$13/L$196,0)),0)","v":0}]
[null,"2064-10-01",{"$f":"IFERROR(IF($B702>C$15,0,IF(OFFSET(index!$I$2,MATCH(C$195,index!$I$3:$I$50,0),MONTH(CF表!$B702)),C$21*C$13/C$196,0)),0)","v":0},{"$f":"IFERROR(IF($B702>D$15,0,IF(OFFSET(index!$I$2,MATCH(D$195,index!$I$3:$I$50,0),MONTH(CF表!$B702)),D$21*D$13/D$196,0)),0)","v":0},{"$f":"IFERROR(IF($B702>E$15,0,IF(OFFSET(index!$I$2,MATCH(E$195,index!$I$3:$I$50,0),MONTH(CF表!$B702)),E$21*E$13/E$196,0)),0)","v":0},{"$f":"IFERROR(IF($B702>F$15,0,IF(OFFSET(index!$I$2,MATCH(F$195,index!$I$3:$I$50,0),MONTH(CF表!$B702)),F$21*F$13/F$196,0)),0)","v":0},{"$f":"IFERROR(IF($B702>G$15,0,IF(OFFSET(index!$I$2,MATCH(G$195,index!$I$3:$I$50,0),MONTH(CF表!$B702)),G$21*G$13/G$196,0)),0)","v":0},{"$f":"IFERROR(IF($B702>H$15,0,IF(OFFSET(index!$I$2,MATCH(H$195,index!$I$3:$I$50,0),MONTH(CF表!$B702)),H$21*H$13/H$196,0)),0)","v":0},{"$f":"IFERROR(IF($B702>I$15,0,IF(OFFSET(index!$I$2,MATCH(I$195,index!$I$3:$I$50,0),MONTH(CF表!$B702)),I$21*I$13/I$196,0)),0)","v":0},{"$f":"IFERROR(IF($B702>J$15,0,IF(OFFSET(index!$I$2,MATCH(J$195,index!$I$3:$I$50,0),MONTH(CF表!$B702)),J$21*J$13/J$196,0)),0)","v":0},{"$f":"IFERROR(IF($B702>K$15,0,IF(OFFSET(index!$I$2,MATCH(K$195,index!$I$3:$I$50,0),MONTH(CF表!$B702)),K$21*K$13/K$196,0)),0)","v":0},{"$f":"IFERROR(IF($B702>L$15,0,IF(OFFSET(index!$I$2,MATCH(L$195,index!$I$3:$I$50,0),MONTH(CF表!$B702)),L$21*L$13/L$196,0)),0)","v":0}]
[null,"2064-11-01",{"$f":"IFERROR(IF($B703>C$15,0,IF(OFFSET(index!$I$2,MATCH(C$195,index!$I$3:$I$50,0),MONTH(CF表!$B703)),C$21*C$13/C$196,0)),0)","v":0},{"$f":"IFERROR(IF($B703>D$15,0,IF(OFFSET(index!$I$2,MATCH(D$195,index!$I$3:$I$50,0),MONTH(CF表!$B703)),D$21*D$13/D$196,0)),0)","v":0},{"$f":"IFERROR(IF($B703>E$15,0,IF(OFFSET(index!$I$2,MATCH(E$195,index!$I$3:$I$50,0),MONTH(CF表!$B703)),E$21*E$13/E$196,0)),0)","v":0},{"$f":"IFERROR(IF($B703>F$15,0,IF(OFFSET(index!$I$2,MATCH(F$195,index!$I$3:$I$50,0),MONTH(CF表!$B703)),F$21*F$13/F$196,0)),0)","v":0},{"$f":"IFERROR(IF($B703>G$15,0,IF(OFFSET(index!$I$2,MATCH(G$195,index!$I$3:$I$50,0),MONTH(CF表!$B703)),G$21*G$13/G$196,0)),0)","v":0},{"$f":"IFERROR(IF($B703>H$15,0,IF(OFFSET(index!$I$2,MATCH(H$195,index!$I$3:$I$50,0),MONTH(CF表!$B703)),H$21*H$13/H$196,0)),0)","v":0},{"$f":"IFERROR(IF($B703>I$15,0,IF(OFFSET(index!$I$2,MATCH(I$195,index!$I$3:$I$50,0),MONTH(CF表!$B703)),I$21*I$13/I$196,0)),0)","v":0},{"$f":"IFERROR(IF($B703>J$15,0,IF(OFFSET(index!$I$2,MATCH(J$195,index!$I$3:$I$50,0),MONTH(CF表!$B703)),J$21*J$13/J$196,0)),0)","v":0},{"$f":"IFERROR(IF($B703>K$15,0,IF(OFFSET(index!$I$2,MATCH(K$195,index!$I$3:$I$50,0),MONTH(CF表!$B703)),K$21*K$13/K$196,0)),0)","v":0},{"$f":"IFERROR(IF($B703>L$15,0,IF(OFFSET(index!$I$2,MATCH(L$195,index!$I$3:$I$50,0),MONTH(CF表!$B703)),L$21*L$13/L$196,0)),0)","v":0}]
[null,"2064-12-01",{"$f":"IFERROR(IF($B704>C$15,0,IF(OFFSET(index!$I$2,MATCH(C$195,index!$I$3:$I$50,0),MONTH(CF表!$B704)),C$21*C$13/C$196,0)),0)","v":0},{"$f":"IFERROR(IF($B704>D$15,0,IF(OFFSET(index!$I$2,MATCH(D$195,index!$I$3:$I$50,0),MONTH(CF表!$B704)),D$21*D$13/D$196,0)),0)","v":0},{"$f":"IFERROR(IF($B704>E$15,0,IF(OFFSET(index!$I$2,MATCH(E$195,index!$I$3:$I$50,0),MONTH(CF表!$B704)),E$21*E$13/E$196,0)),0)","v":0},{"$f":"IFERROR(IF($B704>F$15,0,IF(OFFSET(index!$I$2,MATCH(F$195,index!$I$3:$I$50,0),MONTH(CF表!$B704)),F$21*F$13/F$196,0)),0)","v":0},{"$f":"IFERROR(IF($B704>G$15,0,IF(OFFSET(index!$I$2,MATCH(G$195,index!$I$3:$I$50,0),MONTH(CF表!$B704)),G$21*G$13/G$196,0)),0)","v":0},{"$f":"IFERROR(IF($B704>H$15,0,IF(OFFSET(index!$I$2,MATCH(H$195,index!$I$3:$I$50,0),MONTH(CF表!$B704)),H$21*H$13/H$196,0)),0)","v":0},{"$f":"IFERROR(IF($B704>I$15,0,IF(OFFSET(index!$I$2,MATCH(I$195,index!$I$3:$I$50,0),MONTH(CF表!$B704)),I$21*I$13/I$196,0)),0)","v":0},{"$f":"IFERROR(IF($B704>J$15,0,IF(OFFSET(index!$I$2,MATCH(J$195,index!$I$3:$I$50,0),MONTH(CF表!$B704)),J$21*J$13/J$196,0)),0)","v":0},{"$f":"IFERROR(IF($B704>K$15,0,IF(OFFSET(index!$I$2,MATCH(K$195,index!$I$3:$I$50,0),MONTH(CF表!$B704)),K$21*K$13/K$196,0)),0)","v":0},{"$f":"IFERROR(IF($B704>L$15,0,IF(OFFSET(index!$I$2,MATCH(L$195,index!$I$3:$I$50,0),MONTH(CF表!$B704)),L$21*L$13/L$196,0)),0)","v":0}]
[null,"2065-01-01",{"$f":"IFERROR(IF($B705>C$15,0,IF(OFFSET(index!$I$2,MATCH(C$195,index!$I$3:$I$50,0),MONTH(CF表!$B705)),C$21*C$13/C$196,0)),0)","v":0},{"$f":"IFERROR(IF($B705>D$15,0,IF(OFFSET(index!$I$2,MATCH(D$195,index!$I$3:$I$50,0),MONTH(CF表!$B705)),D$21*D$13/D$196,0)),0)","v":0},{"$f":"IFERROR(IF($B705>E$15,0,IF(OFFSET(index!$I$2,MATCH(E$195,index!$I$3:$I$50,0),MONTH(CF表!$B705)),E$21*E$13/E$196,0)),0)","v":0},{"$f":"IFERROR(IF($B705>F$15,0,IF(OFFSET(index!$I$2,MATCH(F$195,index!$I$3:$I$50,0),MONTH(CF表!$B705)),F$21*F$13/F$196,0)),0)","v":0},{"$f":"IFERROR(IF($B705>G$15,0,IF(OFFSET(index!$I$2,MATCH(G$195,index!$I$3:$I$50,0),MONTH(CF表!$B705)),G$21*G$13/G$196,0)),0)","v":0},{"$f":"IFERROR(IF($B705>H$15,0,IF(OFFSET(index!$I$2,MATCH(H$195,index!$I$3:$I$50,0),MONTH(CF表!$B705)),H$21*H$13/H$196,0)),0)","v":0},{"$f":"IFERROR(IF($B705>I$15,0,IF(OFFSET(index!$I$2,MATCH(I$195,index!$I$3:$I$50,0),MONTH(CF表!$B705)),I$21*I$13/I$196,0)),0)","v":0},{"$f":"IFERROR(IF($B705>J$15,0,IF(OFFSET(index!$I$2,MATCH(J$195,index!$I$3:$I$50,0),MONTH(CF表!$B705)),J$21*J$13/J$196,0)),0)","v":0},{"$f":"IFERROR(IF($B705>K$15,0,IF(OFFSET(index!$I$2,MATCH(K$195,index!$I$3:$I$50,0),MONTH(CF表!$B705)),K$21*K$13/K$196,0)),0)","v":0},{"$f":"IFERROR(IF($B705>L$15,0,IF(OFFSET(index!$I$2,MATCH(L$195,index!$I$3:$I$50,0),MONTH(CF表!$B705)),L$21*L$13/L$196,0)),0)","v":0}]
[null,"2065-02-01",{"$f":"IFERROR(IF($B706>C$15,0,IF(OFFSET(index!$I$2,MATCH(C$195,index!$I$3:$I$50,0),MONTH(CF表!$B706)),C$21*C$13/C$196,0)),0)","v":0},{"$f":"IFERROR(IF($B706>D$15,0,IF(OFFSET(index!$I$2,MATCH(D$195,index!$I$3:$I$50,0),MONTH(CF表!$B706)),D$21*D$13/D$196,0)),0)","v":0},{"$f":"IFERROR(IF($B706>E$15,0,IF(OFFSET(index!$I$2,MATCH(E$195,index!$I$3:$I$50,0),MONTH(CF表!$B706)),E$21*E$13/E$196,0)),0)","v":0},{"$f":"IFERROR(IF($B706>F$15,0,IF(OFFSET(index!$I$2,MATCH(F$195,index!$I$3:$I$50,0),MONTH(CF表!$B706)),F$21*F$13/F$196,0)),0)","v":0},{"$f":"IFERROR(IF($B706>G$15,0,IF(OFFSET(index!$I$2,MATCH(G$195,index!$I$3:$I$50,0),MONTH(CF表!$B706)),G$21*G$13/G$196,0)),0)","v":0},{"$f":"IFERROR(IF($B706>H$15,0,IF(OFFSET(index!$I$2,MATCH(H$195,index!$I$3:$I$50,0),MONTH(CF表!$B706)),H$21*H$13/H$196,0)),0)","v":0},{"$f":"IFERROR(IF($B706>I$15,0,IF(OFFSET(index!$I$2,MATCH(I$195,index!$I$3:$I$50,0),MONTH(CF表!$B706)),I$21*I$13/I$196,0)),0)","v":0},{"$f":"IFERROR(IF($B706>J$15,0,IF(OFFSET(index!$I$2,MATCH(J$195,index!$I$3:$I$50,0),MONTH(CF表!$B706)),J$21*J$13/J$196,0)),0)","v":0},{"$f":"IFERROR(IF($B706>K$15,0,IF(OFFSET(index!$I$2,MATCH(K$195,index!$I$3:$I$50,0),MONTH(CF表!$B706)),K$21*K$13/K$196,0)),0)","v":0},{"$f":"IFERROR(IF($B706>L$15,0,IF(OFFSET(index!$I$2,MATCH(L$195,index!$I$3:$I$50,0),MONTH(CF表!$B706)),L$21*L$13/L$196,0)),0)","v":0}]
[null,"2065-03-01",{"$f":"IFERROR(IF($B707>C$15,0,IF(OFFSET(index!$I$2,MATCH(C$195,index!$I$3:$I$50,0),MONTH(CF表!$B707)),C$21*C$13/C$196,0)),0)","v":0},{"$f":"IFERROR(IF($B707>D$15,0,IF(OFFSET(index!$I$2,MATCH(D$195,index!$I$3:$I$50,0),MONTH(CF表!$B707)),D$21*D$13/D$196,0)),0)","v":0},{"$f":"IFERROR(IF($B707>E$15,0,IF(OFFSET(index!$I$2,MATCH(E$195,index!$I$3:$I$50,0),MONTH(CF表!$B707)),E$21*E$13/E$196,0)),0)","v":0},{"$f":"IFERROR(IF($B707>F$15,0,IF(OFFSET(index!$I$2,MATCH(F$195,index!$I$3:$I$50,0),MONTH(CF表!$B707)),F$21*F$13/F$196,0)),0)","v":0},{"$f":"IFERROR(IF($B707>G$15,0,IF(OFFSET(index!$I$2,MATCH(G$195,index!$I$3:$I$50,0),MONTH(CF表!$B707)),G$21*G$13/G$196,0)),0)","v":0},{"$f":"IFERROR(IF($B707>H$15,0,IF(OFFSET(index!$I$2,MATCH(H$195,index!$I$3:$I$50,0),MONTH(CF表!$B707)),H$21*H$13/H$196,0)),0)","v":0},{"$f":"IFERROR(IF($B707>I$15,0,IF(OFFSET(index!$I$2,MATCH(I$195,index!$I$3:$I$50,0),MONTH(CF表!$B707)),I$21*I$13/I$196,0)),0)","v":0},{"$f":"IFERROR(IF($B707>J$15,0,IF(OFFSET(index!$I$2,MATCH(J$195,index!$I$3:$I$50,0),MONTH(CF表!$B707)),J$21*J$13/J$196,0)),0)","v":0},{"$f":"IFERROR(IF($B707>K$15,0,IF(OFFSET(index!$I$2,MATCH(K$195,index!$I$3:$I$50,0),MONTH(CF表!$B707)),K$21*K$13/K$196,0)),0)","v":0},{"$f":"IFERROR(IF($B707>L$15,0,IF(OFFSET(index!$I$2,MATCH(L$195,index!$I$3:$I$50,0),MONTH(CF表!$B707)),L$21*L$13/L$196,0)),0)","v":0}]
[null,"2065-04-01",{"$f":"IFERROR(IF($B708>C$15,0,IF(OFFSET(index!$I$2,MATCH(C$195,index!$I$3:$I$50,0),MONTH(CF表!$B708)),C$21*C$13/C$196,0)),0)","v":0},{"$f":"IFERROR(IF($B708>D$15,0,IF(OFFSET(index!$I$2,MATCH(D$195,index!$I$3:$I$50,0),MONTH(CF表!$B708)),D$21*D$13/D$196,0)),0)","v":0},{"$f":"IFERROR(IF($B708>E$15,0,IF(OFFSET(index!$I$2,MATCH(E$195,index!$I$3:$I$50,0),MONTH(CF表!$B708)),E$21*E$13/E$196,0)),0)","v":0},{"$f":"IFERROR(IF($B708>F$15,0,IF(OFFSET(index!$I$2,MATCH(F$195,index!$I$3:$I$50,0),MONTH(CF表!$B708)),F$21*F$13/F$196,0)),0)","v":0},{"$f":"IFERROR(IF($B708>G$15,0,IF(OFFSET(index!$I$2,MATCH(G$195,index!$I$3:$I$50,0),MONTH(CF表!$B708)),G$21*G$13/G$196,0)),0)","v":0},{"$f":"IFERROR(IF($B708>H$15,0,IF(OFFSET(index!$I$2,MATCH(H$195,index!$I$3:$I$50,0),MONTH(CF表!$B708)),H$21*H$13/H$196,0)),0)","v":0},{"$f":"IFERROR(IF($B708>I$15,0,IF(OFFSET(index!$I$2,MATCH(I$195,index!$I$3:$I$50,0),MONTH(CF表!$B708)),I$21*I$13/I$196,0)),0)","v":0},{"$f":"IFERROR(IF($B708>J$15,0,IF(OFFSET(index!$I$2,MATCH(J$195,index!$I$3:$I$50,0),MONTH(CF表!$B708)),J$21*J$13/J$196,0)),0)","v":0},{"$f":"IFERROR(IF($B708>K$15,0,IF(OFFSET(index!$I$2,MATCH(K$195,index!$I$3:$I$50,0),MONTH(CF表!$B708)),K$21*K$13/K$196,0)),0)","v":0},{"$f":"IFERROR(IF($B708>L$15,0,IF(OFFSET(index!$I$2,MATCH(L$195,index!$I$3:$I$50,0),MONTH(CF表!$B708)),L$21*L$13/L$196,0)),0)","v":0}]
[null,"2065-05-01",{"$f":"IFERROR(IF($B709>C$15,0,IF(OFFSET(index!$I$2,MATCH(C$195,index!$I$3:$I$50,0),MONTH(CF表!$B709)),C$21*C$13/C$196,0)),0)","v":0},{"$f":"IFERROR(IF($B709>D$15,0,IF(OFFSET(index!$I$2,MATCH(D$195,index!$I$3:$I$50,0),MONTH(CF表!$B709)),D$21*D$13/D$196,0)),0)","v":0},{"$f":"IFERROR(IF($B709>E$15,0,IF(OFFSET(index!$I$2,MATCH(E$195,index!$I$3:$I$50,0),MONTH(CF表!$B709)),E$21*E$13/E$196,0)),0)","v":0},{"$f":"IFERROR(IF($B709>F$15,0,IF(OFFSET(index!$I$2,MATCH(F$195,index!$I$3:$I$50,0),MONTH(CF表!$B709)),F$21*F$13/F$196,0)),0)","v":0},{"$f":"IFERROR(IF($B709>G$15,0,IF(OFFSET(index!$I$2,MATCH(G$195,index!$I$3:$I$50,0),MONTH(CF表!$B709)),G$21*G$13/G$196,0)),0)","v":0},{"$f":"IFERROR(IF($B709>H$15,0,IF(OFFSET(index!$I$2,MATCH(H$195,index!$I$3:$I$50,0),MONTH(CF表!$B709)),H$21*H$13/H$196,0)),0)","v":0},{"$f":"IFERROR(IF($B709>I$15,0,IF(OFFSET(index!$I$2,MATCH(I$195,index!$I$3:$I$50,0),MONTH(CF表!$B709)),I$21*I$13/I$196,0)),0)","v":0},{"$f":"IFERROR(IF($B709>J$15,0,IF(OFFSET(index!$I$2,MATCH(J$195,index!$I$3:$I$50,0),MONTH(CF表!$B709)),J$21*J$13/J$196,0)),0)","v":0},{"$f":"IFERROR(IF($B709>K$15,0,IF(OFFSET(index!$I$2,MATCH(K$195,index!$I$3:$I$50,0),MONTH(CF表!$B709)),K$21*K$13/K$196,0)),0)","v":0},{"$f":"IFERROR(IF($B709>L$15,0,IF(OFFSET(index!$I$2,MATCH(L$195,index!$I$3:$I$50,0),MONTH(CF表!$B709)),L$21*L$13/L$196,0)),0)","v":0}]
[null,"2065-06-01",{"$f":"IFERROR(IF($B710>C$15,0,IF(OFFSET(index!$I$2,MATCH(C$195,index!$I$3:$I$50,0),MONTH(CF表!$B710)),C$21*C$13/C$196,0)),0)","v":0},{"$f":"IFERROR(IF($B710>D$15,0,IF(OFFSET(index!$I$2,MATCH(D$195,index!$I$3:$I$50,0),MONTH(CF表!$B710)),D$21*D$13/D$196,0)),0)","v":0},{"$f":"IFERROR(IF($B710>E$15,0,IF(OFFSET(index!$I$2,MATCH(E$195,index!$I$3:$I$50,0),MONTH(CF表!$B710)),E$21*E$13/E$196,0)),0)","v":0},{"$f":"IFERROR(IF($B710>F$15,0,IF(OFFSET(index!$I$2,MATCH(F$195,index!$I$3:$I$50,0),MONTH(CF表!$B710)),F$21*F$13/F$196,0)),0)","v":0},{"$f":"IFERROR(IF($B710>G$15,0,IF(OFFSET(index!$I$2,MATCH(G$195,index!$I$3:$I$50,0),MONTH(CF表!$B710)),G$21*G$13/G$196,0)),0)","v":0},{"$f":"IFERROR(IF($B710>H$15,0,IF(OFFSET(index!$I$2,MATCH(H$195,index!$I$3:$I$50,0),MONTH(CF表!$B710)),H$21*H$13/H$196,0)),0)","v":0},{"$f":"IFERROR(IF($B710>I$15,0,IF(OFFSET(index!$I$2,MATCH(I$195,index!$I$3:$I$50,0),MONTH(CF表!$B710)),I$21*I$13/I$196,0)),0)","v":0},{"$f":"IFERROR(IF($B710>J$15,0,IF(OFFSET(index!$I$2,MATCH(J$195,index!$I$3:$I$50,0),MONTH(CF表!$B710)),J$21*J$13/J$196,0)),0)","v":0},{"$f":"IFERROR(IF($B710>K$15,0,IF(OFFSET(index!$I$2,MATCH(K$195,index!$I$3:$I$50,0),MONTH(CF表!$B710)),K$21*K$13/K$196,0)),0)","v":0},{"$f":"IFERROR(IF($B710>L$15,0,IF(OFFSET(index!$I$2,MATCH(L$195,index!$I$3:$I$50,0),MONTH(CF表!$B710)),L$21*L$13/L$196,0)),0)","v":0}]
[null,"2065-07-01",{"$f":"IFERROR(IF($B711>C$15,0,IF(OFFSET(index!$I$2,MATCH(C$195,index!$I$3:$I$50,0),MONTH(CF表!$B711)),C$21*C$13/C$196,0)),0)","v":0},{"$f":"IFERROR(IF($B711>D$15,0,IF(OFFSET(index!$I$2,MATCH(D$195,index!$I$3:$I$50,0),MONTH(CF表!$B711)),D$21*D$13/D$196,0)),0)","v":0},{"$f":"IFERROR(IF($B711>E$15,0,IF(OFFSET(index!$I$2,MATCH(E$195,index!$I$3:$I$50,0),MONTH(CF表!$B711)),E$21*E$13/E$196,0)),0)","v":0},{"$f":"IFERROR(IF($B711>F$15,0,IF(OFFSET(index!$I$2,MATCH(F$195,index!$I$3:$I$50,0),MONTH(CF表!$B711)),F$21*F$13/F$196,0)),0)","v":0},{"$f":"IFERROR(IF($B711>G$15,0,IF(OFFSET(index!$I$2,MATCH(G$195,index!$I$3:$I$50,0),MONTH(CF表!$B711)),G$21*G$13/G$196,0)),0)","v":0},{"$f":"IFERROR(IF($B711>H$15,0,IF(OFFSET(index!$I$2,MATCH(H$195,index!$I$3:$I$50,0),MONTH(CF表!$B711)),H$21*H$13/H$196,0)),0)","v":0},{"$f":"IFERROR(IF($B711>I$15,0,IF(OFFSET(index!$I$2,MATCH(I$195,index!$I$3:$I$50,0),MONTH(CF表!$B711)),I$21*I$13/I$196,0)),0)","v":0},{"$f":"IFERROR(IF($B711>J$15,0,IF(OFFSET(index!$I$2,MATCH(J$195,index!$I$3:$I$50,0),MONTH(CF表!$B711)),J$21*J$13/J$196,0)),0)","v":0},{"$f":"IFERROR(IF($B711>K$15,0,IF(OFFSET(index!$I$2,MATCH(K$195,index!$I$3:$I$50,0),MONTH(CF表!$B711)),K$21*K$13/K$196,0)),0)","v":0},{"$f":"IFERROR(IF($B711>L$15,0,IF(OFFSET(index!$I$2,MATCH(L$195,index!$I$3:$I$50,0),MONTH(CF表!$B711)),L$21*L$13/L$196,0)),0)","v":0}]
[null,"2065-08-01",{"$f":"IFERROR(IF($B712>C$15,0,IF(OFFSET(index!$I$2,MATCH(C$195,index!$I$3:$I$50,0),MONTH(CF表!$B712)),C$21*C$13/C$196,0)),0)","v":0},{"$f":"IFERROR(IF($B712>D$15,0,IF(OFFSET(index!$I$2,MATCH(D$195,index!$I$3:$I$50,0),MONTH(CF表!$B712)),D$21*D$13/D$196,0)),0)","v":0},{"$f":"IFERROR(IF($B712>E$15,0,IF(OFFSET(index!$I$2,MATCH(E$195,index!$I$3:$I$50,0),MONTH(CF表!$B712)),E$21*E$13/E$196,0)),0)","v":0},{"$f":"IFERROR(IF($B712>F$15,0,IF(OFFSET(index!$I$2,MATCH(F$195,index!$I$3:$I$50,0),MONTH(CF表!$B712)),F$21*F$13/F$196,0)),0)","v":0},{"$f":"IFERROR(IF($B712>G$15,0,IF(OFFSET(index!$I$2,MATCH(G$195,index!$I$3:$I$50,0),MONTH(CF表!$B712)),G$21*G$13/G$196,0)),0)","v":0},{"$f":"IFERROR(IF($B712>H$15,0,IF(OFFSET(index!$I$2,MATCH(H$195,index!$I$3:$I$50,0),MONTH(CF表!$B712)),H$21*H$13/H$196,0)),0)","v":0},{"$f":"IFERROR(IF($B712>I$15,0,IF(OFFSET(index!$I$2,MATCH(I$195,index!$I$3:$I$50,0),MONTH(CF表!$B712)),I$21*I$13/I$196,0)),0)","v":0},{"$f":"IFERROR(IF($B712>J$15,0,IF(OFFSET(index!$I$2,MATCH(J$195,index!$I$3:$I$50,0),MONTH(CF表!$B712)),J$21*J$13/J$196,0)),0)","v":0},{"$f":"IFERROR(IF($B712>K$15,0,IF(OFFSET(index!$I$2,MATCH(K$195,index!$I$3:$I$50,0),MONTH(CF表!$B712)),K$21*K$13/K$196,0)),0)","v":0},{"$f":"IFERROR(IF($B712>L$15,0,IF(OFFSET(index!$I$2,MATCH(L$195,index!$I$3:$I$50,0),MONTH(CF表!$B712)),L$21*L$13/L$196,0)),0)","v":0}]
[null,"2065-09-01",{"$f":"IFERROR(IF($B713>C$15,0,IF(OFFSET(index!$I$2,MATCH(C$195,index!$I$3:$I$50,0),MONTH(CF表!$B713)),C$21*C$13/C$196,0)),0)","v":0},{"$f":"IFERROR(IF($B713>D$15,0,IF(OFFSET(index!$I$2,MATCH(D$195,index!$I$3:$I$50,0),MONTH(CF表!$B713)),D$21*D$13/D$196,0)),0)","v":0},{"$f":"IFERROR(IF($B713>E$15,0,IF(OFFSET(index!$I$2,MATCH(E$195,index!$I$3:$I$50,0),MONTH(CF表!$B713)),E$21*E$13/E$196,0)),0)","v":0},{"$f":"IFERROR(IF($B713>F$15,0,IF(OFFSET(index!$I$2,MATCH(F$195,index!$I$3:$I$50,0),MONTH(CF表!$B713)),F$21*F$13/F$196,0)),0)","v":0},{"$f":"IFERROR(IF($B713>G$15,0,IF(OFFSET(index!$I$2,MATCH(G$195,index!$I$3:$I$50,0),MONTH(CF表!$B713)),G$21*G$13/G$196,0)),0)","v":0},{"$f":"IFERROR(IF($B713>H$15,0,IF(OFFSET(index!$I$2,MATCH(H$195,index!$I$3:$I$50,0),MONTH(CF表!$B713)),H$21*H$13/H$196,0)),0)","v":0},{"$f":"IFERROR(IF($B713>I$15,0,IF(OFFSET(index!$I$2,MATCH(I$195,index!$I$3:$I$50,0),MONTH(CF表!$B713)),I$21*I$13/I$196,0)),0)","v":0},{"$f":"IFERROR(IF($B713>J$15,0,IF(OFFSET(index!$I$2,MATCH(J$195,index!$I$3:$I$50,0),MONTH(CF表!$B713)),J$21*J$13/J$196,0)),0)","v":0},{"$f":"IFERROR(IF($B713>K$15,0,IF(OFFSET(index!$I$2,MATCH(K$195,index!$I$3:$I$50,0),MONTH(CF表!$B713)),K$21*K$13/K$196,0)),0)","v":0},{"$f":"IFERROR(IF($B713>L$15,0,IF(OFFSET(index!$I$2,MATCH(L$195,index!$I$3:$I$50,0),MONTH(CF表!$B713)),L$21*L$13/L$196,0)),0)","v":0}]
[null,"2065-10-01",{"$f":"IFERROR(IF($B714>C$15,0,IF(OFFSET(index!$I$2,MATCH(C$195,index!$I$3:$I$50,0),MONTH(CF表!$B714)),C$21*C$13/C$196,0)),0)","v":0},{"$f":"IFERROR(IF($B714>D$15,0,IF(OFFSET(index!$I$2,MATCH(D$195,index!$I$3:$I$50,0),MONTH(CF表!$B714)),D$21*D$13/D$196,0)),0)","v":0},{"$f":"IFERROR(IF($B714>E$15,0,IF(OFFSET(index!$I$2,MATCH(E$195,index!$I$3:$I$50,0),MONTH(CF表!$B714)),E$21*E$13/E$196,0)),0)","v":0},{"$f":"IFERROR(IF($B714>F$15,0,IF(OFFSET(index!$I$2,MATCH(F$195,index!$I$3:$I$50,0),MONTH(CF表!$B714)),F$21*F$13/F$196,0)),0)","v":0},{"$f":"IFERROR(IF($B714>G$15,0,IF(OFFSET(index!$I$2,MATCH(G$195,index!$I$3:$I$50,0),MONTH(CF表!$B714)),G$21*G$13/G$196,0)),0)","v":0},{"$f":"IFERROR(IF($B714>H$15,0,IF(OFFSET(index!$I$2,MATCH(H$195,index!$I$3:$I$50,0),MONTH(CF表!$B714)),H$21*H$13/H$196,0)),0)","v":0},{"$f":"IFERROR(IF($B714>I$15,0,IF(OFFSET(index!$I$2,MATCH(I$195,index!$I$3:$I$50,0),MONTH(CF表!$B714)),I$21*I$13/I$196,0)),0)","v":0},{"$f":"IFERROR(IF($B714>J$15,0,IF(OFFSET(index!$I$2,MATCH(J$195,index!$I$3:$I$50,0),MONTH(CF表!$B714)),J$21*J$13/J$196,0)),0)","v":0},{"$f":"IFERROR(IF($B714>K$15,0,IF(OFFSET(index!$I$2,MATCH(K$195,index!$I$3:$I$50,0),MONTH(CF表!$B714)),K$21*K$13/K$196,0)),0)","v":0},{"$f":"IFERROR(IF($B714>L$15,0,IF(OFFSET(index!$I$2,MATCH(L$195,index!$I$3:$I$50,0),MONTH(CF表!$B714)),L$21*L$13/L$196,0)),0)","v":0}]
[null,"2065-11-01",{"$f":"IFERROR(IF($B715>C$15,0,IF(OFFSET(index!$I$2,MATCH(C$195,index!$I$3:$I$50,0),MONTH(CF表!$B715)),C$21*C$13/C$196,0)),0)","v":0},{"$f":"IFERROR(IF($B715>D$15,0,IF(OFFSET(index!$I$2,MATCH(D$195,index!$I$3:$I$50,0),MONTH(CF表!$B715)),D$21*D$13/D$196,0)),0)","v":0},{"$f":"IFERROR(IF($B715>E$15,0,IF(OFFSET(index!$I$2,MATCH(E$195,index!$I$3:$I$50,0),MONTH(CF表!$B715)),E$21*E$13/E$196,0)),0)","v":0},{"$f":"IFERROR(IF($B715>F$15,0,IF(OFFSET(index!$I$2,MATCH(F$195,index!$I$3:$I$50,0),MONTH(CF表!$B715)),F$21*F$13/F$196,0)),0)","v":0},{"$f":"IFERROR(IF($B715>G$15,0,IF(OFFSET(index!$I$2,MATCH(G$195,index!$I$3:$I$50,0),MONTH(CF表!$B715)),G$21*G$13/G$196,0)),0)","v":0},{"$f":"IFERROR(IF($B715>H$15,0,IF(OFFSET(index!$I$2,MATCH(H$195,index!$I$3:$I$50,0),MONTH(CF表!$B715)),H$21*H$13/H$196,0)),0)","v":0},{"$f":"IFERROR(IF($B715>I$15,0,IF(OFFSET(index!$I$2,MATCH(I$195,index!$I$3:$I$50,0),MONTH(CF表!$B715)),I$21*I$13/I$196,0)),0)","v":0},{"$f":"IFERROR(IF($B715>J$15,0,IF(OFFSET(index!$I$2,MATCH(J$195,index!$I$3:$I$50,0),MONTH(CF表!$B715)),J$21*J$13/J$196,0)),0)","v":0},{"$f":"IFERROR(IF($B715>K$15,0,IF(OFFSET(index!$I$2,MATCH(K$195,index!$I$3:$I$50,0),MONTH(CF表!$B715)),K$21*K$13/K$196,0)),0)","v":0},{"$f":"IFERROR(IF($B715>L$15,0,IF(OFFSET(index!$I$2,MATCH(L$195,index!$I$3:$I$50,0),MONTH(CF表!$B715)),L$21*L$13/L$196,0)),0)","v":0}]
[null,"2065-12-01",{"$f":"IFERROR(IF($B716>C$15,0,IF(OFFSET(index!$I$2,MATCH(C$195,index!$I$3:$I$50,0),MONTH(CF表!$B716)),C$21*C$13/C$196,0)),0)","v":0},{"$f":"IFERROR(IF($B716>D$15,0,IF(OFFSET(index!$I$2,MATCH(D$195,index!$I$3:$I$50,0),MONTH(CF表!$B716)),D$21*D$13/D$196,0)),0)","v":0},{"$f":"IFERROR(IF($B716>E$15,0,IF(OFFSET(index!$I$2,MATCH(E$195,index!$I$3:$I$50,0),MONTH(CF表!$B716)),E$21*E$13/E$196,0)),0)","v":0},{"$f":"IFERROR(IF($B716>F$15,0,IF(OFFSET(index!$I$2,MATCH(F$195,index!$I$3:$I$50,0),MONTH(CF表!$B716)),F$21*F$13/F$196,0)),0)","v":0},{"$f":"IFERROR(IF($B716>G$15,0,IF(OFFSET(index!$I$2,MATCH(G$195,index!$I$3:$I$50,0),MONTH(CF表!$B716)),G$21*G$13/G$196,0)),0)","v":0},{"$f":"IFERROR(IF($B716>H$15,0,IF(OFFSET(index!$I$2,MATCH(H$195,index!$I$3:$I$50,0),MONTH(CF表!$B716)),H$21*H$13/H$196,0)),0)","v":0},{"$f":"IFERROR(IF($B716>I$15,0,IF(OFFSET(index!$I$2,MATCH(I$195,index!$I$3:$I$50,0),MONTH(CF表!$B716)),I$21*I$13/I$196,0)),0)","v":0},{"$f":"IFERROR(IF($B716>J$15,0,IF(OFFSET(index!$I$2,MATCH(J$195,index!$I$3:$I$50,0),MONTH(CF表!$B716)),J$21*J$13/J$196,0)),0)","v":0},{"$f":"IFERROR(IF($B716>K$15,0,IF(OFFSET(index!$I$2,MATCH(K$195,index!$I$3:$I$50,0),MONTH(CF表!$B716)),K$21*K$13/K$196,0)),0)","v":0},{"$f":"IFERROR(IF($B716>L$15,0,IF(OFFSET(index!$I$2,MATCH(L$195,index!$I$3:$I$50,0),MONTH(CF表!$B716)),L$21*L$13/L$196,0)),0)","v":0}]
[null,"2066-01-01",{"$f":"IFERROR(IF($B717>C$15,0,IF(OFFSET(index!$I$2,MATCH(C$195,index!$I$3:$I$50,0),MONTH(CF表!$B717)),C$21*C$13/C$196,0)),0)","v":0},{"$f":"IFERROR(IF($B717>D$15,0,IF(OFFSET(index!$I$2,MATCH(D$195,index!$I$3:$I$50,0),MONTH(CF表!$B717)),D$21*D$13/D$196,0)),0)","v":0},{"$f":"IFERROR(IF($B717>E$15,0,IF(OFFSET(index!$I$2,MATCH(E$195,index!$I$3:$I$50,0),MONTH(CF表!$B717)),E$21*E$13/E$196,0)),0)","v":0},{"$f":"IFERROR(IF($B717>F$15,0,IF(OFFSET(index!$I$2,MATCH(F$195,index!$I$3:$I$50,0),MONTH(CF表!$B717)),F$21*F$13/F$196,0)),0)","v":0},{"$f":"IFERROR(IF($B717>G$15,0,IF(OFFSET(index!$I$2,MATCH(G$195,index!$I$3:$I$50,0),MONTH(CF表!$B717)),G$21*G$13/G$196,0)),0)","v":0},{"$f":"IFERROR(IF($B717>H$15,0,IF(OFFSET(index!$I$2,MATCH(H$195,index!$I$3:$I$50,0),MONTH(CF表!$B717)),H$21*H$13/H$196,0)),0)","v":0},{"$f":"IFERROR(IF($B717>I$15,0,IF(OFFSET(index!$I$2,MATCH(I$195,index!$I$3:$I$50,0),MONTH(CF表!$B717)),I$21*I$13/I$196,0)),0)","v":0},{"$f":"IFERROR(IF($B717>J$15,0,IF(OFFSET(index!$I$2,MATCH(J$195,index!$I$3:$I$50,0),MONTH(CF表!$B717)),J$21*J$13/J$196,0)),0)","v":0},{"$f":"IFERROR(IF($B717>K$15,0,IF(OFFSET(index!$I$2,MATCH(K$195,index!$I$3:$I$50,0),MONTH(CF表!$B717)),K$21*K$13/K$196,0)),0)","v":0},{"$f":"IFERROR(IF($B717>L$15,0,IF(OFFSET(index!$I$2,MATCH(L$195,index!$I$3:$I$50,0),MONTH(CF表!$B717)),L$21*L$13/L$196,0)),0)","v":0}]
[null,"2066-02-01",{"$f":"IFERROR(IF($B718>C$15,0,IF(OFFSET(index!$I$2,MATCH(C$195,index!$I$3:$I$50,0),MONTH(CF表!$B718)),C$21*C$13/C$196,0)),0)","v":0},{"$f":"IFERROR(IF($B718>D$15,0,IF(OFFSET(index!$I$2,MATCH(D$195,index!$I$3:$I$50,0),MONTH(CF表!$B718)),D$21*D$13/D$196,0)),0)","v":0},{"$f":"IFERROR(IF($B718>E$15,0,IF(OFFSET(index!$I$2,MATCH(E$195,index!$I$3:$I$50,0),MONTH(CF表!$B718)),E$21*E$13/E$196,0)),0)","v":0},{"$f":"IFERROR(IF($B718>F$15,0,IF(OFFSET(index!$I$2,MATCH(F$195,index!$I$3:$I$50,0),MONTH(CF表!$B718)),F$21*F$13/F$196,0)),0)","v":0},{"$f":"IFERROR(IF($B718>G$15,0,IF(OFFSET(index!$I$2,MATCH(G$195,index!$I$3:$I$50,0),MONTH(CF表!$B718)),G$21*G$13/G$196,0)),0)","v":0},{"$f":"IFERROR(IF($B718>H$15,0,IF(OFFSET(index!$I$2,MATCH(H$195,index!$I$3:$I$50,0),MONTH(CF表!$B718)),H$21*H$13/H$196,0)),0)","v":0},{"$f":"IFERROR(IF($B718>I$15,0,IF(OFFSET(index!$I$2,MATCH(I$195,index!$I$3:$I$50,0),MONTH(CF表!$B718)),I$21*I$13/I$196,0)),0)","v":0},{"$f":"IFERROR(IF($B718>J$15,0,IF(OFFSET(index!$I$2,MATCH(J$195,index!$I$3:$I$50,0),MONTH(CF表!$B718)),J$21*J$13/J$196,0)),0)","v":0},{"$f":"IFERROR(IF($B718>K$15,0,IF(OFFSET(index!$I$2,MATCH(K$195,index!$I$3:$I$50,0),MONTH(CF表!$B718)),K$21*K$13/K$196,0)),0)","v":0},{"$f":"IFERROR(IF($B718>L$15,0,IF(OFFSET(index!$I$2,MATCH(L$195,index!$I$3:$I$50,0),MONTH(CF表!$B718)),L$21*L$13/L$196,0)),0)","v":0}]
[null,"2066-03-01",{"$f":"IFERROR(IF($B719>C$15,0,IF(OFFSET(index!$I$2,MATCH(C$195,index!$I$3:$I$50,0),MONTH(CF表!$B719)),C$21*C$13/C$196,0)),0)","v":0},{"$f":"IFERROR(IF($B719>D$15,0,IF(OFFSET(index!$I$2,MATCH(D$195,index!$I$3:$I$50,0),MONTH(CF表!$B719)),D$21*D$13/D$196,0)),0)","v":0},{"$f":"IFERROR(IF($B719>E$15,0,IF(OFFSET(index!$I$2,MATCH(E$195,index!$I$3:$I$50,0),MONTH(CF表!$B719)),E$21*E$13/E$196,0)),0)","v":0},{"$f":"IFERROR(IF($B719>F$15,0,IF(OFFSET(index!$I$2,MATCH(F$195,index!$I$3:$I$50,0),MONTH(CF表!$B719)),F$21*F$13/F$196,0)),0)","v":0},{"$f":"IFERROR(IF($B719>G$15,0,IF(OFFSET(index!$I$2,MATCH(G$195,index!$I$3:$I$50,0),MONTH(CF表!$B719)),G$21*G$13/G$196,0)),0)","v":0},{"$f":"IFERROR(IF($B719>H$15,0,IF(OFFSET(index!$I$2,MATCH(H$195,index!$I$3:$I$50,0),MONTH(CF表!$B719)),H$21*H$13/H$196,0)),0)","v":0},{"$f":"IFERROR(IF($B719>I$15,0,IF(OFFSET(index!$I$2,MATCH(I$195,index!$I$3:$I$50,0),MONTH(CF表!$B719)),I$21*I$13/I$196,0)),0)","v":0},{"$f":"IFERROR(IF($B719>J$15,0,IF(OFFSET(index!$I$2,MATCH(J$195,index!$I$3:$I$50,0),MONTH(CF表!$B719)),J$21*J$13/J$196,0)),0)","v":0},{"$f":"IFERROR(IF($B719>K$15,0,IF(OFFSET(index!$I$2,MATCH(K$195,index!$I$3:$I$50,0),MONTH(CF表!$B719)),K$21*K$13/K$196,0)),0)","v":0},{"$f":"IFERROR(IF($B719>L$15,0,IF(OFFSET(index!$I$2,MATCH(L$195,index!$I$3:$I$50,0),MONTH(CF表!$B719)),L$21*L$13/L$196,0)),0)","v":0}]
[null,"2066-04-01",{"$f":"IFERROR(IF($B720>C$15,0,IF(OFFSET(index!$I$2,MATCH(C$195,index!$I$3:$I$50,0),MONTH(CF表!$B720)),C$21*C$13/C$196,0)),0)","v":0},{"$f":"IFERROR(IF($B720>D$15,0,IF(OFFSET(index!$I$2,MATCH(D$195,index!$I$3:$I$50,0),MONTH(CF表!$B720)),D$21*D$13/D$196,0)),0)","v":0},{"$f":"IFERROR(IF($B720>E$15,0,IF(OFFSET(index!$I$2,MATCH(E$195,index!$I$3:$I$50,0),MONTH(CF表!$B720)),E$21*E$13/E$196,0)),0)","v":0},{"$f":"IFERROR(IF($B720>F$15,0,IF(OFFSET(index!$I$2,MATCH(F$195,index!$I$3:$I$50,0),MONTH(CF表!$B720)),F$21*F$13/F$196,0)),0)","v":0},{"$f":"IFERROR(IF($B720>G$15,0,IF(OFFSET(index!$I$2,MATCH(G$195,index!$I$3:$I$50,0),MONTH(CF表!$B720)),G$21*G$13/G$196,0)),0)","v":0},{"$f":"IFERROR(IF($B720>H$15,0,IF(OFFSET(index!$I$2,MATCH(H$195,index!$I$3:$I$50,0),MONTH(CF表!$B720)),H$21*H$13/H$196,0)),0)","v":0},{"$f":"IFERROR(IF($B720>I$15,0,IF(OFFSET(index!$I$2,MATCH(I$195,index!$I$3:$I$50,0),MONTH(CF表!$B720)),I$21*I$13/I$196,0)),0)","v":0},{"$f":"IFERROR(IF($B720>J$15,0,IF(OFFSET(index!$I$2,MATCH(J$195,index!$I$3:$I$50,0),MONTH(CF表!$B720)),J$21*J$13/J$196,0)),0)","v":0},{"$f":"IFERROR(IF($B720>K$15,0,IF(OFFSET(index!$I$2,MATCH(K$195,index!$I$3:$I$50,0),MONTH(CF表!$B720)),K$21*K$13/K$196,0)),0)","v":0},{"$f":"IFERROR(IF($B720>L$15,0,IF(OFFSET(index!$I$2,MATCH(L$195,index!$I$3:$I$50,0),MONTH(CF表!$B720)),L$21*L$13/L$196,0)),0)","v":0}]
[null,"2066-05-01",{"$f":"IFERROR(IF($B721>C$15,0,IF(OFFSET(index!$I$2,MATCH(C$195,index!$I$3:$I$50,0),MONTH(CF表!$B721)),C$21*C$13/C$196,0)),0)","v":0},{"$f":"IFERROR(IF($B721>D$15,0,IF(OFFSET(index!$I$2,MATCH(D$195,index!$I$3:$I$50,0),MONTH(CF表!$B721)),D$21*D$13/D$196,0)),0)","v":0},{"$f":"IFERROR(IF($B721>E$15,0,IF(OFFSET(index!$I$2,MATCH(E$195,index!$I$3:$I$50,0),MONTH(CF表!$B721)),E$21*E$13/E$196,0)),0)","v":0},{"$f":"IFERROR(IF($B721>F$15,0,IF(OFFSET(index!$I$2,MATCH(F$195,index!$I$3:$I$50,0),MONTH(CF表!$B721)),F$21*F$13/F$196,0)),0)","v":0},{"$f":"IFERROR(IF($B721>G$15,0,IF(OFFSET(index!$I$2,MATCH(G$195,index!$I$3:$I$50,0),MONTH(CF表!$B721)),G$21*G$13/G$196,0)),0)","v":0},{"$f":"IFERROR(IF($B721>H$15,0,IF(OFFSET(index!$I$2,MATCH(H$195,index!$I$3:$I$50,0),MONTH(CF表!$B721)),H$21*H$13/H$196,0)),0)","v":0},{"$f":"IFERROR(IF($B721>I$15,0,IF(OFFSET(index!$I$2,MATCH(I$195,index!$I$3:$I$50,0),MONTH(CF表!$B721)),I$21*I$13/I$196,0)),0)","v":0},{"$f":"IFERROR(IF($B721>J$15,0,IF(OFFSET(index!$I$2,MATCH(J$195,index!$I$3:$I$50,0),MONTH(CF表!$B721)),J$21*J$13/J$196,0)),0)","v":0},{"$f":"IFERROR(IF($B721>K$15,0,IF(OFFSET(index!$I$2,MATCH(K$195,index!$I$3:$I$50,0),MONTH(CF表!$B721)),K$21*K$13/K$196,0)),0)","v":0},{"$f":"IFERROR(IF($B721>L$15,0,IF(OFFSET(index!$I$2,MATCH(L$195,index!$I$3:$I$50,0),MONTH(CF表!$B721)),L$21*L$13/L$196,0)),0)","v":0}]
[null,"2066-06-01",{"$f":"IFERROR(IF($B722>C$15,0,IF(OFFSET(index!$I$2,MATCH(C$195,index!$I$3:$I$50,0),MONTH(CF表!$B722)),C$21*C$13/C$196,0)),0)","v":0},{"$f":"IFERROR(IF($B722>D$15,0,IF(OFFSET(index!$I$2,MATCH(D$195,index!$I$3:$I$50,0),MONTH(CF表!$B722)),D$21*D$13/D$196,0)),0)","v":0},{"$f":"IFERROR(IF($B722>E$15,0,IF(OFFSET(index!$I$2,MATCH(E$195,index!$I$3:$I$50,0),MONTH(CF表!$B722)),E$21*E$13/E$196,0)),0)","v":0},{"$f":"IFERROR(IF($B722>F$15,0,IF(OFFSET(index!$I$2,MATCH(F$195,index!$I$3:$I$50,0),MONTH(CF表!$B722)),F$21*F$13/F$196,0)),0)","v":0},{"$f":"IFERROR(IF($B722>G$15,0,IF(OFFSET(index!$I$2,MATCH(G$195,index!$I$3:$I$50,0),MONTH(CF表!$B722)),G$21*G$13/G$196,0)),0)","v":0},{"$f":"IFERROR(IF($B722>H$15,0,IF(OFFSET(index!$I$2,MATCH(H$195,index!$I$3:$I$50,0),MONTH(CF表!$B722)),H$21*H$13/H$196,0)),0)","v":0},{"$f":"IFERROR(IF($B722>I$15,0,IF(OFFSET(index!$I$2,MATCH(I$195,index!$I$3:$I$50,0),MONTH(CF表!$B722)),I$21*I$13/I$196,0)),0)","v":0},{"$f":"IFERROR(IF($B722>J$15,0,IF(OFFSET(index!$I$2,MATCH(J$195,index!$I$3:$I$50,0),MONTH(CF表!$B722)),J$21*J$13/J$196,0)),0)","v":0},{"$f":"IFERROR(IF($B722>K$15,0,IF(OFFSET(index!$I$2,MATCH(K$195,index!$I$3:$I$50,0),MONTH(CF表!$B722)),K$21*K$13/K$196,0)),0)","v":0},{"$f":"IFERROR(IF($B722>L$15,0,IF(OFFSET(index!$I$2,MATCH(L$195,index!$I$3:$I$50,0),MONTH(CF表!$B722)),L$21*L$13/L$196,0)),0)","v":0}]
[null,"2066-07-01",{"$f":"IFERROR(IF($B723>C$15,0,IF(OFFSET(index!$I$2,MATCH(C$195,index!$I$3:$I$50,0),MONTH(CF表!$B723)),C$21*C$13/C$196,0)),0)","v":0},{"$f":"IFERROR(IF($B723>D$15,0,IF(OFFSET(index!$I$2,MATCH(D$195,index!$I$3:$I$50,0),MONTH(CF表!$B723)),D$21*D$13/D$196,0)),0)","v":0},{"$f":"IFERROR(IF($B723>E$15,0,IF(OFFSET(index!$I$2,MATCH(E$195,index!$I$3:$I$50,0),MONTH(CF表!$B723)),E$21*E$13/E$196,0)),0)","v":0},{"$f":"IFERROR(IF($B723>F$15,0,IF(OFFSET(index!$I$2,MATCH(F$195,index!$I$3:$I$50,0),MONTH(CF表!$B723)),F$21*F$13/F$196,0)),0)","v":0},{"$f":"IFERROR(IF($B723>G$15,0,IF(OFFSET(index!$I$2,MATCH(G$195,index!$I$3:$I$50,0),MONTH(CF表!$B723)),G$21*G$13/G$196,0)),0)","v":0},{"$f":"IFERROR(IF($B723>H$15,0,IF(OFFSET(index!$I$2,MATCH(H$195,index!$I$3:$I$50,0),MONTH(CF表!$B723)),H$21*H$13/H$196,0)),0)","v":0},{"$f":"IFERROR(IF($B723>I$15,0,IF(OFFSET(index!$I$2,MATCH(I$195,index!$I$3:$I$50,0),MONTH(CF表!$B723)),I$21*I$13/I$196,0)),0)","v":0},{"$f":"IFERROR(IF($B723>J$15,0,IF(OFFSET(index!$I$2,MATCH(J$195,index!$I$3:$I$50,0),MONTH(CF表!$B723)),J$21*J$13/J$196,0)),0)","v":0},{"$f":"IFERROR(IF($B723>K$15,0,IF(OFFSET(index!$I$2,MATCH(K$195,index!$I$3:$I$50,0),MONTH(CF表!$B723)),K$21*K$13/K$196,0)),0)","v":0},{"$f":"IFERROR(IF($B723>L$15,0,IF(OFFSET(index!$I$2,MATCH(L$195,index!$I$3:$I$50,0),MONTH(CF表!$B723)),L$21*L$13/L$196,0)),0)","v":0}]
[null,"2066-08-01",{"$f":"IFERROR(IF($B724>C$15,0,IF(OFFSET(index!$I$2,MATCH(C$195,index!$I$3:$I$50,0),MONTH(CF表!$B724)),C$21*C$13/C$196,0)),0)","v":0},{"$f":"IFERROR(IF($B724>D$15,0,IF(OFFSET(index!$I$2,MATCH(D$195,index!$I$3:$I$50,0),MONTH(CF表!$B724)),D$21*D$13/D$196,0)),0)","v":0},{"$f":"IFERROR(IF($B724>E$15,0,IF(OFFSET(index!$I$2,MATCH(E$195,index!$I$3:$I$50,0),MONTH(CF表!$B724)),E$21*E$13/E$196,0)),0)","v":0},{"$f":"IFERROR(IF($B724>F$15,0,IF(OFFSET(index!$I$2,MATCH(F$195,index!$I$3:$I$50,0),MONTH(CF表!$B724)),F$21*F$13/F$196,0)),0)","v":0},{"$f":"IFERROR(IF($B724>G$15,0,IF(OFFSET(index!$I$2,MATCH(G$195,index!$I$3:$I$50,0),MONTH(CF表!$B724)),G$21*G$13/G$196,0)),0)","v":0},{"$f":"IFERROR(IF($B724>H$15,0,IF(OFFSET(index!$I$2,MATCH(H$195,index!$I$3:$I$50,0),MONTH(CF表!$B724)),H$21*H$13/H$196,0)),0)","v":0},{"$f":"IFERROR(IF($B724>I$15,0,IF(OFFSET(index!$I$2,MATCH(I$195,index!$I$3:$I$50,0),MONTH(CF表!$B724)),I$21*I$13/I$196,0)),0)","v":0},{"$f":"IFERROR(IF($B724>J$15,0,IF(OFFSET(index!$I$2,MATCH(J$195,index!$I$3:$I$50,0),MONTH(CF表!$B724)),J$21*J$13/J$196,0)),0)","v":0},{"$f":"IFERROR(IF($B724>K$15,0,IF(OFFSET(index!$I$2,MATCH(K$195,index!$I$3:$I$50,0),MONTH(CF表!$B724)),K$21*K$13/K$196,0)),0)","v":0},{"$f":"IFERROR(IF($B724>L$15,0,IF(OFFSET(index!$I$2,MATCH(L$195,index!$I$3:$I$50,0),MONTH(CF表!$B724)),L$21*L$13/L$196,0)),0)","v":0}]

{"sheet":"入力例","index":1,"n_rows":0,"n_cols":0,"rows_kept":0,"cut":false,"hidden":false,"merged":[]}

{"sheet":"債券リスト","index":2,"n_rows":43,"n_cols":8,"rows_kept":43,"cut":false,"hidden":true,"merged":[]}
[{"$f":"COUNTA(A4:A62)","v":40}]
[]
["銘柄名","既発/新発","通貨","クーポン","利払い頻度","満期日\n(次回コール日)","償還単価","ロール月(満期日と違う場合のみ）"]
["第一生命保険 4.00%","既発債","USD",0.04,"年2回","2026-07-24",1]
["日本生命 2.90%","既発債","USD",2.9000000000000001E-2,"年2回","2031-09-16",1]
["住友生命 3.375%","既発債","USD",3.3750000000000002E-2,"年2回","2031-04-15",1]
["朝日生命保険相互 4.1%","既発債","USD",4.0999999999999995E-2,"年2回","2031-01-27",1]
["三井住友海上火災保険 4.95%","既発債","USD",4.9500000000000002E-2,"年2回","2029-03-06",1]
["UBSｸﾞﾙｰﾌﾟ 4.875% 永久劣後","既発債","USD",4.8750000000000002E-2,"年2回","2027-02-12",1]
["UBSｸﾞﾙｰﾌﾟ 3.875% 永久劣後","既発債","USD",3.875E-2,"年2回","2026-06-02",1]
["UBSｸﾞﾙｰﾌﾟ 4.375% 永久劣後","既発債","USD",4.3749999999999997E-2,"年2回","2031-02-10",1]
["ｳｴｽﾄﾊﾟｯｸ銀行(ﾆｭｰｼﾞｰﾗﾝﾄﾞ) 5.0% 永久劣後","既発債","USD",0.05,"年2回","2027-09-21",1]
["ＢＮＰパリバ 4.5% 永久劣後","既発債","USD",4.4999999999999998E-2,"年2回","2030-02-25",1]
["ＢＮＰパリバ 4.625% 永久劣後","既発債","USD",4.6249999999999999E-2,"年2回","2027-01-12",1]
["ＢＮＰパリバ 9.25% 永久劣後","既発債","USD",9.2499999999999999E-2,"年2回","2027-11-17",1]
["バークレイズ 4.375% 永久劣後","既発債","USD",4.3749999999999997E-2,"年4回","2028-03-15",1]
["バークレイズ 8.00% 永久劣後","既発債","USD",0.08,"年4回","2029-03-15",1]
["ロイズ･バンキング･グループ 6.75%","既発債","USD",6.7500000000000004E-2,"年4回","2026-06-27",1]
["ドイツ銀行 6.0%","既発債","USD",0.06,"年1回","2025-10-30",1,4]
["ドイツ銀行(NY) 3.729% 2032/1/14","既発債","USD",3.7289999999999997E-2,"年2回","2030-10-14",1]
["ｽﾀﾝﾀﾞｰﾄﾞﾁｬｰﾀｰﾄﾞ 4.75% 永久劣後","既発債","USD",4.7500000000000001E-2,"年2回","2031-01-14",1]
["INGグループ 4.25% 永久劣後","既発債","USD",4.2500000000000003E-2,"年2回","2031-05-16",1]
["ｿｼｴﾃ･ｼﾞｪﾈﾗﾙ 5.375% 永久劣後","既発債","USD",5.3749999999999999E-2,"年2回","2030-11-18",1]
["ｿｼｴﾃ･ｼﾞｪﾈﾗﾙ 9.375% 永久劣後","既発債","USD",9.375E-2,"年2回","2027-11-22",1]
["HSBCﾎｰﾙﾃﾞｨﾝｸﾞｽ 4.6% 永久劣後","既発債","USD",4.5999999999999999E-2,"年2回","2030-12-17",1]
["HSBCﾎｰﾙﾃﾞｨﾝｸﾞｽ 8.113% 2033/11/3","既発債","USD",8.1129999999999994E-2,"年2回","2032-11-03",1]
["クレディ･アグリコル 4.75% 永久劣後","既発債","USD",4.7500000000000001E-2,"年4回","2029-03-23",1]
["ｻﾝﾀﾝﾃﾞｰﾙ銀行 4.75% 永久劣後","既発債","USD",4.7500000000000001E-2,"年4回","2026-11-12",1]
["ソフトバンクグループ 6.875% 永久劣後","既発債","USD",6.8750000000000006E-2,"年2回","2027-07-19",1]
["楽天グループ 10.25% 2024/11/30","既発債","USD",0.10249999999999999,"年2回","2024-11-30",1]
["楽天グループ 5.125% 永久劣後","既発債","USD",5.1249999999999997E-2,"年2回","2026-04-22",1]
["楽天グループ 6.25% 永久劣後","既発債","USD",6.25E-2,"年2回","2031-04-22",1]
["モルガン・スタンレー 5.297% 2037/4/20","既発債","USD",5.2970000000000003E-2,"年2回","2032-04-20",1]
["バンク・オブ・アメリカ 6.25%","既発債","USD",6.25E-2,"年2回","2024-09-05",1]
["ウェルズ・ファーゴ 5.90%","既発債","USD",5.8999999999999997E-2,"年2回","2024-06-15",1]
["シティグループ 4.7% 永久劣後","既発債","USD",4.7E-2,"年2回","2025-01-30",1]
["JPモルガン 4.6% 永久劣後","既発債","USD",4.5999999999999999E-2,"年2回","2025-02-01",1]
["JPモルガン 5.717% 期限付劣後","既発債","USD",5.7169999999999999E-2,"年2回","2033-09-14",1]
["ｾﾞﾈﾗﾙ･ﾓｰﾀｰｽﾞ･ﾌｨﾅﾝｼｬﾙ 5.75% 永久劣後","既発債","USD",5.7500000000000002E-2,"年2回","2027-09-30",1]
["ｺﾞｰﾙﾄﾞﾏﾝ･ｻｯｸｽ･ｸﾞﾙｰﾌﾟ 4.125% 永久劣後","既発債","USD",4.1250000000000002E-2,"年2回","2026-11-10",1]
["日産 4.81% シニア","既発債","USD",4.8099999999999997E-2,"年2回","2030-09-17",1]
["三井住友FG 3.01% シニア(TRAC)","既発債","USD",3.1E-2,"年2回","2026-10-19",1]
["シティグループ 4.45% 劣後","既発債","USD",4.4499999999999998E-2,"年2回","2027-09-29",1]

{"sheet":"calendar","index":3,"n_rows":2906,"n_cols":2,"rows_kept":2906,"cut":false,"hidden":true,"merged":[]}
[]
[]
[null,"1944-01-03"]
[null,"1944-02-22"]
[null,"1944-04-07"]
[null,"1944-05-30"]
[null,"1944-07-04"]
[null,"1944-09-04"]
[null,"1944-10-12"]
[null,"1944-11-23"]
[null,"1944-12-25"]
[null,"1945-01-01"]
[null,"1945-02-22"]
[null,"1945-03-30"]
[null,"1945-05-30"]
[null,"1945-07-04"]
[null,"1945-09-03"]
[null,"1945-10-12"]
[null,"1945-11-22"]
[null,"1945-12-25"]
[null,"1946-01-01"]
[null,"1946-02-22"]
[null,"1946-04-19"]
[null,"1946-05-30"]
[null,"1946-07-04"]
[null,"1946-09-02"]
[null,"1946-10-11"]
[null,"1946-11-28"]
[null,"1946-12-25"]
[null,"1947-01-01"]
[null,"1947-02-21"]
[null,"1947-04-04"]
[null,"1947-05-30"]
[null,"1947-07-04"]
[null,"1947-09-01"]
[null,"1947-10-13"]
[null,"1947-11-27"]
[null,"1947-12-25"]
[null,"1948-01-01"]
[null,"1948-02-23"]
[null,"1948-03-26"]
[null,"1948-05-31"]
[null,"1948-07-05"]
[null,"1948-09-06"]
[null,"1948-10-12"]
[null,"1948-11-25"]
[null,"1948-12-24"]
[null,"1949-01-03"]
[null,"1949-02-22"]
[null,"1949-04-15"]
[null,"1949-05-30"]
[null,"1949-07-04"]
[null,"1949-09-05"]
[null,"1949-10-12"]
[null,"1949-11-24"]
[null,"1949-12-26"]
[null,"1950-01-02"]
[null,"1950-01-16"]
[null,"1950-02-20"]
[null,"1950-04-07"]
[null,"1950-05-29"]
[null,"1950-07-04"]
[null,"1950-09-04"]
[null,"1950-10-09"]
[null,"1950-11-10"]
[null,"1950-11-23"]
[null,"1950-12-25"]
[null,"1951-01-01"]
[null,"1951-01-15"]
[null,"1951-02-19"]
[null,"1951-03-23"]
[null,"1951-05-28"]
[null,"1951-07-04"]
[null,"1951-09-03"]
[null,"1951-10-08"]
[null,"1951-11-12"]
[null,"1951-11-22"]
[null,"1951-12-25"]
[null,"1952-01-01"]
[null,"1952-01-21"]
[null,"1952-02-18"]
[null,"1952-04-11"]
[null,"1952-05-26"]
[null,"1952-07-04"]
[null,"1952-09-01"]
[null,"1952-10-13"]
[null,"1952-11-11"]
[null,"1952-11-27"]
[null,"1952-12-25"]
[null,"1953-01-01"]
[null,"1953-01-19"]
[null,"1953-02-16"]
[null,"1953-04-03"]
[null,"1953-05-25"]
[null,"1953-07-03"]
[null,"1953-09-07"]
[null,"1953-10-12"]
[null,"1953-11-11"]
[null,"1953-11-26"]
[null,"1953-12-25"]
[null,"1954-01-01"]
[null,"1954-01-18"]
[null,"1954-02-15"]
[null,"1954-04-16"]
[null,"1954-05-31"]
[null,"1954-07-05"]
[null,"1954-09-06"]
[null,"1954-10-11"]
[null,"1954-11-11"]
[null,"1954-11-25"]
[null,"1954-12-24"]
[null,"1955-01-17"]
[null,"1955-02-21"]
[null,"1955-04-08"]
[null,"1955-05-30"]
[null,"1955-07-04"]
[null,"1955-09-05"]
[null,"1955-10-10"]
[null,"1955-11-11"]
[null,"1955-11-24"]
[null,"1955-12-26"]
[null,"1956-01-02"]
[null,"1956-01-16"]
[null,"1956-02-20"]
[null,"1956-03-30"]
[null,"1956-05-28"]
[null,"1956-07-04"]
[null,"1956-09-03"]
[null,"1956-10-08"]
[null,"1956-11-12"]
[null,"1956-11-22"]
[null,"1956-12-25"]
[null,"1957-01-01"]
[null,"1957-01-21"]
[null,"1957-02-18"]
[null,"1957-04-19"]
[null,"1957-05-27"]
[null,"1957-07-04"]
[null,"1957-09-02"]
[null,"1957-10-14"]
[null,"1957-11-11"]
[null,"1957-11-28"]
[null,"1957-12-25"]
[null,"1958-01-01"]
[null,"1958-01-20"]
[null,"1958-02-17"]
[null,"1958-04-04"]
[null,"1958-05-26"]
[null,"1958-07-04"]
[null,"1958-09-01"]
[null,"1958-10-13"]
[null,"1958-11-11"]
[null,"1958-11-27"]
[null,"1958-12-25"]
[null,"1959-01-01"]
[null,"1959-01-19"]
[null,"1959-02-16"]
[null,"1959-03-27"]
[null,"1959-05-25"]
[null,"1959-07-03"]
[null,"1959-09-07"]
[null,"1959-10-12"]
[null,"1959-11-11"]
[null,"1959-11-26"]
[null,"1959-12-25"]
[null,"1960-01-01"]
[null,"1960-01-18"]
[null,"1960-02-15"]
[null,"1960-04-15"]
[null,"1960-05-30"]
[null,"1960-07-04"]
[null,"1960-09-05"]
[null,"1960-10-10"]
[null,"1960-11-11"]
[null,"1960-11-24"]
[null,"1960-12-26"]
[null,"1961-01-02"]
[null,"1961-01-16"]
[null,"1961-02-20"]
[null,"1961-03-31"]
[null,"1961-05-29"]
[null,"1961-07-04"]
[null,"1961-09-04"]
[null,"1961-10-09"]
[null,"1961-11-10"]
[null,"1961-11-23"]
[null,"1961-12-25"]
[null,"1962-01-01"]
[null,"1962-01-15"]
[null,"1962-02-19"]
[null,"1962-04-20"]
[null,"1962-05-28"]
[null,"1962-07-04"]
[null,"1962-09-03"]
[null,"1962-10-08"]
[null,"1962-11-12"]
[null,"1962-11-22"]
[null,"1962-12-25"]
[null,"1963-01-01"]
[null,"1963-01-21"]
[null,"1963-02-18"]
[null,"1963-04-12"]
[null,"1963-05-27"]
[null,"1963-07-04"]
[null,"1963-09-02"]
[null,"1963-10-14"]
[null,"1963-11-11"]
[null,"1963-11-28"]
[null,"1963-12-25"]
[null,"1964-01-01"]
[null,"1964-01-20"]
[null,"1964-02-17"]
[null,"1964-03-27"]
[null,"1964-05-25"]
[null,"1964-07-03"]
[null,"1964-09-07"]
[null,"1964-10-12"]
[null,"1964-11-11"]
[null,"1964-11-26"]
[null,"1964-12-25"]
[null,"1965-01-01"]
[null,"1965-02-15"]
[null,"1965-04-16"]
[null,"1965-05-31"]
[null,"1965-07-05"]
[null,"1965-09-06"]
[null,"1965-10-11"]
[null,"1965-11-11"]
[null,"1965-11-25"]
[null,"1965-12-24"]
[null,"1966-01-03"]
[null,"1966-02-21"]
[null,"1966-04-08"]
[null,"1966-05-30"]
[null,"1966-07-04"]
[null,"1966-09-05"]
[null,"1966-10-10"]
[null,"1966-11-11"]
[null,"1966-11-24"]
[null,"1966-12-26"]
[null,"1967-01-02"]
[null,"1967-02-20"]
[null,"1967-03-24"]
[null,"1967-05-29"]
[null,"1967-07-04"]
[null,"1967-09-04"]
[null,"1967-10-09"]
[null,"1967-11-10"]
[null,"1967-11-23"]
[null,"1967-12-25"]
[null,"1968-01-01"]
[null,"1968-02-19"]
[null,"1968-04-12"]
[null,"1968-05-27"]
[null,"1968-07-04"]
[null,"1968-09-02"]
[null,"1968-10-14"]
[null,"1968-11-11"]
[null,"1968-11-28"]
[null,"1968-12-25"]
[null,"1969-01-01"]
[null,"1969-02-17"]
[null,"1969-04-04"]
[null,"1969-05-26"]
[null,"1969-07-04"]
[null,"1969-09-01"]
[null,"1969-10-13"]
[null,"1969-11-11"]
[null,"1969-11-27"]
[null,"1969-12-25"]
[null,"1970-01-01"]
[null,"1970-02-16"]
[null,"1970-03-27"]
[null,"1970-05-25"]
[null,"1970-07-03"]
[null,"1970-09-07"]
[null,"1970-10-12"]
[null,"1970-11-11"]
[null,"1970-11-26"]
[null,"1970-12-25"]
[null,"1971-01-01"]
[null,"1971-02-15"]
[null,"1971-04-09"]
[null,"1971-05-31"]
[null,"1971-07-05"]
[null,"1971-09-06"]
[null,"1971-10-11"]
[null,"1971-11-11"]
[null,"1971-11-25"]
[null,"1971-12-24"]
[null,"1972-02-21"]
[null,"1972-03-31"]
[null,"1972-05-29"]
[null,"1972-07-04"]
[null,"1972-09-04"]
[null,"1972-10-09"]
[null,"1972-11-10"]
[null,"1972-11-23"]
[null,"1972-12-25"]
[null,"1973-01-01"]
[null,"1973-02-19"]
[null,"1973-04-20"]
[null,"1973-05-28"]
[null,"1973-07-04"]
[null,"1973-09-03"]
[null,"1973-10-08"]
[null,"1973-11-12"]
[null,"1973-11-22"]
[null,"1973-12-25"]
[null,"1974-01-01"]
[null,"1974-02-18"]
[null,"1974-04-12"]
[null,"1974-05-27"]
[null,"1974-07-04"]
[null,"1974-09-02"]
[null,"1974-10-14"]
[null,"1974-11-11"]
[null,"1974-11-28"]
[null,"1974-12-25"]
[null,"1975-01-01"]
[null,"1975-02-17"]
[null,"1975-03-28"]
[null,"1975-05-26"]
[null,"1975-07-04"]
[null,"1975-09-01"]
[null,"1975-10-13"]
[null,"1975-11-11"]
[null,"1975-11-27"]
[null,"1975-12-25"]
[null,"1976-01-01"]
[null,"1976-02-16"]
[null,"1976-04-16"]
[null,"1976-05-31"]
[null,"1976-07-05"]
[null,"1976-09-06"]
[null,"1976-10-11"]
[null,"1976-11-11"]
[null,"1976-11-25"]
[null,"1976-12-24"]
[null,"1977-01-03"]
[null,"1977-01-17"]
[null,"1977-02-21"]
[null,"1977-04-08"]
[null,"1977-05-30"]
[null,"1977-07-04"]
[null,"1977-09-05"]
[null,"1977-10-10"]
[null,"1977-11-11"]
[null,"1977-11-24"]
[null,"1977-12-26"]
[null,"1978-01-02"]
[null,"1978-02-20"]
[null,"1978-03-24"]
[null,"1978-05-29"]
[null,"1978-07-04"]
[null,"1978-09-04"]
[null,"1978-10-09"]
[null,"1978-11-10"]
[null,"1978-11-23"]
[null,"1978-12-25"]
[null,"1979-01-01"]
[null,"1979-02-19"]
[null,"1979-04-13"]
[null,"1979-05-28"]
[null,"1979-07-04"]
[null,"1979-09-03"]
[null,"1979-10-08"]
[null,"1979-11-12"]
[null,"1979-11-22"]
[null,"1979-12-25"]
[null,"1980-01-01"]
[null,"1980-02-18"]
[null,"1980-04-04"]
[null,"1980-05-26"]
[null,"1980-07-04"]
[null,"1980-09-01"]
[null,"1980-10-13"]
[null,"1980-11-11"]
[null,"1980-11-27"]
[null,"1980-12-25"]
[null,"1981-01-01"]
[null,"1981-02-16"]
[null,"1981-04-17"]
[null,"1981-05-25"]
[null,"1981-07-03"]
[null,"1981-09-07"]
[null,"1981-10-12"]
[null,"1981-11-11"]
[null,"1981-11-26"]
[null,"1981-12-25"]
[null,"1982-01-01"]
[null,"1982-01-18"]
[null,"1982-02-15"]
[null,"1982-04-09"]
[null,"1982-05-31"]
[null,"1982-07-05"]
[null,"1982-09-06"]
[null,"1982-10-11"]
[null,"1982-11-11"]
[null,"1982-11-25"]
[null,"1982-12-24"]
[null,"1983-01-03"]
[null,"1983-02-21"]
[null,"1983-04-01"]
[null,"1983-05-30"]
[null,"1983-07-04"]
[null,"1983-09-05"]
[null,"1983-10-10"]
[null,"1983-11-11"]
[null,"1983-11-24"]
[null,"1983-12-26"]
[null,"1984-01-02"]
[null,"1984-02-20"]
[null,"1984-04-20"]
[null,"1984-05-28"]
[null,"1984-07-04"]
[null,"1984-09-03"]
[null,"1984-10-08"]
[null,"1984-11-12"]
[null,"1984-11-22"]
[null,"1984-12-25"]
[null,"1985-01-01"]
[null,"1985-02-18"]
[null,"1985-04-05"]
[null,"1985-05-27"]
[null,"1985-07-04"]
[null,"1985-09-02"]
[null,"1985-10-14"]
[null,"1985-11-11"]
[null,"1985-11-28"]
[null,"1985-12-25"]
[null,"1986-01-01"]
[null,"1986-01-20"]
[null,"1986-02-17"]
[null,"1986-03-28"]
[null,"1986-05-26"]
[null,"1986-07-04"]
[null,"1986-09-01"]
[null,"1986-10-13"]
[null,"1986-11-11"]
[null,"1986-11-27"]
[null,"1986-12-25"]
[null,"1987-01-01"]
[null,"1987-01-19"]
[null,"1987-02-16"]
[null,"1987-04-17"]
[null,"1987-05-25"]
[null,"1987-07-03"]
[null,"1987-09-07"]
[null,"1987-10-12"]
[null,"1987-11-11"]
[null,"1987-11-26"]
[null,"1987-12-25"]
[null,"1988-01-01"]
[null,"1988-01-18"]
[null,"1988-02-15"]
[null,"1988-04-01"]
[null,"1988-05-30"]
[null,"1988-07-04"]
[null,"1988-09-05"]
[null,"1988-10-10"]
[null,"1988-11-11"]
[null,"1988-11-24"]
[null,"1988-12-26"]
[null,"1989-01-02"]
[null,"1989-01-16"]
[null,"1989-02-20"]
[null,"1989-03-24"]
[null,"1989-05-29"]
[null,"1989-07-04"]
[null,"1989-09-04"]
[null,"1989-10-09"]
[null,"1989-11-10"]
[null,"1989-11-23"]
[null,"1989-12-25"]
[null,"1990-01-01"]
[null,"1990-01-15"]
[null,"1990-02-19"]
[null,"1990-04-13"]
[null,"1990-05-28"]
[null,"1990-07-04"]
[null,"1990-09-03"]
[null,"1990-10-08"]
[null,"1990-11-12"]
[null,"1990-11-22"]
[null,"1990-12-25"]
[null,"1991-01-01"]
[null,"1991-01-21"]
[null,"1991-02-18"]
[null,"1991-03-29"]
[null,"1991-05-27"]
[null,"1991-07-04"]
[null,"1991-09-02"]
[null,"1991-10-14"]
[null,"1991-11-11"]
[null,"1991-11-28"]
[null,"1991-12-25"]
[null,"1992-01-01"]
[null,"1992-01-20"]
[null,"1992-02-17"]
[null,"1992-04-17"]
[null,"1992-05-25"]
[null,"1992-07-03"]
[null,"1992-09-07"]
[null,"1992-10-12"]
[null,"1992-11-11"]
[null,"1992-11-26"]
[null,"1992-12-25"]
[null,"1993-01-01"]
[null,"1993-01-18"]
[null,"1993-02-15"]
[null,"1993-04-09"]
[null,"1993-05-31"]
[null,"1993-07-05"]
[null,"1993-09-06"]
[null,"1993-10-11"]
[null,"1993-11-11"]
[null,"1993-11-25"]
[null,"1993-12-24"]
[null,"1994-01-17"]
[null,"1994-02-21"]
[null,"1994-04-01"]
[null,"1994-05-30"]
[null,"1994-07-04"]
[null,"1994-09-05"]
[null,"1994-10-10"]
[null,"1994-11-11"]
[null,"1994-11-24"]
[null,"1994-12-26"]
[null,"1995-01-02"]
[null,"1995-01-16"]
[null,"1995-02-20"]
[null,"1995-04-14"]
[null,"1995-05-29"]
[null,"1995-07-04"]
[null,"1995-09-04"]
[null,"1995-10-09"]
[null,"1995-11-23"]
[null,"1995-12-25"]
[null,"1996-01-01"]
[null,"1996-01-15"]
[null,"1996-02-19"]
[null,"1996-04-05"]
[null,"1996-05-27"]
[null,"1996-07-04"]
[null,"1996-09-02"]
[null,"1996-10-14"]
[null,"1996-11-11"]
[null,"1996-11-28"]
[null,"1996-12-25"]
[null,"1997-01-01"]
[null,"1997-01-20"]
[null,"1997-02-17"]
[null,"1997-03-28"]
[null,"1997-05-26"]
[null,"1997-07-04"]
[null,"1997-09-01"]
[null,"1997-10-13"]
[null,"1997-11-11"]
[null,"1997-11-27"]
[null,"1997-12-25"]
[null,"1998-01-01"]
[null,"1998-01-19"]
[null,"1998-02-16"]
[null,"1998-04-10"]
[null,"1998-05-25"]
[null,"1998-07-03"]
[null,"1998-09-07"]
[null,"1998-10-12"]
[null,"1998-11-11"]
[null,"1998-11-26"]
[null,"1998-12-25"]
[null,"1999-01-01"]
[null,"1999-01-18"]
[null,"1999-02-15"]
[null,"1999-04-02"]
[null,"1999-05-31"]
[null,"1999-07-05"]
[null,"1999-09-06"]
[null,"1999-10-11"]
[null,"1999-11-11"]
[null,"1999-11-25"]
[null,"1999-12-24"]
[null,"2000-01-17"]
[null,"2000-02-21"]
[null,"2000-04-21"]
[null,"2000-05-29"]
[null,"2000-07-04"]
[null,"2000-09-04"]
[null,"2000-10-09"]
[null,"2000-11-23"]
[null,"2000-12-25"]
[null,"2001-01-01"]
[null,"2001-01-15"]
[null,"2001-02-19"]
[null,"2001-04-13"]
[null,"2001-05-28"]
[null,"2001-07-04"]
[null,"2001-09-03"]
[null,"2001-10-08"]
[null,"2001-11-12"]
[null,"2001-11-22"]
[null,"2001-12-25"]
[null,"2002-01-01"]
[null,"2002-01-21"]
[null,"2002-02-18"]
[null,"2002-03-29"]
[null,"2002-05-27"]
[null,"2002-07-04"]
[null,"2002-09-02"]
[null,"2002-10-14"]
[null,"2002-11-11"]
[null,"2002-11-28"]
[null,"2002-12-25"]
[null,"2003-01-01"]
[null,"2003-01-20"]
[null,"2003-02-17"]
[null,"2003-04-18"]
[null,"2003-05-26"]
[null,"2003-07-04"]
[null,"2003-09-01"]
[null,"2003-10-13"]
[null,"2003-11-11"]
[null,"2003-11-27"]
[null,"2003-12-25"]
[null,"2004-01-01"]
[null,"2004-01-19"]
[null,"2004-02-16"]
[null,"2004-04-09"]
[null,"2004-05-31"]
[null,"2004-07-05"]
[null,"2004-09-06"]
[null,"2004-10-11"]
[null,"2004-11-11"]
[null,"2004-11-25"]
[null,"2004-12-24"]
[null,"2005-01-17"]
[null,"2005-02-21"]
[null,"2005-03-25"]
[null,"2005-05-30"]
[null,"2005-07-04"]
[null,"2005-09-05"]
[null,"2005-10-10"]
[null,"2005-11-11"]
[null,"2005-11-24"]
[null,"2005-12-26"]
[null,"2006-01-02"]
[null,"2006-01-16"]
[null,"2006-02-20"]
[null,"2006-04-14"]
[null,"2006-05-29"]
[null,"2006-07-04"]
[null,"2006-09-04"]
[null,"2006-10-09"]
[null,"2006-11-23"]
[null,"2006-12-25"]
[null,"2007-01-01"]
[null,"2007-01-15"]
[null,"2007-02-19"]
[null,"2007-04-06"]
[null,"2007-05-28"]
[null,"2007-07-04"]
[null,"2007-09-03"]
[null,"2007-10-08"]
[null,"2007-11-12"]
[null,"2007-11-22"]
[null,"2007-12-25"]
[null,"2008-01-01"]
[null,"2008-01-21"]
[null,"2008-02-18"]
[null,"2008-03-21"]
[null,"2008-05-26"]
[null,"2008-07-04"]
[null,"2008-09-01"]
[null,"2008-10-13"]
[null,"2008-11-11"]
[null,"2008-11-27"]
[null,"2008-12-25"]
[null,"2009-01-01"]
[null,"2009-01-19"]
[null,"2009-02-16"]
[null,"2009-04-10"]
[null,"2009-05-25"]
[null,"2009-07-03"]
[null,"2009-09-07"]
[null,"2009-10-12"]
[null,"2009-11-11"]
[null,"2009-11-26"]
[null,"2009-12-25"]
[null,"2010-01-01"]
[null,"2010-01-18"]
[null,"2010-02-15"]
[null,"2010-04-02"]
[null,"2010-05-31"]
[null,"2010-07-05"]
[null,"2010-09-06"]
[null,"2010-10-11"]
[null,"2010-11-11"]
[null,"2010-11-25"]
[null,"2010-12-24"]
[null,"2011-01-17"]
[null,"2011-02-21"]
[null,"2011-04-22"]
[null,"2011-05-30"]
[null,"2011-07-04"]
[null,"2011-09-05"]
[null,"2011-10-10"]
[null,"2011-11-11"]
[null,"2011-11-24"]
[null,"2011-12-26"]
[null,"2012-01-02"]
[null,"2012-01-16"]
[null,"2012-02-20"]
[null,"2012-04-06"]
[null,"2012-05-28"]
[null,"2012-07-04"]
[null,"2012-09-03"]
[null,"2012-10-08"]
[null,"2012-11-12"]
[null,"2012-11-22"]
[null,"2012-12-25"]
[null,"2013-01-01"]
[null,"2013-01-21"]
[null,"2013-02-18"]
[null,"2013-03-29"]
[null,"2013-05-27"]
[null,"2013-07-04"]
[null,"2013-09-02"]
[null,"2013-10-14"]
[null,"2013-11-11"]
[null,"2013-11-28"]
[null,"2013-12-25"]
[null,"2014-01-01"]
[null,"2014-01-20"]
[null,"2014-02-17"]
[null,"2014-04-18"]
[null,"2014-05-26"]
[null,"2014-07-04"]
[null,"2014-09-01"]
[null,"2014-10-13"]
[null,"2014-11-11"]
[null,"2014-11-27"]
[null,"2014-12-25"]
[null,"2015-01-01"]
[null,"2015-01-19"]
[null,"2015-02-16"]
[null,"2015-04-03"]
[null,"2015-05-25"]
[null,"2015-07-03"]
[null,"2015-09-07"]
[null,"2015-10-12"]
[null,"2015-11-11"]
[null,"2015-11-26"]
[null,"2015-12-25"]
[null,"2016-01-01"]
[null,"2016-01-18"]
[null,"2016-02-15"]
[null,"2016-03-25"]
[null,"2016-05-30"]
[null,"2016-07-04"]
[null,"2016-09-05"]
[null,"2016-10-10"]
[null,"2016-11-11"]
[null,"2016-11-24"]
[null,"2016-12-26"]
[null,"2017-01-02"]
[null,"2017-01-16"]
[null,"2017-02-20"]
[null,"2017-04-14"]
[null,"2017-05-29"]
[null,"2017-07-04"]
[null,"2017-09-04"]
[null,"2017-10-09"]
[null,"2017-11-23"]
[null,"2017-12-25"]
[null,"2018-01-01"]
[null,"2018-01-15"]
[null,"2018-02-19"]
[null,"2018-03-30"]
[null,"2018-05-28"]
[null,"2018-07-04"]
[null,"2018-09-03"]
[null,"2018-10-08"]
[null,"2018-11-12"]
[null,"2018-11-22"]
[null,"2018-12-25"]
[null,"2019-01-01"]
[null,"2019-01-21"]
[null,"2019-02-18"]
[null,"2019-04-19"]
[null,"2019-05-27"]
[null,"2019-07-04"]
[null,"2019-09-02"]
[null,"2019-10-14"]
[null,"2019-11-11"]
[null,"2019-11-28"]
[null,"2019-12-25"]
[null,"2020-01-01"]
[null,"2020-01-20"]
[null,"2020-02-17"]
[null,"2020-04-10"]
[null,"2020-05-25"]
[null,"2020-07-03"]
[null,"2020-09-07"]
[null,"2020-10-12"]
[null,"2020-11-11"]
[null,"2020-11-26"]
[null,"2020-12-25"]
[null,"2021-01-01"]
[null,"2021-01-18"]
[null,"2021-02-15"]
[null,"2021-04-02"]
[null,"2021-05-31"]
[null,"2021-07-05"]
[null,"2021-09-06"]
[null,"2021-10-11"]
[null,"2021-11-11"]
[null,"2021-11-25"]
[null,"2021-12-24"]
[null,"2022-01-17"]
[null,"2022-02-21"]
[null,"2022-04-15"]
[null,"2022-05-30"]
[null,"2022-06-20"]
[null,"2022-07-04"]
[null,"2022-09-05"]
[null,"2022-10-10"]
[null,"2022-11-11"]
[null,"2022-11-24"]
[null,"2022-12-26"]
[null,"2023-01-02"]
[null,"2023-01-16"]
[null,"2023-02-20"]
[null,"2023-04-07"]
[null,"2023-05-29"]
[null,"2023-06-19"]
[null,"2023-07-04"]
[null,"2023-09-04"]
[null,"2023-10-09"]
[null,"2023-11-23"]
[null,"2023-12-25"]
[null,"2024-01-01"]
[null,"2024-01-15"]
[null,"2024-02-19"]
[null,"2024-03-29"]
[null,"2024-05-27"]
[null,"2024-06-19"]
[null,"2024-07-04"]
[null,"2024-09-02"]
[null,"2024-10-14"]
[null,"2024-11-11"]
[null,"2024-11-28"]
[null,"2024-12-25"]
[null,"2025-01-01"]
[null,"2025-01-20"]
[null,"2025-02-17"]
[null,"2025-04-18"]
[null,"2025-05-26"]
[null,"2025-06-19"]
[null,"2025-07-04"]
[null,"2025-09-01"]
[null,"2025-10-13"]
[null,"2025-11-11"]
[null,"2025-11-27"]
[null,"2025-12-25"]
[null,"2026-01-01"]
[null,"2026-01-19"]
[null,"2026-02-16"]
[null,"2026-04-03"]
[null,"2026-05-25"]
[null,"2026-06-19"]
[null,"2026-07-03"]
[null,"2026-09-07"]
[null,"2026-10-12"]
[null,"2026-11-11"]
[null,"2026-11-26"]
[null,"2026-12-25"]
[null,"2027-01-01"]
[null,"2027-01-18"]
[null,"2027-02-15"]
[null,"2027-03-26"]
[null,"2027-05-31"]
[null,"2027-06-18"]
[null,"2027-07-05"]
[null,"2027-09-06"]
[null,"2027-10-11"]
[null,"2027-11-11"]
[null,"2027-11-25"]
[null,"2027-12-24"]
[null,"2028-01-17"]
[null,"2028-02-21"]
[null,"2028-04-14"]
[null,"2028-05-29"]
[null,"2028-06-19"]
[null,"2028-07-04"]
[null,"2028-09-04"]
[null,"2028-10-09"]
[null,"2028-11-23"]
[null,"2028-12-25"]
[null,"2029-01-01"]
[null,"2029-01-15"]
[null,"2029-02-19"]
[null,"2029-03-30"]
[null,"2029-05-28"]
[null,"2029-06-19"]
[null,"2029-07-04"]
[null,"2029-09-03"]
[null,"2029-10-08"]
[null,"2029-11-12"]
[null,"2029-11-22"]
[null,"2029-12-25"]
[null,"2030-01-01"]
[null,"2030-01-21"]
[null,"2030-02-18"]
[null,"2030-04-19"]
[null,"2030-05-27"]
[null,"2030-06-19"]
[null,"2030-07-04"]
[null,"2030-09-02"]
[null,"2030-10-14"]
[null,"2030-11-11"]
[null,"2030-11-28"]
[null,"2030-12-25"]
[null,"2031-01-01"]
[null,"2031-01-20"]
[null,"2031-02-17"]
[null,"2031-04-11"]
[null,"2031-05-26"]
[null,"2031-06-19"]
[null,"2031-07-04"]
[null,"2031-09-01"]
[null,"2031-10-13"]
[null,"2031-11-11"]
[null,"2031-11-27"]
[null,"2031-12-25"]
[null,"2032-01-01"]
[null,"2032-01-19"]
[null,"2032-02-16"]
[null,"2032-03-26"]
[null,"2032-05-31"]
[null,"2032-06-18"]
[null,"2032-07-05"]
[null,"2032-09-06"]
[null,"2032-10-11"]
[null,"2032-11-11"]
[null,"2032-11-25"]
[null,"2032-12-24"]
[null,"2033-01-17"]
[null,"2033-02-21"]
[null,"2033-04-15"]
[null,"2033-05-30"]
[null,"2033-06-20"]
[null,"2033-07-04"]
[null,"2033-09-05"]
[null,"2033-10-10"]
[null,"2033-11-11"]
[null,"2033-11-24"]
[null,"2033-12-26"]
[null,"2034-01-02"]
[null,"2034-01-16"]
[null,"2034-02-20"]
[null,"2034-04-07"]
[null,"2034-05-29"]
[null,"2034-06-19"]
[null,"2034-07-04"]
[null,"2034-09-04"]
[null,"2034-10-09"]
[null,"2034-11-23"]
[null,"2034-12-25"]
[null,"2035-01-01"]
[null,"2035-01-15"]
[null,"2035-02-19"]
[null,"2035-03-23"]
[null,"2035-05-28"]
[null,"2035-06-19"]
[null,"2035-07-04"]
[null,"2035-09-03"]
[null,"2035-10-08"]
[null,"2035-11-12"]
[null,"2035-11-22"]
[null,"2035-12-25"]
[null,"2036-01-01"]
[null,"2036-01-21"]
[null,"2036-02-18"]
[null,"2036-04-11"]
[null,"2036-05-26"]
[null,"2036-06-19"]
[null,"2036-07-04"]
[null,"2036-09-01"]
[null,"2036-10-13"]
[null,"2036-11-11"]
[null,"2036-11-27"]
[null,"2036-12-25"]
[null,"2037-01-01"]
[null,"2037-01-19"]
[null,"2037-02-16"]
[null,"2037-04-03"]
[null,"2037-05-25"]
[null,"2037-06-19"]
[null,"2037-07-03"]
[null,"2037-09-07"]
[null,"2037-10-12"]
[null,"2037-11-11"]
[null,"2037-11-26"]
[null,"2037-12-25"]
[null,"2038-01-01"]
[null,"2038-01-18"]
[null,"2038-02-15"]
[null,"2038-04-23"]
[null,"2038-05-31"]
[null,"2038-06-18"]
[null,"2038-07-05"]
[null,"2038-09-06"]
[null,"2038-10-11"]
[null,"2038-11-11"]
[null,"2038-11-25"]
[null,"2038-12-24"]
[null,"2039-01-17"]
[null,"2039-02-21"]
[null,"2039-04-08"]
[null,"2039-05-30"]
[null,"2039-06-20"]
[null,"2039-07-04"]
[null,"2039-09-05"]
[null,"2039-10-10"]
[null,"2039-11-11"]
[null,"2039-11-24"]
[null,"2039-12-26"]
[null,"2040-01-02"]
[null,"2040-01-16"]
[null,"2040-02-20"]
[null,"2040-03-30"]
[null,"2040-05-28"]
[null,"2040-06-19"]
[null,"2040-07-04"]
[null,"2040-09-03"]
[null,"2040-10-08"]
[null,"2040-11-12"]
[null,"2040-11-22"]
[null,"2040-12-25"]
[null,"2041-01-01"]
[null,"2041-01-21"]
[null,"2041-02-18"]
[null,"2041-04-19"]
[null,"2041-05-27"]
[null,"2041-06-19"]
[null,"2041-07-04"]
[null,"2041-09-02"]
[null,"2041-10-14"]
[null,"2041-11-11"]
[null,"2041-11-28"]
[null,"2041-12-25"]
[null,"2042-01-01"]
[null,"2042-01-20"]
[null,"2042-02-17"]
[null,"2042-04-04"]
[null,"2042-05-26"]
[null,"2042-06-19"]
[null,"2042-07-04"]
[null,"2042-09-01"]
[null,"2042-10-13"]
[null,"2042-11-11"]
[null,"2042-11-27"]
[null,"2042-12-25"]
[null,"2043-01-01"]
[null,"2043-01-19"]
[null,"2043-02-16"]
[null,"2043-03-27"]
[null,"2043-05-25"]
[null,"2043-06-19"]
[null,"2043-07-03"]
[null,"2043-09-07"]
[null,"2043-10-12"]
[null,"2043-11-11"]
[null,"2043-11-26"]
[null,"2043-12-25"]
[null,"2044-01-01"]
[null,"2044-01-18"]
[null,"2044-02-15"]
[null,"2044-04-15"]
[null,"2044-05-30"]
[null,"2044-06-20"]
[null,"2044-07-04"]
[null,"2044-09-05"]
[null,"2044-10-10"]
[null,"2044-11-11"]
[null,"2044-11-24"]
[null,"2044-12-26"]
[null,"2045-01-02"]
[null,"2045-01-16"]
[null,"2045-02-20"]
[null,"2045-04-07"]
[null,"2045-05-29"]
[null,"2045-06-19"]
[null,"2045-07-04"]
[null,"2045-09-04"]
[null,"2045-10-09"]
[null,"2045-11-23"]
[null,"2045-12-25"]
[null,"2046-01-01"]
[null,"2046-01-15"]
[null,"2046-02-19"]
[null,"2046-03-23"]
[null,"2046-05-28"]
[null,"2046-06-19"]
[null,"2046-07-04"]
[null,"2046-09-03"]
[null,"2046-10-08"]
[null,"2046-11-12"]
[null,"2046-11-22"]
[null,"2046-12-25"]
[null,"2047-01-01"]
[null,"2047-01-21"]
[null,"2047-02-18"]
[null,"2047-04-12"]
[null,"2047-05-27"]
[null,"2047-06-19"]
[null,"2047-07-04"]
[null,"2047-09-02"]
[null,"2047-10-14"]
[null,"2047-11-11"]
[null,"2047-11-28"]
[null,"2047-12-25"]
[null,"2048-01-01"]
[null,"2048-01-20"]
[null,"2048-02-17"]
[null,"2048-04-03"]
[null,"2048-05-25"]
[null,"2048-06-19"]
[null,"2048-07-03"]
[null,"2048-09-07"]
[null,"2048-10-12"]
[null,"2048-11-11"]
[null,"2048-11-26"]
[null,"2048-12-25"]
[null,"2049-01-01"]
[null,"2049-01-18"]
[null,"2049-02-15"]
[null,"2049-04-16"]
[null,"2049-05-31"]
[null,"2049-06-18"]
[null,"2049-07-05"]
[null,"2049-09-06"]
[null,"2049-10-11"]
[null,"2049-11-11"]
[null,"2049-11-25"]
[null,"2049-12-24"]
[null,"2050-01-17"]
[null,"2050-02-21"]
[null,"2050-04-08"]
[null,"2050-05-30"]
[null,"2050-06-20"]
[null,"2050-07-04"]
[null,"2050-09-05"]
[null,"2050-10-10"]
[null,"2050-11-11"]
[null,"2050-11-24"]
[null,"2050-12-26"]
[null,"2051-01-02"]
[null,"2051-01-16"]
[null,"2051-02-20"]
[null,"2051-03-31"]
[null,"2051-05-29"]
[null,"2051-06-19"]
[null,"2051-07-04"]
[null,"2051-09-04"]
[null,"2051-10-09"]
[null,"2051-11-23"]
[null,"2051-12-25"]
[null,"2052-01-01"]
[null,"2052-01-15"]
[null,"2052-02-19"]
[null,"2052-04-19"]
[null,"2052-05-27"]
[null,"2052-06-19"]
[null,"2052-07-04"]
[null,"2052-09-02"]
[null,"2052-10-14"]
[null,"2052-11-11"]
[null,"2052-11-28"]
[null,"2052-12-25"]
[null,"2053-01-01"]
[null,"2053-01-20"]
[null,"2053-02-17"]
[null,"2053-04-04"]
[null,"2053-05-26"]
[null,"2053-06-19"]
[null,"2053-07-04"]
[null,"2053-09-01"]
[null,"2053-10-13"]
[null,"2053-11-11"]
[null,"2053-11-27"]
[null,"2053-12-25"]
[null,"2054-01-01"]
[null,"2054-01-19"]
[null,"2054-02-16"]
[null,"2054-03-27"]
[null,"2054-05-25"]
[null,"2054-06-19"]
[null,"2054-07-03"]
[null,"2054-09-07"]
[null,"2054-10-12"]
[null,"2054-11-11"]
[null,"2054-11-26"]
[null,"2054-12-25"]
[null,"2055-01-01"]
[null,"2055-01-18"]
[null,"2055-02-15"]
[null,"2055-04-16"]
[null,"2055-05-31"]
[null,"2055-06-18"]
[null,"2055-07-05"]
[null,"2055-09-06"]
[null,"2055-10-11"]
[null,"2055-11-11"]
[null,"2055-11-25"]
[null,"2055-12-24"]
[null,"2056-01-17"]
[null,"2056-02-21"]
[null,"2056-03-31"]
[null,"2056-05-29"]
[null,"2056-06-19"]
[null,"2056-07-04"]
[null,"2056-09-04"]
[null,"2056-10-09"]
[null,"2056-11-23"]
[null,"2056-12-25"]
[null,"2057-01-01"]
[null,"2057-01-15"]
[null,"2057-02-19"]
[null,"2057-04-20"]
[null,"2057-05-28"]
[null,"2057-06-19"]
[null,"2057-07-04"]
[null,"2057-09-03"]
[null,"2057-10-08"]
[null,"2057-11-12"]
[null,"2057-11-22"]
[null,"2057-12-25"]
[null,"2058-01-01"]
[null,"2058-01-21"]
[null,"2058-02-18"]
[null,"2058-04-12"]
[null,"2058-05-27"]
[null,"2058-06-19"]
[null,"2058-07-04"]
[null,"2058-09-02"]
[null,"2058-10-14"]
[null,"2058-11-11"]
[null,"2058-11-28"]
[null,"2058-12-25"]
[null,"2059-01-01"]
[null,"2059-01-20"]
[null,"2059-02-17"]
[null,"2059-03-28"]
[null,"2059-05-26"]
[null,"2059-06-19"]
[null,"2059-07-04"]
[null,"2059-09-01"]
[null,"2059-10-13"]
[null,"2059-11-11"]
[null,"2059-11-27"]
[null,"2059-12-25"]
[null,"2060-01-01"]
[null,"2060-01-19"]
[null,"2060-02-16"]
[null,"2060-04-16"]
[null,"2060-05-31"]
[null,"2060-06-18"]
[null,"2060-07-05"]
[null,"2060-09-06"]
[null,"2060-10-11"]
[null,"2060-11-11"]
[null,"2060-11-25"]
[null,"2060-12-24"]
[null,"2061-01-17"]
[null,"2061-02-21"]
[null,"2061-04-08"]
[null,"2061-05-30"]
[null,"2061-06-20"]
[null,"2061-07-04"]
[null,"2061-09-05"]
[null,"2061-10-10"]
[null,"2061-11-11"]
[null,"2061-11-24"]
[null,"2061-12-26"]
[null,"2062-01-02"]
[null,"2062-01-16"]
[null,"2062-02-20"]
[null,"2062-03-24"]
[null,"2062-05-29"]
[null,"2062-06-19"]
[null,"2062-07-04"]
[null,"2062-09-04"]
[null,"2062-10-09"]
[null,"2062-11-23"]
[null,"2062-12-25"]
[null,"2063-01-01"]
[null,"2063-01-15"]
[null,"2063-02-19"]
[null,"2063-04-13"]
[null,"2063-05-28"]
[null,"2063-06-19"]
[null,"2063-07-04"]
[null,"2063-09-03"]
[null,"2063-10-08"]
[null,"2063-11-12"]
[null,"2063-11-22"]
[null,"2063-12-25"]
[null,"2064-01-01"]
[null,"2064-01-21"]
[null,"2064-02-18"]
[null,"2064-04-04"]
[null,"2064-05-26"]
[null,"2064-06-19"]
[null,"2064-07-04"]
[null,"2064-09-01"]
[null,"2064-10-13"]
[null,"2064-11-11"]
[null,"2064-11-27"]
[null,"2064-12-25"]
[null,"2065-01-01"]
[null,"2065-01-19"]
[null,"2065-02-16"]
[null,"2065-03-27"]
[null,"2065-05-25"]
[null,"2065-06-19"]
[null,"2065-07-03"]
[null,"2065-09-07"]
[null,"2065-10-12"]
[null,"2065-11-11"]
[null,"2065-11-26"]
[null,"2065-12-25"]
[null,"2066-01-01"]
[null,"2066-01-18"]
[null,"2066-02-15"]
[null,"2066-04-09"]
[null,"2066-05-31"]
[null,"2066-06-18"]
[null,"2066-07-05"]
[null,"2066-09-06"]
[null,"2066-10-11"]
[null,"2066-11-11"]
[null,"2066-11-25"]
[null,"2066-12-24"]
[null,"2067-01-17"]
[null,"2067-02-21"]
[null,"2067-04-01"]
[null,"2067-05-30"]
[null,"2067-06-20"]
[null,"2067-07-04"]
[null,"2067-09-05"]
[null,"2067-10-10"]
[null,"2067-11-11"]
[null,"2067-11-24"]
[null,"2067-12-26"]
[null,"2068-01-02"]
[null,"2068-01-16"]
[null,"2068-02-20"]
[null,"2068-04-20"]
[null,"2068-05-28"]
[null,"2068-06-19"]
[null,"2068-07-04"]
[null,"2068-09-03"]
[null,"2068-10-08"]
[null,"2068-11-12"]
[null,"2068-11-22"]
[null,"2068-12-25"]
[null,"2069-01-01"]
[null,"2069-01-21"]
[null,"2069-02-18"]
[null,"2069-04-12"]
[null,"2069-05-27"]
[null,"2069-06-19"]
[null,"2069-07-04"]
[null,"2069-09-02"]
[null,"2069-10-14"]
[null,"2069-11-11"]
[null,"2069-11-28"]
[null,"2069-12-25"]
[null,"2070-01-01"]
[null,"2070-01-20"]
[null,"2070-02-17"]
[null,"2070-03-28"]
[null,"2070-05-26"]
[null,"2070-06-19"]
[null,"2070-07-04"]
[null,"2070-09-01"]
[null,"2070-10-13"]
[null,"2070-11-11"]
[null,"2070-11-27"]
[null,"2070-12-25"]
[null,"2071-01-01"]
[null,"2071-01-19"]
[null,"2071-02-16"]
[null,"2071-04-17"]
[null,"2071-05-25"]
[null,"2071-06-19"]
[null,"2071-07-03"]
[null,"2071-09-07"]
[null,"2071-10-12"]
[null,"2071-11-11"]
[null,"2071-11-26"]
[null,"2071-12-25"]
[null,"2072-01-01"]
[null,"2072-01-18"]
[null,"2072-02-15"]
[null,"2072-04-08"]
[null,"2072-05-30"]
[null,"2072-06-20"]
[null,"2072-07-04"]
[null,"2072-09-05"]
[null,"2072-10-10"]
[null,"2072-11-11"]
[null,"2072-11-24"]
[null,"2072-12-26"]
[null,"2073-01-02"]
[null,"2073-01-16"]
[null,"2073-02-20"]
[null,"2073-03-24"]
[null,"2073-05-29"]
[null,"2073-06-19"]
[null,"2073-07-04"]
[null,"2073-09-04"]
[null,"2073-10-09"]
[null,"2073-11-23"]
[null,"2073-12-25"]
[null,"2074-01-01"]
[null,"2074-01-15"]
[null,"2074-02-19"]
[null,"2074-04-13"]
[null,"2074-05-28"]
[null,"2074-06-19"]
[null,"2074-07-04"]
[null,"2074-09-03"]
[null,"2074-10-08"]
[null,"2074-11-12"]
[null,"2074-11-22"]
[null,"2074-12-25"]
[null,"2075-01-01"]
[null,"2075-01-21"]
[null,"2075-02-18"]
[null,"2075-04-05"]
[null,"2075-05-27"]
[null,"2075-06-19"]
[null,"2075-07-04"]
[null,"2075-09-02"]
[null,"2075-10-14"]
[null,"2075-11-11"]
[null,"2075-11-28"]
[null,"2075-12-25"]
[null,"2076-01-01"]
[null,"2076-01-20"]
[null,"2076-02-17"]
[null,"2076-04-17"]
[null,"2076-05-25"]
[null,"2076-06-19"]
[null,"2076-07-03"]
[null,"2076-09-07"]
[null,"2076-10-12"]
[null,"2076-11-11"]
[null,"2076-11-26"]
[null,"2076-12-25"]
[null,"2077-01-01"]
[null,"2077-01-18"]
[null,"2077-02-15"]
[null,"2077-04-09"]
[null,"2077-05-31"]
[null,"2077-06-18"]
[null,"2077-07-05"]
[null,"2077-09-06"]
[null,"2077-10-11"]
[null,"2077-11-11"]
[null,"2077-11-25"]
[null,"2077-12-24"]
[null,"2078-01-17"]
[null,"2078-02-21"]
[null,"2078-04-01"]
[null,"2078-05-30"]
[null,"2078-06-20"]
[null,"2078-07-04"]
[null,"2078-09-05"]
[null,"2078-10-10"]
[null,"2078-11-11"]
[null,"2078-11-24"]
[null,"2078-12-26"]
[null,"2079-01-02"]
[null,"2079-01-16"]
[null,"2079-02-20"]
[null,"2079-04-21"]
[null,"2079-05-29"]
[null,"2079-06-19"]
[null,"2079-07-04"]
[null,"2079-09-04"]
[null,"2079-10-09"]
[null,"2079-11-23"]
[null,"2079-12-25"]
[null,"2080-01-01"]
[null,"2080-01-15"]
[null,"2080-02-19"]
[null,"2080-04-05"]
[null,"2080-05-27"]
[null,"2080-06-19"]
[null,"2080-07-04"]
[null,"2080-09-02"]
[null,"2080-10-14"]
[null,"2080-11-11"]
[null,"2080-11-28"]
[null,"2080-12-25"]
[null,"2081-01-01"]
[null,"2081-01-20"]
[null,"2081-02-17"]
[null,"2081-03-28"]
[null,"2081-05-26"]
[null,"2081-06-19"]
[null,"2081-07-04"]
[null,"2081-09-01"]
[null,"2081-10-13"]
[null,"2081-11-11"]
[null,"2081-11-27"]
[null,"2081-12-25"]
[null,"2082-01-01"]
[null,"2082-01-19"]
[null,"2082-02-16"]
[null,"2082-04-17"]
[null,"2082-05-25"]
[null,"2082-06-19"]
[null,"2082-07-03"]
[null,"2082-09-07"]
[null,"2082-10-12"]
[null,"2082-11-11"]
[null,"2082-11-26"]
[null,"2082-12-25"]
[null,"2083-01-01"]
[null,"2083-01-18"]
[null,"2083-02-15"]
[null,"2083-04-02"]
[null,"2083-05-31"]
[null,"2083-06-18"]
[null,"2083-07-05"]
[null,"2083-09-06"]
[null,"2083-10-11"]
[null,"2083-11-11"]
[null,"2083-11-25"]
[null,"2083-12-24"]
[null,"2084-01-17"]
[null,"2084-02-21"]
[null,"2084-03-24"]
[null,"2084-05-29"]
[null,"2084-06-19"]
[null,"2084-07-04"]
[null,"2084-09-04"]
[null,"2084-10-09"]
[null,"2084-11-23"]
[null,"2084-12-25"]
[null,"2085-01-01"]
[null,"2085-01-15"]
[null,"2085-02-19"]
[null,"2085-04-13"]
[null,"2085-05-28"]
[null,"2085-06-19"]
[null,"2085-07-04"]
[null,"2085-09-03"]
[null,"2085-10-08"]
[null,"2085-11-12"]
[null,"2085-11-22"]
[null,"2085-12-25"]
[null,"2086-01-01"]
[null,"2086-01-21"]
[null,"2086-02-18"]
[null,"2086-03-29"]
[null,"2086-05-27"]
[null,"2086-06-19"]
[null,"2086-07-04"]
[null,"2086-09-02"]
[null,"2086-10-14"]
[null,"2086-11-11"]
[null,"2086-11-28"]
[null,"2086-12-25"]
[null,"2087-01-01"]
[null,"2087-01-20"]
[null,"2087-02-17"]
[null,"2087-04-18"]
[null,"2087-05-26"]
[null,"2087-06-19"]
[null,"2087-07-04"]
[null,"2087-09-01"]
[null,"2087-10-13"]
[null,"2087-11-11"]
[null,"2087-11-27"]
[null,"2087-12-25"]
[null,"2088-01-01"]
[null,"2088-01-19"]
[null,"2088-02-16"]
[null,"2088-04-09"]
[null,"2088-05-31"]
[null,"2088-06-18"]
[null,"2088-07-05"]
[null,"2088-09-06"]
[null,"2088-10-11"]
[null,"2088-11-11"]
[null,"2088-11-25"]
[null,"2088-12-24"]
[null,"2089-01-17"]
[null,"2089-02-21"]
[null,"2089-04-01"]
[null,"2089-05-30"]
[null,"2089-06-20"]
[null,"2089-07-04"]
[null,"2089-09-05"]
[null,"2089-10-10"]
[null,"2089-11-11"]
[null,"2089-11-24"]
[null,"2089-12-26"]
[null,"2090-01-02"]
[null,"2090-01-16"]
[null,"2090-02-20"]
[null,"2090-04-14"]
[null,"2090-05-29"]
[null,"2090-06-19"]
[null,"2090-07-04"]
[null,"2090-09-04"]
[null,"2090-10-09"]
[null,"2090-11-23"]
[null,"2090-12-25"]
[null,"2091-01-01"]
[null,"2091-01-15"]
[null,"2091-02-19"]
[null,"2091-04-06"]
[null,"2091-05-28"]
[null,"2091-06-19"]
[null,"2091-07-04"]
[null,"2091-09-03"]
[null,"2091-10-08"]
[null,"2091-11-12"]
[null,"2091-11-22"]
[null,"2091-12-25"]
[null,"2092-01-01"]
[null,"2092-01-21"]
[null,"2092-02-18"]
[null,"2092-03-28"]
[null,"2092-05-26"]
[null,"2092-06-19"]
[null,"2092-07-04"]
[null,"2092-09-01"]
[null,"2092-10-13"]
[null,"2092-11-11"]
[null,"2092-11-27"]
[null,"2092-12-25"]
[null,"2093-01-01"]
[null,"2093-01-19"]
[null,"2093-02-16"]
[null,"2093-04-10"]
[null,"2093-05-25"]
[null,"2093-06-19"]
[null,"2093-07-03"]
[null,"2093-09-07"]
[null,"2093-10-12"]
[null,"2093-11-11"]
[null,"2093-11-26"]
[null,"2093-12-25"]
[null,"2094-01-01"]
[null,"2094-01-18"]
[null,"2094-02-15"]
[null,"2094-04-02"]
[null,"2094-05-31"]
[null,"2094-06-18"]
[null,"2094-07-05"]
[null,"2094-09-06"]
[null,"2094-10-11"]
[null,"2094-11-11"]
[null,"2094-11-25"]
[null,"2094-12-24"]
[null,"2095-01-17"]
[null,"2095-02-21"]
[null,"2095-04-22"]
[null,"2095-05-30"]
[null,"2095-06-20"]
[null,"2095-07-04"]
[null,"2095-09-05"]
[null,"2095-10-10"]
[null,"2095-11-11"]
[null,"2095-11-24"]
[null,"2095-12-26"]
[null,"2096-01-02"]
[null,"2096-01-16"]
[null,"2096-02-20"]
[null,"2096-04-13"]
[null,"2096-05-28"]
[null,"2096-06-19"]
[null,"2096-07-04"]
[null,"2096-09-03"]
[null,"2096-10-08"]
[null,"2096-11-12"]
[null,"2096-11-22"]
[null,"2096-12-25"]
[null,"2097-01-01"]
[null,"2097-01-21"]
[null,"2097-02-18"]
[null,"2097-03-29"]
[null,"2097-05-27"]
[null,"2097-06-19"]
[null,"2097-07-04"]
[null,"2097-09-02"]
[null,"2097-10-14"]
[null,"2097-11-11"]
[null,"2097-11-28"]
[null,"2097-12-25"]
[null,"2098-01-01"]
[null,"2098-01-20"]
[null,"2098-02-17"]
[null,"2098-04-18"]
[null,"2098-05-26"]
[null,"2098-06-19"]
[null,"2098-07-04"]
[null,"2098-09-01"]
[null,"2098-10-13"]
[null,"2098-11-11"]
[null,"2098-11-27"]
[null,"2098-12-25"]
[null,"2099-01-01"]
[null,"2099-01-19"]
[null,"2099-02-16"]
[null,"2099-04-10"]
[null,"2099-05-25"]
[null,"2099-06-19"]
[null,"2099-07-03"]
[null,"2099-09-07"]
[null,"2099-10-12"]
[null,"2099-11-11"]
[null,"2099-11-26"]
[null,"2099-12-25"]
[null,"2100-01-01"]
[null,"2100-01-18"]
[null,"2100-02-15"]
[null,"2100-03-26"]
[null,"2100-05-31"]
[null,"2100-06-18"]
[null,"2100-07-05"]
[null,"2100-09-06"]
[null,"2100-10-11"]
[null,"2100-11-11"]
[null,"2100-11-25"]
[null,"2100-12-24"]
[null,"2101-01-17"]
[null,"2101-02-21"]
[null,"2101-04-15"]
[null,"2101-05-30"]
[null,"2101-06-20"]
[null,"2101-07-04"]
[null,"2101-09-05"]
[null,"2101-10-10"]
[null,"2101-11-11"]
[null,"2101-11-24"]
[null,"2101-12-26"]
[null,"2102-01-02"]
[null,"2102-01-16"]
[null,"2102-02-20"]
[null,"2102-04-07"]
[null,"2102-05-29"]
[null,"2102-06-19"]
[null,"2102-07-04"]
[null,"2102-09-04"]
[null,"2102-10-09"]
[null,"2102-11-23"]
[null,"2102-12-25"]
[null,"2103-01-01"]
[null,"2103-01-15"]
[null,"2103-02-19"]
[null,"2103-03-23"]
[null,"2103-05-28"]
[null,"2103-06-19"]
[null,"2103-07-04"]
[null,"2103-09-03"]
[null,"2103-10-08"]
[null,"2103-11-12"]
[null,"2103-11-22"]
[null,"2103-12-25"]
[null,"2104-01-01"]
[null,"2104-01-21"]
[null,"2104-02-18"]
[null,"2104-04-11"]
[null,"2104-05-26"]
[null,"2104-06-19"]
[null,"2104-07-04"]
[null,"2104-09-01"]
[null,"2104-10-13"]
[null,"2104-11-11"]
[null,"2104-11-27"]
[null,"2104-12-25"]
[null,"2105-01-01"]
[null,"2105-01-19"]
[null,"2105-02-16"]
[null,"2105-04-03"]
[null,"2105-05-25"]
[null,"2105-06-19"]
[null,"2105-07-03"]
[null,"2105-09-07"]
[null,"2105-10-12"]
[null,"2105-11-11"]
[null,"2105-11-26"]
[null,"2105-12-25"]
[null,"2106-01-01"]
[null,"2106-01-18"]
[null,"2106-02-15"]
[null,"2106-04-16"]
[null,"2106-05-31"]
[null,"2106-06-18"]
[null,"2106-07-05"]
[null,"2106-09-06"]
[null,"2106-10-11"]
[null,"2106-11-11"]
[null,"2106-11-25"]
[null,"2106-12-24"]
[null,"2107-01-17"]
[null,"2107-02-21"]
[null,"2107-04-08"]
[null,"2107-05-30"]
[null,"2107-06-20"]
[null,"2107-07-04"]
[null,"2107-09-05"]
[null,"2107-10-10"]
[null,"2107-11-11"]
[null,"2107-11-24"]
[null,"2107-12-26"]
[null,"2108-01-02"]
[null,"2108-01-16"]
[null,"2108-02-20"]
[null,"2108-03-30"]
[null,"2108-05-28"]
[null,"2108-06-19"]
[null,"2108-07-04"]
[null,"2108-09-03"]
[null,"2108-10-08"]
[null,"2108-11-12"]
[null,"2108-11-22"]
[null,"2108-12-25"]
[null,"2109-01-01"]
[null,"2109-01-21"]
[null,"2109-02-18"]
[null,"2109-04-19"]
[null,"2109-05-27"]
[null,"2109-06-19"]
[null,"2109-07-04"]
[null,"2109-09-02"]
[null,"2109-10-14"]
[null,"2109-11-11"]
[null,"2109-11-28"]
[null,"2109-12-25"]
[null,"2110-01-01"]
[null,"2110-01-20"]
[null,"2110-02-17"]
[null,"2110-04-04"]
[null,"2110-05-26"]
[null,"2110-06-19"]
[null,"2110-07-04"]
[null,"2110-09-01"]
[null,"2110-10-13"]
[null,"2110-11-11"]
[null,"2110-11-27"]
[null,"2110-12-25"]
[null,"2111-01-01"]
[null,"2111-01-19"]
[null,"2111-02-16"]
[null,"2111-03-27"]
[null,"2111-05-25"]
[null,"2111-06-19"]
[null,"2111-07-03"]
[null,"2111-09-07"]
[null,"2111-10-12"]
[null,"2111-11-11"]
[null,"2111-11-26"]
[null,"2111-12-25"]
[null,"2112-01-01"]
[null,"2112-01-18"]
[null,"2112-02-15"]
[null,"2112-04-15"]
[null,"2112-05-30"]
[null,"2112-06-20"]
[null,"2112-07-04"]
[null,"2112-09-05"]
[null,"2112-10-10"]
[null,"2112-11-11"]
[null,"2112-11-24"]
[null,"2112-12-26"]
[null,"2113-01-02"]
[null,"2113-01-16"]
[null,"2113-02-20"]
[null,"2113-03-31"]
[null,"2113-05-29"]
[null,"2113-06-19"]
[null,"2113-07-04"]
[null,"2113-09-04"]
[null,"2113-10-09"]
[null,"2113-11-23"]
[null,"2113-12-25"]
[null,"2114-01-01"]
[null,"2114-01-15"]
[null,"2114-02-19"]
[null,"2114-04-20"]
[null,"2114-05-28"]
[null,"2114-06-19"]
[null,"2114-07-04"]
[null,"2114-09-03"]
[null,"2114-10-08"]
[null,"2114-11-12"]
[null,"2114-11-22"]
[null,"2114-12-25"]
[null,"2115-01-01"]
[null,"2115-01-21"]
[null,"2115-02-18"]
[null,"2115-04-12"]
[null,"2115-05-27"]
[null,"2115-06-19"]
[null,"2115-07-04"]
[null,"2115-09-02"]
[null,"2115-10-14"]
[null,"2115-11-11"]
[null,"2115-11-28"]
[null,"2115-12-25"]
[null,"2116-01-01"]
[null,"2116-01-20"]
[null,"2116-02-17"]
[null,"2116-03-27"]
[null,"2116-05-25"]
[null,"2116-06-19"]
[null,"2116-07-03"]
[null,"2116-09-07"]
[null,"2116-10-12"]
[null,"2116-11-11"]
[null,"2116-11-26"]
[null,"2116-12-25"]
[null,"2117-01-01"]
[null,"2117-01-18"]
[null,"2117-02-15"]
[null,"2117-04-16"]
[null,"2117-05-31"]
[null,"2117-06-18"]
[null,"2117-07-05"]
[null,"2117-09-06"]
[null,"2117-10-11"]
[null,"2117-11-11"]
[null,"2117-11-25"]
[null,"2117-12-24"]
[null,"2118-01-17"]
[null,"2118-02-21"]
[null,"2118-04-08"]
[null,"2118-05-30"]
[null,"2118-06-20"]
[null,"2118-07-04"]
[null,"2118-09-05"]
[null,"2118-10-10"]
[null,"2118-11-11"]
[null,"2118-11-24"]
[null,"2118-12-26"]
[null,"2119-01-02"]
[null,"2119-01-16"]
[null,"2119-02-20"]
[null,"2119-03-24"]
[null,"2119-05-29"]
[null,"2119-06-19"]
[null,"2119-07-04"]
[null,"2119-09-04"]
[null,"2119-10-09"]
[null,"2119-11-13"]
[null,"2119-11-23"]
[null,"2119-12-25"]
[null,"2120-01-01"]
[null,"2120-01-15"]
[null,"2120-02-19"]
[null,"2120-04-12"]
[null,"2120-05-27"]
[null,"2120-06-19"]
[null,"2120-07-04"]
[null,"2120-09-02"]
[null,"2120-10-14"]
[null,"2120-11-11"]
[null,"2120-11-28"]
[null,"2120-12-25"]
[null,"2121-01-01"]
[null,"2121-01-20"]
[null,"2121-02-17"]
[null,"2121-04-04"]
[null,"2121-05-26"]
[null,"2121-06-19"]
[null,"2121-07-04"]
[null,"2121-09-01"]
[null,"2121-10-13"]
[null,"2121-11-11"]
[null,"2121-11-27"]
[null,"2121-12-25"]
[null,"2122-01-01"]
[null,"2122-01-19"]
[null,"2122-02-16"]
[null,"2122-03-27"]
[null,"2122-05-25"]
[null,"2122-06-19"]
[null,"2122-07-03"]
[null,"2122-09-07"]
[null,"2122-10-12"]
[null,"2122-11-11"]
[null,"2122-11-26"]
[null,"2122-12-25"]
[null,"2123-01-01"]
[null,"2123-01-18"]
[null,"2123-02-15"]
[null,"2123-04-09"]
[null,"2123-05-31"]
[null,"2123-06-18"]
[null,"2123-07-05"]
[null,"2123-09-06"]
[null,"2123-10-11"]
[null,"2123-11-11"]
[null,"2123-11-25"]
[null,"2123-12-24"]
[null,"2124-01-17"]
[null,"2124-02-21"]
[null,"2124-03-31"]
[null,"2124-05-29"]
[null,"2124-06-19"]
[null,"2124-07-04"]
[null,"2124-09-04"]
[null,"2124-10-09"]
[null,"2124-11-23"]
[null,"2124-12-25"]
[null,"2125-01-01"]
[null,"2125-01-15"]
[null,"2125-02-19"]
[null,"2125-04-20"]
[null,"2125-05-28"]
[null,"2125-06-19"]
[null,"2125-07-04"]
[null,"2125-09-03"]
[null,"2125-10-08"]
[null,"2125-11-12"]
[null,"2125-11-22"]
[null,"2125-12-25"]
[null,"2126-01-01"]
[null,"2126-01-21"]
[null,"2126-02-18"]
[null,"2126-04-12"]
[null,"2126-05-27"]
[null,"2126-06-19"]
[null,"2126-07-04"]
[null,"2126-09-02"]
[null,"2126-10-14"]
[null,"2126-11-11"]
[null,"2126-11-28"]
[null,"2126-12-25"]
[null,"2127-01-01"]
[null,"2127-01-20"]
[null,"2127-02-17"]
[null,"2127-03-28"]
[null,"2127-05-26"]
[null,"2127-06-19"]
[null,"2127-07-04"]
[null,"2127-09-01"]
[null,"2127-10-13"]
[null,"2127-11-11"]
[null,"2127-11-27"]
[null,"2127-12-25"]
[null,"2128-01-01"]
[null,"2128-01-19"]
[null,"2128-02-16"]
[null,"2128-04-16"]
[null,"2128-05-31"]
[null,"2128-06-18"]
[null,"2128-07-05"]
[null,"2128-09-06"]
[null,"2128-10-11"]
[null,"2128-11-11"]
[null,"2128-11-25"]
[null,"2128-12-24"]
[null,"2129-01-17"]
[null,"2129-02-21"]
[null,"2129-04-08"]
[null,"2129-05-30"]
[null,"2129-06-20"]
[null,"2129-07-04"]
[null,"2129-09-05"]
[null,"2129-10-10"]
[null,"2129-11-11"]
[null,"2129-11-24"]
[null,"2129-12-26"]
[null,"2130-01-02"]
[null,"2130-01-16"]
[null,"2130-02-20"]
[null,"2130-03-24"]
[null,"2130-05-29"]
[null,"2130-06-19"]
[null,"2130-07-04"]
[null,"2130-09-04"]
[null,"2130-10-09"]
[null,"2130-11-23"]
[null,"2130-12-25"]
[null,"2131-01-01"]
[null,"2131-01-15"]
[null,"2131-02-19"]
[null,"2131-04-13"]
[null,"2131-05-28"]
[null,"2131-06-19"]
[null,"2131-07-04"]
[null,"2131-09-03"]
[null,"2131-10-08"]
[null,"2131-11-12"]
[null,"2131-11-22"]
[null,"2131-12-25"]
[null,"2132-01-01"]
[null,"2132-01-21"]
[null,"2132-02-18"]
[null,"2132-04-04"]
[null,"2132-05-26"]
[null,"2132-06-19"]
[null,"2132-07-04"]
[null,"2132-09-01"]
[null,"2132-10-13"]
[null,"2132-11-11"]
[null,"2132-11-27"]
[null,"2132-12-25"]
[null,"2133-01-01"]
[null,"2133-01-19"]
[null,"2133-02-16"]
[null,"2133-04-17"]
[null,"2133-05-25"]
[null,"2133-06-19"]
[null,"2133-07-03"]
[null,"2133-09-07"]
[null,"2133-10-12"]
[null,"2133-11-11"]
[null,"2133-11-26"]
[null,"2133-12-25"]
[null,"2134-01-01"]
[null,"2134-01-18"]
[null,"2134-02-15"]
[null,"2134-04-09"]
[null,"2134-05-31"]
[null,"2134-06-18"]
[null,"2134-07-05"]
[null,"2134-09-06"]
[null,"2134-10-11"]
[null,"2134-11-11"]
[null,"2134-11-25"]
[null,"2134-12-24"]
[null,"2135-01-17"]
[null,"2135-02-21"]
[null,"2135-04-01"]
[null,"2135-05-30"]
[null,"2135-06-20"]
[null,"2135-07-04"]
[null,"2135-09-05"]
[null,"2135-10-10"]
[null,"2135-11-11"]
[null,"2135-11-24"]
[null,"2135-12-26"]
[null,"2136-01-02"]
[null,"2136-01-16"]
[null,"2136-02-20"]
[null,"2136-04-20"]
[null,"2136-05-28"]
[null,"2136-06-19"]
[null,"2136-07-04"]
[null,"2136-09-03"]
[null,"2136-10-08"]
[null,"2136-11-12"]
[null,"2136-11-22"]
[null,"2136-12-25"]
[null,"2137-01-01"]
[null,"2137-01-21"]
[null,"2137-02-18"]
[null,"2137-04-05"]
[null,"2137-05-27"]
[null,"2137-06-19"]
[null,"2137-07-04"]
[null,"2137-09-02"]
[null,"2137-10-14"]
[null,"2137-11-11"]
[null,"2137-11-28"]
[null,"2137-12-25"]
[null,"2138-01-01"]
[null,"2138-01-20"]
[null,"2138-02-17"]
[null,"2138-03-28"]
[null,"2138-05-26"]
[null,"2138-06-19"]
[null,"2138-07-04"]
[null,"2138-09-01"]
[null,"2138-10-13"]
[null,"2138-11-11"]
[null,"2138-11-27"]
[null,"2138-12-25"]
[null,"2139-01-01"]
[null,"2139-01-19"]
[null,"2139-02-16"]
[null,"2139-04-17"]
[null,"2139-05-25"]
[null,"2139-06-19"]
[null,"2139-07-03"]
[null,"2139-09-07"]
[null,"2139-10-12"]
[null,"2139-11-11"]
[null,"2139-11-26"]
[null,"2139-12-25"]
[null,"2140-01-01"]
[null,"2140-01-18"]
[null,"2140-02-15"]
[null,"2140-04-01"]
[null,"2140-05-30"]
[null,"2140-06-20"]
[null,"2140-07-04"]
[null,"2140-09-05"]
[null,"2140-10-10"]
[null,"2140-11-11"]
[null,"2140-11-24"]
[null,"2140-12-26"]
[null,"2141-01-02"]
[null,"2141-01-16"]
[null,"2141-02-20"]
[null,"2141-03-24"]
[null,"2141-05-29"]
[null,"2141-06-19"]
[null,"2141-07-04"]
[null,"2141-09-04"]
[null,"2141-10-09"]
[null,"2141-11-23"]
[null,"2141-12-25"]
[null,"2142-01-01"]
[null,"2142-01-15"]
[null,"2142-02-19"]
[null,"2142-04-13"]
[null,"2142-05-28"]
[null,"2142-06-19"]
[null,"2142-07-04"]
[null,"2142-09-03"]
[null,"2142-10-08"]
[null,"2142-11-12"]
[null,"2142-11-22"]
[null,"2142-12-25"]
[null,"2143-01-01"]
[null,"2143-01-21"]
[null,"2143-02-18"]
[null,"2143-03-29"]
[null,"2143-05-27"]
[null,"2143-06-19"]
[null,"2143-07-04"]
[null,"2143-09-02"]
[null,"2143-10-14"]
[null,"2143-11-11"]
[null,"2143-11-28"]
[null,"2143-12-25"]
[null,"2144-01-01"]
[null,"2144-01-20"]
[null,"2144-02-17"]
[null,"2144-04-17"]
[null,"2144-05-25"]
[null,"2144-06-19"]
[null,"2144-07-03"]
[null,"2144-09-07"]
[null,"2144-10-12"]
[null,"2144-11-11"]
[null,"2144-11-26"]
[null,"2144-12-25"]
[null,"2145-01-01"]
[null,"2145-01-18"]
[null,"2145-02-15"]
[null,"2145-04-09"]
[null,"2145-05-31"]
[null,"2145-06-18"]
[null,"2145-07-05"]
[null,"2145-09-06"]
[null,"2145-10-11"]
[null,"2145-11-11"]
[null,"2145-11-25"]
[null,"2145-12-24"]
[null,"2146-01-17"]
[null,"2146-02-21"]
[null,"2146-04-01"]
[null,"2146-05-30"]
[null,"2146-06-20"]
[null,"2146-07-04"]
[null,"2146-09-05"]
[null,"2146-10-10"]
[null,"2146-11-11"]
[null,"2146-11-24"]
[null,"2146-12-26"]
[null,"2147-01-02"]
[null,"2147-01-16"]
[null,"2147-02-20"]
[null,"2147-04-14"]
[null,"2147-05-29"]
[null,"2147-06-19"]
[null,"2147-07-04"]
[null,"2147-09-04"]
[null,"2147-10-09"]
[null,"2147-11-23"]
[null,"2147-12-25"]
[null,"2148-01-01"]
[null,"2148-01-15"]
[null,"2148-02-19"]
[null,"2148-04-05"]
[null,"2148-05-27"]
[null,"2148-06-19"]
[null,"2148-07-04"]
[null,"2148-09-02"]
[null,"2148-10-14"]
[null,"2148-11-11"]
[null,"2148-11-28"]
[null,"2148-12-25"]
[null,"2149-01-01"]
[null,"2149-01-20"]
[null,"2149-02-17"]
[null,"2149-03-28"]
[null,"2149-05-26"]
[null,"2149-06-19"]
[null,"2149-07-04"]
[null,"2149-09-01"]
[null,"2149-10-13"]
[null,"2149-11-11"]
[null,"2149-11-27"]
[null,"2149-12-25"]
[null,"2150-01-01"]
[null,"2150-01-19"]
[null,"2150-02-16"]
[null,"2150-04-10"]
[null,"2150-05-25"]
[null,"2150-06-19"]
[null,"2150-07-03"]
[null,"2150-09-07"]
[null,"2150-10-12"]
[null,"2150-11-11"]
[null,"2150-11-26"]
[null,"2150-12-25"]
[null,"2151-01-01"]
[null,"2151-01-18"]
[null,"2151-02-15"]
[null,"2151-04-02"]
[null,"2151-05-31"]
[null,"2151-06-18"]
[null,"2151-07-05"]
[null,"2151-09-06"]
[null,"2151-10-11"]
[null,"2151-11-11"]
[null,"2151-11-25"]
[null,"2151-12-24"]
[null,"2152-01-17"]
[null,"2152-02-21"]
[null,"2152-04-21"]
[null,"2152-05-29"]
[null,"2152-06-19"]
[null,"2152-07-04"]
[null,"2152-09-04"]
[null,"2152-10-09"]
[null,"2152-11-23"]
[null,"2152-12-25"]
[null,"2153-01-01"]
[null,"2153-01-15"]
[null,"2153-02-19"]
[null,"2153-04-13"]
[null,"2153-05-28"]
[null,"2153-06-19"]
[null,"2153-07-04"]
[null,"2153-09-03"]
[null,"2153-10-08"]
[null,"2153-11-12"]
[null,"2153-11-22"]
[null,"2153-12-25"]
[null,"2154-01-01"]
[null,"2154-01-21"]
[null,"2154-02-18"]
[null,"2154-03-29"]
[null,"2154-05-27"]
[null,"2154-06-19"]
[null,"2154-07-04"]
[null,"2154-09-02"]
[null,"2154-10-14"]
[null,"2154-11-11"]
[null,"2154-11-28"]
[null,"2154-12-25"]
[null,"2155-01-01"]
[null,"2155-01-20"]
[null,"2155-02-17"]
[null,"2155-04-18"]
[null,"2155-05-26"]
[null,"2155-06-19"]
[null,"2155-07-04"]
[null,"2155-09-01"]
[null,"2155-10-13"]
[null,"2155-11-11"]
[null,"2155-11-27"]
[null,"2155-12-25"]
[null,"2156-01-01"]
[null,"2156-01-19"]
[null,"2156-02-16"]
[null,"2156-04-09"]
[null,"2156-05-31"]
[null,"2156-06-18"]
[null,"2156-07-05"]
[null,"2156-09-06"]
[null,"2156-10-11"]
[null,"2156-11-11"]
[null,"2156-11-25"]
[null,"2156-12-24"]
[null,"2157-01-17"]
[null,"2157-02-21"]
[null,"2157-03-25"]
[null,"2157-05-30"]
[null,"2157-06-20"]
[null,"2157-07-04"]
[null,"2157-09-05"]
[null,"2157-10-10"]
[null,"2157-11-11"]
[null,"2157-11-24"]
[null,"2157-12-26"]
[null,"2158-01-02"]
[null,"2158-01-16"]
[null,"2158-02-20"]
[null,"2158-04-14"]
[null,"2158-05-29"]
[null,"2158-06-19"]
[null,"2158-07-04"]
[null,"2158-09-04"]
[null,"2158-10-09"]
[null,"2158-11-23"]
[null,"2158-12-25"]
[null,"2159-01-01"]
[null,"2159-01-15"]
[null,"2159-02-19"]
[null,"2159-04-06"]
[null,"2159-05-28"]
[null,"2159-06-19"]
[null,"2159-07-04"]
[null,"2159-09-03"]
[null,"2159-10-08"]
[null,"2159-11-12"]
[null,"2159-11-22"]
[null,"2159-12-25"]
[null,"2160-01-01"]
[null,"2160-01-21"]
[null,"2160-02-18"]
[null,"2160-03-21"]
[null,"2160-05-26"]
[null,"2160-06-19"]
[null,"2160-07-04"]
[null,"2160-09-01"]
[null,"2160-10-13"]
[null,"2160-11-11"]
[null,"2160-11-27"]
[null,"2160-12-25"]
[null,"2161-01-01"]
[null,"2161-01-19"]
[null,"2161-02-16"]
[null,"2161-04-10"]
[null,"2161-05-25"]
[null,"2161-06-19"]
[null,"2161-07-03"]
[null,"2161-09-07"]
[null,"2161-10-12"]
[null,"2161-11-11"]
[null,"2161-11-26"]
[null,"2161-12-25"]
[null,"2162-01-01"]
[null,"2162-01-18"]
[null,"2162-02-15"]
[null,"2162-04-02"]
[null,"2162-05-31"]
[null,"2162-06-18"]
[null,"2162-07-05"]
[null,"2162-09-06"]
[null,"2162-10-11"]
[null,"2162-11-11"]
[null,"2162-11-25"]
[null,"2162-12-24"]
[null,"2163-01-17"]
[null,"2163-02-21"]
[null,"2163-04-22"]
[null,"2163-05-30"]
[null,"2163-06-20"]
[null,"2163-07-04"]
[null,"2163-09-05"]
[null,"2163-10-10"]
[null,"2163-11-11"]
[null,"2163-11-24"]
[null,"2163-12-26"]
[null,"2164-01-02"]
[null,"2164-01-16"]
[null,"2164-02-20"]
[null,"2164-04-06"]
[null,"2164-05-28"]
[null,"2164-06-19"]
[null,"2164-07-04"]
[null,"2164-09-03"]
[null,"2164-10-08"]
[null,"2164-11-12"]
[null,"2164-11-22"]
[null,"2164-12-25"]
[null,"2165-01-01"]
[null,"2165-01-21"]
[null,"2165-02-18"]
[null,"2165-03-29"]
[null,"2165-05-27"]
[null,"2165-06-19"]
[null,"2165-07-04"]
[null,"2165-09-02"]
[null,"2165-10-14"]
[null,"2165-11-11"]
[null,"2165-11-28"]
[null,"2165-12-25"]
[null,"2166-01-01"]
[null,"2166-01-20"]
[null,"2166-02-17"]
[null,"2166-04-18"]
[null,"2166-05-26"]
[null,"2166-06-19"]
[null,"2166-07-04"]
[null,"2166-09-01"]
[null,"2166-10-13"]
[null,"2166-11-11"]
[null,"2166-11-27"]
[null,"2166-12-25"]
[null,"2167-01-01"]
[null,"2167-01-19"]
[null,"2167-02-16"]
[null,"2167-04-03"]
[null,"2167-05-25"]
[null,"2167-06-19"]
[null,"2167-07-03"]
[null,"2167-09-07"]
[null,"2167-10-12"]
[null,"2167-11-11"]
[null,"2167-11-26"]
[null,"2167-12-25"]
[null,"2168-01-01"]
[null,"2168-01-18"]
[null,"2168-02-15"]
[null,"2168-03-25"]
[null,"2168-05-30"]
[null,"2168-06-20"]
[null,"2168-07-04"]
[null,"2168-09-05"]
[null,"2168-10-10"]
[null,"2168-11-11"]
[null,"2168-11-24"]
[null,"2168-12-26"]
[null,"2169-01-02"]
[null,"2169-01-16"]
[null,"2169-02-20"]
[null,"2169-04-14"]
[null,"2169-05-29"]
[null,"2169-06-19"]
[null,"2169-07-04"]
[null,"2169-09-04"]
[null,"2169-10-09"]
[null,"2169-11-23"]
[null,"2169-12-25"]
[null,"2170-01-01"]
[null,"2170-01-15"]
[null,"2170-02-19"]
[null,"2170-03-30"]
[null,"2170-05-28"]
[null,"2170-06-19"]
[null,"2170-07-04"]
[null,"2170-09-03"]
[null,"2170-10-08"]
[null,"2170-11-12"]
[null,"2170-11-22"]
[null,"2170-12-25"]
[null,"2171-01-01"]
[null,"2171-01-21"]
[null,"2171-02-18"]
[null,"2171-04-19"]
[null,"2171-05-27"]
[null,"2171-06-19"]
[null,"2171-07-04"]
[null,"2171-09-02"]
[null,"2171-10-14"]
[null,"2171-11-11"]
[null,"2171-11-28"]
[null,"2171-12-25"]
[null,"2172-01-01"]
[null,"2172-01-20"]
[null,"2172-02-17"]
[null,"2172-04-10"]
[null,"2172-05-25"]
[null,"2172-06-19"]
[null,"2172-07-03"]
[null,"2172-09-07"]
[null,"2172-10-12"]
[null,"2172-11-11"]
[null,"2172-11-26"]
[null,"2172-12-25"]
[null,"2173-01-01"]
[null,"2173-01-18"]
[null,"2173-02-15"]
[null,"2173-04-02"]
[null,"2173-05-31"]
[null,"2173-06-18"]
[null,"2173-07-05"]
[null,"2173-09-06"]
[null,"2173-10-11"]
[null,"2173-11-11"]
[null,"2173-11-25"]
[null,"2173-12-24"]
[null,"2174-01-17"]
[null,"2174-02-21"]
[null,"2174-04-15"]
[null,"2174-05-30"]
[null,"2174-06-20"]
[null,"2174-07-04"]
[null,"2174-09-05"]
[null,"2174-10-10"]
[null,"2174-11-11"]
[null,"2174-11-24"]
[null,"2174-12-26"]
[null,"2175-01-02"]
[null,"2175-01-16"]
[null,"2175-02-20"]
[null,"2175-04-07"]
[null,"2175-05-29"]
[null,"2175-06-19"]
[null,"2175-07-04"]
[null,"2175-09-04"]
[null,"2175-10-09"]
[null,"2175-11-13"]
[null,"2175-11-23"]
[null,"2175-12-25"]
[null,"2176-01-01"]
[null,"2176-01-15"]
[null,"2176-02-19"]
[null,"2176-03-29"]
[null,"2176-05-27"]
[null,"2176-06-19"]
[null,"2176-07-04"]
[null,"2176-09-02"]
[null,"2176-10-14"]
[null,"2176-11-11"]
[null,"2176-11-28"]
[null,"2176-12-25"]
[null,"2177-01-01"]
[null,"2177-01-20"]
[null,"2177-02-17"]
[null,"2177-04-18"]
[null,"2177-05-26"]
[null,"2177-06-19"]
[null,"2177-07-04"]
[null,"2177-09-01"]
[null,"2177-10-13"]
[null,"2177-11-11"]
[null,"2177-11-27"]
[null,"2177-12-25"]
[null,"2178-01-01"]
[null,"2178-01-19"]
[null,"2178-02-16"]
[null,"2178-04-03"]
[null,"2178-05-25"]
[null,"2178-06-19"]
[null,"2178-07-03"]
[null,"2178-09-07"]
[null,"2178-10-12"]
[null,"2178-11-11"]
[null,"2178-11-26"]
[null,"2178-12-25"]
[null,"2179-01-01"]
[null,"2179-01-18"]
[null,"2179-02-15"]
[null,"2179-03-26"]
[null,"2179-05-31"]
[null,"2179-06-18"]
[null,"2179-07-05"]
[null,"2179-09-06"]
[null,"2179-10-11"]
[null,"2179-11-11"]
[null,"2179-11-25"]
[null,"2179-12-24"]
[null,"2180-01-17"]
[null,"2180-02-21"]
[null,"2180-04-14"]
[null,"2180-05-29"]
[null,"2180-06-19"]
[null,"2180-07-04"]
[null,"2180-09-04"]
[null,"2180-10-09"]
[null,"2180-11-23"]
[null,"2180-12-25"]
[null,"2181-01-01"]
[null,"2181-01-15"]
[null,"2181-02-19"]
[null,"2181-03-30"]
[null,"2181-05-28"]
[null,"2181-06-19"]
[null,"2181-07-04"]
[null,"2181-09-03"]
[null,"2181-10-08"]
[null,"2181-11-12"]
[null,"2181-11-22"]
[null,"2181-12-25"]
[null,"2182-01-01"]
[null,"2182-01-21"]
[null,"2182-02-18"]
[null,"2182-04-19"]
[null,"2182-05-27"]
[null,"2182-06-19"]
[null,"2182-07-04"]
[null,"2182-09-02"]
[null,"2182-10-14"]
[null,"2182-11-11"]
[null,"2182-11-28"]
[null,"2182-12-25"]
[null,"2183-01-01"]
[null,"2183-01-20"]
[null,"2183-02-17"]
[null,"2183-04-11"]
[null,"2183-05-26"]
[null,"2183-06-19"]
[null,"2183-07-04"]
[null,"2183-09-01"]
[null,"2183-10-13"]
[null,"2183-11-11"]
[null,"2183-11-27"]
[null,"2183-12-25"]
[null,"2184-01-01"]
[null,"2184-01-19"]
[null,"2184-02-16"]
[null,"2184-03-26"]
[null,"2184-05-31"]
[null,"2184-06-18"]
[null,"2184-07-05"]
[null,"2184-09-06"]
[null,"2184-10-11"]
[null,"2184-11-11"]
[null,"2184-11-25"]
[null,"2184-12-24"]
[null,"2185-01-17"]
[null,"2185-02-21"]
[null,"2185-04-15"]
[null,"2185-05-30"]
[null,"2185-06-20"]
[null,"2185-07-04"]
[null,"2185-09-05"]
[null,"2185-10-10"]
[null,"2185-11-11"]
[null,"2185-11-24"]
[null,"2185-12-26"]
[null,"2186-01-02"]
[null,"2186-01-16"]
[null,"2186-02-20"]
[null,"2186-04-07"]
[null,"2186-05-29"]
[null,"2186-06-19"]
[null,"2186-07-04"]
[null,"2186-09-04"]
[null,"2186-10-09"]
[null,"2186-11-23"]
[null,"2186-12-25"]
[null,"2187-01-01"]
[null,"2187-01-15"]
[null,"2187-02-19"]
[null,"2187-03-23"]
[null,"2187-05-28"]
[null,"2187-06-19"]
[null,"2187-07-04"]
[null,"2187-09-03"]
[null,"2187-10-08"]
[null,"2187-11-12"]
[null,"2187-11-22"]
[null,"2187-12-25"]
[null,"2188-01-01"]
[null,"2188-01-21"]
[null,"2188-02-18"]
[null,"2188-04-11"]
[null,"2188-05-26"]
[null,"2188-06-19"]
[null,"2188-07-04"]
[null,"2188-09-01"]
[null,"2188-10-13"]
[null,"2188-11-11"]
[null,"2188-11-27"]
[null,"2188-12-25"]
[null,"2189-01-01"]
[null,"2189-01-19"]
[null,"2189-02-16"]
[null,"2189-04-03"]
[null,"2189-05-25"]
[null,"2189-06-19"]
[null,"2189-07-03"]
[null,"2189-09-07"]
[null,"2189-10-12"]
[null,"2189-11-11"]
[null,"2189-11-26"]
[null,"2189-12-25"]
[null,"2190-01-01"]
[null,"2190-01-18"]
[null,"2190-02-15"]
[null,"2190-04-23"]
[null,"2190-05-31"]
[null,"2190-06-18"]
[null,"2190-07-05"]
[null,"2190-09-06"]
[null,"2190-10-11"]
[null,"2190-11-11"]
[null,"2190-11-25"]
[null,"2190-12-24"]
[null,"2191-01-17"]
[null,"2191-02-21"]
[null,"2191-04-08"]
[null,"2191-05-30"]
[null,"2191-06-20"]
[null,"2191-07-04"]
[null,"2191-09-05"]
[null,"2191-10-10"]
[null,"2191-11-11"]
[null,"2191-11-24"]
[null,"2191-12-26"]
[null,"2192-01-02"]
[null,"2192-01-16"]
[null,"2192-02-20"]
[null,"2192-03-30"]
[null,"2192-05-28"]
[null,"2192-06-19"]
[null,"2192-07-04"]
[null,"2192-09-03"]
[null,"2192-10-08"]
[null,"2192-11-12"]
[null,"2192-11-22"]
[null,"2192-12-25"]
[null,"2193-01-01"]
[null,"2193-01-21"]
[null,"2193-02-18"]
[null,"2193-04-19"]
[null,"2193-05-27"]
[null,"2193-06-19"]
[null,"2193-07-04"]
[null,"2193-09-02"]
[null,"2193-10-14"]
[null,"2193-11-11"]
[null,"2193-11-28"]
[null,"2193-12-25"]
[null,"2194-01-01"]
[null,"2194-01-20"]
[null,"2194-02-17"]
[null,"2194-04-04"]
[null,"2194-05-26"]
[null,"2194-06-19"]
[null,"2194-07-04"]
[null,"2194-09-01"]
[null,"2194-10-13"]
[null,"2194-11-11"]
[null,"2194-11-27"]
[null,"2194-12-25"]
[null,"2195-01-01"]
[null,"2195-01-19"]
[null,"2195-02-16"]
[null,"2195-03-27"]
[null,"2195-05-25"]
[null,"2195-06-19"]
[null,"2195-07-03"]
[null,"2195-09-07"]
[null,"2195-10-12"]
[null,"2195-11-11"]
[null,"2195-11-26"]
[null,"2195-12-25"]
[null,"2196-01-01"]
[null,"2196-01-18"]
[null,"2196-02-15"]
[null,"2196-04-15"]
[null,"2196-05-30"]
[null,"2196-06-20"]
[null,"2196-07-04"]
[null,"2196-09-05"]
[null,"2196-10-10"]
[null,"2196-11-11"]
[null,"2196-11-24"]
[null,"2196-12-26"]
[null,"2197-01-02"]
[null,"2197-01-16"]
[null,"2197-02-20"]
[null,"2197-04-07"]
[null,"2197-05-29"]
[null,"2197-06-19"]
[null,"2197-07-04"]
[null,"2197-09-04"]
[null,"2197-10-09"]
[null,"2197-11-23"]
[null,"2197-12-25"]
[null,"2198-01-01"]
[null,"2198-01-15"]
[null,"2198-02-19"]
[null,"2198-03-23"]
[null,"2198-05-28"]
[null,"2198-06-19"]
[null,"2198-07-04"]
[null,"2198-09-03"]
[null,"2198-10-08"]
[null,"2198-11-12"]
[null,"2198-11-22"]
[null,"2198-12-25"]
[null,"2199-01-01"]
[null,"2199-01-21"]
[null,"2199-02-18"]
[null,"2199-04-12"]
[null,"2199-05-27"]
[null,"2199-06-19"]
[null,"2199-07-04"]
[null,"2199-09-02"]
[null,"2199-10-14"]
[null,"2199-11-11"]
[null,"2199-11-28"]
[null,"2199-12-25"]

{"sheet":"index","index":4,"n_rows":50,"n_cols":21,"rows_kept":50,"cut":false,"hidden":true,"merged":[]}
[]
[null,null,null,null,null,null,null,"利払い頻度","ロール月",1,{"$f":"J2+1","v":2},{"$f":"K2+1","v":3},4,5,6,7,8,9,10,11,12]
[null,null,"年1回","PA",1,null,null,"PA","PA1",{"$f":"TRUE()","v":true},{"$f":"FALSE","v":false},{"$f":"FALSE","v":false},{"$f":"FALSE","v":false},{"$f":"FALSE","v":false},{"$f":"FALSE","v":false},{"$f":"FALSE","v":false},{"$f":"FALSE","v":false},{"$f":"FALSE","v":false},{"$f":"FALSE","v":false},{"$f":"FALSE","v":false},{"$f":"FALSE","v":false}]
[null,null,"年2回","SA",2,null,null,"PA","PA2",{"$f":"FALSE","v":false},{"$f":"TRUE()","v":true},{"$f":"FALSE","v":false},{"$f":"FALSE","v":false},{"$f":"FALSE","v":false},{"$f":"FALSE","v":false},{"$f":"FALSE","v":false},{"$f":"FALSE","v":false},{"$f":"FALSE","v":false},{"$f":"FALSE","v":false},{"$f":"FALSE","v":false},{"$f":"FALSE","v":false}]
[null,null,"年4回","QA",4,null,null,"PA","PA3",{"$f":"FALSE","v":false},{"$f":"FALSE","v":false},{"$f":"TRUE()","v":true},{"$f":"FALSE","v":false},{"$f":"FALSE","v":false},{"$f":"FALSE","v":false},{"$f":"FALSE","v":false},{"$f":"FALSE","v":false},{"$f":"FALSE","v":false},{"$f":"FALSE","v":false},{"$f":"FALSE","v":false},{"$f":"FALSE","v":false}]
[null,null,"毎月","M",12,null,null,"PA","PA4",{"$f":"FALSE","v":false},{"$f":"FALSE","v":false},{"$f":"FALSE","v":false},{"$f":"TRUE()","v":true},{"$f":"FALSE","v":false},{"$f":"FALSE","v":false},{"$f":"FALSE","v":false},{"$f":"FALSE","v":false},{"$f":"FALSE","v":false},{"$f":"FALSE","v":false},{"$f":"FALSE","v":false},{"$f":"FALSE","v":false}]
[null,null,null,null,null,null,null,"PA","PA5",{"$f":"FALSE","v":false},{"$f":"FALSE","v":false},{"$f":"FALSE","v":false},{"$f":"FALSE","v":false},{"$f":"TRUE()","v":true},{"$f":"FALSE","v":false},{"$f":"FALSE","v":false},{"$f":"FALSE","v":false},{"$f":"FALSE","v":false},{"$f":"FALSE","v":false},{"$f":"FALSE","v":false},{"$f":"FALSE","v":false}]
[null,null,null,null,null,null,null,"PA","PA6",{"$f":"FALSE","v":false},{"$f":"FALSE","v":false},{"$f":"FALSE","v":false},{"$f":"FALSE","v":false},{"$f":"FALSE","v":false},{"$f":"TRUE()","v":true},{"$f":"FALSE","v":false},{"$f":"FALSE","v":false},{"$f":"FALSE","v":false},{"$f":"FALSE","v":false},{"$f":"FALSE","v":false},{"$f":"FALSE","v":false}]
[null,null,null,null,null,null,null,"PA","PA7",{"$f":"FALSE","v":false},{"$f":"FALSE","v":false},{"$f":"FALSE","v":false},{"$f":"FALSE","v":false},{"$f":"FALSE","v":false},{"$f":"FALSE","v":false},{"$f":"TRUE()","v":true},{"$f":"FALSE","v":false},{"$f":"FALSE","v":false},{"$f":"FALSE","v":false},{"$f":"FALSE","v":false},{"$f":"FALSE","v":false}]
[null,null,null,null,null,null,null,"PA","PA8",{"$f":"FALSE","v":false},{"$f":"FALSE","v":false},{"$f":"FALSE","v":false},{"$f":"FALSE","v":false},{"$f":"FALSE","v":false},{"$f":"FALSE","v":false},{"$f":"FALSE","v":false},{"$f":"TRUE()","v":true},{"$f":"FALSE","v":false},{"$f":"FALSE","v":false},{"$f":"FALSE","v":false},{"$f":"FALSE","v":false}]
[null,null,null,null,null,null,null,"PA","PA9",{"$f":"FALSE","v":false},{"$f":"FALSE","v":false},{"$f":"FALSE","v":false},{"$f":"FALSE","v":false},{"$f":"FALSE","v":false},{"$f":"FALSE","v":false},{"$f":"FALSE","v":false},{"$f":"FALSE","v":false},{"$f":"TRUE()","v":true},{"$f":"FALSE","v":false},{"$f":"FALSE","v":false},{"$f":"FALSE","v":false}]
[null,null,null,null,null,null,null,"PA","PA10",{"$f":"FALSE","v":false},{"$f":"FALSE","v":false},{"$f":"FALSE","v":false},{"$f":"FALSE","v":false},{"$f":"FALSE","v":false},{"$f":"FALSE","v":false},{"$f":"FALSE","v":false},{"$f":"FALSE","v":false},{"$f":"FALSE","v":false},{"$f":"TRUE()","v":true},{"$f":"FALSE","v":false},{"$f":"FALSE","v":false}]
[null,null,null,null,null,null,null,"PA","PA11",{"$f":"FALSE","v":false},{"$f":"FALSE","v":false},{"$f":"FALSE","v":false},{"$f":"FALSE","v":false},{"$f":"FALSE","v":false},{"$f":"FALSE","v":false},{"$f":"FALSE","v":false},{"$f":"FALSE","v":false},{"$f":"FALSE","v":false},{"$f":"FALSE","v":false},{"$f":"TRUE()","v":true},{"$f":"FALSE","v":false}]
[null,null,null,null,null,null,null,"PA","PA12",{"$f":"FALSE","v":false},{"$f":"FALSE","v":false},{"$f":"FALSE","v":false},{"$f":"FALSE","v":false},{"$f":"FALSE","v":false},{"$f":"FALSE","v":false},{"$f":"FALSE","v":false},{"$f":"FALSE","v":false},{"$f":"FALSE","v":false},{"$f":"FALSE","v":false},{"$f":"FALSE","v":false},{"$f":"TRUE()","v":true}]
[null,null,null,null,null,null,null,"SA","SA1",{"$f":"TRUE()","v":true},{"$f":"FALSE()","v":false},{"$f":"FALSE()","v":false},{"$f":"FALSE()","v":false},{"$f":"FALSE()","v":false},{"$f":"FALSE","v":false},{"$f":"TRUE()","v":true},{"$f":"FALSE()","v":false},{"$f":"FALSE()","v":false},{"$f":"FALSE()","v":false},{"$f":"FALSE()","v":false},{"$f":"FALSE()","v":false}]
[null,null,null,null,null,null,null,"SA","SA2",{"$f":"FALSE()","v":false},{"$f":"TRUE()","v":true},{"$f":"FALSE()","v":false},{"$f":"FALSE()","v":false},{"$f":"FALSE()","v":false},{"$f":"FALSE()","v":false},{"$f":"FALSE()","v":false},{"$f":"TRUE()","v":true},{"$f":"FALSE()","v":false},{"$f":"FALSE()","v":false},{"$f":"FALSE()","v":false},{"$f":"FALSE()","v":false}]
[null,null,null,null,null,null,null,"SA","SA3",{"$f":"FALSE()","v":false},{"$f":"FALSE()","v":false},{"$f":"TRUE()","v":true},{"$f":"FALSE()","v":false},{"$f":"FALSE()","v":false},{"$f":"FALSE()","v":false},{"$f":"FALSE()","v":false},{"$f":"FALSE()","v":false},{"$f":"TRUE()","v":true},{"$f":"FALSE()","v":false},{"$f":"FALSE()","v":false},{"$f":"FALSE()","v":false}]
[null,null,null,null,null,null,null,"SA","SA4",{"$f":"FALSE()","v":false},{"$f":"FALSE()","v":false},{"$f":"FALSE()","v":false},{"$f":"TRUE()","v":true},{"$f":"FALSE()","v":false},{"$f":"FALSE()","v":false},{"$f":"FALSE()","v":false},{"$f":"FALSE()","v":false},{"$f":"FALSE()","v":false},{"$f":"TRUE()","v":true},{"$f":"FALSE()","v":false},{"$f":"FALSE()","v":false}]
[null,null,null,null,null,null,null,"SA","SA5",{"$f":"FALSE()","v":false},{"$f":"FALSE()","v":false},{"$f":"FALSE()","v":false},{"$f":"FALSE()","v":false},{"$f":"TRUE()","v":true},{"$f":"FALSE()","v":false},{"$f":"FALSE()","v":false},{"$f":"FALSE()","v":false},{"$f":"FALSE()","v":false},{"$f":"FALSE()","v":false},{"$f":"TRUE()","v":true},{"$f":"FALSE()","v":false}]
[null,null,null,null,null,null,null,"SA","SA6",{"$f":"FALSE()","v":false},{"$f":"FALSE()","v":false},{"$f":"FALSE()","v":false},{"$f":"FALSE()","v":false},{"$f":"FALSE()","v":false},{"$f":"TRUE()","v":true},{"$f":"FALSE()","v":false},{"$f":"FALSE()","v":false},{"$f":"FALSE()","v":false},{"$f":"FALSE()","v":false},{"$f":"FALSE()","v":false},{"$f":"TRUE()","v":true}]
[null,null,null,null,null,null,null,"SA","SA7",{"$f":"TRUE()","v":true},{"$f":"FALSE()","v":false},{"$f":"FALSE()","v":false},{"$f":"FALSE()","v":false},{"$f":"FALSE()","v":false},{"$f":"FALSE","v":false},{"$f":"TRUE()","v":true},{"$f":"FALSE()","v":false},{"$f":"FALSE()","v":false},{"$f":"FALSE()","v":false},{"$f":"FALSE()","v":false},{"$f":"FALSE()","v":false}]
[null,null,null,null,null,null,null,"SA","SA8",{"$f":"FALSE()","v":false},{"$f":"TRUE()","v":true},{"$f":"FALSE()","v":false},{"$f":"FALSE()","v":false},{"$f":"FALSE()","v":false},{"$f":"FALSE()","v":false},{"$f":"FALSE()","v":false},{"$f":"TRUE()","v":true},{"$f":"FALSE()","v":false},{"$f":"FALSE()","v":false},{"$f":"FALSE()","v":false},{"$f":"FALSE()","v":false}]
[null,null,null,null,null,null,null,"SA","SA9",{"$f":"FALSE()","v":false},{"$f":"FALSE()","v":false},{"$f":"TRUE()","v":true},{"$f":"FALSE()","v":false},{"$f":"FALSE()","v":false},{"$f":"FALSE()","v":false},{"$f":"FALSE()","v":false},{"$f":"FALSE()","v":false},{"$f":"TRUE()","v":true},{"$f":"FALSE()","v":false},{"$f":"FALSE()","v":false},{"$f":"FALSE()","v":false}]
[null,null,null,null,null,null,null,"SA","SA10",{"$f":"FALSE()","v":false},{"$f":"FALSE()","v":false},{"$f":"FALSE()","v":false},{"$f":"TRUE()","v":true},{"$f":"FALSE()","v":false},{"$f":"FALSE()","v":false},{"$f":"FALSE()","v":false},{"$f":"FALSE()","v":false},{"$f":"FALSE()","v":false},{"$f":"TRUE()","v":true},{"$f":"FALSE()","v":false},{"$f":"FALSE()","v":false}]
[null,null,null,null,null,null,null,"SA","SA11",{"$f":"FALSE()","v":false},{"$f":"FALSE()","v":false},{"$f":"FALSE()","v":false},{"$f":"FALSE()","v":false},{"$f":"TRUE()","v":true},{"$f":"FALSE()","v":false},{"$f":"FALSE()","v":false},{"$f":"FALSE()","v":false},{"$f":"FALSE()","v":false},{"$f":"FALSE()","v":false},{"$f":"TRUE()","v":true},{"$f":"FALSE()","v":false}]
[null,null,null,null,null,null,null,"SA","SA12",{"$f":"FALSE()","v":false},{"$f":"FALSE()","v":false},{"$f":"FALSE()","v":false},{"$f":"FALSE()","v":false},{"$f":"FALSE()","v":false},{"$f":"TRUE()","v":true},{"$f":"FALSE()","v":false},{"$f":"FALSE()","v":false},{"$f":"FALSE()","v":false},{"$f":"FALSE()","v":false},{"$f":"FALSE()","v":false},{"$f":"TRUE()","v":true}]
[null,null,null,null,null,null,null,"QA","QA1",{"$f":"TRUE()","v":true},{"$f":"FALSE()","v":false},{"$f":"FALSE()","v":false},{"$f":"TRUE()","v":true},{"$f":"FALSE()","v":false},{"$f":"FALSE()","v":false},{"$f":"TRUE()","v":true},{"$f":"FALSE()","v":false},{"$f":"FALSE()","v":false},{"$f":"TRUE()","v":true},{"$f":"FALSE()","v":false},{"$f":"FALSE()","v":false}]
[null,null,null,null,null,null,null,"QA","QA2",{"$f":"FALSE()","v":false},{"$f":"TRUE()","v":true},{"$f":"FALSE()","v":false},{"$f":"FALSE()","v":false},{"$f":"TRUE()","v":true},{"$f":"FALSE()","v":false},{"$f":"FALSE()","v":false},{"$f":"TRUE()","v":true},{"$f":"FALSE()","v":false},{"$f":"FALSE()","v":false},{"$f":"TRUE()","v":true},{"$f":"FALSE()","v":false}]
[null,null,null,null,null,null,null,"QA","QA3",{"$f":"FALSE()","v":false},{"$f":"FALSE()","v":false},{"$f":"TRUE()","v":true},{"$f":"FALSE()","v":false},{"$f":"FALSE()","v":false},{"$f":"TRUE()","v":true},{"$f":"FALSE()","v":false},{"$f":"FALSE()","v":false},{"$f":"TRUE()","v":true},{"$f":"FALSE()","v":false},{"$f":"FALSE()","v":false},{"$f":"TRUE()","v":true}]
[null,null,null,null,null,null,null,"QA","QA4",{"$f":"TRUE()","v":true},{"$f":"FALSE()","v":false},{"$f":"FALSE()","v":false},{"$f":"TRUE()","v":true},{"$f":"FALSE()","v":false},{"$f":"FALSE()","v":false},{"$f":"TRUE()","v":true},{"$f":"FALSE()","v":false},{"$f":"FALSE()","v":false},{"$f":"TRUE()","v":true},{"$f":"FALSE()","v":false},{"$f":"FALSE()","v":false}]
[null,null,null,null,null,null,null,"QA","QA5",{"$f":"FALSE()","v":false},{"$f":"TRUE()","v":true},{"$f":"FALSE()","v":false},{"$f":"FALSE()","v":false},{"$f":"TRUE()","v":true},{"$f":"FALSE()","v":false},{"$f":"FALSE()","v":false},{"$f":"TRUE()","v":true},{"$f":"FALSE()","v":false},{"$f":"FALSE()","v":false},{"$f":"TRUE()","v":true},{"$f":"FALSE()","v":false}]
[null,null,null,null,null,null,null,"QA","QA6",{"$f":"FALSE()","v":false},{"$f":"FALSE()","v":false},{"$f":"TRUE()","v":true},{"$f":"FALSE()","v":false},{"$f":"FALSE()","v":false},{"$f":"TRUE()","v":true},{"$f":"FALSE()","v":false},{"$f":"FALSE()","v":false},{"$f":"TRUE()","v":true},{"$f":"FALSE()","v":false},{"$f":"FALSE()","v":false},{"$f":"TRUE()","v":true}]
[null,null,null,null,null,null,null,"QA","QA7",{"$f":"TRUE()","v":true},{"$f":"FALSE()","v":false},{"$f":"FALSE()","v":false},{"$f":"TRUE()","v":true},{"$f":"FALSE()","v":false},{"$f":"FALSE()","v":false},{"$f":"TRUE()","v":true},{"$f":"FALSE()","v":false},{"$f":"FALSE()","v":false},{"$f":"TRUE()","v":true},{"$f":"FALSE()","v":false},{"$f":"FALSE()","v":false}]
[null,null,null,null,null,null,null,"QA","QA8",{"$f":"FALSE()","v":false},{"$f":"TRUE()","v":true},{"$f":"FALSE()","v":false},{"$f":"FALSE()","v":false},{"$f":"TRUE()","v":true},{"$f":"FALSE()","v":false},{"$f":"FALSE()","v":false},{"$f":"TRUE()","v":true},{"$f":"FALSE()","v":false},{"$f":"FALSE()","v":false},{"$f":"TRUE()","v":true},{"$f":"FALSE()","v":false}]
[null,null,null,null,null,null,null,"QA","QA9",{"$f":"FALSE()","v":false},{"$f":"FALSE()","v":false},{"$f":"TRUE()","v":true},{"$f":"FALSE()","v":false},{"$f":"FALSE()","v":false},{"$f":"TRUE()","v":true},{"$f":"FALSE()","v":false},{"$f":"FALSE()","v":false},{"$f":"TRUE()","v":true},{"$f":"FALSE()","v":false},{"$f":"FALSE()","v":false},{"$f":"TRUE()","v":true}]
[null,null,null,null,null,null,null,"QA","QA10",{"$f":"TRUE()","v":true},{"$f":"FALSE()","v":false},{"$f":"FALSE()","v":false},{"$f":"TRUE()","v":true},{"$f":"FALSE()","v":false},{"$f":"FALSE()","v":false},{"$f":"TRUE()","v":true},{"$f":"FALSE()","v":false},{"$f":"FALSE()","v":false},{"$f":"TRUE()","v":true},{"$f":"FALSE()","v":false},{"$f":"FALSE()","v":false}]
[null,null,null,null,null,null,null,"QA","QA11",{"$f":"FALSE()","v":false},{"$f":"TRUE()","v":true},{"$f":"FALSE()","v":false},{"$f":"FALSE()","v":false},{"$f":"TRUE()","v":true},{"$f":"FALSE()","v":false},{"$f":"FALSE()","v":false},{"$f":"TRUE()","v":true},{"$f":"FALSE()","v":false},{"$f":"FALSE()","v":false},{"$f":"TRUE()","v":true},{"$f":"FALSE()","v":false}]
[null,null,null,null,null,null,null,"QA","QA12",{"$f":"FALSE()","v":false},{"$f":"FALSE()","v":false},{"$f":"TRUE()","v":true},{"$f":"FALSE()","v":false},{"$f":"FALSE()","v":false},{"$f":"TRUE()","v":true},{"$f":"FALSE()","v":false},{"$f":"FALSE()","v":false},{"$f":"TRUE()","v":true},{"$f":"FALSE()","v":false},{"$f":"FALSE()","v":false},{"$f":"TRUE()","v":true}]
[null,null,null,null,null,null,null,"M","M1",{"$f":"TRUE()","v":true},{"$f":"TRUE()","v":true},{"$f":"TRUE()","v":true},{"$f":"TRUE()","v":true},{"$f":"TRUE()","v":true},{"$f":"TRUE()","v":true},{"$f":"TRUE()","v":true},{"$f":"TRUE()","v":true},{"$f":"TRUE()","v":true},{"$f":"TRUE()","v":true},{"$f":"TRUE()","v":true},{"$f":"TRUE()","v":true}]
[null,null,null,null,null,null,null,"M","M2",{"$f":"TRUE()","v":true},{"$f":"TRUE()","v":true},{"$f":"TRUE()","v":true},{"$f":"TRUE()","v":true},{"$f":"TRUE()","v":true},{"$f":"TRUE()","v":true},{"$f":"TRUE()","v":true},{"$f":"TRUE()","v":true},{"$f":"TRUE()","v":true},{"$f":"TRUE()","v":true},{"$f":"TRUE()","v":true},{"$f":"TRUE()","v":true}]
[null,null,null,null,null,null,null,"M","M3",{"$f":"TRUE()","v":true},{"$f":"TRUE()","v":true},{"$f":"TRUE()","v":true},{"$f":"TRUE()","v":true},{"$f":"TRUE()","v":true},{"$f":"TRUE()","v":true},{"$f":"TRUE()","v":true},{"$f":"TRUE()","v":true},{"$f":"TRUE()","v":true},{"$f":"TRUE()","v":true},{"$f":"TRUE()","v":true},{"$f":"TRUE()","v":true}]
[null,null,null,null,null,null,null,"M","M4",{"$f":"TRUE()","v":true},{"$f":"TRUE()","v":true},{"$f":"TRUE()","v":true},{"$f":"TRUE()","v":true},{"$f":"TRUE()","v":true},{"$f":"TRUE()","v":true},{"$f":"TRUE()","v":true},{"$f":"TRUE()","v":true},{"$f":"TRUE()","v":true},{"$f":"TRUE()","v":true},{"$f":"TRUE()","v":true},{"$f":"TRUE()","v":true}]
[null,null,null,null,null,null,null,"M","M5",{"$f":"TRUE()","v":true},{"$f":"TRUE()","v":true},{"$f":"TRUE()","v":true},{"$f":"TRUE()","v":true},{"$f":"TRUE()","v":true},{"$f":"TRUE()","v":true},{"$f":"TRUE()","v":true},{"$f":"TRUE()","v":true},{"$f":"TRUE()","v":true},{"$f":"TRUE()","v":true},{"$f":"TRUE()","v":true},{"$f":"TRUE()","v":true}]
[null,null,null,null,null,null,null,"M","M6",{"$f":"TRUE()","v":true},{"$f":"TRUE()","v":true},{"$f":"TRUE()","v":true},{"$f":"TRUE()","v":true},{"$f":"TRUE()","v":true},{"$f":"TRUE()","v":true},{"$f":"TRUE()","v":true},{"$f":"TRUE()","v":true},{"$f":"TRUE()","v":true},{"$f":"TRUE()","v":true},{"$f":"TRUE()","v":true},{"$f":"TRUE()","v":true}]
[null,null,null,null,null,null,null,"M","M7",{"$f":"TRUE()","v":true},{"$f":"TRUE()","v":true},{"$f":"TRUE()","v":true},{"$f":"TRUE()","v":true},{"$f":"TRUE()","v":true},{"$f":"TRUE()","v":true},{"$f":"TRUE()","v":true},{"$f":"TRUE()","v":true},{"$f":"TRUE()","v":true},{"$f":"TRUE()","v":true},{"$f":"TRUE()","v":true},{"$f":"TRUE()","v":true}]
[null,null,null,null,null,null,null,"M","M8",{"$f":"TRUE()","v":true},{"$f":"TRUE()","v":true},{"$f":"TRUE()","v":true},{"$f":"TRUE()","v":true},{"$f":"TRUE()","v":true},{"$f":"TRUE()","v":true},{"$f":"TRUE()","v":true},{"$f":"TRUE()","v":true},{"$f":"TRUE()","v":true},{"$f":"TRUE()","v":true},{"$f":"TRUE()","v":true},{"$f":"TRUE()","v":true}]
[null,null,null,null,null,null,null,"M","M9",{"$f":"TRUE()","v":true},{"$f":"TRUE()","v":true},{"$f":"TRUE()","v":true},{"$f":"TRUE()","v":true},{"$f":"TRUE()","v":true},{"$f":"TRUE()","v":true},{"$f":"TRUE()","v":true},{"$f":"TRUE()","v":true},{"$f":"TRUE()","v":true},{"$f":"TRUE()","v":true},{"$f":"TRUE()","v":true},{"$f":"TRUE()","v":true}]
[null,null,null,null,null,null,null,"M","M10",{"$f":"TRUE()","v":true},{"$f":"TRUE()","v":true},{"$f":"TRUE()","v":true},{"$f":"TRUE()","v":true},{"$f":"TRUE()","v":true},{"$f":"TRUE()","v":true},{"$f":"TRUE()","v":true},{"$f":"TRUE()","v":true},{"$f":"TRUE()","v":true},{"$f":"TRUE()","v":true},{"$f":"TRUE()","v":true},{"$f":"TRUE()","v":true}]
[null,null,null,null,null,null,null,"M","M11",{"$f":"TRUE()","v":true},{"$f":"TRUE()","v":true},{"$f":"TRUE()","v":true},{"$f":"TRUE()","v":true},{"$f":"TRUE()","v":true},{"$f":"TRUE()","v":true},{"$f":"TRUE()","v":true},{"$f":"TRUE()","v":true},{"$f":"TRUE()","v":true},{"$f":"TRUE()","v":true},{"$f":"TRUE()","v":true},{"$f":"TRUE()","v":true}]
[null,null,null,null,null,null,null,"M","M12",{"$f":"TRUE()","v":true},{"$f":"TRUE()","v":true},{"$f":"TRUE()","v":true},{"$f":"TRUE()","v":true},{"$f":"TRUE()","v":true},{"$f":"TRUE()","v":true},{"$f":"TRUE()","v":true},{"$f":"TRUE()","v":true},{"$f":"TRUE()","v":true},{"$f":"TRUE()","v":true},{"$f":"TRUE()","v":true},{"$f":"TRUE()","v":true}]